BEGIN:VCALENDAR
VERSION:2.0
PRODID:-//bc magazine - ECPv6.15.20//NONSGML v1.0//EN
CALSCALE:GREGORIAN
METHOD:PUBLISH
X-WR-CALNAME:bc magazine
X-ORIGINAL-URL:https://www.bcmagazine.net
X-WR-CALDESC:Events for bc magazine
REFRESH-INTERVAL;VALUE=DURATION:PT1H
X-Robots-Tag:noindex
X-PUBLISHED-TTL:PT1H
BEGIN:VTIMEZONE
TZID:Asia/Hong_Kong
BEGIN:STANDARD
TZOFFSETFROM:+0800
TZOFFSETTO:+0800
TZNAME:HKT
DTSTART:20150101T000000
END:STANDARD
END:VTIMEZONE
BEGIN:VEVENT
DTSTART;VALUE=DATE:20161029
DTEND;VALUE=DATE:20161031
DTSTAMP:20260422T161510
CREATED:19161024T140457Z
LAST-MODIFIED:20161024T142511Z
UID:10002314-1477699200-1477871999@www.bcmagazine.net
SUMMARY:FINA Swimming World Cup - Hong Kong 2016
DESCRIPTION:FINA Swimming World Cup – Hong Kong 2016\nDate: 29-30 October\, 2016\nVenue: Victoria Park\nTickets: $200\, $100 from HKASA
URL:https://www.bcmagazine.net/event/fina-swimming-world-cup-hong-kong-2016/
LOCATION:Victoria Park\, Causeway Bay\, Hong Kong
CATEGORIES:2016,Sport
END:VEVENT
BEGIN:VEVENT
DTSTART;VALUE=DATE:20161029
DTEND;VALUE=DATE:20161031
DTSTAMP:20260422T161510
CREATED:19161024T143139Z
LAST-MODIFIED:20161024T143928Z
UID:10002315-1477699200-1477871999@www.bcmagazine.net
SUMMARY:HK Rowing Championships
DESCRIPTION:HK Rowing Championships\nDate: 29-30 October\, 2016\nVenue: Shatin Rowing Centre & Jockey Club Shek Mun Rowing Centre\nTickets: Free
URL:https://www.bcmagazine.net/event/hk-rowing-championships-2016/
LOCATION:Shatin Rowing Centre\, 27 Yuen Wo Road\, Shatin\, Hong Kong
CATEGORIES:2016,Rowing,Sport
GEO:22.390535;114.200737
X-APPLE-STRUCTURED-LOCATION;VALUE=URI;X-ADDRESS=Shatin Rowing Centre 27 Yuen Wo Road Shatin Hong Kong;X-APPLE-RADIUS=500;X-TITLE=27 Yuen Wo Road:geo:114.200737,22.390535
END:VEVENT
BEGIN:VEVENT
DTSTART;VALUE=DATE:20161029
DTEND;VALUE=DATE:20161031
DTSTAMP:20260422T161510
CREATED:20161024T151902Z
LAST-MODIFIED:20161024T151955Z
UID:10006341-1477699200-1477871999@www.bcmagazine.net
SUMMARY:Quads Shuttlecock Invitational Tournament 2016
DESCRIPTION:Quads Shuttlecock Invitational Tournament 2016\nDate: 29-30 October\, 2016\nVenue: Lai Chi Kok Park Sports Centre\nTickets: Free
URL:https://www.bcmagazine.net/event/quads-shuttlecock-invitational-tournament-2016/
LOCATION:Lai Chi Kok Park Sports Centre\, 1 Lai Wan Road\, Lai Chi Kok\, Hong Kong
CATEGORIES:2016,Sport
GEO:22.3406715;114.1369969
X-APPLE-STRUCTURED-LOCATION;VALUE=URI;X-ADDRESS=Lai Chi Kok Park Sports Centre 1 Lai Wan Road Lai Chi Kok Hong Kong;X-APPLE-RADIUS=500;X-TITLE=1 Lai Wan Road:geo:114.1369969,22.3406715
END:VEVENT
BEGIN:VEVENT
DTSTART;TZID=Asia/Hong_Kong:20161029T130000
DTEND;TZID=Asia/Hong_Kong:20161029T130000
DTSTAMP:20260422T161510
CREATED:20160919T104427Z
LAST-MODIFIED:20160919T104427Z
UID:10006256-1477746000-1477746000@www.bcmagazine.net
SUMMARY:Taipan CC v HKCC Nomads
DESCRIPTION:Championship League A: Taipan CC v HKCC Nomads
URL:https://www.bcmagazine.net/event/taipan-cc-v-hkcc-nomads/
LOCATION:Hong Kong Cricket Club\, 137 Wong Ngai Chung Gap Road\, Hong Kong
CATEGORIES:2016,Cricket,Free,Sport
GEO:22.258574;114.1934009
X-APPLE-STRUCTURED-LOCATION;VALUE=URI;X-ADDRESS=Hong Kong Cricket Club 137 Wong Ngai Chung Gap Road Hong Kong;X-APPLE-RADIUS=500;X-TITLE=137 Wong Ngai Chung Gap Road:geo:114.1934009,22.258574
END:VEVENT
BEGIN:VEVENT
DTSTART;TZID=Asia/Hong_Kong:20161029T130000
DTEND;TZID=Asia/Hong_Kong:20161029T130000
DTSTAMP:20260422T161510
CREATED:20160919T104427Z
LAST-MODIFIED:20160919T104427Z
UID:10006257-1477746000-1477746000@www.bcmagazine.net
SUMMARY:HKCC Witherers v KCC Tartars
DESCRIPTION:Championship League A: HKCC Witherers v KCC Tartars
URL:https://www.bcmagazine.net/event/hkcc-witherers-v-kcc-tartars/
LOCATION:Kowloon Cricket Club\, 10 Cox's Road\, Jordan\, Hong Kong
CATEGORIES:2016,Cricket,Free,Sport
GEO:22.3048927;114.1737401
X-APPLE-STRUCTURED-LOCATION;VALUE=URI;X-ADDRESS=Kowloon Cricket Club 10 Cox's Road Jordan Hong Kong;X-APPLE-RADIUS=500;X-TITLE=10 Cox's Road:geo:114.1737401,22.3048927
END:VEVENT
BEGIN:VEVENT
DTSTART;TZID=Asia/Hong_Kong:20161029T130000
DTEND;TZID=Asia/Hong_Kong:20161029T130000
DTSTAMP:20260422T161510
CREATED:20160919T104428Z
LAST-MODIFIED:20160919T104428Z
UID:10006262-1477746000-1477746000@www.bcmagazine.net
SUMMARY:Lamma v DLSWCC Spartans
DESCRIPTION:Championship League B: Lamma v DLSWCC Spartans
URL:https://www.bcmagazine.net/event/lamma-v-dlswcc-spartans/
LOCATION:Tin Kwong Road Recreation Ground\, Tin Kwong Road\, Mong Kok\, Hong Kong
CATEGORIES:2016,Cricket,Free,Sport
GEO:22.3219997;114.1847986
X-APPLE-STRUCTURED-LOCATION;VALUE=URI;X-ADDRESS=Tin Kwong Road Recreation Ground Tin Kwong Road Mong Kok Hong Kong;X-APPLE-RADIUS=500;X-TITLE=Tin Kwong Road:geo:114.1847986,22.3219997
END:VEVENT
BEGIN:VEVENT
DTSTART;TZID=Asia/Hong_Kong:20161029T130000
DTEND;TZID=Asia/Hong_Kong:20161029T130000
DTSTAMP:20260422T161510
CREATED:20160919T104428Z
LAST-MODIFIED:20160919T104428Z
UID:10006263-1477746000-1477746000@www.bcmagazine.net
SUMMARY:KCC Maidens v DLSWCC Wasps
DESCRIPTION:Women’s League A: KCC Maidens v DLSWCC Wasps
URL:https://www.bcmagazine.net/event/kcc-maidens-v-dlswcc-wasps-3/
LOCATION:Po Kong Village Road Reservoir Ground\, Po Kong Village Road\, Tsz Wan Shan\, Hong Kong
CATEGORIES:2016,Cricket,Free,Sport
GEO:22.346522;114.204203
X-APPLE-STRUCTURED-LOCATION;VALUE=URI;X-ADDRESS=Po Kong Village Road Reservoir Ground Po Kong Village Road Tsz Wan Shan Hong Kong;X-APPLE-RADIUS=500;X-TITLE=Po Kong Village Road:geo:114.204203,22.346522
END:VEVENT
BEGIN:VEVENT
DTSTART;TZID=Asia/Hong_Kong:20161029T130000
DTEND;TZID=Asia/Hong_Kong:20161029T130000
DTSTAMP:20260422T161510
CREATED:20160919T104428Z
LAST-MODIFIED:20160919T104428Z
UID:10006264-1477746000-1477746000@www.bcmagazine.net
SUMMARY:CCC Hung See v Centaurs
DESCRIPTION:Championship League B: CCC Hung See v Centaurs
URL:https://www.bcmagazine.net/event/ccc-hung-see-v-centaurs/
LOCATION:Police Training College\, Police School Road\, Aberdeen\, Hong Kong
CATEGORIES:2016,Cricket,Free,Sport
GEO:22.246154;114.1706686
X-APPLE-STRUCTURED-LOCATION;VALUE=URI;X-ADDRESS=Police Training College Police School Road Aberdeen Hong Kong;X-APPLE-RADIUS=500;X-TITLE=Police School Road:geo:114.1706686,22.246154
END:VEVENT
BEGIN:VEVENT
DTSTART;TZID=Asia/Hong_Kong:20161030T093000
DTEND;TZID=Asia/Hong_Kong:20161030T093000
DTSTAMP:20260422T161510
CREATED:20160919T104427Z
LAST-MODIFIED:20160919T104427Z
UID:10006259-1477819800-1477819800@www.bcmagazine.net
SUMMARY:PACC v CHK XI
DESCRIPTION:Premier League 1-Day A: PACC v CHK XI
URL:https://www.bcmagazine.net/event/pacc-v-chk-xi/
LOCATION:Tin Kwong Road Recreation Ground\, Tin Kwong Road\, Mong Kok\, Hong Kong
CATEGORIES:2016,Cricket,Free,Sport
GEO:22.3219997;114.1847986
X-APPLE-STRUCTURED-LOCATION;VALUE=URI;X-ADDRESS=Tin Kwong Road Recreation Ground Tin Kwong Road Mong Kok Hong Kong;X-APPLE-RADIUS=500;X-TITLE=Tin Kwong Road:geo:114.1847986,22.3219997
END:VEVENT
BEGIN:VEVENT
DTSTART;TZID=Asia/Hong_Kong:20161030T100000
DTEND;TZID=Asia/Hong_Kong:20161030T100000
DTSTAMP:20260422T161510
CREATED:19160830T023820Z
LAST-MODIFIED:20160830T024159Z
UID:10002068-1477821600-1477821600@www.bcmagazine.net
SUMMARY:Sedan Chair Race
DESCRIPTION:Sedan Chair Race\nDate: 10am\, 30 October\, 2016\nVenue: Matilda International Hospital\nTickets: free to watch\nMore info:\nRegister to race www.sedanchairace.org
URL:https://www.bcmagazine.net/event/sedan-chair-race-2016/
LOCATION:The Matilda International Hospital\, The Peak\, Hong Kong
CATEGORIES:2016,Charity,Free,Sport
END:VEVENT
BEGIN:VEVENT
DTSTART;TZID=Asia/Hong_Kong:20161030T100000
DTEND;TZID=Asia/Hong_Kong:20161030T100000
DTSTAMP:20260422T161510
CREATED:20160919T104427Z
LAST-MODIFIED:20160919T104427Z
UID:10006258-1477821600-1477821600@www.bcmagazine.net
SUMMARY:HKCC v KCC
DESCRIPTION:Premier League 1-Day A: HKCC v KCC
URL:https://www.bcmagazine.net/event/hkcc-v-kcc-3/
LOCATION:Hong Kong Cricket Club\, 137 Wong Ngai Chung Gap Road\, Hong Kong
CATEGORIES:2016,Cricket,Free,Sport
GEO:22.258574;114.1934009
X-APPLE-STRUCTURED-LOCATION;VALUE=URI;X-ADDRESS=Hong Kong Cricket Club 137 Wong Ngai Chung Gap Road Hong Kong;X-APPLE-RADIUS=500;X-TITLE=137 Wong Ngai Chung Gap Road:geo:114.1934009,22.258574
END:VEVENT
BEGIN:VEVENT
DTSTART;TZID=Asia/Hong_Kong:20161030T130000
DTEND;TZID=Asia/Hong_Kong:20161030T130000
DTSTAMP:20260422T161510
CREATED:20160919T104427Z
LAST-MODIFIED:20160919T104427Z
UID:10006260-1477832400-1477832400@www.bcmagazine.net
SUMMARY:HKCC Willow Wielders v CCC Fung Wong
DESCRIPTION:Women’s League A: HKCC Willow Wielders v CCC Fung Wong
URL:https://www.bcmagazine.net/event/hkcc-willow-wielders-v-ccc-fung-wong-2/
LOCATION:Po Kong Village Road Reservoir Ground\, Po Kong Village Road\, Tsz Wan Shan\, Hong Kong
CATEGORIES:2016,Cricket,Free,Sport
GEO:22.346522;114.204203
X-APPLE-STRUCTURED-LOCATION;VALUE=URI;X-ADDRESS=Po Kong Village Road Reservoir Ground Po Kong Village Road Tsz Wan Shan Hong Kong;X-APPLE-RADIUS=500;X-TITLE=Po Kong Village Road:geo:114.204203,22.346522
END:VEVENT
BEGIN:VEVENT
DTSTART;TZID=Asia/Hong_Kong:20161030T145000
DTEND;TZID=Asia/Hong_Kong:20161030T145000
DTSTAMP:20260422T161510
CREATED:20160919T104426Z
LAST-MODIFIED:20160919T104426Z
UID:10006252-1477839000-1477839000@www.bcmagazine.net
SUMMARY:KCC Maidens v DLSWCC Wasps
DESCRIPTION:Women’s T20 A: KCC Maidens v DLSWCC Wasps
URL:https://www.bcmagazine.net/event/kcc-maidens-v-dlswcc-wasps-2/
LOCATION:Kowloon Cricket Club\, 10 Cox's Road\, Jordan\, Hong Kong
CATEGORIES:2016,Cricket,Free,Sport
GEO:22.3048927;114.1737401
X-APPLE-STRUCTURED-LOCATION;VALUE=URI;X-ADDRESS=Kowloon Cricket Club 10 Cox's Road Jordan Hong Kong;X-APPLE-RADIUS=500;X-TITLE=10 Cox's Road:geo:114.1737401,22.3048927
END:VEVENT
END:VCALENDAR