BEGIN:VCALENDAR
VERSION:2.0
PRODID:-//bc magazine - ECPv6.15.20//NONSGML v1.0//EN
CALSCALE:GREGORIAN
METHOD:PUBLISH
X-WR-CALNAME:bc magazine
X-ORIGINAL-URL:https://www.bcmagazine.net
X-WR-CALDESC:Events for bc magazine
REFRESH-INTERVAL;VALUE=DURATION:PT1H
X-Robots-Tag:noindex
X-PUBLISHED-TTL:PT1H
BEGIN:VTIMEZONE
TZID:Asia/Hong_Kong
BEGIN:STANDARD
TZOFFSETFROM:+0800
TZOFFSETTO:+0800
TZNAME:HKT
DTSTART:20150101T000000
END:STANDARD
END:VTIMEZONE
BEGIN:VEVENT
DTSTART;VALUE=DATE:20161105
DTEND;VALUE=DATE:20161114
DTSTAMP:20260423T110300
CREATED:19161024T161051Z
LAST-MODIFIED:20161024T162004Z
UID:10000927-1478304000-1479081599@www.bcmagazine.net
SUMMARY:HK International Bowls Classic 2016
DESCRIPTION:HK International Bowls Classic 2016\nDate: 5-13 November\, 2016\nVenue: tbc\nTickets: tbc
URL:https://www.bcmagazine.net/event/hk-international-bowls-classic-2016/
CATEGORIES:2016,Sport
END:VEVENT
BEGIN:VEVENT
DTSTART;VALUE=DATE:20161108
DTEND;VALUE=DATE:20161109
DTSTAMP:20260423T110300
CREATED:19160823T133456Z
LAST-MODIFIED:20161016T074433Z
UID:10001948-1478563200-1478649599@www.bcmagazine.net
SUMMARY:ODI: Hong Kong v Papua New Guinea
DESCRIPTION:One Day International: Hong Kong v Papua New Guinea\nDate: 8 November\, 2016\nVenue: Tin Kwong Road Recreation Ground\nTickets: $500\, $30 from Ticketflap
URL:https://www.bcmagazine.net/event/odi-hk-v-png-8-nov-2016/
LOCATION:Tin Kwong Road Recreation Ground\, Tin Kwong Road\, Mong Kok\, Hong Kong
CATEGORIES:2016,Cricket,Sport
GEO:22.3219997;114.1847986
X-APPLE-STRUCTURED-LOCATION;VALUE=URI;X-ADDRESS=Tin Kwong Road Recreation Ground Tin Kwong Road Mong Kok Hong Kong;X-APPLE-RADIUS=500;X-TITLE=Tin Kwong Road:geo:114.1847986,22.3219997
END:VEVENT
BEGIN:VEVENT
DTSTART;TZID=Asia/Hong_Kong:20161108T183000
DTEND;TZID=Asia/Hong_Kong:20161108T183000
DTSTAMP:20260423T110300
CREATED:20161008T052115Z
LAST-MODIFIED:20161008T052115Z
UID:10006339-1478629800-1478629800@www.bcmagazine.net
SUMMARY:X-Fight
DESCRIPTION:X-Fight Road to Kunlun\nDate: 6:30pm\, 8 November\, 2016\nVenue: KITEC\, Star Hall\nTickets: $600\, $400\, $300 from HKTicketing
URL:https://www.bcmagazine.net/event/x-fight-road-to-kunlun-2016/
LOCATION:KITEC\, Star Hall\, KITEC\, 1 Trademart Drive\, Kowloon Bay\, Hong Kong
CATEGORIES:2016,Sport
GEO:22.3239575;114.2037608
X-APPLE-STRUCTURED-LOCATION;VALUE=URI;X-ADDRESS=KITEC Star Hall KITEC 1 Trademart Drive Kowloon Bay Hong Kong;X-APPLE-RADIUS=500;X-TITLE=KITEC\, 1 Trademart Drive:geo:114.2037608,22.3239575
END:VEVENT
BEGIN:VEVENT
DTSTART;TZID=Asia/Hong_Kong:20161111T170000
DTEND;TZID=Asia/Hong_Kong:20161111T170000
DTSTAMP:20260423T110300
CREATED:19161102T132234Z
LAST-MODIFIED:20161102T134818Z
UID:10002328-1478883600-1478883600@www.bcmagazine.net
SUMMARY:Cup of Nations
DESCRIPTION:Cup of Nations\nHong Kong\, Russia\, Zimbabwe\, Papua New Guinea\nDate: 11\, 15\, 19 November\, 2016\nVenue: Kings Park\, HK Football Club\nTickets: Free\nMore info:\n11 November @ Kings Park\n5pm – Russia v Zimbabwe\n7pm – Hong Kong v Papua New Guinea \n15 November @ Kings Park\n5pm – Russia v Papua New Guinea\n7pm – Hong Kong v Zimbabwe \n19 November @ HK Football Club\n5pm – Zimbabwe v Papua New Guinea\n7pm – Hong Kong v Russia
URL:https://www.bcmagazine.net/event/cup-of-nations-2016/2016-11-11/
CATEGORIES:2016,Free,Rugby,Sport
END:VEVENT
BEGIN:VEVENT
DTSTART;TZID=Asia/Hong_Kong:20161112T120000
DTEND;TZID=Asia/Hong_Kong:20161113T120000
DTSTAMP:20260423T110300
CREATED:20161105T005428Z
LAST-MODIFIED:20161105T005428Z
UID:10006346-1478952000-1479038400@www.bcmagazine.net
SUMMARY:Pedal Kart Grand Prix
DESCRIPTION:30th Annual HK Pedal Kart Grand Prix\nDate: 12pm\, 12 November\, 2016\nVenue: Victoria Park\nTickets: Free
URL:https://www.bcmagazine.net/event/pedal-kart-grand-prix-2016/
LOCATION:Victoria Park\, Causeway Bay\, Hong Kong
CATEGORIES:2016,Charity,Free,Other,Sport
END:VEVENT
BEGIN:VEVENT
DTSTART;TZID=Asia/Hong_Kong:20161112T123000
DTEND;TZID=Asia/Hong_Kong:20161112T123000
DTSTAMP:20260423T110300
CREATED:20160919T104424Z
LAST-MODIFIED:20160919T104424Z
UID:10006249-1478953800-1478953800@www.bcmagazine.net
SUMMARY:Laguna Gully v Centaurs
DESCRIPTION:Championship League B: Laguna Gully v Centaurs
URL:https://www.bcmagazine.net/event/laguna-gully-v-centaurs/
LOCATION:Po Kong Village Road Park\, 140 Po Kong Village Road\, Diamond Hill\, Hong Kong
CATEGORIES:2016,Cricket,Free,Sport
GEO:22.3435827;114.2044989
X-APPLE-STRUCTURED-LOCATION;VALUE=URI;X-ADDRESS=Po Kong Village Road Park 140 Po Kong Village Road Diamond Hill Hong Kong;X-APPLE-RADIUS=500;X-TITLE=140 Po Kong Village Road:geo:114.2044989,22.3435827
END:VEVENT
BEGIN:VEVENT
DTSTART;TZID=Asia/Hong_Kong:20161112T130000
DTEND;TZID=Asia/Hong_Kong:20161112T130000
DTSTAMP:20260423T110300
CREATED:20160919T104422Z
LAST-MODIFIED:20160919T104422Z
UID:10006243-1478955600-1478955600@www.bcmagazine.net
SUMMARY:SCC Lancers v DLSWCC Spartans
DESCRIPTION:Championship League B: SCC Lancers v DLSWCC Spartans
URL:https://www.bcmagazine.net/event/scc-lancers-v-dlswcc-spartans/
LOCATION:Tin Kwong Road Recreation Ground\, Tin Kwong Road\, Mong Kok\, Hong Kong
CATEGORIES:2016,Cricket,Free,Sport
GEO:22.3219997;114.1847986
X-APPLE-STRUCTURED-LOCATION;VALUE=URI;X-ADDRESS=Tin Kwong Road Recreation Ground Tin Kwong Road Mong Kok Hong Kong;X-APPLE-RADIUS=500;X-TITLE=Tin Kwong Road:geo:114.1847986,22.3219997
END:VEVENT
BEGIN:VEVENT
DTSTART;TZID=Asia/Hong_Kong:20161112T130000
DTEND;TZID=Asia/Hong_Kong:20161112T130000
DTSTAMP:20260423T110300
CREATED:20160919T104422Z
LAST-MODIFIED:20160919T104422Z
UID:10006242-1478955600-1478955600@www.bcmagazine.net
SUMMARY:HKCC Gap Ramblers v Pakistan Association
DESCRIPTION:Championship League A: HKCC Gap Ramblers v Pakistan Association
URL:https://www.bcmagazine.net/event/hkcc-gap-ramblers-v-pakistan-association/
LOCATION:Hong Kong Cricket Club\, 137 Wong Ngai Chung Gap Road\, Hong Kong
CATEGORIES:2016,Cricket,Free,Sport
GEO:22.258574;114.1934009
X-APPLE-STRUCTURED-LOCATION;VALUE=URI;X-ADDRESS=Hong Kong Cricket Club 137 Wong Ngai Chung Gap Road Hong Kong;X-APPLE-RADIUS=500;X-TITLE=137 Wong Ngai Chung Gap Road:geo:114.1934009,22.258574
END:VEVENT
BEGIN:VEVENT
DTSTART;TZID=Asia/Hong_Kong:20161112T130000
DTEND;TZID=Asia/Hong_Kong:20161112T130000
DTSTAMP:20260423T110300
CREATED:20160919T104423Z
LAST-MODIFIED:20160919T104423Z
UID:10006246-1478955600-1478955600@www.bcmagazine.net
SUMMARY:KCC Maidens v HKCC Willow Wielders
DESCRIPTION:Women’s League A: KCC Maidens v HKCC Willow Wielders
URL:https://www.bcmagazine.net/event/kcc-maidens-v-hkcc-willow-wielders-2/
LOCATION:Po Kong Village Road Reservoir Ground\, Po Kong Village Road\, Tsz Wan Shan\, Hong Kong
CATEGORIES:2016,Cricket,Free,Sport
GEO:22.346522;114.204203
X-APPLE-STRUCTURED-LOCATION;VALUE=URI;X-ADDRESS=Po Kong Village Road Reservoir Ground Po Kong Village Road Tsz Wan Shan Hong Kong;X-APPLE-RADIUS=500;X-TITLE=Po Kong Village Road:geo:114.204203,22.346522
END:VEVENT
BEGIN:VEVENT
DTSTART;TZID=Asia/Hong_Kong:20161112T130000
DTEND;TZID=Asia/Hong_Kong:20161112T130000
DTSTAMP:20260423T110300
CREATED:20160919T104423Z
LAST-MODIFIED:20160919T104423Z
UID:10006247-1478955600-1478955600@www.bcmagazine.net
SUMMARY:DLSWCC Sarjan v CCC Hung See
DESCRIPTION:Championship League B: DLSWCC Sarjan v CCC Hung See
URL:https://www.bcmagazine.net/event/dlswcc-sarjan-v-ccc-hung-see/
LOCATION:Police Training College\, Police School Road\, Aberdeen\, Hong Kong
CATEGORIES:2016,Cricket,Free,Sport
GEO:22.246154;114.1706686
X-APPLE-STRUCTURED-LOCATION;VALUE=URI;X-ADDRESS=Police Training College Police School Road Aberdeen Hong Kong;X-APPLE-RADIUS=500;X-TITLE=Police School Road:geo:114.1706686,22.246154
END:VEVENT
BEGIN:VEVENT
DTSTART;TZID=Asia/Hong_Kong:20161113T093000
DTEND;TZID=Asia/Hong_Kong:20161113T093000
DTSTAMP:20260423T110300
CREATED:20160919T104422Z
LAST-MODIFIED:20160919T104422Z
UID:10006245-1479029400-1479029400@www.bcmagazine.net
SUMMARY:HKCA Dragons  v HKCC Optimists
DESCRIPTION:Elite League B: HKCA Dragons  v HKCC Optimists
URL:https://www.bcmagazine.net/event/hkca-dragons-v-hkcc-optimists/
LOCATION:Tin Kwong Road Recreation Ground\, Tin Kwong Road\, Mong Kok\, Hong Kong
CATEGORIES:2016,Cricket,Free,Sport
GEO:22.3219997;114.1847986
X-APPLE-STRUCTURED-LOCATION;VALUE=URI;X-ADDRESS=Tin Kwong Road Recreation Ground Tin Kwong Road Mong Kok Hong Kong;X-APPLE-RADIUS=500;X-TITLE=Tin Kwong Road:geo:114.1847986,22.3219997
END:VEVENT
BEGIN:VEVENT
DTSTART;TZID=Asia/Hong_Kong:20161113T100000
DTEND;TZID=Asia/Hong_Kong:20161113T100000
DTSTAMP:20260423T110300
CREATED:20160919T104421Z
LAST-MODIFIED:20160919T104421Z
UID:10006238-1479031200-1479031200@www.bcmagazine.net
SUMMARY:Guangzhou v DLSWCC Knights
DESCRIPTION:Elite League B: Guangzhou v DLSWCC Knights
URL:https://www.bcmagazine.net/event/guangzhou-v-dlswcc-knights/
LOCATION:Guangzhou Cricket Stadium\, Guangzhou\, China
CATEGORIES:2016,Cricket,Free,Sport
GEO:23.12911;113.264385
END:VEVENT
BEGIN:VEVENT
DTSTART;TZID=Asia/Hong_Kong:20161113T100000
DTEND;TZID=Asia/Hong_Kong:20161113T100000
DTSTAMP:20260423T110300
CREATED:20160919T104422Z
LAST-MODIFIED:20160919T104422Z
UID:10006244-1479031200-1479031200@www.bcmagazine.net
SUMMARY:HKCC Scorpions v Pakistan Association
DESCRIPTION:Elite League A: HKCC Scorpions v Pakistan Association
URL:https://www.bcmagazine.net/event/hkcc-scorpions-v-pakistan-association/
LOCATION:Hong Kong Cricket Club\, 137 Wong Ngai Chung Gap Road\, Hong Kong
CATEGORIES:2016,Cricket,Free,Sport
GEO:22.258574;114.1934009
X-APPLE-STRUCTURED-LOCATION;VALUE=URI;X-ADDRESS=Hong Kong Cricket Club 137 Wong Ngai Chung Gap Road Hong Kong;X-APPLE-RADIUS=500;X-TITLE=137 Wong Ngai Chung Gap Road:geo:114.1934009,22.258574
END:VEVENT
BEGIN:VEVENT
DTSTART;TZID=Asia/Hong_Kong:20161113T130000
DTEND;TZID=Asia/Hong_Kong:20161113T130000
DTSTAMP:20260423T110300
CREATED:20160919T104421Z
LAST-MODIFIED:20160919T104421Z
UID:10006239-1479042000-1479042000@www.bcmagazine.net
SUMMARY:CCC Fung Wong v HKCC Cavaliers
DESCRIPTION:Women’s League A: CCC Fung Wong v HKCC Cavaliers
URL:https://www.bcmagazine.net/event/ccc-fung-wong-v-hkcc-cavaliers-3/
LOCATION:Po Kong Village Road Reservoir Ground\, Po Kong Village Road\, Tsz Wan Shan\, Hong Kong
CATEGORIES:2016,Cricket,Free,Sport
GEO:22.346522;114.204203
X-APPLE-STRUCTURED-LOCATION;VALUE=URI;X-ADDRESS=Po Kong Village Road Reservoir Ground Po Kong Village Road Tsz Wan Shan Hong Kong;X-APPLE-RADIUS=500;X-TITLE=Po Kong Village Road:geo:114.204203,22.346522
END:VEVENT
END:VCALENDAR