BEGIN:VCALENDAR
VERSION:2.0
PRODID:-//bc magazine - ECPv6.15.20//NONSGML v1.0//EN
CALSCALE:GREGORIAN
METHOD:PUBLISH
X-WR-CALNAME:bc magazine
X-ORIGINAL-URL:https://www.bcmagazine.net
X-WR-CALDESC:Events for bc magazine
REFRESH-INTERVAL;VALUE=DURATION:PT1H
X-Robots-Tag:noindex
X-PUBLISHED-TTL:PT1H
BEGIN:VTIMEZONE
TZID:Asia/Hong_Kong
BEGIN:STANDARD
TZOFFSETFROM:+0800
TZOFFSETTO:+0800
TZNAME:HKT
DTSTART:20150101T000000
END:STANDARD
END:VTIMEZONE
BEGIN:VEVENT
DTSTART;TZID=Asia/Hong_Kong:20161116T193000
DTEND;TZID=Asia/Hong_Kong:20161116T193000
DTSTAMP:20260422T175827
CREATED:19161115T065920Z
LAST-MODIFIED:20161115T073752Z
UID:10002354-1479324600-1479324600@www.bcmagazine.net
SUMMARY:Hong Kong v Kazakhstan
DESCRIPTION:Hong Kong v Kazakhstan\nDate: 7:30pm\, 16 November\, 2016\nVenue: King’s Park\nTickets: Free
URL:https://www.bcmagazine.net/event/hong-kong-v-khazakhstan-16-11-2016/
LOCATION:King’s Park Sports Ground\, 11 Wylie Path\, Ho Man Tin\, Jordan\, Hong Kong
CATEGORIES:2016,Free,Rugby,Sport
END:VEVENT
BEGIN:VEVENT
DTSTART;VALUE=DATE:20161117
DTEND;VALUE=DATE:20161121
DTSTAMP:20260422T175827
CREATED:19161017T171300Z
LAST-MODIFIED:20161017T172041Z
UID:10000901-1479340800-1479686399@www.bcmagazine.net
SUMMARY:Macau Grand Prix
DESCRIPTION:63rd Macau Grand Prix\nDate: 17-20 November\, 2016\nVenue: Guia Circuit\, Macau\nTickets: $900\, $550\, $350\, $130\, $50 from MacauTicket
URL:https://www.bcmagazine.net/event/macau-grand-prix-2016/
LOCATION:Macau\, Macau
CATEGORIES:2016,Macau,Sport
GEO:22.198745;113.543873
END:VEVENT
BEGIN:VEVENT
DTSTART;VALUE=DATE:20161119
DTEND;VALUE=DATE:20161128
DTSTAMP:20260422T175827
CREATED:19161116T032014Z
LAST-MODIFIED:20161116T040942Z
UID:10000971-1479513600-1480291199@www.bcmagazine.net
SUMMARY:Men’s Asian Hockey Federation Cup
DESCRIPTION:5th Men’s Asian Hockey Federation Cup\nDate: 19-27 November\, 2016\nVenue: King’s Park Hockey Ground\nTickets: Free
URL:https://www.bcmagazine.net/event/mens-asian-hockey-federation-cup-2016/
LOCATION:King’s Park Hockey Ground\, 2-6 Wylie Road\, Yau Ma Tei\, Hong Kong
CATEGORIES:2016,Free,Hockey,Sport
GEO:22.3069221;114.1770573
X-APPLE-STRUCTURED-LOCATION;VALUE=URI;X-ADDRESS=King’s Park Hockey Ground 2-6 Wylie Road Yau Ma Tei Hong Kong;X-APPLE-RADIUS=500;X-TITLE=2-6 Wylie Road:geo:114.1770573,22.3069221
END:VEVENT
BEGIN:VEVENT
DTSTART;VALUE=DATE:20161119
DTEND;VALUE=DATE:20161128
DTSTAMP:20260422T175827
CREATED:20230315T032014Z
LAST-MODIFIED:20230326T062329Z
UID:10006792-1479513600-1480291199@www.bcmagazine.net
SUMMARY:Hong Kong Quadrangular Hockey Tournament
DESCRIPTION:11th Hong Kong Quadrangular Hockey Tournament\nDate: 23-26 March 2023\nVenue: Hong Kong Football Club\nTickets: Free
URL:https://www.bcmagazine.net/event/hong-kong-quadrangular-hockey-tournament-2023/
LOCATION:Hong Kong Football Club\, 3 Sports Road\, Causeway Bay\, Hong Kong
CATEGORIES:2023,Free,Hockey,Sport
ATTACH;FMTTYPE=image/jpeg:https://www.bcmagazine.net/wp-content/uploads/1916/11/11th-Hong-Kong-Quadrangular-Hockey-Tournament-2023.jpeg
GEO:22.275374;114.1822239
X-APPLE-STRUCTURED-LOCATION;VALUE=URI;X-ADDRESS=Hong Kong Football Club 3 Sports Road Causeway Bay Hong Kong;X-APPLE-RADIUS=500;X-TITLE=3 Sports Road:geo:114.1822239,22.275374
END:VEVENT
BEGIN:VEVENT
DTSTART;TZID=Asia/Hong_Kong:20161119T090000
DTEND;TZID=Asia/Hong_Kong:20161120T090000
DTSTAMP:20260422T175827
CREATED:20161103T140203Z
LAST-MODIFIED:20161103T140309Z
UID:10006345-1479546000-1479632400@www.bcmagazine.net
SUMMARY:24 Hour Race
DESCRIPTION:24 Hour Race\nDate: 9am\, 19 November\, 2016\nVenue: The Peak\nTickets: Free\nMore info:\nwww.24hourrace.org
URL:https://www.bcmagazine.net/event/24-hour-race-2016/
LOCATION:The Peak\, Lugard Road\, Hong Kong
CATEGORIES:2016,Charity,Free,Sport
GEO:22.2756604;114.1417499
X-APPLE-STRUCTURED-LOCATION;VALUE=URI;X-ADDRESS=The Peak Lugard Road Hong Kong;X-APPLE-RADIUS=500;X-TITLE=Lugard Road:geo:114.1417499,22.2756604
END:VEVENT
BEGIN:VEVENT
DTSTART;TZID=Asia/Hong_Kong:20161119T130000
DTEND;TZID=Asia/Hong_Kong:20161119T130000
DTSTAMP:20260422T175827
CREATED:20160919T104420Z
LAST-MODIFIED:20160919T104420Z
UID:10006235-1479560400-1479560400@www.bcmagazine.net
SUMMARY:Pakistan Association v USRC/MCC
DESCRIPTION:Championship League A: Pakistan Association v USRC/MCC
URL:https://www.bcmagazine.net/event/pakistan-association-v-usrcmcc/
LOCATION:Tin Kwong Road Recreation Ground\, Tin Kwong Road\, Mong Kok\, Hong Kong
CATEGORIES:2016,Cricket,Free,Sport
GEO:22.3219997;114.1847986
X-APPLE-STRUCTURED-LOCATION;VALUE=URI;X-ADDRESS=Tin Kwong Road Recreation Ground Tin Kwong Road Mong Kok Hong Kong;X-APPLE-RADIUS=500;X-TITLE=Tin Kwong Road:geo:114.1847986,22.3219997
END:VEVENT
BEGIN:VEVENT
DTSTART;TZID=Asia/Hong_Kong:20161119T130000
DTEND;TZID=Asia/Hong_Kong:20161119T130000
DTSTAMP:20260422T175827
CREATED:20160919T104420Z
LAST-MODIFIED:20160919T104420Z
UID:10006232-1479560400-1479560400@www.bcmagazine.net
SUMMARY:DLSWCC Sarjan v Lamma
DESCRIPTION:Championship League B: DLSWCC Sarjan v Lamma
URL:https://www.bcmagazine.net/event/dlswcc-sarjan-v-lamma/
LOCATION:Guangzhou Cricket Stadium\, Guangzhou\, China
CATEGORIES:2016,Cricket,Free,Sport
GEO:23.12911;113.264385
END:VEVENT
BEGIN:VEVENT
DTSTART;TZID=Asia/Hong_Kong:20161119T130000
DTEND;TZID=Asia/Hong_Kong:20161119T130000
DTSTAMP:20260422T175827
CREATED:20160919T104420Z
LAST-MODIFIED:20160919T104420Z
UID:10006233-1479560400-1479560400@www.bcmagazine.net
SUMMARY:HKCC Nomads v HKCC Gap Ramblers
DESCRIPTION:Championship League A: HKCC Nomads v HKCC Gap Ramblers
URL:https://www.bcmagazine.net/event/hkcc-nomads-v-hkcc-gap-ramblers/
LOCATION:Hong Kong Cricket Club\, 137 Wong Ngai Chung Gap Road\, Hong Kong
CATEGORIES:2016,Cricket,Free,Sport
GEO:22.258574;114.1934009
X-APPLE-STRUCTURED-LOCATION;VALUE=URI;X-ADDRESS=Hong Kong Cricket Club 137 Wong Ngai Chung Gap Road Hong Kong;X-APPLE-RADIUS=500;X-TITLE=137 Wong Ngai Chung Gap Road:geo:114.1934009,22.258574
END:VEVENT
BEGIN:VEVENT
DTSTART;TZID=Asia/Hong_Kong:20161119T130000
DTEND;TZID=Asia/Hong_Kong:20161119T130000
DTSTAMP:20260422T175827
CREATED:20160919T104420Z
LAST-MODIFIED:20160919T104420Z
UID:10006234-1479560400-1479560400@www.bcmagazine.net
SUMMARY:KCC Saracens v KCC Tartars
DESCRIPTION:Championship League A: KCC Saracens v KCC Tartars
URL:https://www.bcmagazine.net/event/kcc-saracens-v-kcc-tartars/
LOCATION:Kowloon Cricket Club\, 10 Cox's Road\, Jordan\, Hong Kong
CATEGORIES:2016,Cricket,Free,Sport
GEO:22.3048927;114.1737401
X-APPLE-STRUCTURED-LOCATION;VALUE=URI;X-ADDRESS=Kowloon Cricket Club 10 Cox's Road Jordan Hong Kong;X-APPLE-RADIUS=500;X-TITLE=10 Cox's Road:geo:114.1737401,22.3048927
END:VEVENT
BEGIN:VEVENT
DTSTART;TZID=Asia/Hong_Kong:20161119T130000
DTEND;TZID=Asia/Hong_Kong:20161119T130000
DTSTAMP:20260422T175827
CREATED:20160919T104421Z
LAST-MODIFIED:20160919T104421Z
UID:10006240-1479560400-1479560400@www.bcmagazine.net
SUMMARY:HKCC Cavaliers v DLSWCC Wasps
DESCRIPTION:Women’s League A: HKCC Cavaliers v DLSWCC Wasps
URL:https://www.bcmagazine.net/event/hkcc-cavaliers-v-dlswcc-wasps-3/
LOCATION:Po Kong Village Road Reservoir Ground\, Po Kong Village Road\, Tsz Wan Shan\, Hong Kong
CATEGORIES:2016,Cricket,Free,Sport
GEO:22.346522;114.204203
X-APPLE-STRUCTURED-LOCATION;VALUE=URI;X-ADDRESS=Po Kong Village Road Reservoir Ground Po Kong Village Road Tsz Wan Shan Hong Kong;X-APPLE-RADIUS=500;X-TITLE=Po Kong Village Road:geo:114.204203,22.346522
END:VEVENT
BEGIN:VEVENT
DTSTART;TZID=Asia/Hong_Kong:20161119T130000
DTEND;TZID=Asia/Hong_Kong:20161119T130000
DTSTAMP:20260422T175827
CREATED:20160919T104421Z
LAST-MODIFIED:20160919T104421Z
UID:10006241-1479560400-1479560400@www.bcmagazine.net
SUMMARY:HKU CC v CCC Hung See
DESCRIPTION:Championship League B: HKU CC v CCC Hung See
URL:https://www.bcmagazine.net/event/hku-cc-v-ccc-hung-see/
LOCATION:Police Training College\, Police School Road\, Aberdeen\, Hong Kong
CATEGORIES:2016,Cricket,Free,Sport
GEO:22.246154;114.1706686
X-APPLE-STRUCTURED-LOCATION;VALUE=URI;X-ADDRESS=Police Training College Police School Road Aberdeen Hong Kong;X-APPLE-RADIUS=500;X-TITLE=Police School Road:geo:114.1706686,22.246154
END:VEVENT
BEGIN:VEVENT
DTSTART;TZID=Asia/Hong_Kong:20161120T080000
DTEND;TZID=Asia/Hong_Kong:20161120T080000
DTSTAMP:20260422T175827
CREATED:20160919T104420Z
LAST-MODIFIED:20160919T104420Z
UID:10006236-1479628800-1479628800@www.bcmagazine.net
SUMMARY:CCC XI v CCC Fung Wong
DESCRIPTION:Women’s Sixes A: CCC XI v CCC Fung Wong
URL:https://www.bcmagazine.net/event/ccc-xi-v-ccc-fung-wong/
LOCATION:Po Kong Village Road Reservoir Ground\, Po Kong Village Road\, Tsz Wan Shan\, Hong Kong
CATEGORIES:2016,Cricket,Free,Sport
GEO:22.346522;114.204203
X-APPLE-STRUCTURED-LOCATION;VALUE=URI;X-ADDRESS=Po Kong Village Road Reservoir Ground Po Kong Village Road Tsz Wan Shan Hong Kong;X-APPLE-RADIUS=500;X-TITLE=Po Kong Village Road:geo:114.204203,22.346522
END:VEVENT
BEGIN:VEVENT
DTSTART;TZID=Asia/Hong_Kong:20161120T090000
DTEND;TZID=Asia/Hong_Kong:20161120T090000
DTSTAMP:20260422T175827
CREATED:20160919T104420Z
LAST-MODIFIED:20160919T104420Z
UID:10006237-1479632400-1479632400@www.bcmagazine.net
SUMMARY:HKCC Cavaliers v DLSWCC Wasps
DESCRIPTION:Women’s Sixes A: HKCC Cavaliers v DLSWCC Wasps
URL:https://www.bcmagazine.net/event/hkcc-cavaliers-v-dlswcc-wasps-2/
LOCATION:Po Kong Village Road Reservoir Ground\, Po Kong Village Road\, Tsz Wan Shan\, Hong Kong
CATEGORIES:2016,Cricket,Free,Sport
GEO:22.346522;114.204203
X-APPLE-STRUCTURED-LOCATION;VALUE=URI;X-ADDRESS=Po Kong Village Road Reservoir Ground Po Kong Village Road Tsz Wan Shan Hong Kong;X-APPLE-RADIUS=500;X-TITLE=Po Kong Village Road:geo:114.204203,22.346522
END:VEVENT
BEGIN:VEVENT
DTSTART;TZID=Asia/Hong_Kong:20161120T093000
DTEND;TZID=Asia/Hong_Kong:20161120T093000
DTSTAMP:20260422T175827
CREATED:20160919T104419Z
LAST-MODIFIED:20160919T104419Z
UID:10006230-1479634200-1479634200@www.bcmagazine.net
SUMMARY:DLSWCC Knights v Shaffi's Vagabonds
DESCRIPTION:Elite League B: DLSWCC Knights v Shaffi’s Vagabonds
URL:https://www.bcmagazine.net/event/dlswcc-knights-v-shaffis-vagabonds/
LOCATION:Tin Kwong Road Recreation Ground\, Tin Kwong Road\, Mong Kok\, Hong Kong
CATEGORIES:2016,Cricket,Free,Sport
GEO:22.3219997;114.1847986
X-APPLE-STRUCTURED-LOCATION;VALUE=URI;X-ADDRESS=Tin Kwong Road Recreation Ground Tin Kwong Road Mong Kok Hong Kong;X-APPLE-RADIUS=500;X-TITLE=Tin Kwong Road:geo:114.1847986,22.3219997
END:VEVENT
BEGIN:VEVENT
DTSTART;TZID=Asia/Hong_Kong:20161120T100000
DTEND;TZID=Asia/Hong_Kong:20161120T100000
DTSTAMP:20260422T175827
CREATED:20160919T104419Z
LAST-MODIFIED:20160919T104419Z
UID:10006231-1479636000-1479636000@www.bcmagazine.net
SUMMARY:KCC Maidens v USRC
DESCRIPTION:Women’s Sixes A: KCC Maidens v USRC
URL:https://www.bcmagazine.net/event/kcc-maidens-v-usrc-2/
LOCATION:Po Kong Village Road Reservoir Ground\, Po Kong Village Road\, Tsz Wan Shan\, Hong Kong
CATEGORIES:2016,Cricket,Free,Sport
GEO:22.346522;114.204203
X-APPLE-STRUCTURED-LOCATION;VALUE=URI;X-ADDRESS=Po Kong Village Road Reservoir Ground Po Kong Village Road Tsz Wan Shan Hong Kong;X-APPLE-RADIUS=500;X-TITLE=Po Kong Village Road:geo:114.204203,22.346522
END:VEVENT
BEGIN:VEVENT
DTSTART;TZID=Asia/Hong_Kong:20161120T100000
DTEND;TZID=Asia/Hong_Kong:20161120T100000
DTSTAMP:20260422T175827
CREATED:20160919T104419Z
LAST-MODIFIED:20160919T104419Z
UID:10006229-1479636000-1479636000@www.bcmagazine.net
SUMMARY:Pakistan Association v KCC Templars
DESCRIPTION:Elite League A: Pakistan Association v KCC Templars
URL:https://www.bcmagazine.net/event/pakistan-association-v-kcc-templars/
LOCATION:Kowloon Cricket Club\, 10 Cox's Road\, Jordan\, Hong Kong
CATEGORIES:2016,Cricket,Free,Sport
GEO:22.3048927;114.1737401
X-APPLE-STRUCTURED-LOCATION;VALUE=URI;X-ADDRESS=Kowloon Cricket Club 10 Cox's Road Jordan Hong Kong;X-APPLE-RADIUS=500;X-TITLE=10 Cox's Road:geo:114.1737401,22.3048927
END:VEVENT
BEGIN:VEVENT
DTSTART;TZID=Asia/Hong_Kong:20161120T100000
DTEND;TZID=Asia/Hong_Kong:20161120T100000
DTSTAMP:20260422T175827
CREATED:20160919T104419Z
LAST-MODIFIED:20160919T104419Z
UID:10006227-1479636000-1479636000@www.bcmagazine.net
SUMMARY:HKCC Optimists v Guangzhou
DESCRIPTION:Elite League B: HKCC Optimists v Guangzhou
URL:https://www.bcmagazine.net/event/hkcc-optimists-v-guangzhou/
LOCATION:Guangzhou Cricket Stadium\, Guangzhou\, China
CATEGORIES:2016,Cricket,Free,Sport
GEO:23.12911;113.264385
END:VEVENT
BEGIN:VEVENT
DTSTART;TZID=Asia/Hong_Kong:20161120T100000
DTEND;TZID=Asia/Hong_Kong:20161120T100000
DTSTAMP:20260422T175827
CREATED:20160919T104419Z
LAST-MODIFIED:20160919T104419Z
UID:10006228-1479636000-1479636000@www.bcmagazine.net
SUMMARY:DLSWCC JKN v HKCC Wanderers
DESCRIPTION:Elite League A: DLSWCC JKN v HKCC Wanderers
URL:https://www.bcmagazine.net/event/dlswcc-jkn-v-hkcc-wanderers/
LOCATION:Hong Kong Cricket Club\, 137 Wong Ngai Chung Gap Road\, Hong Kong
CATEGORIES:2016,Cricket,Free,Sport
GEO:22.258574;114.1934009
X-APPLE-STRUCTURED-LOCATION;VALUE=URI;X-ADDRESS=Hong Kong Cricket Club 137 Wong Ngai Chung Gap Road Hong Kong;X-APPLE-RADIUS=500;X-TITLE=137 Wong Ngai Chung Gap Road:geo:114.1934009,22.258574
END:VEVENT
BEGIN:VEVENT
DTSTART;TZID=Asia/Hong_Kong:20161120T110000
DTEND;TZID=Asia/Hong_Kong:20161120T110000
DTSTAMP:20260422T175827
CREATED:20160919T104418Z
LAST-MODIFIED:20160919T104418Z
UID:10006222-1479639600-1479639600@www.bcmagazine.net
SUMMARY:HKCA XI v HKCC Willow Wielders
DESCRIPTION:Women’s Sixes A: HKCA XI v HKCC Willow Wielders
URL:https://www.bcmagazine.net/event/hkca-xi-v-hkcc-willow-wielders/
LOCATION:Po Kong Village Road Reservoir Ground\, Po Kong Village Road\, Tsz Wan Shan\, Hong Kong
CATEGORIES:2016,Cricket,Free,Sport
GEO:22.346522;114.204203
X-APPLE-STRUCTURED-LOCATION;VALUE=URI;X-ADDRESS=Po Kong Village Road Reservoir Ground Po Kong Village Road Tsz Wan Shan Hong Kong;X-APPLE-RADIUS=500;X-TITLE=Po Kong Village Road:geo:114.204203,22.346522
END:VEVENT
BEGIN:VEVENT
DTSTART;TZID=Asia/Hong_Kong:20161120T120000
DTEND;TZID=Asia/Hong_Kong:20161120T120000
DTSTAMP:20260422T175827
CREATED:20160919T104418Z
LAST-MODIFIED:20160919T104418Z
UID:10006223-1479643200-1479643200@www.bcmagazine.net
SUMMARY:PACC v HKCC Cavaliers
DESCRIPTION:Women’s Sixes A: PACC v HKCC Cavaliers
URL:https://www.bcmagazine.net/event/pacc-v-hkcc-cavaliers/
LOCATION:Po Kong Village Road Reservoir Ground\, Po Kong Village Road\, Tsz Wan Shan\, Hong Kong
CATEGORIES:2016,Cricket,Free,Sport
GEO:22.346522;114.204203
X-APPLE-STRUCTURED-LOCATION;VALUE=URI;X-ADDRESS=Po Kong Village Road Reservoir Ground Po Kong Village Road Tsz Wan Shan Hong Kong;X-APPLE-RADIUS=500;X-TITLE=Po Kong Village Road:geo:114.204203,22.346522
END:VEVENT
BEGIN:VEVENT
DTSTART;TZID=Asia/Hong_Kong:20161120T130000
DTEND;TZID=Asia/Hong_Kong:20161120T130000
DTSTAMP:20260422T175827
CREATED:20160919T104418Z
LAST-MODIFIED:20160919T104418Z
UID:10006224-1479646800-1479646800@www.bcmagazine.net
SUMMARY:USRC v CCC XI
DESCRIPTION:Women’s Sixes A: USRC v CCC XI
URL:https://www.bcmagazine.net/event/usrc-v-ccc-xi-2/
LOCATION:Po Kong Village Road Reservoir Ground\, Po Kong Village Road\, Tsz Wan Shan\, Hong Kong
CATEGORIES:2016,Cricket,Free,Sport
GEO:22.346522;114.204203
X-APPLE-STRUCTURED-LOCATION;VALUE=URI;X-ADDRESS=Po Kong Village Road Reservoir Ground Po Kong Village Road Tsz Wan Shan Hong Kong;X-APPLE-RADIUS=500;X-TITLE=Po Kong Village Road:geo:114.204203,22.346522
END:VEVENT
BEGIN:VEVENT
DTSTART;TZID=Asia/Hong_Kong:20161120T140000
DTEND;TZID=Asia/Hong_Kong:20161120T140000
DTSTAMP:20260422T175827
CREATED:20160919T104418Z
LAST-MODIFIED:20160919T104418Z
UID:10006225-1479650400-1479650400@www.bcmagazine.net
SUMMARY:DLSWCC Wasps v HKCA XI
DESCRIPTION:Women’s Sixes A: DLSWCC Wasps v HKCA XI
URL:https://www.bcmagazine.net/event/dlswcc-wasps-v-hkca-xi/
LOCATION:Po Kong Village Road Reservoir Ground\, Po Kong Village Road\, Tsz Wan Shan\, Hong Kong
CATEGORIES:2016,Cricket,Free,Sport
GEO:22.346522;114.204203
X-APPLE-STRUCTURED-LOCATION;VALUE=URI;X-ADDRESS=Po Kong Village Road Reservoir Ground Po Kong Village Road Tsz Wan Shan Hong Kong;X-APPLE-RADIUS=500;X-TITLE=Po Kong Village Road:geo:114.204203,22.346522
END:VEVENT
BEGIN:VEVENT
DTSTART;TZID=Asia/Hong_Kong:20161120T150000
DTEND;TZID=Asia/Hong_Kong:20161120T150000
DTSTAMP:20260422T175827
CREATED:20160919T104418Z
LAST-MODIFIED:20160919T104418Z
UID:10006226-1479654000-1479654000@www.bcmagazine.net
SUMMARY:PACC v KCC Maidens
DESCRIPTION:Women’s Sixes A: PACC v KCC Maidens
URL:https://www.bcmagazine.net/event/pacc-v-kcc-maidens-3/
LOCATION:Po Kong Village Road Reservoir Ground\, Po Kong Village Road\, Tsz Wan Shan\, Hong Kong
CATEGORIES:2016,Cricket,Free,Sport
GEO:22.346522;114.204203
X-APPLE-STRUCTURED-LOCATION;VALUE=URI;X-ADDRESS=Po Kong Village Road Reservoir Ground Po Kong Village Road Tsz Wan Shan Hong Kong;X-APPLE-RADIUS=500;X-TITLE=Po Kong Village Road:geo:114.204203,22.346522
END:VEVENT
BEGIN:VEVENT
DTSTART;TZID=Asia/Hong_Kong:20161120T160000
DTEND;TZID=Asia/Hong_Kong:20161120T160000
DTSTAMP:20260422T175827
CREATED:20160919T104417Z
LAST-MODIFIED:20160919T104417Z
UID:10006217-1479657600-1479657600@www.bcmagazine.net
SUMMARY:CCC Fung Wong v USRC
DESCRIPTION:Women’s Sixes A: CCC Fung Wong v USRC
URL:https://www.bcmagazine.net/event/ccc-fung-wong-v-usrc-2/
LOCATION:Po Kong Village Road Reservoir Ground\, Po Kong Village Road\, Tsz Wan Shan\, Hong Kong
CATEGORIES:2016,Cricket,Free,Sport
GEO:22.346522;114.204203
X-APPLE-STRUCTURED-LOCATION;VALUE=URI;X-ADDRESS=Po Kong Village Road Reservoir Ground Po Kong Village Road Tsz Wan Shan Hong Kong;X-APPLE-RADIUS=500;X-TITLE=Po Kong Village Road:geo:114.204203,22.346522
END:VEVENT
BEGIN:VEVENT
DTSTART;TZID=Asia/Hong_Kong:20161120T193000
DTEND;TZID=Asia/Hong_Kong:20161120T193000
DTSTAMP:20260422T175827
CREATED:19161115T073840Z
LAST-MODIFIED:20161115T074022Z
UID:10000969-1479670200-1479670200@www.bcmagazine.net
SUMMARY:Hong Kong v Kazakhstan
DESCRIPTION:Hong Kong v Kazakhstan\nDate: 7:30pm\, 20 November\, 2016\nVenue: King’s Park\nTickets: Free
URL:https://www.bcmagazine.net/event/hong-kong-v-kazakhstan-20-11-2016/
LOCATION:King’s Park Sports Ground\, 11 Wylie Path\, Ho Man Tin\, Jordan\, Hong Kong
CATEGORIES:2016,Free,Rugby,Sport
END:VEVENT
END:VCALENDAR