BEGIN:VCALENDAR
VERSION:2.0
PRODID:-//bc magazine - ECPv6.15.20//NONSGML v1.0//EN
CALSCALE:GREGORIAN
METHOD:PUBLISH
X-WR-CALNAME:bc magazine
X-ORIGINAL-URL:https://www.bcmagazine.net
X-WR-CALDESC:Events for bc magazine
REFRESH-INTERVAL;VALUE=DURATION:PT1H
X-Robots-Tag:noindex
X-PUBLISHED-TTL:PT1H
BEGIN:VTIMEZONE
TZID:Asia/Hong_Kong
BEGIN:STANDARD
TZOFFSETFROM:+0800
TZOFFSETTO:+0800
TZNAME:HKT
DTSTART:20150101T000000
END:STANDARD
END:VTIMEZONE
BEGIN:VEVENT
DTSTART;VALUE=DATE:20161129
DTEND;VALUE=DATE:20161205
DTSTAMP:20260423T110648
CREATED:19161017T172049Z
LAST-MODIFIED:20161017T172412Z
UID:10000903-1480377600-1480895999@www.bcmagazine.net
SUMMARY:Macau Open Badminton
DESCRIPTION:Macau Open Badminton\nDate: 29 November – 4 December\, 2016\nVenue: Tap Seac Multisport Pavilion Macau\nTickets: $400\, $150 from MacauTicket
URL:https://www.bcmagazine.net/event/macau-open-badminton-2016/
LOCATION:Tap Seac Multisport Pavilion\, Av. Conselheiro Ferreira de Almeida\, no.95\, Macau
CATEGORIES:2016,Macau,Sport
GEO:22.198933;113.5470855
X-APPLE-STRUCTURED-LOCATION;VALUE=URI;X-ADDRESS=Tap Seac Multisport Pavilion Av. Conselheiro Ferreira de Almeida no.95 Macau;X-APPLE-RADIUS=500;X-TITLE=Av. Conselheiro Ferreira de Almeida\, no.95:geo:113.5470855,22.198933
END:VEVENT
BEGIN:VEVENT
DTSTART;TZID=Asia/Hong_Kong:20161129T090000
DTEND;TZID=Asia/Hong_Kong:20161129T170000
DTSTAMP:20260423T110648
CREATED:20161129T155358Z
LAST-MODIFIED:20161129T155358Z
UID:10006351-1480410000-1480438800@www.bcmagazine.net
SUMMARY:Eco-Walk 2017
DESCRIPTION:The 2017 Eco-Walk can be completed as either a 2.6-kilometre route or a 5-kilometre route\, both starting from Stanley’s five-a-side soccer pitches. The destination for the short route is Ma Hang Park; while the longer route finishes at Chung Hom Kok Park. \nEco-Walk 2017\nDate: 9am\, 25 February\, 2017\nVenue: Stanley\nTickets: Charity donation\, register at www.chinachemecowalk.com
URL:https://www.bcmagazine.net/event/eco-walk-2017/
CATEGORIES:2017,Charity,Sport
END:VEVENT
BEGIN:VEVENT
DTSTART;TZID=Asia/Hong_Kong:20161202T100000
DTEND;TZID=Asia/Hong_Kong:20161202T170000
DTSTAMP:20260423T110648
CREATED:19161108T013858Z
LAST-MODIFIED:20161108T014605Z
UID:10000958-1480672800-1480698000@www.bcmagazine.net
SUMMARY:Soft Darts World Final
DESCRIPTION:The World Final\nDate: 10am\, 2-4 December\, 2016\nVenue: KITEC\, Star Hall\nTickets: $3\,480\, $480\, $280 from www.darts-theworld.com
URL:https://www.bcmagazine.net/event/soft-darts-world-final-2016/2016-12-02/
LOCATION:KITEC\, Star Hall\, KITEC\, 1 Trademart Drive\, Kowloon Bay\, Hong Kong
CATEGORIES:2016,Sport
GEO:22.3239575;114.2037608
X-APPLE-STRUCTURED-LOCATION;VALUE=URI;X-ADDRESS=KITEC Star Hall KITEC 1 Trademart Drive Kowloon Bay Hong Kong;X-APPLE-RADIUS=500;X-TITLE=KITEC\, 1 Trademart Drive:geo:114.2037608,22.3239575
END:VEVENT
BEGIN:VEVENT
DTSTART;VALUE=DATE:20161203
DTEND;VALUE=DATE:20161205
DTSTAMP:20260423T110648
CREATED:19161024T145934Z
LAST-MODIFIED:20161024T150050Z
UID:10002319-1480723200-1480895999@www.bcmagazine.net
SUMMARY:FEI World Jumping Challenge 2016-17
DESCRIPTION:FEI World Jumping Challenge 2016-17\nDate: 3–4 December\, 2016\nVenue: Beas River Equestrian Centre\nTickets: Free
URL:https://www.bcmagazine.net/event/fei-world-jumping-challenge-12-2016/
LOCATION:Beas River Equestrian Centre\, Kam Tsin Road\, Hong Kong
CATEGORIES:2016,Sport
GEO:22.4991652;114.1093292
X-APPLE-STRUCTURED-LOCATION;VALUE=URI;X-ADDRESS=Beas River Equestrian Centre Kam Tsin Road Hong Kong;X-APPLE-RADIUS=500;X-TITLE=Kam Tsin Road:geo:114.1093292,22.4991652
END:VEVENT
BEGIN:VEVENT
DTSTART;VALUE=DATE:20161203
DTEND;VALUE=DATE:20161206
DTSTAMP:20260423T110648
CREATED:19161201T020006Z
LAST-MODIFIED:20161201T020541Z
UID:10000998-1480723200-1480982399@www.bcmagazine.net
SUMMARY:Hong Kong Open Fencing Championships
DESCRIPTION:Hong Kong Open Fencing Championships\nDate: 3-5 December\, 2016\nVenue: Shek Kip Mei Park Sports Centre\nTickets: Free to watch\nMore info: www.hkfa.org.hk
URL:https://www.bcmagazine.net/event/hong-kong-open-fencing-championships/
LOCATION:Shek Kip Mei Park Sports Centre\, Hong Kong
CATEGORIES:2016,Free,Sport
END:VEVENT
BEGIN:VEVENT
DTSTART;TZID=Asia/Hong_Kong:20161203T100000
DTEND;TZID=Asia/Hong_Kong:20161203T100000
DTSTAMP:20260423T110648
CREATED:20160919T104415Z
LAST-MODIFIED:20160919T104415Z
UID:10006208-1480759200-1480759200@www.bcmagazine.net
SUMMARY:HKCC v KCC
DESCRIPTION:Premier League 2-Day A: HKCC v KCC
URL:https://www.bcmagazine.net/event/hkcc-v-kcc-2/
LOCATION:Hong Kong Cricket Club\, 137 Wong Ngai Chung Gap Road\, Hong Kong
CATEGORIES:2016,Cricket,Free,Sport
GEO:22.258574;114.1934009
X-APPLE-STRUCTURED-LOCATION;VALUE=URI;X-ADDRESS=Hong Kong Cricket Club 137 Wong Ngai Chung Gap Road Hong Kong;X-APPLE-RADIUS=500;X-TITLE=137 Wong Ngai Chung Gap Road:geo:114.1934009,22.258574
END:VEVENT
BEGIN:VEVENT
DTSTART;TZID=Asia/Hong_Kong:20161203T100000
DTEND;TZID=Asia/Hong_Kong:20161203T170000
DTSTAMP:20260423T110648
CREATED:19161108T013858Z
LAST-MODIFIED:20161108T014605Z
UID:10000959-1480759200-1480784400@www.bcmagazine.net
SUMMARY:Soft Darts World Final
DESCRIPTION:The World Final\nDate: 10am\, 2-4 December\, 2016\nVenue: KITEC\, Star Hall\nTickets: $3\,480\, $480\, $280 from www.darts-theworld.com
URL:https://www.bcmagazine.net/event/soft-darts-world-final-2016/2016-12-03/
LOCATION:KITEC\, Star Hall\, KITEC\, 1 Trademart Drive\, Kowloon Bay\, Hong Kong
CATEGORIES:2016,Sport
GEO:22.3239575;114.2037608
X-APPLE-STRUCTURED-LOCATION;VALUE=URI;X-ADDRESS=KITEC Star Hall KITEC 1 Trademart Drive Kowloon Bay Hong Kong;X-APPLE-RADIUS=500;X-TITLE=KITEC\, 1 Trademart Drive:geo:114.2037608,22.3239575
END:VEVENT
BEGIN:VEVENT
DTSTART;TZID=Asia/Hong_Kong:20161203T123000
DTEND;TZID=Asia/Hong_Kong:20161203T123000
DTSTAMP:20260423T110648
CREATED:20160919T104415Z
LAST-MODIFIED:20160919T104415Z
UID:10006210-1480768200-1480768200@www.bcmagazine.net
SUMMARY:DLSWCC Sarjan v Kai Tak
DESCRIPTION:Championship League B: DLSWCC Sarjan v Kai Tak
URL:https://www.bcmagazine.net/event/dlswcc-sarjan-v-kai-tak/
LOCATION:Po Kong Village Road Park\, 140 Po Kong Village Road\, Diamond Hill\, Hong Kong
CATEGORIES:2016,Cricket,Free,Sport
GEO:22.3435827;114.2044989
X-APPLE-STRUCTURED-LOCATION;VALUE=URI;X-ADDRESS=Po Kong Village Road Park 140 Po Kong Village Road Diamond Hill Hong Kong;X-APPLE-RADIUS=500;X-TITLE=140 Po Kong Village Road:geo:114.2044989,22.3435827
END:VEVENT
BEGIN:VEVENT
DTSTART;TZID=Asia/Hong_Kong:20161203T130000
DTEND;TZID=Asia/Hong_Kong:20161203T130000
DTSTAMP:20260423T110648
CREATED:20160919T104415Z
LAST-MODIFIED:20160919T104415Z
UID:10006209-1480770000-1480770000@www.bcmagazine.net
SUMMARY:USRC/MCC v Taipan CC
DESCRIPTION:Championship League A: USRC/MCC v Taipan CC
URL:https://www.bcmagazine.net/event/usrcmcc-v-taipan-cc/
LOCATION:Tin Kwong Road Recreation Ground\, Tin Kwong Road\, Mong Kok\, Hong Kong
CATEGORIES:2016,Cricket,Free,Sport
GEO:22.3219997;114.1847986
X-APPLE-STRUCTURED-LOCATION;VALUE=URI;X-ADDRESS=Tin Kwong Road Recreation Ground Tin Kwong Road Mong Kok Hong Kong;X-APPLE-RADIUS=500;X-TITLE=Tin Kwong Road:geo:114.1847986,22.3219997
END:VEVENT
BEGIN:VEVENT
DTSTART;TZID=Asia/Hong_Kong:20161203T130000
DTEND;TZID=Asia/Hong_Kong:20161203T130000
DTSTAMP:20260423T110648
CREATED:20160919T104415Z
LAST-MODIFIED:20160919T104415Z
UID:10006207-1480770000-1480770000@www.bcmagazine.net
SUMMARY:Pioneers CC v SCC Lancers
DESCRIPTION:Championship League B: Pioneers CC v SCC Lancers
URL:https://www.bcmagazine.net/event/pioneers-cc-v-scc-lancers/
LOCATION:Guangzhou Cricket Stadium\, Guangzhou\, China
CATEGORIES:2016,Cricket,Free,Sport
GEO:23.12911;113.264385
END:VEVENT
BEGIN:VEVENT
DTSTART;TZID=Asia/Hong_Kong:20161204T093000
DTEND;TZID=Asia/Hong_Kong:20161204T093000
DTSTAMP:20260423T110648
CREATED:20160919T104414Z
LAST-MODIFIED:20160919T104414Z
UID:10006202-1480843800-1480843800@www.bcmagazine.net
SUMMARY:Shaffi's Vagabonds v USRC/MCC
DESCRIPTION:Elite League B: Shaffi’s Vagabonds v USRC/MCC
URL:https://www.bcmagazine.net/event/shaffis-vagabonds-v-usrcmcc/
LOCATION:Tin Kwong Road Recreation Ground\, Tin Kwong Road\, Mong Kok\, Hong Kong
CATEGORIES:2016,Cricket,Free,Sport
GEO:22.3219997;114.1847986
X-APPLE-STRUCTURED-LOCATION;VALUE=URI;X-ADDRESS=Tin Kwong Road Recreation Ground Tin Kwong Road Mong Kok Hong Kong;X-APPLE-RADIUS=500;X-TITLE=Tin Kwong Road:geo:114.1847986,22.3219997
END:VEVENT
BEGIN:VEVENT
DTSTART;TZID=Asia/Hong_Kong:20161204T093000
DTEND;TZID=Asia/Hong_Kong:20161204T093000
DTSTAMP:20260423T110648
CREATED:20160919T104414Z
LAST-MODIFIED:20160919T104414Z
UID:10006203-1480843800-1480843800@www.bcmagazine.net
SUMMARY:HKCA Dragons v Headwin Tritons SLCC
DESCRIPTION:Elite League B: HKCA Dragons v Headwin Tritons SLCC
URL:https://www.bcmagazine.net/event/hkca-dragons-v-headwin-tritons-slcc/
LOCATION:Po Kong Village Road Park\, 140 Po Kong Village Road\, Diamond Hill\, Hong Kong
CATEGORIES:2016,Cricket,Free,Sport
GEO:22.3435827;114.2044989
X-APPLE-STRUCTURED-LOCATION;VALUE=URI;X-ADDRESS=Po Kong Village Road Park 140 Po Kong Village Road Diamond Hill Hong Kong;X-APPLE-RADIUS=500;X-TITLE=140 Po Kong Village Road:geo:114.2044989,22.3435827
END:VEVENT
BEGIN:VEVENT
DTSTART;TZID=Asia/Hong_Kong:20161204T100000
DTEND;TZID=Asia/Hong_Kong:20161204T100000
DTSTAMP:20260423T110648
CREATED:20160919T104414Z
LAST-MODIFIED:20160919T104414Z
UID:10006201-1480845600-1480845600@www.bcmagazine.net
SUMMARY:HKCC v KCC
DESCRIPTION:Premier League 2-Day A: HKCC v KCC
URL:https://www.bcmagazine.net/event/hkcc-v-kcc/
LOCATION:Hong Kong Cricket Club\, 137 Wong Ngai Chung Gap Road\, Hong Kong
CATEGORIES:2016,Cricket,Free,Sport
GEO:22.258574;114.1934009
X-APPLE-STRUCTURED-LOCATION;VALUE=URI;X-ADDRESS=Hong Kong Cricket Club 137 Wong Ngai Chung Gap Road Hong Kong;X-APPLE-RADIUS=500;X-TITLE=137 Wong Ngai Chung Gap Road:geo:114.1934009,22.258574
END:VEVENT
BEGIN:VEVENT
DTSTART;TZID=Asia/Hong_Kong:20161204T100000
DTEND;TZID=Asia/Hong_Kong:20161204T100000
DTSTAMP:20260423T110649
CREATED:20160919T104414Z
LAST-MODIFIED:20160919T104414Z
UID:10006200-1480845600-1480845600@www.bcmagazine.net
SUMMARY:DLSWCC Knights v Guangzhou
DESCRIPTION:Elite League B: DLSWCC Knights v Guangzhou
URL:https://www.bcmagazine.net/event/dlswcc-knights-v-guangzhou/
LOCATION:Guangzhou Cricket Stadium\, Guangzhou\, China
CATEGORIES:2016,Cricket,Free,Sport
GEO:23.12911;113.264385
END:VEVENT
BEGIN:VEVENT
DTSTART;TZID=Asia/Hong_Kong:20161204T100000
DTEND;TZID=Asia/Hong_Kong:20161204T170000
DTSTAMP:20260423T110649
CREATED:19161108T013858Z
LAST-MODIFIED:20161108T014605Z
UID:10000960-1480845600-1480870800@www.bcmagazine.net
SUMMARY:Soft Darts World Final
DESCRIPTION:The World Final\nDate: 10am\, 2-4 December\, 2016\nVenue: KITEC\, Star Hall\nTickets: $3\,480\, $480\, $280 from www.darts-theworld.com
URL:https://www.bcmagazine.net/event/soft-darts-world-final-2016/2016-12-04/
LOCATION:KITEC\, Star Hall\, KITEC\, 1 Trademart Drive\, Kowloon Bay\, Hong Kong
CATEGORIES:2016,Sport
GEO:22.3239575;114.2037608
X-APPLE-STRUCTURED-LOCATION;VALUE=URI;X-ADDRESS=KITEC Star Hall KITEC 1 Trademart Drive Kowloon Bay Hong Kong;X-APPLE-RADIUS=500;X-TITLE=KITEC\, 1 Trademart Drive:geo:114.2037608,22.3239575
END:VEVENT
BEGIN:VEVENT
DTSTART;TZID=Asia/Hong_Kong:20161204T130000
DTEND;TZID=Asia/Hong_Kong:20161204T130000
DTSTAMP:20260423T110649
CREATED:20160919T104414Z
LAST-MODIFIED:20160919T104414Z
UID:10006204-1480856400-1480856400@www.bcmagazine.net
SUMMARY:DLSWCC Wasps v KCC Maidens
DESCRIPTION:Women’s League A: DLSWCC Wasps v KCC Maidens
URL:https://www.bcmagazine.net/event/dlswcc-wasps-v-kcc-maidens-2/
LOCATION:Po Kong Village Road Reservoir Ground\, Po Kong Village Road\, Tsz Wan Shan\, Hong Kong
CATEGORIES:2016,Cricket,Free,Sport
GEO:22.346522;114.204203
X-APPLE-STRUCTURED-LOCATION;VALUE=URI;X-ADDRESS=Po Kong Village Road Reservoir Ground Po Kong Village Road Tsz Wan Shan Hong Kong;X-APPLE-RADIUS=500;X-TITLE=Po Kong Village Road:geo:114.204203,22.346522
END:VEVENT
END:VCALENDAR