BEGIN:VCALENDAR
VERSION:2.0
PRODID:-//bc magazine - ECPv6.15.20//NONSGML v1.0//EN
CALSCALE:GREGORIAN
METHOD:PUBLISH
X-WR-CALNAME:bc magazine
X-ORIGINAL-URL:https://www.bcmagazine.net
X-WR-CALDESC:Events for bc magazine
REFRESH-INTERVAL;VALUE=DURATION:PT1H
X-Robots-Tag:noindex
X-PUBLISHED-TTL:PT1H
BEGIN:VTIMEZONE
TZID:Asia/Hong_Kong
BEGIN:STANDARD
TZOFFSETFROM:+0800
TZOFFSETTO:+0800
TZNAME:HKT
DTSTART:20150101T000000
END:STANDARD
END:VTIMEZONE
BEGIN:VEVENT
DTSTART;VALUE=DATE:20161203
DTEND;VALUE=DATE:20161206
DTSTAMP:20260424T000240
CREATED:19161201T020006Z
LAST-MODIFIED:20161201T020541Z
UID:10000998-1480723200-1480982399@www.bcmagazine.net
SUMMARY:Hong Kong Open Fencing Championships
DESCRIPTION:Hong Kong Open Fencing Championships\nDate: 3-5 December\, 2016\nVenue: Shek Kip Mei Park Sports Centre\nTickets: Free to watch\nMore info: www.hkfa.org.hk
URL:https://www.bcmagazine.net/event/hong-kong-open-fencing-championships/
LOCATION:Shek Kip Mei Park Sports Centre\, Hong Kong
CATEGORIES:2016,Free,Sport
END:VEVENT
BEGIN:VEVENT
DTSTART;VALUE=DATE:20161208
DTEND;VALUE=DATE:20161212
DTSTAMP:20260424T000240
CREATED:19161016T071722Z
LAST-MODIFIED:20161016T073112Z
UID:10002269-1481155200-1481500799@www.bcmagazine.net
SUMMARY:Hong Kong Golf Open
DESCRIPTION:Hong Kong Golf Open\nDate: 8-11 December\, 2016\nVenue: Fanling Golf Course\nTickets: $600\, $400\, free from Ticketflap
URL:https://www.bcmagazine.net/event/hong-kong-golf-open-2016/
LOCATION:Fanling Golf Course\, Lot No. 1 Fan Kam Road\, New Territories\, Hong Kong
CATEGORIES:2016,Free,Golf,Sport
GEO:22.4993865;114.12526
X-APPLE-STRUCTURED-LOCATION;VALUE=URI;X-ADDRESS=Fanling Golf Course Lot No. 1 Fan Kam Road New Territories Hong Kong;X-APPLE-RADIUS=500;X-TITLE=Lot No. 1 Fan Kam Road:geo:114.12526,22.4993865
END:VEVENT
BEGIN:VEVENT
DTSTART;TZID=Asia/Hong_Kong:20161209T190000
DTEND;TZID=Asia/Hong_Kong:20161209T190000
DTSTAMP:20260424T000240
CREATED:19161115T071248Z
LAST-MODIFIED:20161206T145702Z
UID:10002355-1481310000-1481310000@www.bcmagazine.net
SUMMARY:Hong Kong v Fiji
DESCRIPTION:Hong Kong v Fiji\nWomen’s World Cup Qualifier\nDate: 7pm\, 9 December\, 2016\nVenue: King’s Park\nTickets: Free
URL:https://www.bcmagazine.net/event/hong-kong-v-fiji-world-cup-2016/
CATEGORIES:2016,Free,Rugby,Sport
END:VEVENT
BEGIN:VEVENT
DTSTART;TZID=Asia/Hong_Kong:20161210T123000
DTEND;TZID=Asia/Hong_Kong:20161210T123000
DTSTAMP:20260424T000240
CREATED:20160919T104413Z
LAST-MODIFIED:20160919T104413Z
UID:10006197-1481373000-1481373000@www.bcmagazine.net
SUMMARY:Laguna Gully v DLSWCC Sarjan
DESCRIPTION:Championship League B: Laguna Gully v DLSWCC Sarjan
URL:https://www.bcmagazine.net/event/laguna-gully-v-dlswcc-sarjan/
LOCATION:Po Kong Village Road Park\, 140 Po Kong Village Road\, Diamond Hill\, Hong Kong
CATEGORIES:2016,Cricket,Free,Sport
GEO:22.3435827;114.2044989
X-APPLE-STRUCTURED-LOCATION;VALUE=URI;X-ADDRESS=Po Kong Village Road Park 140 Po Kong Village Road Diamond Hill Hong Kong;X-APPLE-RADIUS=500;X-TITLE=140 Po Kong Village Road:geo:114.2044989,22.3435827
END:VEVENT
BEGIN:VEVENT
DTSTART;TZID=Asia/Hong_Kong:20161210T130000
DTEND;TZID=Asia/Hong_Kong:20161210T130000
DTSTAMP:20260424T000240
CREATED:20160919T104413Z
LAST-MODIFIED:20160919T104413Z
UID:10006198-1481374800-1481374800@www.bcmagazine.net
SUMMARY:DLSWCC Wasps v HKCC Cavaliers
DESCRIPTION:Women’s League A: DLSWCC Wasps v HKCC Cavaliers
URL:https://www.bcmagazine.net/event/dlswcc-wasps-v-hkcc-cavaliers-2/
LOCATION:Po Kong Village Road Reservoir Ground\, Po Kong Village Road\, Tsz Wan Shan\, Hong Kong
CATEGORIES:2016,Cricket,Free,Sport
GEO:22.346522;114.204203
X-APPLE-STRUCTURED-LOCATION;VALUE=URI;X-ADDRESS=Po Kong Village Road Reservoir Ground Po Kong Village Road Tsz Wan Shan Hong Kong;X-APPLE-RADIUS=500;X-TITLE=Po Kong Village Road:geo:114.204203,22.346522
END:VEVENT
BEGIN:VEVENT
DTSTART;TZID=Asia/Hong_Kong:20161210T130000
DTEND;TZID=Asia/Hong_Kong:20161210T130000
DTSTAMP:20260424T000240
CREATED:20160919T104413Z
LAST-MODIFIED:20160919T104413Z
UID:10006199-1481374800-1481374800@www.bcmagazine.net
SUMMARY:Kai Tak v CCC Hung See
DESCRIPTION:Championship League B: Kai Tak v CCC Hung See
URL:https://www.bcmagazine.net/event/kai-tak-v-ccc-hung-see/
LOCATION:Police Training College\, Police School Road\, Aberdeen\, Hong Kong
CATEGORIES:2016,Cricket,Free,Sport
GEO:22.246154;114.1706686
X-APPLE-STRUCTURED-LOCATION;VALUE=URI;X-ADDRESS=Police Training College Police School Road Aberdeen Hong Kong;X-APPLE-RADIUS=500;X-TITLE=Police School Road:geo:114.1706686,22.246154
END:VEVENT
BEGIN:VEVENT
DTSTART;TZID=Asia/Hong_Kong:20161210T130000
DTEND;TZID=Asia/Hong_Kong:20161210T130000
DTSTAMP:20260424T000240
CREATED:20160919T104413Z
LAST-MODIFIED:20160919T104413Z
UID:10006194-1481374800-1481374800@www.bcmagazine.net
SUMMARY:Pioneers CC v Centaurs
DESCRIPTION:Championship League B: Pioneers CC v Centaurs
URL:https://www.bcmagazine.net/event/pioneers-cc-v-centaurs/
LOCATION:Guangzhou Cricket Stadium\, Guangzhou\, China
CATEGORIES:2016,Cricket,Free,Sport
GEO:23.12911;113.264385
END:VEVENT
BEGIN:VEVENT
DTSTART;TZID=Asia/Hong_Kong:20161210T130000
DTEND;TZID=Asia/Hong_Kong:20161210T130000
DTSTAMP:20260424T000240
CREATED:20160919T104413Z
LAST-MODIFIED:20160919T104413Z
UID:10006195-1481374800-1481374800@www.bcmagazine.net
SUMMARY:Taipan CC v KCC Crusaders
DESCRIPTION:Championship League A: Taipan CC v KCC Crusaders
URL:https://www.bcmagazine.net/event/taipan-cc-v-kcc-crusaders/
LOCATION:Kowloon Cricket Club\, 10 Cox's Road\, Jordan\, Hong Kong
CATEGORIES:2016,Cricket,Free,Sport
GEO:22.3048927;114.1737401
X-APPLE-STRUCTURED-LOCATION;VALUE=URI;X-ADDRESS=Kowloon Cricket Club 10 Cox's Road Jordan Hong Kong;X-APPLE-RADIUS=500;X-TITLE=10 Cox's Road:geo:114.1737401,22.3048927
END:VEVENT
BEGIN:VEVENT
DTSTART;TZID=Asia/Hong_Kong:20161210T130000
DTEND;TZID=Asia/Hong_Kong:20161210T130000
DTSTAMP:20260424T000240
CREATED:20160919T104413Z
LAST-MODIFIED:20160919T104413Z
UID:10006196-1481374800-1481374800@www.bcmagazine.net
SUMMARY:HKU CC v SCC Lancers
DESCRIPTION:Championship League B: HKU CC v SCC Lancers
URL:https://www.bcmagazine.net/event/hku-cc-v-scc-lancers/
LOCATION:Tin Kwong Road Recreation Ground\, Tin Kwong Road\, Mong Kok\, Hong Kong
CATEGORIES:2016,Cricket,Free,Sport
GEO:22.3219997;114.1847986
X-APPLE-STRUCTURED-LOCATION;VALUE=URI;X-ADDRESS=Tin Kwong Road Recreation Ground Tin Kwong Road Mong Kok Hong Kong;X-APPLE-RADIUS=500;X-TITLE=Tin Kwong Road:geo:114.1847986,22.3219997
END:VEVENT
BEGIN:VEVENT
DTSTART;TZID=Asia/Hong_Kong:20161211T080000
DTEND;TZID=Asia/Hong_Kong:20161211T080000
DTSTAMP:20260424T000240
CREATED:20160919T104412Z
LAST-MODIFIED:20160919T104412Z
UID:10006192-1481443200-1481443200@www.bcmagazine.net
SUMMARY:CCC XI v Sky Warriors
DESCRIPTION:Women’s Development League B: CCC XI v Sky Warriors
URL:https://www.bcmagazine.net/event/ccc-xi-v-sky-warriors/
LOCATION:Po Kong Village Road Reservoir Ground\, Po Kong Village Road\, Tsz Wan Shan\, Hong Kong
CATEGORIES:2016,Cricket,Free,Sport
GEO:22.346522;114.204203
X-APPLE-STRUCTURED-LOCATION;VALUE=URI;X-ADDRESS=Po Kong Village Road Reservoir Ground Po Kong Village Road Tsz Wan Shan Hong Kong;X-APPLE-RADIUS=500;X-TITLE=Po Kong Village Road:geo:114.204203,22.346522
END:VEVENT
BEGIN:VEVENT
DTSTART;TZID=Asia/Hong_Kong:20161211T090000
DTEND;TZID=Asia/Hong_Kong:20161211T170000
DTSTAMP:20260424T000240
CREATED:19161009T004719Z
LAST-MODIFIED:20161009T005654Z
UID:10002165-1481446800-1481475600@www.bcmagazine.net
SUMMARY:Hike for Racial Equality!
DESCRIPTION:Unison Hikathon 2016 – Hike for Racial Equality!\nDate: 9am\, 11 December\, 2016\nVenue: Fu Shan Trail (Pok Fu Lam to the Peak)\nTickets: $100\nMore info:\nwww.unison.org.hk
URL:https://www.bcmagazine.net/event/hike-for-racial-equality-2016/
LOCATION:Fu Shan Trail\, Pinewood Garden\, Central\, Hong Kong
CATEGORIES:2016,Charity,Sport
GEO:22.2701156;114.1938049
X-APPLE-STRUCTURED-LOCATION;VALUE=URI;X-ADDRESS=Fu Shan Trail Pinewood Garden Central Hong Kong;X-APPLE-RADIUS=500;X-TITLE=Pinewood Garden:geo:114.1938049,22.2701156
END:VEVENT
BEGIN:VEVENT
DTSTART;TZID=Asia/Hong_Kong:20161211T093000
DTEND;TZID=Asia/Hong_Kong:20161211T093000
DTSTAMP:20260424T000240
CREATED:20160919T104412Z
LAST-MODIFIED:20160919T104412Z
UID:10006191-1481448600-1481448600@www.bcmagazine.net
SUMMARY:DLSWCC Knights v USRC/MCC
DESCRIPTION:Elite League B: DLSWCC Knights v USRC/MCC
URL:https://www.bcmagazine.net/event/dlswcc-knights-v-usrcmcc/
LOCATION:Tin Kwong Road Recreation Ground\, Tin Kwong Road\, Mong Kok\, Hong Kong
CATEGORIES:2016,Cricket,Free,Sport
GEO:22.3219997;114.1847986
X-APPLE-STRUCTURED-LOCATION;VALUE=URI;X-ADDRESS=Tin Kwong Road Recreation Ground Tin Kwong Road Mong Kok Hong Kong;X-APPLE-RADIUS=500;X-TITLE=Tin Kwong Road:geo:114.1847986,22.3219997
END:VEVENT
BEGIN:VEVENT
DTSTART;TZID=Asia/Hong_Kong:20161211T100000
DTEND;TZID=Asia/Hong_Kong:20161211T100000
DTSTAMP:20260424T000240
CREATED:20160919T104412Z
LAST-MODIFIED:20160919T104412Z
UID:10006190-1481450400-1481450400@www.bcmagazine.net
SUMMARY:HKCC Scorpions v KCC Infidels
DESCRIPTION:Elite League A: HKCC Scorpions v KCC Infidels
URL:https://www.bcmagazine.net/event/hkcc-scorpions-v-kcc-infidels/
LOCATION:Hong Kong Cricket Club\, 137 Wong Ngai Chung Gap Road\, Hong Kong
CATEGORIES:2016,Cricket,Free,Sport
GEO:22.258574;114.1934009
X-APPLE-STRUCTURED-LOCATION;VALUE=URI;X-ADDRESS=Hong Kong Cricket Club 137 Wong Ngai Chung Gap Road Hong Kong;X-APPLE-RADIUS=500;X-TITLE=137 Wong Ngai Chung Gap Road:geo:114.1934009,22.258574
END:VEVENT
BEGIN:VEVENT
DTSTART;TZID=Asia/Hong_Kong:20161211T100000
DTEND;TZID=Asia/Hong_Kong:20161211T100000
DTSTAMP:20260424T000240
CREATED:20160919T104412Z
LAST-MODIFIED:20160919T104412Z
UID:10006189-1481450400-1481450400@www.bcmagazine.net
SUMMARY:Guangzhou v Shaffi's Vagabonds
DESCRIPTION:Elite League B: Guangzhou v Shaffi’s Vagabonds
URL:https://www.bcmagazine.net/event/guangzhou-v-shaffis-vagabonds/
LOCATION:Guangzhou Cricket Stadium\, Guangzhou\, China
CATEGORIES:2016,Cricket,Free,Sport
GEO:23.12911;113.264385
END:VEVENT
BEGIN:VEVENT
DTSTART;TZID=Asia/Hong_Kong:20161211T103000
DTEND;TZID=Asia/Hong_Kong:20161211T103000
DTSTAMP:20260424T000240
CREATED:20160919T104412Z
LAST-MODIFIED:20160919T104412Z
UID:10006193-1481452200-1481452200@www.bcmagazine.net
SUMMARY:United CC v HKCC XI
DESCRIPTION:Women’s Development League B: United CC v HKCC XI
URL:https://www.bcmagazine.net/event/united-cc-v-hkcc-xi/
LOCATION:Po Kong Village Road Reservoir Ground\, Po Kong Village Road\, Tsz Wan Shan\, Hong Kong
CATEGORIES:2016,Cricket,Free,Sport
GEO:22.346522;114.204203
X-APPLE-STRUCTURED-LOCATION;VALUE=URI;X-ADDRESS=Po Kong Village Road Reservoir Ground Po Kong Village Road Tsz Wan Shan Hong Kong;X-APPLE-RADIUS=500;X-TITLE=Po Kong Village Road:geo:114.204203,22.346522
END:VEVENT
BEGIN:VEVENT
DTSTART;TZID=Asia/Hong_Kong:20161211T130000
DTEND;TZID=Asia/Hong_Kong:20161211T130000
DTSTAMP:20260424T000240
CREATED:20160919T104411Z
LAST-MODIFIED:20160919T104411Z
UID:10006183-1481461200-1481461200@www.bcmagazine.net
SUMMARY:USRC v CCC XI
DESCRIPTION:Women’s Development League B: USRC v CCC XI
URL:https://www.bcmagazine.net/event/usrc-v-ccc-xi/
LOCATION:Po Kong Village Road Reservoir Ground\, Po Kong Village Road\, Tsz Wan Shan\, Hong Kong
CATEGORIES:2016,Cricket,Free,Sport
GEO:22.346522;114.204203
X-APPLE-STRUCTURED-LOCATION;VALUE=URI;X-ADDRESS=Po Kong Village Road Reservoir Ground Po Kong Village Road Tsz Wan Shan Hong Kong;X-APPLE-RADIUS=500;X-TITLE=Po Kong Village Road:geo:114.204203,22.346522
END:VEVENT
BEGIN:VEVENT
DTSTART;TZID=Asia/Hong_Kong:20161211T153000
DTEND;TZID=Asia/Hong_Kong:20161211T153000
DTSTAMP:20260424T000240
CREATED:20160919T104411Z
LAST-MODIFIED:20160919T104411Z
UID:10006184-1481470200-1481470200@www.bcmagazine.net
SUMMARY:CHK XI v USRC
DESCRIPTION:Women’s Development League B: CHK XI v USRC
URL:https://www.bcmagazine.net/event/chk-xi-v-usrc/
LOCATION:Po Kong Village Road Reservoir Ground\, Po Kong Village Road\, Tsz Wan Shan\, Hong Kong
CATEGORIES:2016,Cricket,Free,Sport
GEO:22.346522;114.204203
X-APPLE-STRUCTURED-LOCATION;VALUE=URI;X-ADDRESS=Po Kong Village Road Reservoir Ground Po Kong Village Road Tsz Wan Shan Hong Kong;X-APPLE-RADIUS=500;X-TITLE=Po Kong Village Road:geo:114.204203,22.346522
END:VEVENT
END:VCALENDAR