BEGIN:VCALENDAR
VERSION:2.0
PRODID:-//bc magazine - ECPv6.15.20//NONSGML v1.0//EN
CALSCALE:GREGORIAN
METHOD:PUBLISH
X-WR-CALNAME:bc magazine
X-ORIGINAL-URL:https://www.bcmagazine.net
X-WR-CALDESC:Events for bc magazine
REFRESH-INTERVAL;VALUE=DURATION:PT1H
X-Robots-Tag:noindex
X-PUBLISHED-TTL:PT1H
BEGIN:VTIMEZONE
TZID:Asia/Hong_Kong
BEGIN:STANDARD
TZOFFSETFROM:+0800
TZOFFSETTO:+0800
TZNAME:HKT
DTSTART:20150101T000000
END:STANDARD
END:VTIMEZONE
BEGIN:VEVENT
DTSTART;TZID=Asia/Hong_Kong:20161213T190000
DTEND;TZID=Asia/Hong_Kong:20161213T190000
DTSTAMP:20260423T223923
CREATED:19161108T013439Z
LAST-MODIFIED:20161108T013759Z
UID:10000957-1481655600-1481655600@www.bcmagazine.net
SUMMARY:I-1 World Muay Thai Grand Prix
DESCRIPTION:I-1 World Muay Thai Grand Prix\nDate: 7pm\, 13 December\, 2016\nVenue: KITEC\, Star Hall\nTickets: $1\,000\, $600\, $400\, $300\, $200 from HKTicketing
URL:https://www.bcmagazine.net/event/i-1-world-muay-thai-grand-prix-2016/
LOCATION:KITEC\, Star Hall\, KITEC\, 1 Trademart Drive\, Kowloon Bay\, Hong Kong
CATEGORIES:2016,Muay Thai,Sport
GEO:22.3239575;114.2037608
X-APPLE-STRUCTURED-LOCATION;VALUE=URI;X-ADDRESS=KITEC Star Hall KITEC 1 Trademart Drive Kowloon Bay Hong Kong;X-APPLE-RADIUS=500;X-TITLE=KITEC\, 1 Trademart Drive:geo:114.2037608,22.3239575
END:VEVENT
BEGIN:VEVENT
DTSTART;TZID=Asia/Hong_Kong:20161213T190000
DTEND;TZID=Asia/Hong_Kong:20161213T190000
DTSTAMP:20260423T223923
CREATED:19161115T072136Z
LAST-MODIFIED:20161206T145710Z
UID:10000967-1481655600-1481655600@www.bcmagazine.net
SUMMARY:Japan v Fiji
DESCRIPTION:Japan v Fiji\nWomen’s World Cup Qualifier\nDate: 7pm\, 13 December\, 2016\nVenue: King’s Park\nTickets: Free
URL:https://www.bcmagazine.net/event/japan-v-fiji/
LOCATION:King’s Park Sports Ground\, 11 Wylie Path\, Ho Man Tin\, Jordan\, Hong Kong
CATEGORIES:2016,Free,Rugby,Sport
END:VEVENT
BEGIN:VEVENT
DTSTART;TZID=Asia/Hong_Kong:20161217T130000
DTEND;TZID=Asia/Hong_Kong:20161217T130000
DTSTAMP:20260423T223923
CREATED:20160919T104410Z
LAST-MODIFIED:20160919T104410Z
UID:10006178-1481979600-1481979600@www.bcmagazine.net
SUMMARY:HKCC Gap Ramblers v KCC Saracens
DESCRIPTION:Championship League A: HKCC Gap Ramblers v KCC Saracens
URL:https://www.bcmagazine.net/event/hkcc-gap-ramblers-v-kcc-saracens/
LOCATION:Hong Kong Cricket Club\, 137 Wong Ngai Chung Gap Road\, Hong Kong
CATEGORIES:2016,Cricket,Free,Sport
GEO:22.258574;114.1934009
X-APPLE-STRUCTURED-LOCATION;VALUE=URI;X-ADDRESS=Hong Kong Cricket Club 137 Wong Ngai Chung Gap Road Hong Kong;X-APPLE-RADIUS=500;X-TITLE=137 Wong Ngai Chung Gap Road:geo:114.1934009,22.258574
END:VEVENT
BEGIN:VEVENT
DTSTART;TZID=Asia/Hong_Kong:20161217T130000
DTEND;TZID=Asia/Hong_Kong:20161217T130000
DTSTAMP:20260423T223923
CREATED:20160919T104411Z
LAST-MODIFIED:20160919T104411Z
UID:10006185-1481979600-1481979600@www.bcmagazine.net
SUMMARY:KCC Tartars v Taipan CC
DESCRIPTION:Championship League A: KCC Tartars v Taipan CC
URL:https://www.bcmagazine.net/event/kcc-tartars-v-taipan-cc/
LOCATION:Kowloon Cricket Club\, 10 Cox's Road\, Jordan\, Hong Kong
CATEGORIES:2016,Cricket,Free,Sport
GEO:22.3048927;114.1737401
X-APPLE-STRUCTURED-LOCATION;VALUE=URI;X-ADDRESS=Kowloon Cricket Club 10 Cox's Road Jordan Hong Kong;X-APPLE-RADIUS=500;X-TITLE=10 Cox's Road:geo:114.1737401,22.3048927
END:VEVENT
BEGIN:VEVENT
DTSTART;TZID=Asia/Hong_Kong:20161217T130000
DTEND;TZID=Asia/Hong_Kong:20161217T130000
DTSTAMP:20260423T223923
CREATED:20160919T104411Z
LAST-MODIFIED:20160919T104411Z
UID:10006187-1481979600-1481979600@www.bcmagazine.net
SUMMARY:CCC Hung See v Pioneers CC
DESCRIPTION:Championship League B: CCC Hung See v Pioneers CC
URL:https://www.bcmagazine.net/event/ccc-hung-see-v-pioneers-cc/
LOCATION:Po Kong Village Road Park\, 140 Po Kong Village Road\, Diamond Hill\, Hong Kong
CATEGORIES:2016,Cricket,Free,Sport
GEO:22.3435827;114.2044989
X-APPLE-STRUCTURED-LOCATION;VALUE=URI;X-ADDRESS=Po Kong Village Road Park 140 Po Kong Village Road Diamond Hill Hong Kong;X-APPLE-RADIUS=500;X-TITLE=140 Po Kong Village Road:geo:114.2044989,22.3435827
END:VEVENT
BEGIN:VEVENT
DTSTART;TZID=Asia/Hong_Kong:20161217T130000
DTEND;TZID=Asia/Hong_Kong:20161217T130000
DTSTAMP:20260423T223923
CREATED:20160919T104411Z
LAST-MODIFIED:20160919T104411Z
UID:10006186-1481979600-1481979600@www.bcmagazine.net
SUMMARY:HKCC Cavaliers v HKCC Willow Wielders
DESCRIPTION:Women’s League A: HKCC Cavaliers v HKCC Willow Wielders
URL:https://www.bcmagazine.net/event/hkcc-cavaliers-v-hkcc-willow-wielders/
LOCATION:Tin Kwong Road Recreation Ground\, Tin Kwong Road\, Mong Kok\, Hong Kong
CATEGORIES:2016,Cricket,Free,Sport
GEO:22.3219997;114.1847986
X-APPLE-STRUCTURED-LOCATION;VALUE=URI;X-ADDRESS=Tin Kwong Road Recreation Ground Tin Kwong Road Mong Kok Hong Kong;X-APPLE-RADIUS=500;X-TITLE=Tin Kwong Road:geo:114.1847986,22.3219997
END:VEVENT
BEGIN:VEVENT
DTSTART;TZID=Asia/Hong_Kong:20161217T130000
DTEND;TZID=Asia/Hong_Kong:20161217T130000
DTSTAMP:20260423T223923
CREATED:20160919T104411Z
LAST-MODIFIED:20160919T104411Z
UID:10006188-1481979600-1481979600@www.bcmagazine.net
SUMMARY:KCC Maidens v CCC Fung Wong
DESCRIPTION:Women’s League A: KCC Maidens v CCC Fung Wong
URL:https://www.bcmagazine.net/event/kcc-maidens-v-ccc-fung-wong/
LOCATION:Po Kong Village Road Reservoir Ground\, Po Kong Village Road\, Tsz Wan Shan\, Hong Kong
CATEGORIES:2016,Cricket,Free,Sport
GEO:22.346522;114.204203
X-APPLE-STRUCTURED-LOCATION;VALUE=URI;X-ADDRESS=Po Kong Village Road Reservoir Ground Po Kong Village Road Tsz Wan Shan Hong Kong;X-APPLE-RADIUS=500;X-TITLE=Po Kong Village Road:geo:114.204203,22.346522
END:VEVENT
BEGIN:VEVENT
DTSTART;TZID=Asia/Hong_Kong:20161217T160000
DTEND;TZID=Asia/Hong_Kong:20161217T160000
DTSTAMP:20260423T223923
CREATED:19161115T072400Z
LAST-MODIFIED:20161206T150540Z
UID:10000968-1481990400-1481990400@www.bcmagazine.net
SUMMARY:Hong Kong v Japan
DESCRIPTION:Hong Kong v Japan\nWomen’s World Cup Qualifier\nDate: 4pm\, 17 December\, 2016\nVenue: HK Football Club\nTickets: Free
URL:https://www.bcmagazine.net/event/hong-kong-v-japan-world-cup-2016/
LOCATION:Hong Kong Football Club\, 3 Sports Road\, Causeway Bay\, Hong Kong
CATEGORIES:2016,Free,Rugby,Sport
GEO:22.275374;114.1822239
X-APPLE-STRUCTURED-LOCATION;VALUE=URI;X-ADDRESS=Hong Kong Football Club 3 Sports Road Causeway Bay Hong Kong;X-APPLE-RADIUS=500;X-TITLE=3 Sports Road:geo:114.1822239,22.275374
END:VEVENT
BEGIN:VEVENT
DTSTART;TZID=Asia/Hong_Kong:20161218T093000
DTEND;TZID=Asia/Hong_Kong:20161218T093000
DTSTAMP:20260423T223923
CREATED:20160919T104410Z
LAST-MODIFIED:20160919T104410Z
UID:10006182-1482053400-1482053400@www.bcmagazine.net
SUMMARY:Headwin Tritons SLCC v DLSWCC Knights
DESCRIPTION:Elite League B: Headwin Tritons SLCC v DLSWCC Knights
URL:https://www.bcmagazine.net/event/headwin-tritons-slcc-v-dlswcc-knights/
LOCATION:Tin Kwong Road Recreation Ground\, Tin Kwong Road\, Mong Kok\, Hong Kong
CATEGORIES:2016,Cricket,Free,Sport
GEO:22.3219997;114.1847986
X-APPLE-STRUCTURED-LOCATION;VALUE=URI;X-ADDRESS=Tin Kwong Road Recreation Ground Tin Kwong Road Mong Kok Hong Kong;X-APPLE-RADIUS=500;X-TITLE=Tin Kwong Road:geo:114.1847986,22.3219997
END:VEVENT
BEGIN:VEVENT
DTSTART;TZID=Asia/Hong_Kong:20161218T100000
DTEND;TZID=Asia/Hong_Kong:20161218T100000
DTSTAMP:20260423T223923
CREATED:20160919T104410Z
LAST-MODIFIED:20160919T104410Z
UID:10006179-1482055200-1482055200@www.bcmagazine.net
SUMMARY:USRC/MCC v Guangzhou
DESCRIPTION:Elite League B: USRC/MCC v Guangzhou
URL:https://www.bcmagazine.net/event/usrcmcc-v-guangzhou/
LOCATION:Guangzhou Cricket Stadium\, Guangzhou\, China
CATEGORIES:2016,Cricket,Free,Sport
GEO:23.12911;113.264385
END:VEVENT
BEGIN:VEVENT
DTSTART;TZID=Asia/Hong_Kong:20161218T100000
DTEND;TZID=Asia/Hong_Kong:20161218T100000
DTSTAMP:20260423T223923
CREATED:20160919T104410Z
LAST-MODIFIED:20160919T104410Z
UID:10006180-1482055200-1482055200@www.bcmagazine.net
SUMMARY:HKCC Scorpions v HKCC Wanderers
DESCRIPTION:Elite League A: HKCC Scorpions v HKCC Wanderers
URL:https://www.bcmagazine.net/event/hkcc-scorpions-v-hkcc-wanderers/
LOCATION:Hong Kong Cricket Club\, 137 Wong Ngai Chung Gap Road\, Hong Kong
CATEGORIES:2016,Cricket,Free,Sport
GEO:22.258574;114.1934009
X-APPLE-STRUCTURED-LOCATION;VALUE=URI;X-ADDRESS=Hong Kong Cricket Club 137 Wong Ngai Chung Gap Road Hong Kong;X-APPLE-RADIUS=500;X-TITLE=137 Wong Ngai Chung Gap Road:geo:114.1934009,22.258574
END:VEVENT
BEGIN:VEVENT
DTSTART;TZID=Asia/Hong_Kong:20161218T100000
DTEND;TZID=Asia/Hong_Kong:20161218T100000
DTSTAMP:20260423T223923
CREATED:20160919T104410Z
LAST-MODIFIED:20160919T104410Z
UID:10006181-1482055200-1482055200@www.bcmagazine.net
SUMMARY:DLSWCC JKN v KCC Infidels
DESCRIPTION:Elite League A: DLSWCC JKN v KCC Infidels
URL:https://www.bcmagazine.net/event/dlswcc-jkn-v-kcc-infidels/
LOCATION:Kowloon Cricket Club\, 10 Cox's Road\, Jordan\, Hong Kong
CATEGORIES:2016,Cricket,Free,Sport
GEO:22.3048927;114.1737401
X-APPLE-STRUCTURED-LOCATION;VALUE=URI;X-ADDRESS=Kowloon Cricket Club 10 Cox's Road Jordan Hong Kong;X-APPLE-RADIUS=500;X-TITLE=10 Cox's Road:geo:114.1737401,22.3048927
END:VEVENT
BEGIN:VEVENT
DTSTART;TZID=Asia/Hong_Kong:20161218T130000
DTEND;TZID=Asia/Hong_Kong:20161218T130000
DTSTAMP:20260423T223923
CREATED:20160919T104409Z
LAST-MODIFIED:20160919T104409Z
UID:10006175-1482066000-1482066000@www.bcmagazine.net
SUMMARY:HKCC Willow Wielders v DLSWCC Wasps
DESCRIPTION:Women’s League A: HKCC Willow Wielders v DLSWCC Wasps
URL:https://www.bcmagazine.net/event/hkcc-willow-wielders-v-dlswcc-wasps-2/
LOCATION:Po Kong Village Road Reservoir Ground\, Po Kong Village Road\, Tsz Wan Shan\, Hong Kong
CATEGORIES:2016,Cricket,Free,Sport
GEO:22.346522;114.204203
X-APPLE-STRUCTURED-LOCATION;VALUE=URI;X-ADDRESS=Po Kong Village Road Reservoir Ground Po Kong Village Road Tsz Wan Shan Hong Kong;X-APPLE-RADIUS=500;X-TITLE=Po Kong Village Road:geo:114.204203,22.346522
END:VEVENT
END:VCALENDAR