BEGIN:VCALENDAR
VERSION:2.0
PRODID:-//bc magazine - ECPv6.15.20//NONSGML v1.0//EN
CALSCALE:GREGORIAN
METHOD:PUBLISH
X-ORIGINAL-URL:https://www.bcmagazine.net
X-WR-CALDESC:Events for bc magazine
REFRESH-INTERVAL;VALUE=DURATION:PT1H
X-Robots-Tag:noindex
X-PUBLISHED-TTL:PT1H
BEGIN:VTIMEZONE
TZID:Asia/Hong_Kong
BEGIN:STANDARD
TZOFFSETFROM:+0800
TZOFFSETTO:+0800
TZNAME:HKT
DTSTART:20160101T000000
END:STANDARD
END:VTIMEZONE
BEGIN:VEVENT
DTSTART;VALUE=DATE:20171001
DTEND;VALUE=DATE:20171203
DTSTAMP:20260426T103107
CREATED:19171016T115818Z
LAST-MODIFIED:20171207T084030Z
UID:10003567-1506816000-1512259199@www.bcmagazine.net
SUMMARY:Wrestle Mania Macau
DESCRIPTION:Wrestle Mania Macau\nMacau Wrestling Culture Association\nDate: 4:30pm\, 8pm\, daily until 31 December\, 2017\nVenue: Hotel Golden Dragon\nTickets: $380 from MacauTicket
URL:https://www.bcmagazine.net/event/wrestle-mania-macau/
LOCATION:Hotel Golden Dragon\, Macau
CATEGORIES:2017,Macau,Sport
END:VEVENT
BEGIN:VEVENT
DTSTART;VALUE=DATE:20171020
DTEND;VALUE=DATE:20171024
DTSTAMP:20260426T103107
CREATED:19170629T084823Z
LAST-MODIFIED:20171019T113748Z
UID:10002918-1508457600-1508803199@www.bcmagazine.net
SUMMARY:Hong Kong v Afghanistan
DESCRIPTION:Hong Kong v Afghanistan – 4 Day Game\nDate: 20-23 October\, 2017\nVenue: Tin Kwong Road Recreation Ground\nTickets: Free
URL:https://www.bcmagazine.net/event/hong-kong-v-afghanistan-4day-game-2017/
LOCATION:Tin Kwong Road Recreation Ground\, Tin Kwong Road\, Mong Kok\, Hong Kong
CATEGORIES:2017,Cricket,Free,Sport
GEO:22.3219997;114.1847986
X-APPLE-STRUCTURED-LOCATION;VALUE=URI;X-ADDRESS=Tin Kwong Road Recreation Ground Tin Kwong Road Mong Kok Hong Kong;X-APPLE-RADIUS=500;X-TITLE=Tin Kwong Road:geo:114.1847986,22.3219997
END:VEVENT
BEGIN:VEVENT
DTSTART;TZID=Asia/Hong_Kong:20171021T070000
DTEND;TZID=Asia/Hong_Kong:20171021T070000
DTSTAMP:20260426T103107
CREATED:19170725T035817Z
LAST-MODIFIED:20170725T042212Z
UID:10003078-1508569200-1508569200@www.bcmagazine.net
SUMMARY:HK50
DESCRIPTION:HK50\nDate: 7am\, 21 October\, 2017\nVenue: HK Island\nTickets: $630
URL:https://www.bcmagazine.net/event/hk50-2017/
CATEGORIES:2017,Sport
END:VEVENT
END:VCALENDAR