BEGIN:VCALENDAR
VERSION:2.0
PRODID:-//bc magazine - ECPv6.15.20//NONSGML v1.0//EN
CALSCALE:GREGORIAN
METHOD:PUBLISH
X-WR-CALNAME:bc magazine
X-ORIGINAL-URL:https://www.bcmagazine.net
X-WR-CALDESC:Events for bc magazine
REFRESH-INTERVAL;VALUE=DURATION:PT1H
X-Robots-Tag:noindex
X-PUBLISHED-TTL:PT1H
BEGIN:VTIMEZONE
TZID:Asia/Hong_Kong
BEGIN:STANDARD
TZOFFSETFROM:+0800
TZOFFSETTO:+0800
TZNAME:HKT
DTSTART:20170101T000000
END:STANDARD
END:VTIMEZONE
BEGIN:VEVENT
DTSTART;VALUE=DATE:20180821
DTEND;VALUE=DATE:20180822
DTSTAMP:20260424T075920
CREATED:19180608T094055Z
LAST-MODIFIED:20180724T005924Z
UID:10003370-1534809600-1534895999@www.bcmagazine.net
SUMMARY:13th Hong Kong International Wushu Competition
DESCRIPTION:13th Hong Kong International Wushu Competition 2018\nDate: 21 August\, 2018\nVenue: Kitec\, Star Hall\nTickets: tbc
URL:https://www.bcmagazine.net/event/13th-hong-kong-international-wushu-competition-2018/
LOCATION:KITEC\, Star Hall\, KITEC\, 1 Trademart Drive\, Kowloon Bay\, Hong Kong
CATEGORIES:2018,Exhibition,Lifestyle,Sport
GEO:22.3239575;114.2037608
X-APPLE-STRUCTURED-LOCATION;VALUE=URI;X-ADDRESS=KITEC Star Hall KITEC 1 Trademart Drive Kowloon Bay Hong Kong;X-APPLE-RADIUS=500;X-TITLE=KITEC\, 1 Trademart Drive:geo:114.2037608,22.3239575
END:VEVENT
BEGIN:VEVENT
DTSTART;VALUE=DATE:20180824
DTEND;VALUE=DATE:20180827
DTSTAMP:20260424T075920
CREATED:20180707T081335Z
LAST-MODIFIED:20180824T141930Z
UID:10006510-1535068800-1535327999@www.bcmagazine.net
SUMMARY:e-Sports & Music Festival
DESCRIPTION:e-Sports & Music Festival\nDate: 24-26 August\, 2018\nVenue: HKCEC\, Hall 3DE\nTickets: $250\, $120\, $50 from HKTicketing\nMore info:\n24 Aug 2018: 5:30-11pm\n25 Aug 2018: 11am-3:30pm; 4-11pm\n26 Aug 2018: 11am-3:30pm; 4-10pm
URL:https://www.bcmagazine.net/event/e-sports-music-festival-2018/
LOCATION:HK Convention and Exhibition Centre\, 1 Expo Drive\, Wanchai\, Hong Kong
CATEGORIES:2018,Concert,e-sports,Exhibition,Lifestyle,Music,Performing Arts,Sport
ATTACH;FMTTYPE=image/jpeg:https://www.bcmagazine.net/wp-content/uploads/2017/07/EMFHK_2018_002.jpg
END:VEVENT
END:VCALENDAR