BEGIN:VCALENDAR
VERSION:2.0
PRODID:-//bc magazine - ECPv6.15.20//NONSGML v1.0//EN
CALSCALE:GREGORIAN
METHOD:PUBLISH
X-WR-CALNAME:bc magazine
X-ORIGINAL-URL:https://www.bcmagazine.net
X-WR-CALDESC:Events for bc magazine
REFRESH-INTERVAL;VALUE=DURATION:PT1H
X-Robots-Tag:noindex
X-PUBLISHED-TTL:PT1H
BEGIN:VTIMEZONE
TZID:Asia/Hong_Kong
BEGIN:STANDARD
TZOFFSETFROM:+0800
TZOFFSETTO:+0800
TZNAME:HKT
DTSTART:20170101T000000
END:STANDARD
END:VTIMEZONE
BEGIN:VEVENT
DTSTART;VALUE=DATE:20180913
DTEND;VALUE=DATE:20180917
DTSTAMP:20260426T090253
CREATED:19180902T124138Z
LAST-MODIFIED:20180916T125054Z
UID:10004427-1536796800-1537142399@www.bcmagazine.net
SUMMARY:Men's East Asia Cup
DESCRIPTION:Men’s East Asia Cup\nDate: 13-16 September\, 2018\nVenue: Tin Kwong Road Recreation Ground\, Hong Kong Cricket Club\, Kowloon Cricket Club\nTickets: Free
URL:https://www.bcmagazine.net/event/mens-east-asia-cup-2018/
CATEGORIES:2018,Cricket,Free,Sport
ATTACH;FMTTYPE=image/jpeg:https://www.bcmagazine.net/wp-content/uploads/2018/09/east-asia-cup-2018.jpg
END:VEVENT
BEGIN:VEVENT
DTSTART;VALUE=DATE:20180914
DTEND;VALUE=DATE:20180916
DTSTAMP:20260426T090253
CREATED:19180802T094055Z
LAST-MODIFIED:20180818T000511Z
UID:10004365-1536883200-1537055999@www.bcmagazine.net
SUMMARY:Asia Rugby Sevens Series
DESCRIPTION:Asia Rugby Sevens Series\nDate: 14-15 September\, 2018\nVenue: HK Football Club\nTickets: tbc
URL:https://www.bcmagazine.net/event/asia-rugby-sevens-series-2018/
LOCATION:Hong Kong Football Club\, 3 Sports Road\, Causeway Bay\, Hong Kong
CATEGORIES:2018,Rugby,Sport
ATTACH;FMTTYPE=image/jpeg:https://www.bcmagazine.net/wp-content/uploads/1918/08/asia-rugby-sevens-series-1.jpg
GEO:22.275374;114.1822239
X-APPLE-STRUCTURED-LOCATION;VALUE=URI;X-ADDRESS=Hong Kong Football Club 3 Sports Road Causeway Bay Hong Kong;X-APPLE-RADIUS=500;X-TITLE=3 Sports Road:geo:114.1822239,22.275374
END:VEVENT
END:VCALENDAR