BEGIN:VCALENDAR
VERSION:2.0
PRODID:-//bc magazine - ECPv6.15.20//NONSGML v1.0//EN
CALSCALE:GREGORIAN
METHOD:PUBLISH
X-WR-CALNAME:bc magazine
X-ORIGINAL-URL:https://www.bcmagazine.net
X-WR-CALDESC:Events for bc magazine
REFRESH-INTERVAL;VALUE=DURATION:PT1H
X-Robots-Tag:noindex
X-PUBLISHED-TTL:PT1H
BEGIN:VTIMEZONE
TZID:Asia/Hong_Kong
BEGIN:STANDARD
TZOFFSETFROM:+0800
TZOFFSETTO:+0800
TZNAME:HKT
DTSTART:20170101T000000
END:STANDARD
END:VTIMEZONE
BEGIN:VEVENT
DTSTART;VALUE=DATE:20180930
DTEND;VALUE=DATE:20181001
DTSTAMP:20260424T183458
CREATED:19180208T065813Z
LAST-MODIFIED:20180824T015730Z
UID:10003778-1538265600-1538351999@www.bcmagazine.net
SUMMARY:ABGT300
DESCRIPTION:ABGT300\nDate: 30 September\, 2018\nVenue: Nursery Park\, West Kowloon Cultural District\nTickets: $493
URL:https://www.bcmagazine.net/event/abgt300-30-09-2018/
LOCATION:West Kowloon Cultural District\, Nursery Park\, West Kowloon Cultural District\, West Kowloon\, Hong Kong
CATEGORIES:2018,Concert,DJ,Music,Performing Arts,Yoga
ATTACH;FMTTYPE=image/jpeg:https://www.bcmagazine.net/wp-content/uploads/1918/02/ABGT300-hk.jpg
GEO:22.2989668;114.1551898
X-APPLE-STRUCTURED-LOCATION;VALUE=URI;X-ADDRESS=West Kowloon Cultural District Nursery Park West Kowloon Cultural District West Kowloon Hong Kong;X-APPLE-RADIUS=500;X-TITLE=West Kowloon Cultural District:geo:114.1551898,22.2989668
END:VEVENT
END:VCALENDAR