BEGIN:VCALENDAR
VERSION:2.0
PRODID:-//bc magazine - ECPv6.15.20//NONSGML v1.0//EN
CALSCALE:GREGORIAN
METHOD:PUBLISH
X-WR-CALNAME:bc magazine
X-ORIGINAL-URL:https://www.bcmagazine.net
X-WR-CALDESC:Events for bc magazine
REFRESH-INTERVAL;VALUE=DURATION:PT1H
X-Robots-Tag:noindex
X-PUBLISHED-TTL:PT1H
BEGIN:VTIMEZONE
TZID:Asia/Hong_Kong
BEGIN:STANDARD
TZOFFSETFROM:+0800
TZOFFSETTO:+0800
TZNAME:HKT
DTSTART:20170101T000000
END:STANDARD
END:VTIMEZONE
BEGIN:VEVENT
DTSTART;VALUE=DATE:20181122
DTEND;VALUE=DATE:20181126
DTSTAMP:20260423T233913
CREATED:19181016T071722Z
LAST-MODIFIED:20181029T073659Z
UID:10004487-1542844800-1543190399@www.bcmagazine.net
SUMMARY:Hong Kong Golf Open
DESCRIPTION:Hong Kong Golf Open\nDate: 22-25 November\, 2018\nVenue: HK Golf Club\nTickets: $600\, $400\, free from Ticketflap
URL:https://www.bcmagazine.net/event/hong-kong-golf-open-2018/
LOCATION:Hong Kong
CATEGORIES:2018,Free,Golf,Sport
END:VEVENT
BEGIN:VEVENT
DTSTART;VALUE=DATE:20181122
DTEND;VALUE=DATE:20181126
DTSTAMP:20260423T233913
CREATED:20181019T171954Z
LAST-MODIFIED:20181030T082746Z
UID:10006539-1542844800-1543190399@www.bcmagazine.net
SUMMARY:International Cruise and Yachting Festival
DESCRIPTION:The first International Cruise and Yachting Festival in Hong Kong is scheduled to be held from 22-25 November in Victoria Harbour. The festival aims to bring together global cruise and yacht brands and boats in an event that features Cruising and Yachting\, Maritime Lifestyle\, Marine and Leisure Tourism\, as well as Education and Employment.  \nThe ICYF also hopes to promote public understanding of Hong Kong’s waters and the sustainable development of the industry in the south China region. \nInternational Cruise and Yachting Festival\nDate: 22-25 November\, 2018\nVenue: Victoria Harbour\, China Merchants Wharf (Kennedy Town)\nTickets: free
URL:https://www.bcmagazine.net/event/international-cruise-and-yachting-festival-2018/
LOCATION:Victoria Harbour\, Hong Kong
CATEGORIES:2018,Free,Lifestyle,Sailing,Sport
ATTACH;FMTTYPE=image/jpeg:https://www.bcmagazine.net/wp-content/uploads/1918/07/The-ICYF-2018.jpg
END:VEVENT
BEGIN:VEVENT
DTSTART;TZID=Asia/Hong_Kong:20181123T210000
DTEND;TZID=Asia/Hong_Kong:20181123T210000
DTSTAMP:20260423T233913
CREATED:19170608T120614Z
LAST-MODIFIED:20181011T165815Z
UID:10002781-1543006800-1543006800@www.bcmagazine.net
SUMMARY:Rugby World Cup 2019 Repechage
DESCRIPTION:Rugby World Cup 2019 Repechage – Hong Kong v Canada\nDate: 9pm\, 23 November\, 2018\nVenue: Marseille\, France\nTickets: $16
URL:https://www.bcmagazine.net/event/rugby-world-cup-2019-repechage-23-11-2018/
CATEGORIES:2018,Rugby,Sport
ATTACH;FMTTYPE=image/jpeg:https://www.bcmagazine.net/wp-content/uploads/1917/06/RWC2019-Repechage.jpg
END:VEVENT
END:VCALENDAR