BEGIN:VCALENDAR
VERSION:2.0
PRODID:-//bc magazine - ECPv6.15.20//NONSGML v1.0//EN
CALSCALE:GREGORIAN
METHOD:PUBLISH
X-WR-CALNAME:bc magazine
X-ORIGINAL-URL:https://www.bcmagazine.net
X-WR-CALDESC:Events for bc magazine
REFRESH-INTERVAL;VALUE=DURATION:PT1H
X-Robots-Tag:noindex
X-PUBLISHED-TTL:PT1H
BEGIN:VTIMEZONE
TZID:Asia/Hong_Kong
BEGIN:STANDARD
TZOFFSETFROM:+0800
TZOFFSETTO:+0800
TZNAME:HKT
DTSTART:20180101T000000
END:STANDARD
END:VTIMEZONE
BEGIN:VEVENT
DTSTART;VALUE=DATE:20190504
DTEND;VALUE=DATE:20190505
DTSTAMP:20260422T074613
CREATED:20190207T140212Z
LAST-MODIFIED:20190209T042745Z
UID:10006565-1556928000-1557014399@www.bcmagazine.net
SUMMARY:Hong Kong Rugby League Nines
DESCRIPTION:Hong Kong Rugby League Nines\nDate: 4 May\, 2019\nVenue: Kings Park\nTickets: Free\nMore info: http://hongkongrugbyleague.com
URL:https://www.bcmagazine.net/event/hkrl-9s-2019/
LOCATION:King’s Park Sports Ground\, 11 Wylie Path\, Ho Man Tin\, Jordan\, Hong Kong
CATEGORIES:2019,Free,Rugby League,Sport
ATTACH;FMTTYPE=image/jpeg:https://www.bcmagazine.net/wp-content/uploads/1917/09/HKRL9s2019.jpg
END:VEVENT
END:VCALENDAR