BEGIN:VCALENDAR
VERSION:2.0
PRODID:-//bc magazine - ECPv6.15.20//NONSGML v1.0//EN
CALSCALE:GREGORIAN
METHOD:PUBLISH
X-WR-CALNAME:bc magazine
X-ORIGINAL-URL:https://www.bcmagazine.net
X-WR-CALDESC:Events for bc magazine
REFRESH-INTERVAL;VALUE=DURATION:PT1H
X-Robots-Tag:noindex
X-PUBLISHED-TTL:PT1H
BEGIN:VTIMEZONE
TZID:Asia/Hong_Kong
BEGIN:STANDARD
TZOFFSETFROM:+0800
TZOFFSETTO:+0800
TZNAME:HKT
DTSTART:20250101T000000
END:STANDARD
END:VTIMEZONE
BEGIN:VEVENT
DTSTART;VALUE=DATE:20260321
DTEND;VALUE=DATE:20260323
DTSTAMP:20260425T004745
CREATED:20260226T062832Z
LAST-MODIFIED:20260226T135032Z
UID:10012625-1774051200-1774223999@www.bcmagazine.net
SUMMARY:Hong Kong International Touch Championship
DESCRIPTION:Hong Kong International Touch Championship 2026\nWhen: 21-22 March\, 2026\nWhere: Happy Valley Recreation Ground\nHow much: tbc\nMore info: www.facebook.com/hktouch
URL:https://www.bcmagazine.net/event/hong-kong-international-touch-championship-2026/
LOCATION:Happy Valley Recreation Ground\, 2 Sports Road\, Happy Valley\, Causeway Bay\, Hong Kong
CATEGORIES:2026,Rugby,Sport
ATTACH;FMTTYPE=image/jpeg:https://www.bcmagazine.net/wp-content/uploads/2025/01/Hong-Kong-International-Touch-Championship-2026.jpg
GEO:22.2859787;114.1914919
X-APPLE-STRUCTURED-LOCATION;VALUE=URI;X-ADDRESS=Happy Valley Recreation Ground 2 Sports Road Happy Valley Causeway Bay Hong Kong;X-APPLE-RADIUS=500;X-TITLE=2 Sports Road:geo:114.1914919,22.2859787
END:VEVENT
END:VCALENDAR