BEGIN:VCALENDAR
VERSION:2.0
PRODID:-//bc magazine - ECPv6.15.20//NONSGML v1.0//EN
CALSCALE:GREGORIAN
METHOD:PUBLISH
X-WR-CALNAME:bc magazine
X-ORIGINAL-URL:https://www.bcmagazine.net
X-WR-CALDESC:Events for bc magazine
REFRESH-INTERVAL;VALUE=DURATION:PT1H
X-Robots-Tag:noindex
X-PUBLISHED-TTL:PT1H
BEGIN:VTIMEZONE
TZID:Asia/Hong_Kong
BEGIN:STANDARD
TZOFFSETFROM:+0800
TZOFFSETTO:+0800
TZNAME:HKT
DTSTART:20130101T000000
END:STANDARD
END:VTIMEZONE
BEGIN:VEVENT
DTSTART;TZID=Asia/Hong_Kong:20141122T163000
DTEND;TZID=Asia/Hong_Kong:20141122T163000
DTSTAMP:20260426T051923
CREATED:20150102T040301Z
LAST-MODIFIED:20150105T231235Z
UID:10005386-1416673800-1416673800@www.bcmagazine.net
SUMMARY:Abacus Kowloon Ladies v Borrelli Walsh USRC Tigers
DESCRIPTION:Women’s Premiership Rugby
URL:https://www.bcmagazine.net/event/abacus-kowloon-ladies-v-borrelli-walsh-usrc-tigers-2/
LOCATION:Tin Shui Wai Community Sports Ground\, 2 Tin Shui Road\, Tin Shui Wai\, Hong Kong
CATEGORIES:Rugby,Sport
GEO:22.4548843;114.0041328
X-APPLE-STRUCTURED-LOCATION;VALUE=URI;X-ADDRESS=Tin Shui Wai Community Sports Ground 2 Tin Shui Road Tin Shui Wai Hong Kong;X-APPLE-RADIUS=500;X-TITLE=2 Tin Shui Road:geo:114.0041328,22.4548843
END:VEVENT
BEGIN:VEVENT
DTSTART;TZID=Asia/Hong_Kong:20141122T163000
DTEND;TZID=Asia/Hong_Kong:20141122T163000
DTSTAMP:20260426T051923
CREATED:20150102T040302Z
LAST-MODIFIED:20150105T231235Z
UID:10005423-1416673800-1416673800@www.bcmagazine.net
SUMMARY:Comvita City Sparkles v Revolution SRC Ladies
DESCRIPTION:Women’s National League 1
URL:https://www.bcmagazine.net/event/comvita-city-sparkles-v-revolution-src-ladies-2/
LOCATION:KGV\, 2 Tin Kwong Road\, Ho Man Tin\, Hong Kong
CATEGORIES:Rugby,Sport
GEO:22.32173;114.183056
X-APPLE-STRUCTURED-LOCATION;VALUE=URI;X-ADDRESS=KGV 2 Tin Kwong Road Ho Man Tin Hong Kong;X-APPLE-RADIUS=500;X-TITLE=2 Tin Kwong Road:geo:114.183056,22.32173
END:VEVENT
BEGIN:VEVENT
DTSTART;TZID=Asia/Hong_Kong:20141122T163000
DTEND;TZID=Asia/Hong_Kong:20141122T163000
DTSTAMP:20260426T051923
CREATED:20150102T040302Z
LAST-MODIFIED:20150105T231235Z
UID:10005424-1416673800-1416673800@www.bcmagazine.net
SUMMARY:SCAA CWB Phoenix 2ndXV v Natixis HKFC Ice
DESCRIPTION:Women’s National League 1
URL:https://www.bcmagazine.net/event/scaa-cwb-phoenix-2ndxv-v-natixis-hkfc-ice-2/
LOCATION:Hong Kong Football Club\, 3 Sports Road\, Causeway Bay\, Hong Kong
CATEGORIES:Rugby,Sport
GEO:22.275374;114.1822239
X-APPLE-STRUCTURED-LOCATION;VALUE=URI;X-ADDRESS=Hong Kong Football Club 3 Sports Road Causeway Bay Hong Kong;X-APPLE-RADIUS=500;X-TITLE=3 Sports Road:geo:114.1822239,22.275374
END:VEVENT
BEGIN:VEVENT
DTSTART;TZID=Asia/Hong_Kong:20141122T180000
DTEND;TZID=Asia/Hong_Kong:20141122T180000
DTSTAMP:20260426T051923
CREATED:20150102T040301Z
LAST-MODIFIED:20150105T231235Z
UID:10005387-1416679200-1416679200@www.bcmagazine.net
SUMMARY:Societe Generale Valley Black Ladies v SCAA CWB Phoenix
DESCRIPTION:Women’s Premiership Rugby
URL:https://www.bcmagazine.net/event/societe-generale-valley-black-ladies-v-scaa-cwb-phoenix-4/
LOCATION:Tin Shui Wai Community Sports Ground\, 2 Tin Shui Road\, Tin Shui Wai\, Hong Kong
CATEGORIES:Rugby,Sport
GEO:22.4548843;114.0041328
X-APPLE-STRUCTURED-LOCATION;VALUE=URI;X-ADDRESS=Tin Shui Wai Community Sports Ground 2 Tin Shui Road Tin Shui Wai Hong Kong;X-APPLE-RADIUS=500;X-TITLE=2 Tin Shui Road:geo:114.0041328,22.4548843
END:VEVENT
BEGIN:VEVENT
DTSTART;TZID=Asia/Hong_Kong:20141122T180000
DTEND;TZID=Asia/Hong_Kong:20141122T180000
DTSTAMP:20260426T051923
CREATED:20150102T040302Z
LAST-MODIFIED:20150105T231235Z
UID:10005425-1416679200-1416679200@www.bcmagazine.net
SUMMARY:Police Sirens v Leighton Asia HKCC Ladies
DESCRIPTION:Women’s National League 1
URL:https://www.bcmagazine.net/event/police-sirens-v-leighton-asia-hkcc-ladies/
LOCATION:KGV\, 2 Tin Kwong Road\, Ho Man Tin\, Hong Kong
CATEGORIES:Rugby,Sport
GEO:22.32173;114.183056
X-APPLE-STRUCTURED-LOCATION;VALUE=URI;X-ADDRESS=KGV 2 Tin Kwong Road Ho Man Tin Hong Kong;X-APPLE-RADIUS=500;X-TITLE=2 Tin Kwong Road:geo:114.183056,22.32173
END:VEVENT
BEGIN:VEVENT
DTSTART;TZID=Asia/Hong_Kong:20141122T180000
DTEND;TZID=Asia/Hong_Kong:20141122T180000
DTSTAMP:20260426T051923
CREATED:20150102T040302Z
LAST-MODIFIED:20150105T231235Z
UID:10005426-1416679200-1416679200@www.bcmagazine.net
SUMMARY:Societe Generale Valley Red Ladies XV v Bloomberg HK Scottish Kukris
DESCRIPTION:Women’s National League 1
URL:https://www.bcmagazine.net/event/societe-generale-valley-red-ladies-xv-v-bloomberg-hk-scottish-kukris/
CATEGORIES:Rugby,Sport
END:VEVENT
BEGIN:VEVENT
DTSTART;TZID=Asia/Hong_Kong:20141129T133000
DTEND;TZID=Asia/Hong_Kong:20141129T133000
DTSTAMP:20260426T051923
CREATED:20150102T040302Z
LAST-MODIFIED:20150203T040315Z
UID:10005427-1417267800-1417267800@www.bcmagazine.net
SUMMARY:Societe Generale Valley Red Ladies XV v SCAA CWB Phoenix 2ndXV
DESCRIPTION:Women’s National League 1
URL:https://www.bcmagazine.net/event/societe-generale-valley-red-ladies-xv-v-scaa-cwb-phoenix-2ndxv-2/
LOCATION:Shek Kip Mei Sports Ground\, Nam Cheong Street\, Shek Kip Mei\, Shek Kip Mei (Exit C)\, Hong Kong
CATEGORIES:Rugby,Sport
GEO:22.3342953;114.1678569
X-APPLE-STRUCTURED-LOCATION;VALUE=URI;X-ADDRESS=Shek Kip Mei Sports Ground Nam Cheong Street Shek Kip Mei Shek Kip Mei (Exit C) Hong Kong;X-APPLE-RADIUS=500;X-TITLE=Nam Cheong Street:geo:114.1678569,22.3342953
END:VEVENT
BEGIN:VEVENT
DTSTART;TZID=Asia/Hong_Kong:20141129T150000
DTEND;TZID=Asia/Hong_Kong:20141129T150000
DTSTAMP:20260426T051923
CREATED:20150102T040305Z
LAST-MODIFIED:20150105T231235Z
UID:10005470-1417273200-1417273200@www.bcmagazine.net
SUMMARY:RB-SRKA TSW Ladies v University Ladies
DESCRIPTION:Women’s National 10s
URL:https://www.bcmagazine.net/event/rb-srka-tsw-ladies-v-university-ladies/
CATEGORIES:Rugby,Sport
END:VEVENT
BEGIN:VEVENT
DTSTART;TZID=Asia/Hong_Kong:20141129T154500
DTEND;TZID=Asia/Hong_Kong:20141129T154500
DTSTAMP:20260426T051923
CREATED:20150102T040305Z
LAST-MODIFIED:20150105T231235Z
UID:10005471-1417275900-1417275900@www.bcmagazine.net
SUMMARY:Abacus Kowloon Ladies X v Transact24 Taipo Dragon Ladies X
DESCRIPTION:Women’s National 10s
URL:https://www.bcmagazine.net/event/abacus-kowloon-ladies-x-v-transact24-taipo-dragon-ladies-x/
CATEGORIES:Rugby,Sport
END:VEVENT
BEGIN:VEVENT
DTSTART;TZID=Asia/Hong_Kong:20141129T163000
DTEND;TZID=Asia/Hong_Kong:20141129T163000
DTSTAMP:20260426T051923
CREATED:20150102T040301Z
LAST-MODIFIED:20150105T231235Z
UID:10005388-1417278600-1417278600@www.bcmagazine.net
SUMMARY:Abacus Kowloon Ladies v Transact24 Taipo Dragon Ladies
DESCRIPTION:Women’s Premiership Rugby
URL:https://www.bcmagazine.net/event/abacus-kowloon-ladies-v-transact24-taipo-dragon-ladies-2/
CATEGORIES:Rugby,Sport
END:VEVENT
BEGIN:VEVENT
DTSTART;TZID=Asia/Hong_Kong:20141129T163000
DTEND;TZID=Asia/Hong_Kong:20141129T163000
DTSTAMP:20260426T051923
CREATED:20150102T040305Z
LAST-MODIFIED:20150105T231235Z
UID:10005472-1417278600-1417278600@www.bcmagazine.net
SUMMARY:Gai Wu Ladies X v Natixis HKFC Fire
DESCRIPTION:Women’s National 10s
URL:https://www.bcmagazine.net/event/gai-wu-ladies-x-v-natixis-hkfc-fire/
LOCATION:KGV\, 2 Tin Kwong Road\, Ho Man Tin\, Hong Kong
CATEGORIES:Rugby,Sport
GEO:22.32173;114.183056
X-APPLE-STRUCTURED-LOCATION;VALUE=URI;X-ADDRESS=KGV 2 Tin Kwong Road Ho Man Tin Hong Kong;X-APPLE-RADIUS=500;X-TITLE=2 Tin Kwong Road:geo:114.183056,22.32173
END:VEVENT
BEGIN:VEVENT
DTSTART;TZID=Asia/Hong_Kong:20141129T180000
DTEND;TZID=Asia/Hong_Kong:20141129T180000
DTSTAMP:20260426T051923
CREATED:20150102T040301Z
LAST-MODIFIED:20150105T231235Z
UID:10005389-1417284000-1417284000@www.bcmagazine.net
SUMMARY:Gai Wu Ladies v Societe Generale Valley Black Ladies
DESCRIPTION:Women’s Premiership Rugby
URL:https://www.bcmagazine.net/event/gai-wu-ladies-v-societe-generale-valley-black-ladies-2/
LOCATION:KGV\, 2 Tin Kwong Road\, Ho Man Tin\, Hong Kong
CATEGORIES:Rugby,Sport
GEO:22.32173;114.183056
X-APPLE-STRUCTURED-LOCATION;VALUE=URI;X-ADDRESS=KGV 2 Tin Kwong Road Ho Man Tin Hong Kong;X-APPLE-RADIUS=500;X-TITLE=2 Tin Kwong Road:geo:114.183056,22.32173
END:VEVENT
BEGIN:VEVENT
DTSTART;TZID=Asia/Hong_Kong:20141129T180000
DTEND;TZID=Asia/Hong_Kong:20141129T180000
DTSTAMP:20260426T051923
CREATED:20150102T040301Z
LAST-MODIFIED:20150105T231235Z
UID:10005390-1417284000-1417284000@www.bcmagazine.net
SUMMARY:SCAA CWB Phoenix v Borrelli Walsh USRC Tigers
DESCRIPTION:Women’s Premiership Rugby
URL:https://www.bcmagazine.net/event/scaa-cwb-phoenix-v-borrelli-walsh-usrc-tigers-4/
LOCATION:So Kon Po Sports Ground\, 55 Caroline Hill Road\, So Kon Po\, Hong Kong
CATEGORIES:Rugby,Sport
GEO:22.2765622;114.1878279
X-APPLE-STRUCTURED-LOCATION;VALUE=URI;X-ADDRESS=So Kon Po Sports Ground 55 Caroline Hill Road So Kon Po Hong Kong;X-APPLE-RADIUS=500;X-TITLE=55 Caroline Hill Road:geo:114.1878279,22.2765622
END:VEVENT
BEGIN:VEVENT
DTSTART;TZID=Asia/Hong_Kong:20141129T180000
DTEND;TZID=Asia/Hong_Kong:20141129T180000
DTSTAMP:20260426T051923
CREATED:20150102T040302Z
LAST-MODIFIED:20150105T231235Z
UID:10005428-1417284000-1417284000@www.bcmagazine.net
SUMMARY:Revolution SRC Ladies v Natixis HKFC Ice
DESCRIPTION:Women’s National League 1
URL:https://www.bcmagazine.net/event/revolution-src-ladies-v-natixis-hkfc-ice/
CATEGORIES:Rugby,Sport
END:VEVENT
BEGIN:VEVENT
DTSTART;TZID=Asia/Hong_Kong:20141129T180000
DTEND;TZID=Asia/Hong_Kong:20141129T180000
DTSTAMP:20260426T051923
CREATED:20150102T040303Z
LAST-MODIFIED:20150105T231235Z
UID:10005403-1417284000-1417284000@www.bcmagazine.net
SUMMARY:Police Sirens v Comvita City Sparkles
DESCRIPTION:Women’s National League 1
URL:https://www.bcmagazine.net/event/police-sirens-v-comvita-city-sparkles-3/
LOCATION:Tai Hang Tung Recreation Ground\, 50 Boundary Street & Tai Hang Tung Road\, Kowloon\, Prince Edward (Exit A)\, Hong Kong
CATEGORIES:Rugby,Sport
GEO:22.396428;114.109497
X-APPLE-STRUCTURED-LOCATION;VALUE=URI;X-ADDRESS=Tai Hang Tung Recreation Ground 50 Boundary Street & Tai Hang Tung Road Kowloon Prince Edward (Exit A) Hong Kong;X-APPLE-RADIUS=500;X-TITLE=50 Boundary Street & Tai Hang Tung Road:geo:114.109497,22.396428
END:VEVENT
BEGIN:VEVENT
DTSTART;TZID=Asia/Hong_Kong:20141129T180000
DTEND;TZID=Asia/Hong_Kong:20141129T180000
DTSTAMP:20260426T051923
CREATED:20150102T040303Z
LAST-MODIFIED:20150203T040520Z
UID:10005429-1417284000-1417284000@www.bcmagazine.net
SUMMARY:Bloomberg HK Scottish Kukris v Leighton Asia HKCC Ladies
DESCRIPTION:Women’s National League 1
URL:https://www.bcmagazine.net/event/bloomberg-hk-scottish-kukris-v-leighton-asia-hkcc-ladies-2/
LOCATION:Shek Kip Mei Sports Ground\, Nam Cheong Street\, Shek Kip Mei\, Shek Kip Mei (Exit C)\, Hong Kong
CATEGORIES:Rugby,Sport
GEO:22.3342953;114.1678569
X-APPLE-STRUCTURED-LOCATION;VALUE=URI;X-ADDRESS=Shek Kip Mei Sports Ground Nam Cheong Street Shek Kip Mei Shek Kip Mei (Exit C) Hong Kong;X-APPLE-RADIUS=500;X-TITLE=Nam Cheong Street:geo:114.1678569,22.3342953
END:VEVENT
BEGIN:VEVENT
DTSTART;TZID=Asia/Hong_Kong:20141129T180000
DTEND;TZID=Asia/Hong_Kong:20141129T180000
DTSTAMP:20260426T051923
CREATED:20150102T040305Z
LAST-MODIFIED:20150105T231235Z
UID:10005473-1417284000-1417284000@www.bcmagazine.net
SUMMARY:DB Pirates Ladies v Borrelli Walsh USRC Tigers X
DESCRIPTION:Women’s National 10s
URL:https://www.bcmagazine.net/event/db-pirates-ladies-v-borrelli-walsh-usrc-tigers-x/
LOCATION:Happy Valley Recreation Ground\, 2 Sports Road\, Happy Valley\, Causeway Bay\, Hong Kong
CATEGORIES:Rugby,Sport
GEO:22.2859787;114.1914919
X-APPLE-STRUCTURED-LOCATION;VALUE=URI;X-ADDRESS=Happy Valley Recreation Ground 2 Sports Road Happy Valley Causeway Bay Hong Kong;X-APPLE-RADIUS=500;X-TITLE=2 Sports Road:geo:114.1914919,22.2859787
END:VEVENT
BEGIN:VEVENT
DTSTART;TZID=Asia/Hong_Kong:20141206T150000
DTEND;TZID=Asia/Hong_Kong:20141206T150000
DTSTAMP:20260426T051923
CREATED:20150102T040303Z
LAST-MODIFIED:20150105T231235Z
UID:10005430-1417878000-1417878000@www.bcmagazine.net
SUMMARY:Natixis HKFC Ice v Societe Generale Valley Red Ladies XV
DESCRIPTION:Women’s National League 1
URL:https://www.bcmagazine.net/event/natixis-hkfc-ice-v-societe-generale-valley-red-ladies-xv-2/
CATEGORIES:Rugby,Sport
END:VEVENT
BEGIN:VEVENT
DTSTART;TZID=Asia/Hong_Kong:20141206T150000
DTEND;TZID=Asia/Hong_Kong:20141206T150000
DTSTAMP:20260426T051923
CREATED:20150102T040303Z
LAST-MODIFIED:20150105T231235Z
UID:10005431-1417878000-1417878000@www.bcmagazine.net
SUMMARY:Police Sirens v Societe Generale Valley Red Ladies XV
DESCRIPTION:Women’s National League 1
URL:https://www.bcmagazine.net/event/police-sirens-v-societe-generale-valley-red-ladies-xv-2/
CATEGORIES:Rugby,Sport
END:VEVENT
BEGIN:VEVENT
DTSTART;TZID=Asia/Hong_Kong:20141206T163000
DTEND;TZID=Asia/Hong_Kong:20141206T163000
DTSTAMP:20260426T051923
CREATED:20150102T040301Z
LAST-MODIFIED:20150105T231211Z
UID:10005391-1417883400-1417883400@www.bcmagazine.net
SUMMARY:Transact24 Taipo Dragon Ladies v Borrelli Walsh USRC Tigers
DESCRIPTION:Women’s Premiership Rugby
URL:https://www.bcmagazine.net/event/transact24-taipo-dragon-ladies-v-borrelli-walsh-usrc-tigers-2/
LOCATION:KGV\, 2 Tin Kwong Road\, Ho Man Tin\, Hong Kong
CATEGORIES:Rugby,Sport
GEO:22.32173;114.183056
X-APPLE-STRUCTURED-LOCATION;VALUE=URI;X-ADDRESS=KGV 2 Tin Kwong Road Ho Man Tin Hong Kong;X-APPLE-RADIUS=500;X-TITLE=2 Tin Kwong Road:geo:114.183056,22.32173
END:VEVENT
BEGIN:VEVENT
DTSTART;TZID=Asia/Hong_Kong:20141206T163000
DTEND;TZID=Asia/Hong_Kong:20141206T163000
DTSTAMP:20260426T051923
CREATED:20150102T040303Z
LAST-MODIFIED:20150105T231235Z
UID:10005432-1417883400-1417883400@www.bcmagazine.net
SUMMARY:Comvita City Sparkles v SCAA CWB Phoenix 2ndXV
DESCRIPTION:Women’s National League 1
URL:https://www.bcmagazine.net/event/comvita-city-sparkles-v-scaa-cwb-phoenix-2ndxv-3/
LOCATION:Causeway Bay Sports Ground\, United States
CATEGORIES:Rugby,Sport
END:VEVENT
BEGIN:VEVENT
DTSTART;TZID=Asia/Hong_Kong:20141206T180000
DTEND;TZID=Asia/Hong_Kong:20141206T180000
DTSTAMP:20260426T051923
CREATED:20150102T040301Z
LAST-MODIFIED:20150105T231211Z
UID:10005392-1417888800-1417888800@www.bcmagazine.net
SUMMARY:Gai Wu Ladies v SCAA CWB Phoenix
DESCRIPTION:Women’s Premiership Rugby
URL:https://www.bcmagazine.net/event/gai-wu-ladies-v-scaa-cwb-phoenix-2/
LOCATION:Happy Valley Recreation Ground\, 2 Sports Road\, Happy Valley\, Causeway Bay\, Hong Kong
CATEGORIES:Rugby,Sport
GEO:22.2859787;114.1914919
X-APPLE-STRUCTURED-LOCATION;VALUE=URI;X-ADDRESS=Happy Valley Recreation Ground 2 Sports Road Happy Valley Causeway Bay Hong Kong;X-APPLE-RADIUS=500;X-TITLE=2 Sports Road:geo:114.1914919,22.2859787
END:VEVENT
BEGIN:VEVENT
DTSTART;TZID=Asia/Hong_Kong:20141206T180000
DTEND;TZID=Asia/Hong_Kong:20141206T180000
DTSTAMP:20260426T051923
CREATED:20150102T040301Z
LAST-MODIFIED:20150203T035132Z
UID:10005393-1417888800-1417888800@www.bcmagazine.net
SUMMARY:Societe Generale Valley Black Ladies v Abacus Kowloon Ladies
DESCRIPTION:Women’s Premiership Rugby
URL:https://www.bcmagazine.net/event/societe-generale-valley-black-ladies-v-abacus-kowloon-ladies-4/
LOCATION:Shek Kip Mei Sports Ground\, Nam Cheong Street\, Shek Kip Mei\, Shek Kip Mei (Exit C)\, Hong Kong
CATEGORIES:Rugby,Sport
GEO:22.3342953;114.1678569
X-APPLE-STRUCTURED-LOCATION;VALUE=URI;X-ADDRESS=Shek Kip Mei Sports Ground Nam Cheong Street Shek Kip Mei Shek Kip Mei (Exit C) Hong Kong;X-APPLE-RADIUS=500;X-TITLE=Nam Cheong Street:geo:114.1678569,22.3342953
END:VEVENT
BEGIN:VEVENT
DTSTART;TZID=Asia/Hong_Kong:20141206T180000
DTEND;TZID=Asia/Hong_Kong:20141206T180000
DTSTAMP:20260426T051923
CREATED:20150102T040303Z
LAST-MODIFIED:20150105T231211Z
UID:10005433-1417888800-1417888800@www.bcmagazine.net
SUMMARY:Bloomberg HK Scottish Kukris v Natixis HKFC Ice
DESCRIPTION:Women’s National League 1
URL:https://www.bcmagazine.net/event/bloomberg-hk-scottish-kukris-v-natixis-hkfc-ice-2/
CATEGORIES:Rugby,Sport
END:VEVENT
BEGIN:VEVENT
DTSTART;TZID=Asia/Hong_Kong:20141206T180000
DTEND;TZID=Asia/Hong_Kong:20141206T180000
DTSTAMP:20260426T051923
CREATED:20150102T040303Z
LAST-MODIFIED:20150105T231211Z
UID:10005434-1417888800-1417888800@www.bcmagazine.net
SUMMARY:Revolution SRC Ladies v Leighton Asia HKCC Ladies
DESCRIPTION:Women’s National League 1
URL:https://www.bcmagazine.net/event/revolution-src-ladies-v-leighton-asia-hkcc-ladies/
LOCATION:KGV\, 2 Tin Kwong Road\, Ho Man Tin\, Hong Kong
CATEGORIES:Rugby,Sport
GEO:22.32173;114.183056
X-APPLE-STRUCTURED-LOCATION;VALUE=URI;X-ADDRESS=KGV 2 Tin Kwong Road Ho Man Tin Hong Kong;X-APPLE-RADIUS=500;X-TITLE=2 Tin Kwong Road:geo:114.183056,22.32173
END:VEVENT
BEGIN:VEVENT
DTSTART;TZID=Asia/Hong_Kong:20141213T153000
DTEND;TZID=Asia/Hong_Kong:20141213T153000
DTSTAMP:20260426T051923
CREATED:20150102T040305Z
LAST-MODIFIED:20150105T231211Z
UID:10005474-1418484600-1418484600@www.bcmagazine.net
SUMMARY:University Ladies v Abacus Kowloon Ladies X
DESCRIPTION:Women’s National 10s
URL:https://www.bcmagazine.net/event/university-ladies-v-abacus-kowloon-ladies-x/
CATEGORIES:Rugby,Sport
END:VEVENT
BEGIN:VEVENT
DTSTART;TZID=Asia/Hong_Kong:20150108T200000
DTEND;TZID=Asia/Hong_Kong:20150108T234500
DTSTAMP:20260426T051923
CREATED:20150105T020832Z
LAST-MODIFIED:20150105T231557Z
UID:10005491-1420747200-1420760700@www.bcmagazine.net
SUMMARY:織品工廠 Fabric Factory + 音速死馬 Sonic Deadhorse
DESCRIPTION:A double bill of Taiwanese bands featuring the duo of Klaire Wu and Tao Chiang who perform as 織品工廠 Fabric Factory and 音速死馬 Sonic Deadhorse who combine electronics with the acoustic guitar to deliver music ‘embracing the indulgency of the 70s\, the melancholy of the 80s and the nihilism of the 90s’. \nThey are supported by Jing Wong & Sai-Ho Choi 蔡世豪 \nFabric Factory + Sonic Deadhorse\nWhen: 8pm\, 8 January 2015\nWhere: Hidden Agenda\, 2A\, Winful Industrial Bldg\, 15-17 Tai Yip Street\, Kwun Tong\, Hong Kong\nHow much: $180(Advance)\, $220(Door)\, $150*(Student)\n*A special walk-in discount is available for full-time local students
URL:https://www.bcmagazine.net/event/%e7%b9%94%e5%93%81%e5%b7%a5%e5%bb%a0-fabric-factory-%e9%9f%b3%e9%80%9f%e6%ad%bb%e9%a6%ac-sonic-deadhorse-hidden-agenda-8-january-2015/
LOCATION:Hidden Agenda (Livehouse)\, 80 Hung To Road\, Kwun Tong\, Hong Kong
CATEGORIES:Music
ATTACH;FMTTYPE=image/jpeg:https://www.bcmagazine.net/wp-content/uploads/2015/01/fabric-facory-seahorse.jpg
GEO:22.308171;114.223939
X-APPLE-STRUCTURED-LOCATION;VALUE=URI;X-ADDRESS=Hidden Agenda (Livehouse) 80 Hung To Road Kwun Tong Hong Kong;X-APPLE-RADIUS=500;X-TITLE=80 Hung To Road:geo:114.223939,22.308171
END:VEVENT
BEGIN:VEVENT
DTSTART;TZID=Asia/Hong_Kong:20150110T163000
DTEND;TZID=Asia/Hong_Kong:20150110T163000
DTSTAMP:20260426T051923
CREATED:20150102T040303Z
LAST-MODIFIED:20150105T231211Z
UID:10005435-1420907400-1420907400@www.bcmagazine.net
SUMMARY:Societe Generale Valley Red Ladies XV v Natixis HKFC Ice
DESCRIPTION:Women’s National League 1
URL:https://www.bcmagazine.net/event/societe-generale-valley-red-ladies-xv-v-natixis-hkfc-ice-2/
LOCATION:Happy Valley Recreation Ground\, 2 Sports Road\, Happy Valley\, Causeway Bay\, Hong Kong
CATEGORIES:Rugby,Sport
GEO:22.2859787;114.1914919
X-APPLE-STRUCTURED-LOCATION;VALUE=URI;X-ADDRESS=Happy Valley Recreation Ground 2 Sports Road Happy Valley Causeway Bay Hong Kong;X-APPLE-RADIUS=500;X-TITLE=2 Sports Road:geo:114.1914919,22.2859787
END:VEVENT
BEGIN:VEVENT
DTSTART;TZID=Asia/Hong_Kong:20150110T163000
DTEND;TZID=Asia/Hong_Kong:20150110T163000
DTSTAMP:20260426T051923
CREATED:20150102T040303Z
LAST-MODIFIED:20150105T231211Z
UID:10005436-1420907400-1420907400@www.bcmagazine.net
SUMMARY:Bloomberg HK Scottish Kukris v SCAA CWB Phoenix 2ndXV
DESCRIPTION:Women’s National League 1
URL:https://www.bcmagazine.net/event/bloomberg-hk-scottish-kukris-v-scaa-cwb-phoenix-2ndxv-2/
LOCATION:Tai Hang Tung Recreation Ground\, 50 Boundary Street & Tai Hang Tung Road\, Kowloon\, Prince Edward (Exit A)\, Hong Kong
CATEGORIES:Rugby,Sport
GEO:22.396428;114.109497
X-APPLE-STRUCTURED-LOCATION;VALUE=URI;X-ADDRESS=Tai Hang Tung Recreation Ground 50 Boundary Street & Tai Hang Tung Road Kowloon Prince Edward (Exit A) Hong Kong;X-APPLE-RADIUS=500;X-TITLE=50 Boundary Street & Tai Hang Tung Road:geo:114.109497,22.396428
END:VEVENT
BEGIN:VEVENT
DTSTART;TZID=Asia/Hong_Kong:20150110T180000
DTEND;TZID=Asia/Hong_Kong:20150110T180000
DTSTAMP:20260426T051923
CREATED:20150102T040301Z
LAST-MODIFIED:20150105T231211Z
UID:10005395-1420912800-1420912800@www.bcmagazine.net
SUMMARY:SCAA CWB Phoenix v Abacus Kowloon Ladies
DESCRIPTION:Women’s Premiership Rugby
URL:https://www.bcmagazine.net/event/scaa-cwb-phoenix-v-abacus-kowloon-ladies-3/
LOCATION:So Kon Po Sports Ground\, 55 Caroline Hill Road\, So Kon Po\, Hong Kong
CATEGORIES:Rugby,Sport
GEO:22.2765622;114.1878279
X-APPLE-STRUCTURED-LOCATION;VALUE=URI;X-ADDRESS=So Kon Po Sports Ground 55 Caroline Hill Road So Kon Po Hong Kong;X-APPLE-RADIUS=500;X-TITLE=55 Caroline Hill Road:geo:114.1878279,22.2765622
END:VEVENT
END:VCALENDAR