BEGIN:VCALENDAR
VERSION:2.0
PRODID:-//bc magazine - ECPv6.15.20//NONSGML v1.0//EN
CALSCALE:GREGORIAN
METHOD:PUBLISH
X-WR-CALNAME:bc magazine
X-ORIGINAL-URL:https://www.bcmagazine.net
X-WR-CALDESC:Events for bc magazine
REFRESH-INTERVAL;VALUE=DURATION:PT1H
X-Robots-Tag:noindex
X-PUBLISHED-TTL:PT1H
BEGIN:VTIMEZONE
TZID:Asia/Hong_Kong
BEGIN:STANDARD
TZOFFSETFROM:+0800
TZOFFSETTO:+0800
TZNAME:HKT
DTSTART:20140101T000000
END:STANDARD
END:VTIMEZONE
BEGIN:VEVENT
DTSTART;TZID=Asia/Hong_Kong:20151202T190000
DTEND;TZID=Asia/Hong_Kong:20151202T230000
DTSTAMP:20260426T093916
CREATED:19151104T050345Z
LAST-MODIFIED:20151104T050632Z
UID:10000662-1449082800-1449097200@www.bcmagazine.net
SUMMARY:KF1 World Championship
DESCRIPTION:KF1 World Championship\nDate: 7pm\, 2 December\, 2015\nVenue: Star Hall\nTickets: $1\,200\, $480\, $380\, $200 from HKTicketing
URL:https://www.bcmagazine.net/event/kf1-world-championship/
LOCATION:KITEC\, Star Hall\, KITEC\, 1 Trademart Drive\, Kowloon Bay\, Hong Kong
CATEGORIES:2015,Sport
GEO:22.3239575;114.2037608
X-APPLE-STRUCTURED-LOCATION;VALUE=URI;X-ADDRESS=KITEC Star Hall KITEC 1 Trademart Drive Kowloon Bay Hong Kong;X-APPLE-RADIUS=500;X-TITLE=KITEC\, 1 Trademart Drive:geo:114.2037608,22.3239575
END:VEVENT
BEGIN:VEVENT
DTSTART;TZID=Asia/Hong_Kong:20151203T194500
DTEND;TZID=Asia/Hong_Kong:20151203T194500
DTSTAMP:20260426T093916
CREATED:19151126T175232Z
LAST-MODIFIED:20151126T180634Z
UID:10000187-1449171900-1449171900@www.bcmagazine.net
SUMMARY:Nutcracker x Dustykid
DESCRIPTION:Nutcracker x Dustykid\nHong Kong Education Farm Society\nDate: 7:45pm\, 3 December\, 2015\nVenue: HKAPA\, Jockey Club Amphitheatre\nTickets: $295\, $190 from HKTicketing
URL:https://www.bcmagazine.net/event/nutcracker-x-dustykid/
LOCATION:HKAPA: Jockey Club Amphitheatre\, 1 Gloucester Road\, Wanchai\, Hong Kong
CATEGORIES:2015,Performing Arts,Theatre
GEO:22.2801854;114.1695054
X-APPLE-STRUCTURED-LOCATION;VALUE=URI;X-ADDRESS=HKAPA: Jockey Club Amphitheatre 1 Gloucester Road Wanchai Hong Kong;X-APPLE-RADIUS=500;X-TITLE=1 Gloucester Road:geo:114.1695054,22.2801854
END:VEVENT
BEGIN:VEVENT
DTSTART;VALUE=DATE:20151204
DTEND;VALUE=DATE:20151207
DTSTAMP:20260426T093916
CREATED:19151002T025147Z
LAST-MODIFIED:20151002T025613Z
UID:10000084-1449187200-1449446399@www.bcmagazine.net
SUMMARY:Cinderella - the Panto
DESCRIPTION:Cinderella – the Panto\nUdderbelly Festival\, Hong Kong Players\nDate: 4-6\, 10-13 December\, 2015\nVenue: Udderbelly\nTickets: $438\, $350\, $290 from HKTicketing\nMore info:\n4 Dec 2015 (Fri) at 7pm\n5 Dec 2015 (Sat) at 2:30pm & 6:30pm\n6 Dec 2015 (Sun) at 2:30pm & 6pm \n10 Dec 2015 (Thu) at 7pm\n11 Dec 2015 (Fri) at 7pm\n12 Dec 2015 (Sat) at 2:30pm & 6pm\n13 Dec 2015 (Sun) at 2:30pm & 6pm
URL:https://www.bcmagazine.net/event/cinderella-the-panto/
LOCATION:Udderbelly\, Central Harbourfront\, 9 Lung Wo Road\, Central\, Hong Kong
CATEGORIES:2015,Cultural Festival,Performing Arts,Theatre
GEO:22.2826223;114.164346
X-APPLE-STRUCTURED-LOCATION;VALUE=URI;X-ADDRESS=Udderbelly Central Harbourfront 9 Lung Wo Road Central Hong Kong;X-APPLE-RADIUS=500;X-TITLE=Central Harbourfront\, 9 Lung Wo Road:geo:114.164346,22.2826223
END:VEVENT
BEGIN:VEVENT
DTSTART;VALUE=DATE:20151204
DTEND;VALUE=DATE:20151207
DTSTAMP:20260426T093916
CREATED:20150625T065750Z
LAST-MODIFIED:20150825T070110Z
UID:10006036-1449187200-1449446399@www.bcmagazine.net
SUMMARY:One Hundred Years of Chinese Architecture
DESCRIPTION:AIAF: One Hundred Years of Chinese Architecture\nZuni Icosahedron\nWhen: 4-6 December\, 2015\nWhere: HK Cultural Centre\, Grand Theatre\nTickets: $480\, $280\, $190 from Urbtix\nMore info:\n4-5 December – 8:15pm\n6 December – 3pm
URL:https://www.bcmagazine.net/event/one-hundred-years-of-chinese-architecture/
LOCATION:HK Cultural Centre\, Grand Theatre\,\, 10 Salisbury Road\, Tsim Sha Tsui\, Hong Kong
CATEGORIES:2015,Cultural Festival,Dance,Performing Arts
GEO:22.294318;114.171708
X-APPLE-STRUCTURED-LOCATION;VALUE=URI;X-ADDRESS=HK Cultural Centre Grand Theatre 10 Salisbury Road Tsim Sha Tsui Hong Kong;X-APPLE-RADIUS=500;X-TITLE=10 Salisbury Road:geo:114.171708,22.294318
END:VEVENT
BEGIN:VEVENT
DTSTART;TZID=Asia/Hong_Kong:20151204T193000
DTEND;TZID=Asia/Hong_Kong:20151204T193000
DTSTAMP:20260426T093916
CREATED:19151126T173809Z
LAST-MODIFIED:20151126T174121Z
UID:10000190-1449257400-1449257400@www.bcmagazine.net
SUMMARY:Merciless Sword\, Merciful Heaven
DESCRIPTION:Merciless Sword\, Merciful Heaven\nThe Young Academy Cantonese Opera Troupe\nDate: 4-5 December\, 2015\nVenue: HKAPA\, Drama Theatre\nTickets: $180\, $120 from HKTicketing
URL:https://www.bcmagazine.net/event/merciless-sword-merciful-heaven-2015/2015-12-04/
LOCATION:HKAPA: Drama Theatre\, 1 Gloucester Road\, Wanchai\, Hong Kong
CATEGORIES:2015,Cantonese Opera,Performing Arts
GEO:22.2801854;114.1695054
X-APPLE-STRUCTURED-LOCATION;VALUE=URI;X-ADDRESS=HKAPA: Drama Theatre 1 Gloucester Road Wanchai Hong Kong;X-APPLE-RADIUS=500;X-TITLE=1 Gloucester Road:geo:114.1695054,22.2801854
END:VEVENT
BEGIN:VEVENT
DTSTART;TZID=Asia/Hong_Kong:20151204T193000
DTEND;TZID=Asia/Hong_Kong:20151204T193000
DTSTAMP:20260426T093916
CREATED:19151126T174944Z
LAST-MODIFIED:20151126T175214Z
UID:10000188-1449257400-1449257400@www.bcmagazine.net
SUMMARY:Bach Christmas Oratorio
DESCRIPTION:Bach Christmas Oratorio\nDate: 7:30pm\, 4 December\, 2015\nVenue: HKAPA\, Concert Hall\nTickets: $340\, $240\, $140 from HKTicketing
URL:https://www.bcmagazine.net/event/bach-christmas-oratorio/
LOCATION:HKAPA\, Concert Hall\, 1 Gloucester Road\, Wanchai\, Hong Kong
CATEGORIES:2015,Concert,Music,Performing Arts
GEO:22.2801854;114.1695054
X-APPLE-STRUCTURED-LOCATION;VALUE=URI;X-ADDRESS=HKAPA Concert Hall 1 Gloucester Road Wanchai Hong Kong;X-APPLE-RADIUS=500;X-TITLE=1 Gloucester Road:geo:114.1695054,22.2801854
END:VEVENT
BEGIN:VEVENT
DTSTART;TZID=Asia/Hong_Kong:20151204T200000
DTEND;TZID=Asia/Hong_Kong:20151204T220000
DTSTAMP:20260426T093916
CREATED:19151006T144525Z
LAST-MODIFIED:20151006T144916Z
UID:10000100-1449259200-1449266400@www.bcmagazine.net
SUMMARY:Christmas with We 4 Kings
DESCRIPTION:Christmas with We 4 Kings\nBel Canto Singers\nDate: 8pm\, 4 December\, 2015\nVenue: HK City Hall\, Theatre\nTickets: $280\, $180 from Urbtix
URL:https://www.bcmagazine.net/event/christmas-with-we-4-kings-2015/
LOCATION:HK City Hall\, Theatre\, 5 Edinburgh Place\, Central\, Hong Kong
CATEGORIES:2015,Concert,Music
GEO:22.2822646;114.1615275
X-APPLE-STRUCTURED-LOCATION;VALUE=URI;X-ADDRESS=HK City Hall Theatre 5 Edinburgh Place Central Hong Kong;X-APPLE-RADIUS=500;X-TITLE=5 Edinburgh Place:geo:114.1615275,22.2822646
END:VEVENT
BEGIN:VEVENT
DTSTART;TZID=Asia/Hong_Kong:20151204T200000
DTEND;TZID=Asia/Hong_Kong:20151204T230000
DTSTAMP:20260426T093916
CREATED:19151024T002022Z
LAST-MODIFIED:20151024T002321Z
UID:10000577-1449259200-1449270000@www.bcmagazine.net
SUMMARY:情義兩難全玩爆你個
DESCRIPTION:情義兩難全玩爆你個\nDate: 8pm\, 4 December\, 2015\nVenue: Music Zone@E-Max\nTickets: $380 from Cityline
URL:https://www.bcmagazine.net/event/%e6%83%85%e7%be%a9%e5%85%a9%e9%9b%a3%e5%85%a8%e7%8e%a9%e7%88%86%e4%bd%a0%e5%80%8b/
LOCATION:KITEC\, Music Zone@E-Max\, KITEC\,‎ 1 Trademart Drive\, Kowloon Bay\, Hong Kong
CATEGORIES:2015,Concert,Music
GEO:22.3239575;114.2037608
X-APPLE-STRUCTURED-LOCATION;VALUE=URI;X-ADDRESS=KITEC Music Zone@E-Max KITEC‎ 1 Trademart Drive Kowloon Bay Hong Kong;X-APPLE-RADIUS=500;X-TITLE=KITEC\,‎ 1 Trademart Drive:geo:114.2037608,22.3239575
END:VEVENT
BEGIN:VEVENT
DTSTART;TZID=Asia/Hong_Kong:20151204T203000
DTEND;TZID=Asia/Hong_Kong:20151204T230000
DTSTAMP:20260426T093916
CREATED:19151107T032216Z
LAST-MODIFIED:20151107T033016Z
UID:10000667-1449261000-1449270000@www.bcmagazine.net
SUMMARY:Jojo Mayer & Nerve
DESCRIPTION:Jojo Mayer & Nerve\nDate: 8:30pm\, 4 December\, 2015\nVenue: The Hangout\nTickets: $380 (Advance)\, $450 door
URL:https://www.bcmagazine.net/event/jojo-mayer-nerve-2015/
LOCATION:The HangOut\, 2 Holy Cross Path\, Sai Wan Ho\, Hong Kong
CATEGORIES:2015,Concert,Music
GEO:22.2816376;114.2229621
X-APPLE-STRUCTURED-LOCATION;VALUE=URI;X-ADDRESS=The HangOut 2 Holy Cross Path Sai Wan Ho Hong Kong;X-APPLE-RADIUS=500;X-TITLE=2 Holy Cross Path:geo:114.2229621,22.2816376
END:VEVENT
BEGIN:VEVENT
DTSTART;TZID=Asia/Hong_Kong:20151204T213000
DTEND;TZID=Asia/Hong_Kong:20151204T213000
DTSTAMP:20260426T093917
CREATED:19151126T173209Z
LAST-MODIFIED:20151126T173754Z
UID:10000193-1449264600-1449264600@www.bcmagazine.net
SUMMARY:G'day HK
DESCRIPTION:G’day HK\nUdderbelly Festival\nDate: 4-6 December\, 2015\nVenue: Udderbelly\nTickets: $523\, $435\, $385 from HKTicketing
URL:https://www.bcmagazine.net/event/gday-hk-2015/2015-12-04/
LOCATION:Udderbelly\, Central Harbourfront\, 9 Lung Wo Road\, Central\, Hong Kong
CATEGORIES:2015,Comedy,Cultural Festival,Performing Arts
GEO:22.2826223;114.164346
X-APPLE-STRUCTURED-LOCATION;VALUE=URI;X-ADDRESS=Udderbelly Central Harbourfront 9 Lung Wo Road Central Hong Kong;X-APPLE-RADIUS=500;X-TITLE=Central Harbourfront\, 9 Lung Wo Road:geo:114.164346,22.2826223
END:VEVENT
BEGIN:VEVENT
DTSTART;VALUE=DATE:20151205
DTEND;VALUE=DATE:20151207
DTSTAMP:20260426T093917
CREATED:20150629T100328Z
LAST-MODIFIED:20150729T102657Z
UID:10005017-1449273600-1449446399@www.bcmagazine.net
SUMMARY:Mascagni's Cavalleria Rusticana / Leoncavallo's Pagliacci
DESCRIPTION:Mascagni’s Cavalleria Rusticana / Leoncavallo’s Pagliacci\nThe Met Live in Hong Kong\nWhen: 5-6 December\, 2015\nWhere: Wellcome Theatre\, The Academy’s Landmark Heritage Campus – Bethanie\nTickets: $190 from HKTicketing\nMore info:\n5 Dec 2015 (Sat) at 6:00pm\n6 Dec 2015 (Sun) at 5:30pm
URL:https://www.bcmagazine.net/event/mascagnis-cavalleria-rusticana-leoncavallos-pagliacci/
LOCATION:Wellcome Theatre\, The Academy’s Landmark Heritage Campus – Bethanie\, 139 Pokfulam Road\, Pokfulam\, Hong Kong
CATEGORIES:2015,Concert,Film,Music,Opera
GEO:22.261504;114.135743
X-APPLE-STRUCTURED-LOCATION;VALUE=URI;X-ADDRESS=Wellcome Theatre The Academy’s Landmark Heritage Campus – Bethanie 139 Pokfulam Road Pokfulam Hong Kong;X-APPLE-RADIUS=500;X-TITLE=139 Pokfulam Road:geo:114.135743,22.261504
END:VEVENT
BEGIN:VEVENT
DTSTART;TZID=Asia/Hong_Kong:20151205T090000
DTEND;TZID=Asia/Hong_Kong:20151205T140000
DTSTAMP:20260426T093917
CREATED:20150908T032559Z
LAST-MODIFIED:20150908T034024Z
UID:10006074-1449306000-1449324000@www.bcmagazine.net
SUMMARY:TriChallenge
DESCRIPTION:TriChallenge\nDate: 9am\, 5 December\, 2015\nVenue: Sai Kung Country Park\nTickets: $500 registration fee\nMore info:\nregister at http://trichallenge.com.hk/
URL:https://www.bcmagazine.net/event/trichallenge/
LOCATION:Sai Kung Country Park\, Sai kung\, Hong Kong
CATEGORIES:2015,Sport
END:VEVENT
BEGIN:VEVENT
DTSTART;TZID=Asia/Hong_Kong:20151205T193000
DTEND;TZID=Asia/Hong_Kong:20151205T193000
DTSTAMP:20260426T093917
CREATED:19151126T173809Z
LAST-MODIFIED:20151126T174121Z
UID:10000191-1449343800-1449343800@www.bcmagazine.net
SUMMARY:Merciless Sword\, Merciful Heaven
DESCRIPTION:Merciless Sword\, Merciful Heaven\nThe Young Academy Cantonese Opera Troupe\nDate: 4-5 December\, 2015\nVenue: HKAPA\, Drama Theatre\nTickets: $180\, $120 from HKTicketing
URL:https://www.bcmagazine.net/event/merciless-sword-merciful-heaven-2015/2015-12-05/
LOCATION:HKAPA: Drama Theatre\, 1 Gloucester Road\, Wanchai\, Hong Kong
CATEGORIES:2015,Cantonese Opera,Performing Arts
GEO:22.2801854;114.1695054
X-APPLE-STRUCTURED-LOCATION;VALUE=URI;X-ADDRESS=HKAPA: Drama Theatre 1 Gloucester Road Wanchai Hong Kong;X-APPLE-RADIUS=500;X-TITLE=1 Gloucester Road:geo:114.1695054,22.2801854
END:VEVENT
BEGIN:VEVENT
DTSTART;TZID=Asia/Hong_Kong:20151205T200000
DTEND;TZID=Asia/Hong_Kong:20151205T200000
DTSTAMP:20260426T093917
CREATED:19151126T174141Z
LAST-MODIFIED:20151126T174509Z
UID:10000189-1449345600-1449345600@www.bcmagazine.net
SUMMARY:Travis Walton
DESCRIPTION:Fire In The Sky\nTravis Walton\nDate: 8pm\, 5 December\, 2015\nVenue: HKAPA\, Jockey Club Amphitheatre\nTickets: $480\, $380\, $280 from HKTicketing
URL:https://www.bcmagazine.net/event/travis-walton/
LOCATION:HKAPA: Jockey Club Amphitheatre\, 1 Gloucester Road\, Wanchai\, Hong Kong
CATEGORIES:2015,Performing Arts
GEO:22.2801854;114.1695054
X-APPLE-STRUCTURED-LOCATION;VALUE=URI;X-ADDRESS=HKAPA: Jockey Club Amphitheatre 1 Gloucester Road Wanchai Hong Kong;X-APPLE-RADIUS=500;X-TITLE=1 Gloucester Road:geo:114.1695054,22.2801854
END:VEVENT
BEGIN:VEVENT
DTSTART;TZID=Asia/Hong_Kong:20151205T200000
DTEND;TZID=Asia/Hong_Kong:20151205T230000
DTSTAMP:20260426T093917
CREATED:19151121T034147Z
LAST-MODIFIED:20151121T034557Z
UID:10000695-1449345600-1449356400@www.bcmagazine.net
SUMMARY:Tsun Lok
DESCRIPTION:Tsun Lok: Yue Music Dizi and Pipa Concert\nTsun Lok Dizi Enzemble Group\nDate: 8pm\, 5 December\, 2015\nVenue: HK Cultural Centre\, Studio theatre\nTickets: $160 from Urbtix
URL:https://www.bcmagazine.net/event/tsun-lok-2015/
LOCATION:HK Cultural Centre\, Studio Theatre\, 10 Salisbury Road\, Tsim Sha Tsui\, Hong Kong
CATEGORIES:2015,Concert,Music
END:VEVENT
BEGIN:VEVENT
DTSTART;TZID=Asia/Hong_Kong:20151205T201500
DTEND;TZID=Asia/Hong_Kong:20151205T220000
DTSTAMP:20260426T093917
CREATED:19151020T092626Z
LAST-MODIFIED:20151020T092832Z
UID:10000541-1449346500-1449352800@www.bcmagazine.net
SUMMARY:The Voice of China
DESCRIPTION:The Voice of China Live in HK\nDate: 8:15pm\, 5 December\, 2015\nVenue: HK Coliseum\nTickets: $580\, $380\, $280 from Urbtix
URL:https://www.bcmagazine.net/event/the-voice-of-china/
LOCATION:HK Coliseum\, 9 Cheong Wan Road\, Hung Hom\, Hong Kong
CATEGORIES:2015,Concert,Music
GEO:22.3014169;114.1820305
X-APPLE-STRUCTURED-LOCATION;VALUE=URI;X-ADDRESS=HK Coliseum 9 Cheong Wan Road Hung Hom Hong Kong;X-APPLE-RADIUS=500;X-TITLE=9 Cheong Wan Road:geo:114.1820305,22.3014169
END:VEVENT
BEGIN:VEVENT
DTSTART;TZID=Asia/Hong_Kong:20151205T203000
DTEND;TZID=Asia/Hong_Kong:20151205T203000
DTSTAMP:20260426T093917
CREATED:20151121T025811Z
LAST-MODIFIED:20151121T025811Z
UID:10005077-1449347400-1449347400@www.bcmagazine.net
SUMMARY:Yanaginagi
DESCRIPTION:Yanaginagi Live – Supervoid\nDate: 8:30pm\, 5 December\, 2015\nVenue: Music Zone@E-Max\nTickets: $780\, $580 from Cityline
URL:https://www.bcmagazine.net/event/yanaginagi/
LOCATION:KITEC\, Music Zone@E-Max\, KITEC\,‎ 1 Trademart Drive\, Kowloon Bay\, Hong Kong
CATEGORIES:2015,Concert,Music
GEO:22.3239575;114.2037608
X-APPLE-STRUCTURED-LOCATION;VALUE=URI;X-ADDRESS=KITEC Music Zone@E-Max KITEC‎ 1 Trademart Drive Kowloon Bay Hong Kong;X-APPLE-RADIUS=500;X-TITLE=KITEC\,‎ 1 Trademart Drive:geo:114.2037608,22.3239575
END:VEVENT
BEGIN:VEVENT
DTSTART;VALUE=DATE:20151206
DTEND;VALUE=DATE:20151207
DTSTAMP:20260426T093917
CREATED:19150908T034116Z
LAST-MODIFIED:20150908T034446Z
UID:10000342-1449360000-1449446399@www.bcmagazine.net
SUMMARY:Lantau 50
DESCRIPTION:Lantau 50\nHK50 Series\nDate: 6 December\, 2015\nVenue: Lantau\nTickets: $598\, $490\, $440\, $400
URL:https://www.bcmagazine.net/event/lantau-50/
LOCATION:Lantau\, Lantau\, Hong Kong
CATEGORIES:2015,Sport
END:VEVENT
BEGIN:VEVENT
DTSTART;VALUE=DATE:20151206
DTEND;VALUE=DATE:20151207
DTSTAMP:20260426T093917
CREATED:20150722T003443Z
LAST-MODIFIED:20150722T003443Z
UID:10005047-1449360000-1449446399@www.bcmagazine.net
SUMMARY:Vertical Run 2015
DESCRIPTION:Vertical Run 2015\nDate: 6 December\, 2015\nVenue: ICC\, 1 Austin Road\, West Kowloon\nTickets: tbc\nMore info: 2\,120 steps\nrace registration www.shkpverticalrun.com
URL:https://www.bcmagazine.net/event/vertical-run-2015/
LOCATION:Hong Kong
CATEGORIES:2015,Sport
END:VEVENT
BEGIN:VEVENT
DTSTART;TZID=Asia/Hong_Kong:20151206T200000
DTEND;TZID=Asia/Hong_Kong:20151206T200000
DTSTAMP:20260426T093917
CREATED:19151024T160204Z
LAST-MODIFIED:20151024T160538Z
UID:10000148-1449432000-1449432000@www.bcmagazine.net
SUMMARY:HK Guitar Ensemble
DESCRIPTION:Hong Kong Guitar Ensemble\nDate: 8pm\, 6 December\, 2015\nVenue: HK Cultural Centre\, Studio Theatre\nTickets: $100 from Urbtix
URL:https://www.bcmagazine.net/event/hk-guitar-ensemble-2015/
LOCATION:HK Cultural Centre\, Studio Theatre\, 10 Salisbury Road\, Tsim Sha Tsui\, Hong Kong
CATEGORIES:2015,Concert,Music
END:VEVENT
BEGIN:VEVENT
DTSTART;VALUE=DATE:20151207
DTEND;VALUE=DATE:20151210
DTSTAMP:20260426T093917
CREATED:19150831T151401Z
LAST-MODIFIED:20150831T151652Z
UID:10000126-1449446400-1449705599@www.bcmagazine.net
SUMMARY:Rory Bremner
DESCRIPTION:Rory Bremner\nDate: 7pm\, 7-9 December\, 2015\nVenue: Udderbelly\, Central Harbourfront\nTickets: $683\, $595\, $385 from HKTicketing
URL:https://www.bcmagazine.net/event/rory-bremner/
LOCATION:Udderbelly\, Central Harbourfront\, 9 Lung Wo Road\, Central\, Hong Kong
CATEGORIES:2015,Comedy,Cultural Festival,Nightlife,Performing Arts
GEO:22.2826223;114.164346
X-APPLE-STRUCTURED-LOCATION;VALUE=URI;X-ADDRESS=Udderbelly Central Harbourfront 9 Lung Wo Road Central Hong Kong;X-APPLE-RADIUS=500;X-TITLE=Central Harbourfront\, 9 Lung Wo Road:geo:114.164346,22.2826223
END:VEVENT
BEGIN:VEVENT
DTSTART;TZID=Asia/Hong_Kong:20151208T200000
DTEND;TZID=Asia/Hong_Kong:20151208T200000
DTSTAMP:20260426T093917
CREATED:19151024T115256Z
LAST-MODIFIED:20151024T115530Z
UID:10000619-1449604800-1449604800@www.bcmagazine.net
SUMMARY:Maksim
DESCRIPTION:Maksim\nDate: 8pm\, 8 December\, 2015\nVenue: HK Cultural Centre\, Concert Hall\nTickets: $800\, $600\, $400 from Urbtix
URL:https://www.bcmagazine.net/event/maksim-2015/
LOCATION:HK Cultural Centre\, Concert Hall\, 10 Salisbury Road\, Tsim Sha Tsui\, Hong Kong
CATEGORIES:2015,Concert,Music
GEO:22.294318;114.171708
X-APPLE-STRUCTURED-LOCATION;VALUE=URI;X-ADDRESS=HK Cultural Centre Concert Hall 10 Salisbury Road Tsim Sha Tsui Hong Kong;X-APPLE-RADIUS=500;X-TITLE=10 Salisbury Road:geo:114.171708,22.294318
END:VEVENT
BEGIN:VEVENT
DTSTART;TZID=Asia/Hong_Kong:20151208T203000
DTEND;TZID=Asia/Hong_Kong:20151208T203000
DTSTAMP:20260426T093917
CREATED:19151126T172807Z
LAST-MODIFIED:20151126T173137Z
UID:10000194-1449606600-1449606600@www.bcmagazine.net
SUMMARY:Judith Lucy
DESCRIPTION:Judith Lucy\nUdderbelly Festival\nDate: 8:30pm\, 8-9 December\, 2015\nVenue: Udderbelly\nTickets: $683\, $595\, $385 from HKTicketing
URL:https://www.bcmagazine.net/event/judith-lucy-2015/2015-12-08/
LOCATION:Udderbelly\, Central Harbourfront\, 9 Lung Wo Road\, Central\, Hong Kong
CATEGORIES:2015,Comedy,Cultural Festival,Performing Arts
GEO:22.2826223;114.164346
X-APPLE-STRUCTURED-LOCATION;VALUE=URI;X-ADDRESS=Udderbelly Central Harbourfront 9 Lung Wo Road Central Hong Kong;X-APPLE-RADIUS=500;X-TITLE=Central Harbourfront\, 9 Lung Wo Road:geo:114.164346,22.2826223
END:VEVENT
BEGIN:VEVENT
DTSTART;TZID=Asia/Hong_Kong:20151209T200000
DTEND;TZID=Asia/Hong_Kong:20151209T230000
DTSTAMP:20260426T093917
CREATED:20151028T135900Z
LAST-MODIFIED:20151112T170039Z
UID:10005061-1449691200-1449702000@www.bcmagazine.net
SUMMARY:La Grande Sophie
DESCRIPTION:French pop icon Sophie Huriaux aka La Grande Sophie is live in Hong Kong for the first time in support of her seventh album Nos Histoires released earlier this year. Tickets are on sale now for the concert at Chai Wan’s Y Theatre on the 9 December. \nhttps://youtu.be/aOArCvLdNho?list=RDaOArCvLdNhoVideo can’t be loaded because JavaScript is disabled: La Grande Sophie – Maria Yudina (https://youtu.be/aOArCvLdNho?list=RDaOArCvLdNho)\nLa Grande Sophie\nDate: 8pm\, 9 December\, 2015\nVenue: Y Theatre\nTickets: $450\, $400 (Advance) from Ticketflap
URL:https://www.bcmagazine.net/event/la-grande-sophie-2015/
LOCATION:Youth Square\, Y Theatre\, 238 Chai Wan Road\, Chai Wan\, Hong Kong
CATEGORIES:2015,Concert,Music
GEO:22.26301;114.2366034
X-APPLE-STRUCTURED-LOCATION;VALUE=URI;X-ADDRESS=Youth Square Y Theatre 238 Chai Wan Road Chai Wan Hong Kong;X-APPLE-RADIUS=500;X-TITLE=238 Chai Wan Road:geo:114.2366034,22.26301
END:VEVENT
BEGIN:VEVENT
DTSTART;TZID=Asia/Hong_Kong:20151209T203000
DTEND;TZID=Asia/Hong_Kong:20151209T203000
DTSTAMP:20260426T093917
CREATED:19151126T172807Z
LAST-MODIFIED:20151126T173137Z
UID:10000195-1449693000-1449693000@www.bcmagazine.net
SUMMARY:Judith Lucy
DESCRIPTION:Judith Lucy\nUdderbelly Festival\nDate: 8:30pm\, 8-9 December\, 2015\nVenue: Udderbelly\nTickets: $683\, $595\, $385 from HKTicketing
URL:https://www.bcmagazine.net/event/judith-lucy-2015/2015-12-09/
LOCATION:Udderbelly\, Central Harbourfront\, 9 Lung Wo Road\, Central\, Hong Kong
CATEGORIES:2015,Comedy,Cultural Festival,Performing Arts
GEO:22.2826223;114.164346
X-APPLE-STRUCTURED-LOCATION;VALUE=URI;X-ADDRESS=Udderbelly Central Harbourfront 9 Lung Wo Road Central Hong Kong;X-APPLE-RADIUS=500;X-TITLE=Central Harbourfront\, 9 Lung Wo Road:geo:114.164346,22.2826223
END:VEVENT
BEGIN:VEVENT
DTSTART;VALUE=DATE:20151210
DTEND;VALUE=DATE:20151214
DTSTAMP:20260426T093917
CREATED:19151002T025459Z
LAST-MODIFIED:20151002T025717Z
UID:10000085-1449705600-1450051199@www.bcmagazine.net
SUMMARY:Cinderella - the Panto
DESCRIPTION:Cinderella – the Panto\nUdderbelly Festival\, Hong Kong Players\nDate: 4-6\, 10-13 December\, 2015\nVenue: Udderbelly\nTickets: $438\, $350\, $290 from HKTicketing\nMore info:\n4 Dec 2015 (Fri) at 7pm\n5 Dec 2015 (Sat) at 2:30pm & 6:30pm\n6 Dec 2015 (Sun) at 2:30pm & 6pm \n10 Dec 2015 (Thu) at 7pm\n11 Dec 2015 (Fri) at 7pm\n12 Dec 2015 (Sat) at 2:30pm & 6pm\n13 Dec 2015 (Sun) at 2:30pm & 6pm
URL:https://www.bcmagazine.net/event/cinderella-the-panto-2/
LOCATION:Udderbelly\, Central Harbourfront\, 9 Lung Wo Road\, Central\, Hong Kong
CATEGORIES:2015,Cultural Festival,Performing Arts,Theatre
GEO:22.2826223;114.164346
X-APPLE-STRUCTURED-LOCATION;VALUE=URI;X-ADDRESS=Udderbelly Central Harbourfront 9 Lung Wo Road Central Hong Kong;X-APPLE-RADIUS=500;X-TITLE=Central Harbourfront\, 9 Lung Wo Road:geo:114.164346,22.2826223
END:VEVENT
BEGIN:VEVENT
DTSTART;TZID=Asia/Hong_Kong:20151210T193000
DTEND;TZID=Asia/Hong_Kong:20151210T193000
DTSTAMP:20260426T093917
CREATED:19151126T172106Z
LAST-MODIFIED:20151126T172716Z
UID:10000842-1449775800-1449775800@www.bcmagazine.net
SUMMARY:The Christmas Eve Murders
DESCRIPTION:The Christmas Eve Murders\nPerilous Mouths\nDate: 7:30pm\, 10-12 December\, 2015\nVenue: Fringe Club\, Fringe Underground\nTickets: $240 from HKTicketing
URL:https://www.bcmagazine.net/event/the-christmas-eve-murders-2015/2015-12-10/
LOCATION:Fringe Club: Fringe Underground\, Central\, Hong Kong
CATEGORIES:2015,Performing Arts,Theatre
END:VEVENT
BEGIN:VEVENT
DTSTART;TZID=Asia/Hong_Kong:20151210T213000
DTEND;TZID=Asia/Hong_Kong:20151210T233000
DTSTAMP:20260426T093917
CREATED:19151206T113245Z
LAST-MODIFIED:20151206T122404Z
UID:10000184-1449783000-1449790200@www.bcmagazine.net
SUMMARY:Soler
DESCRIPTION:Soler – I Love Dogs\nDate: 9:30pm\, 10 December\, 2015\nVenue: Orange Peel\nTickets: $350
URL:https://www.bcmagazine.net/event/soler-i-love-dogs/
LOCATION:Orange Peel\, 2/F\, 38-44 D'Aguilar Street\, Central\, Hong Kong\, Hong Kong
CATEGORIES:2015,Concert,Music
ATTACH;FMTTYPE=image/jpeg:https://www.bcmagazine.net/wp-content/uploads/2015/12/facebook_event_1708962562673638.jpg
GEO:22.2807864;114.1553675
X-APPLE-STRUCTURED-LOCATION;VALUE=URI;X-ADDRESS=Orange Peel 2/F 38-44 D'Aguilar Street Central Hong Kong Hong Kong;X-APPLE-RADIUS=500;X-TITLE=2/F\, 38-44 D'Aguilar Street\, Central:geo:114.1553675,22.2807864
END:VEVENT
BEGIN:VEVENT
DTSTART;VALUE=DATE:20151211
DTEND;VALUE=DATE:20151213
DTSTAMP:20260426T093917
CREATED:19151020T091526Z
LAST-MODIFIED:20151020T092300Z
UID:10000536-1449792000-1449964799@www.bcmagazine.net
SUMMARY:Jolin Tsai
DESCRIPTION:Jolin Tsai <Play>\nDate: 8:15pm\, 11-12 December\, 2015\nVenue: HK Coliseum\nTickets: $880\, $580\, $380\, $180 from Urbtix
URL:https://www.bcmagazine.net/event/jolin-tsai-2015/
LOCATION:HK Coliseum\, 9 Cheong Wan Road\, Hung Hom\, Hong Kong
CATEGORIES:2015,Concert,Music
GEO:22.3014169;114.1820305
X-APPLE-STRUCTURED-LOCATION;VALUE=URI;X-ADDRESS=HK Coliseum 9 Cheong Wan Road Hung Hom Hong Kong;X-APPLE-RADIUS=500;X-TITLE=9 Cheong Wan Road:geo:114.1820305,22.3014169
END:VEVENT
BEGIN:VEVENT
DTSTART;VALUE=DATE:20151211
DTEND;VALUE=DATE:20151213
DTSTAMP:20260426T093917
CREATED:19990825T070215Z
LAST-MODIFIED:20150825T070525Z
UID:10005351-1449792000-1449964799@www.bcmagazine.net
SUMMARY:The Book of Changes
DESCRIPTION:AIAF: The Book of Changes\nZuni Icosahedron\nWhen: 8:15pm\, 11-12 December\, 2015\nWhere: HK Cultural Centre\, Grand Theatre\nTickets: $480\, $280\, $190 from Urbtix
URL:https://www.bcmagazine.net/event/the-book-of-changes/
LOCATION:HK Cultural Centre\, Grand Theatre\,\, 10 Salisbury Road\, Tsim Sha Tsui\, Hong Kong
CATEGORIES:2015,Cultural Festival,Dance,Performing Arts
GEO:22.294318;114.171708
X-APPLE-STRUCTURED-LOCATION;VALUE=URI;X-ADDRESS=HK Cultural Centre Grand Theatre 10 Salisbury Road Tsim Sha Tsui Hong Kong;X-APPLE-RADIUS=500;X-TITLE=10 Salisbury Road:geo:114.171708,22.294318
END:VEVENT
END:VCALENDAR