BEGIN:VCALENDAR
VERSION:2.0
PRODID:-//bc magazine - ECPv6.15.20//NONSGML v1.0//EN
CALSCALE:GREGORIAN
METHOD:PUBLISH
X-WR-CALNAME:bc magazine
X-ORIGINAL-URL:https://www.bcmagazine.net
X-WR-CALDESC:Events for bc magazine
REFRESH-INTERVAL;VALUE=DURATION:PT1H
X-Robots-Tag:noindex
X-PUBLISHED-TTL:PT1H
BEGIN:VTIMEZONE
TZID:Asia/Hong_Kong
BEGIN:STANDARD
TZOFFSETFROM:+0800
TZOFFSETTO:+0800
TZNAME:HKT
DTSTART:20140101T000000
END:STANDARD
END:VTIMEZONE
BEGIN:VEVENT
DTSTART;VALUE=DATE:20151223
DTEND;VALUE=DATE:20160329
DTSTAMP:20260426T071722
CREATED:20151205T153540Z
LAST-MODIFIED:20160105T154954Z
UID:10005084-1450828800-1459209599@www.bcmagazine.net
SUMMARY:Tung Wah Charity Carnival
DESCRIPTION:Tung Wah Charity Carnival\nDate: 23 December 2015 – 28 March 2016\nVenue: Kai Tak Runway\nTickets: $180\nMore info:\nWeekdays: 3-11pm\nFriday\, Saturday: 11am-11pm\nwww.twcarnival.hk
URL:https://www.bcmagazine.net/event/tung-wah-charity-carnival-2016/
LOCATION:Kai Tak Runway\, Kai Tak\, Kowloon City\, Hong Kong
CATEGORIES:2015,2016,Nightlife
GEO:22.3246084;114.1990482
X-APPLE-STRUCTURED-LOCATION;VALUE=URI;X-ADDRESS=Kai Tak Runway Kai Tak Kowloon City Hong Kong;X-APPLE-RADIUS=500;X-TITLE=Kai Tak:geo:114.1990482,22.3246084
END:VEVENT
BEGIN:VEVENT
DTSTART;VALUE=DATE:20151229
DTEND;VALUE=DATE:20160104
DTSTAMP:20260426T071722
CREATED:19150831T153204Z
LAST-MODIFIED:20190924T041357Z
UID:10000137-1451347200-1451865599@www.bcmagazine.net
SUMMARY:Gobsmacked
DESCRIPTION:Gobsmacked\nUdderbelly Festival\nDate: 29 December 2015 – 6 January\, 2016\nVenue: Udderbelly\, Central Harbourfront\nTickets: $523\, $435\, $385 from HKTicketing\nMore info:\n29 Dec 2015 (Tue) at 7pm\n30 Dec 2015 (Wed) at 7pm\n31 Dec 2015 (Thu) at 7pm\n1 Jan 2016 (Fri) at 7:15pm\n2 Jan 2016 (Sat) at 4pm & 7:15pm\n3 Jan 2016 (Sun) at 4pm & 7pm\n5 Jan 2016 (Tue) at 7pm\n6 Jan 2016 (Wed) at 7pm
URL:https://www.bcmagazine.net/event/gobsmacked/
LOCATION:Udderbelly\, Central Harbourfront\, 9 Lung Wo Road\, Central\, Hong Kong
CATEGORIES:2015,2016,Concert,Cultural Festival,Music,Performing Arts
GEO:22.2826223;114.164346
X-APPLE-STRUCTURED-LOCATION;VALUE=URI;X-ADDRESS=Udderbelly Central Harbourfront 9 Lung Wo Road Central Hong Kong;X-APPLE-RADIUS=500;X-TITLE=Central Harbourfront\, 9 Lung Wo Road:geo:114.164346,22.2826223
END:VEVENT
BEGIN:VEVENT
DTSTART;VALUE=DATE:20151229
DTEND;VALUE=DATE:20160104
DTSTAMP:20260426T071722
CREATED:19151002T035204Z
LAST-MODIFIED:20151002T035706Z
UID:10000093-1451347200-1451865599@www.bcmagazine.net
SUMMARY:Brainiac Live
DESCRIPTION:Brainiac Live\nUdderbelly Festival\nDate: 29 December – 10 January\, 2016\nVenue: Udderbelly\nTickets: $523\, $435\, $385 from HKTicketing\nMore info:\n29 Dec 2015 (Tue) 4:30pm\n30 Dec 2015 (Wed) 4:30pm\n31 Dec 2015 (Thu) 4:30pm\n1 Jan 2016 (Fri) 4:30pm\n2 Jan 2016 (Sat) 10am\, 12noon & 2pm\n3 Jan 2016 (Sun) 10am\, 12noon & 2pm \n5 Jan 2016 (Tue) 4:30pm\n6 Jan 2016 (Wed) 4:30pm\n7 Jan 2016 (Thu) 4:30pm\n8 Jan 2016 (Fri) 4:30pm\n9 Jan 2016 (Sat) 10am\, 12noon & 2pm\n10 Jan 2016 (Sun) 10am\, 12:30pm & 3pm \n 
URL:https://www.bcmagazine.net/event/brainiac-live/
LOCATION:Udderbelly\, Central Harbourfront\, 9 Lung Wo Road\, Central\, Hong Kong
CATEGORIES:2015,2016,Cultural Festival,Performing Arts,Theatre
GEO:22.2826223;114.164346
X-APPLE-STRUCTURED-LOCATION;VALUE=URI;X-ADDRESS=Udderbelly Central Harbourfront 9 Lung Wo Road Central Hong Kong;X-APPLE-RADIUS=500;X-TITLE=Central Harbourfront\, 9 Lung Wo Road:geo:114.164346,22.2826223
END:VEVENT
BEGIN:VEVENT
DTSTART;VALUE=DATE:20151230
DTEND;VALUE=DATE:20160104
DTSTAMP:20260426T071722
CREATED:19151121T040257Z
LAST-MODIFIED:20151121T040720Z
UID:10000736-1451433600-1451865599@www.bcmagazine.net
SUMMARY:iD
DESCRIPTION:iD\nCirque Éloize\nDate: 30 December\, 2015 – 3 January\, 2016\nVenue: HK Cultural Centre\, Grand Theatre\nTickets: $380\, $280\, $200\, $120 from Urbtix\nMore info:\n30 December\, 2015 – 3 January\, 2016 – 7:45pm\n2 January\, 2016 – 2:45pm
URL:https://www.bcmagazine.net/event/id/
LOCATION:HK Cultural Centre\, Grand Theatre\,\, 10 Salisbury Road\, Tsim Sha Tsui\, Hong Kong
CATEGORIES:2015,2016,Performing Arts,Theatre
GEO:22.294318;114.171708
X-APPLE-STRUCTURED-LOCATION;VALUE=URI;X-ADDRESS=HK Cultural Centre Grand Theatre 10 Salisbury Road Tsim Sha Tsui Hong Kong;X-APPLE-RADIUS=500;X-TITLE=10 Salisbury Road:geo:114.171708,22.294318
END:VEVENT
BEGIN:VEVENT
DTSTART;VALUE=DATE:20160101
DTEND;VALUE=DATE:20160104
DTSTAMP:20260426T071722
CREATED:20150608T080408Z
LAST-MODIFIED:20150808T082117Z
UID:10005955-1451606400-1451865599@www.bcmagazine.net
SUMMARY:The Government Inspector
DESCRIPTION:The Government Inspector\nChung Ying Theatre Company\nWhen: 26-27\, 29-30 December\, 2015\, 01-03 January\, 2016\nWhere: Kwai Tsing Theatre\, Auditorium\nTickets: $280\, $220\, $160 from Urbtix\nMore info:\n26 December – 8pm\n27 December – 3pm\n29\, 30 December – 8pm\n1-3 January\, 2016 – 3pm\, 8pm
URL:https://www.bcmagazine.net/event/the-government-inspector-4/
LOCATION:Kwai Tsing Theatre\, Auditorium\, 12 Hing Ning Road\, Kwai Chung\, Hong Kong
CATEGORIES:2015,2016,Musical,Performing Arts,Theatre,Theatre
GEO:22.3568224;114.126199
X-APPLE-STRUCTURED-LOCATION;VALUE=URI;X-ADDRESS=Kwai Tsing Theatre Auditorium 12 Hing Ning Road Kwai Chung Hong Kong;X-APPLE-RADIUS=500;X-TITLE=12 Hing Ning Road:geo:114.126199,22.3568224
END:VEVENT
BEGIN:VEVENT
DTSTART;VALUE=DATE:20160101
DTEND;VALUE=DATE:20160104
DTSTAMP:20260426T071722
CREATED:20150621T072958Z
LAST-MODIFIED:20150821T073250Z
UID:10004990-1451606400-1451865599@www.bcmagazine.net
SUMMARY:2016 Dancers' Homework
DESCRIPTION:2016 Dancers’ Homework\nCity Contemporary Dance Company\nWhen: 1-3 January\, 2016\nWhere: CCDC Dance Centre\, Jockey Club Dance Theatre\nTickets: $100 from CCDC\nMore info:\n1-2 January – 8pm\n2-3 January – 3pm
URL:https://www.bcmagazine.net/event/2016-dancers-homework/
LOCATION:CCDC Dance Centre\, Jockey Club Dance Theatre\, 106 Shatin Pass Road\, Chuk Un\, Hong Kong
CATEGORIES:2016,Dance,Performing Arts
END:VEVENT
BEGIN:VEVENT
DTSTART;TZID=Asia/Hong_Kong:20160101T130000
DTEND;TZID=Asia/Hong_Kong:20160101T170000
DTSTAMP:20260426T071722
CREATED:20150624T052451Z
LAST-MODIFIED:20150824T052725Z
UID:10005000-1451653200-1451667600@www.bcmagazine.net
SUMMARY:SOP Women's Conference
DESCRIPTION:SOP Women’s Conference\nStream of Praise Music Ministries\nDate: 1pm\, 1 January\, 2016\nVenue: KITEC\, Star Hall\nTickets: $299 from HKTicketing
URL:https://www.bcmagazine.net/event/sop-womens-conference/
LOCATION:KITEC\, Star Hall\, KITEC\, 1 Trademart Drive\, Kowloon Bay\, Hong Kong
CATEGORIES:2016,Cultural Festival,Music
GEO:22.3239575;114.2037608
X-APPLE-STRUCTURED-LOCATION;VALUE=URI;X-ADDRESS=KITEC Star Hall KITEC 1 Trademart Drive Kowloon Bay Hong Kong;X-APPLE-RADIUS=500;X-TITLE=KITEC\, 1 Trademart Drive:geo:114.2037608,22.3239575
END:VEVENT
BEGIN:VEVENT
DTSTART;TZID=Asia/Hong_Kong:20160101T194500
DTEND;TZID=Asia/Hong_Kong:20160101T224500
DTSTAMP:20260426T071722
CREATED:19151126T154143Z
LAST-MODIFIED:20151202T001243Z
UID:10000166-1451677500-1451688300@www.bcmagazine.net
SUMMARY:Cantonese Opera
DESCRIPTION:Cantonese Opera\nDate: 7:45pm\,  23 December – 9 January\, 2016\nVenue: HKAPA\, Lyric Theatre\nTickets: $880\, $680\, $480\, $280 from HKTicketing
URL:https://www.bcmagazine.net/event/cantonese-opera-2/2016-01-01/
LOCATION:HKAPA: Lyric Theatre\, 1 Gloucester Road\, Wanchai\, Hong Kong
CATEGORIES:2015,2016,Cantonese Opera,Music,Performing Arts
GEO:22.2801854;114.1695054
X-APPLE-STRUCTURED-LOCATION;VALUE=URI;X-ADDRESS=HKAPA: Lyric Theatre 1 Gloucester Road Wanchai Hong Kong;X-APPLE-RADIUS=500;X-TITLE=1 Gloucester Road:geo:114.1695054,22.2801854
END:VEVENT
BEGIN:VEVENT
DTSTART;TZID=Asia/Hong_Kong:20160101T200000
DTEND;TZID=Asia/Hong_Kong:20160101T220000
DTSTAMP:20260426T071722
CREATED:19151024T032315Z
LAST-MODIFIED:20151024T032851Z
UID:10000135-1451678400-1451685600@www.bcmagazine.net
SUMMARY:La Vivo
DESCRIPTION:La Vivo a Cappella 2016 New Year’s Concert (Ukraine)\nDate: 8pm\, 1 January\, 2016\nVenue: HK Cultural Centre\, Concert Hall\nTickets: $580\, $480\, $380\, $280\, $180 from Urbtix
URL:https://www.bcmagazine.net/event/la-vivo/
LOCATION:HK Cultural Centre\, Concert Hall\, 10 Salisbury Road\, Tsim Sha Tsui\, Hong Kong
CATEGORIES:2016,Concert,Music
GEO:22.294318;114.171708
X-APPLE-STRUCTURED-LOCATION;VALUE=URI;X-ADDRESS=HK Cultural Centre Concert Hall 10 Salisbury Road Tsim Sha Tsui Hong Kong;X-APPLE-RADIUS=500;X-TITLE=10 Salisbury Road:geo:114.171708,22.294318
END:VEVENT
BEGIN:VEVENT
DTSTART;TZID=Asia/Hong_Kong:20160101T213000
DTEND;TZID=Asia/Hong_Kong:20160101T213000
DTSTAMP:20260426T071722
CREATED:19151020T090343Z
LAST-MODIFIED:20151221T125128Z
UID:10000521-1451683800-1451683800@www.bcmagazine.net
SUMMARY:Twins
DESCRIPTION:Twins\nDate: 31 December – 4 January\, 2016\nVenue: HK Coliseum\nTickets: $680\, $480\, $280 from Urbtix\nMore info:\n31 December – 9:30pm\n1-3 January – 8:15pm
URL:https://www.bcmagazine.net/event/twins-2015-16/2016-01-01/
LOCATION:HK Coliseum\, 9 Cheong Wan Road\, Hung Hom\, Hong Kong
CATEGORIES:2015,2016,Concert,Music
GEO:22.3014169;114.1820305
X-APPLE-STRUCTURED-LOCATION;VALUE=URI;X-ADDRESS=HK Coliseum 9 Cheong Wan Road Hung Hom Hong Kong;X-APPLE-RADIUS=500;X-TITLE=9 Cheong Wan Road:geo:114.1820305,22.3014169
END:VEVENT
BEGIN:VEVENT
DTSTART;TZID=Asia/Hong_Kong:20160102T194500
DTEND;TZID=Asia/Hong_Kong:20160102T224500
DTSTAMP:20260426T071722
CREATED:19151126T154143Z
LAST-MODIFIED:20151202T001243Z
UID:10000167-1451763900-1451774700@www.bcmagazine.net
SUMMARY:Cantonese Opera
DESCRIPTION:Cantonese Opera\nDate: 7:45pm\,  23 December – 9 January\, 2016\nVenue: HKAPA\, Lyric Theatre\nTickets: $880\, $680\, $480\, $280 from HKTicketing
URL:https://www.bcmagazine.net/event/cantonese-opera-2/2016-01-02/
LOCATION:HKAPA: Lyric Theatre\, 1 Gloucester Road\, Wanchai\, Hong Kong
CATEGORIES:2015,2016,Cantonese Opera,Music,Performing Arts
GEO:22.2801854;114.1695054
X-APPLE-STRUCTURED-LOCATION;VALUE=URI;X-ADDRESS=HKAPA: Lyric Theatre 1 Gloucester Road Wanchai Hong Kong;X-APPLE-RADIUS=500;X-TITLE=1 Gloucester Road:geo:114.1695054,22.2801854
END:VEVENT
BEGIN:VEVENT
DTSTART;TZID=Asia/Hong_Kong:20160102T200000
DTEND;TZID=Asia/Hong_Kong:20160102T200000
DTSTAMP:20260426T071722
CREATED:19151024T113921Z
LAST-MODIFIED:20151024T114828Z
UID:10000608-1451764800-1451764800@www.bcmagazine.net
SUMMARY:20th Anniversary Concert
DESCRIPTION:20th Anniversary Celebration Concert\nHong Kong Children’s Symphony Orchestra\nDate: 8pm\, 2 January\, 2016\nVenue: HK Cultural Centre\, Concert Hall\nTickets: $200\, $160\, $140 from Urbtix
URL:https://www.bcmagazine.net/event/20th-anniversary-concert-2015/
LOCATION:HK Cultural Centre\, Concert Hall\, 10 Salisbury Road\, Tsim Sha Tsui\, Hong Kong
CATEGORIES:2016,Concert,Music
GEO:22.294318;114.171708
X-APPLE-STRUCTURED-LOCATION;VALUE=URI;X-ADDRESS=HK Cultural Centre Concert Hall 10 Salisbury Road Tsim Sha Tsui Hong Kong;X-APPLE-RADIUS=500;X-TITLE=10 Salisbury Road:geo:114.171708,22.294318
END:VEVENT
BEGIN:VEVENT
DTSTART;TZID=Asia/Hong_Kong:20160102T210000
DTEND;TZID=Asia/Hong_Kong:20160102T210000
DTSTAMP:20260426T071722
CREATED:19151212T171345Z
LAST-MODIFIED:20151212T171810Z
UID:10000896-1451768400-1451768400@www.bcmagazine.net
SUMMARY:Cheuk Wan-Chi
DESCRIPTION:Cheuk Wan-Chi – Call For A Drink\nUdderbelly Festival\nDate: 2-3 January\, 2016\nVenue: Udderbelly\nTickets: $488\, $400\, $385 from HKTicketing
URL:https://www.bcmagazine.net/event/cheuk-wan-chi-call-for-a-drink/2016-01-02/
LOCATION:Udderbelly\, Central Harbourfront\, 9 Lung Wo Road\, Central\, Hong Kong
CATEGORIES:2016,Comedy,Cultural Festival,Performing Arts
GEO:22.2826223;114.164346
X-APPLE-STRUCTURED-LOCATION;VALUE=URI;X-ADDRESS=Udderbelly Central Harbourfront 9 Lung Wo Road Central Hong Kong;X-APPLE-RADIUS=500;X-TITLE=Central Harbourfront\, 9 Lung Wo Road:geo:114.164346,22.2826223
END:VEVENT
BEGIN:VEVENT
DTSTART;TZID=Asia/Hong_Kong:20160102T213000
DTEND;TZID=Asia/Hong_Kong:20160102T213000
DTSTAMP:20260426T071722
CREATED:19151020T090343Z
LAST-MODIFIED:20151221T125128Z
UID:10000522-1451770200-1451770200@www.bcmagazine.net
SUMMARY:Twins
DESCRIPTION:Twins\nDate: 31 December – 4 January\, 2016\nVenue: HK Coliseum\nTickets: $680\, $480\, $280 from Urbtix\nMore info:\n31 December – 9:30pm\n1-3 January – 8:15pm
URL:https://www.bcmagazine.net/event/twins-2015-16/2016-01-02/
LOCATION:HK Coliseum\, 9 Cheong Wan Road\, Hung Hom\, Hong Kong
CATEGORIES:2015,2016,Concert,Music
GEO:22.3014169;114.1820305
X-APPLE-STRUCTURED-LOCATION;VALUE=URI;X-ADDRESS=HK Coliseum 9 Cheong Wan Road Hung Hom Hong Kong;X-APPLE-RADIUS=500;X-TITLE=9 Cheong Wan Road:geo:114.1820305,22.3014169
END:VEVENT
BEGIN:VEVENT
DTSTART;TZID=Asia/Hong_Kong:20160103T130000
DTEND;TZID=Asia/Hong_Kong:20160103T140000
DTSTAMP:20260426T071722
CREATED:20160101T234407Z
LAST-MODIFIED:20160101T234407Z
UID:10006080-1451826000-1451829600@www.bcmagazine.net
SUMMARY:Safeguard Universities Autonomy
DESCRIPTION:Awareness march from Chater Gardens to Government House in response to the declining autonomy at Hong Kong’s universities.
URL:https://www.bcmagazine.net/event/safeguard-universities-autonomy/
LOCATION:Chater Garden\, Central\, Hong Kong
CATEGORIES:2016,Free
END:VEVENT
BEGIN:VEVENT
DTSTART;TZID=Asia/Hong_Kong:20160103T193000
DTEND;TZID=Asia/Hong_Kong:20160103T220000
DTSTAMP:20260426T071722
CREATED:19151121T040808Z
LAST-MODIFIED:20151121T041131Z
UID:10000738-1451849400-1451858400@www.bcmagazine.net
SUMMARY:Tang Poems
DESCRIPTION:The ‘New Choral Settings of Tang Poems’ project was initiated by the Department of Cultural and Creative Arts at The Hong Kong Institute of Education\, and funded by the Dr. Kwong Kai To Education Foundation Rural Training College Alumni Association Limited. The aim\, as set out by the Executive Committee made up of Professor Richard Tsang (Artistic Director)\, Dr. Paulina Wong (Project Director)\, and Dr.Allison So and Michael Leung (Project Coordinators)\, was to facilitate the appreciation and understanding of Chinese poetry and culture through original choral settings of 20 selected Tang Poems by Hong Kong composers. An additional requirement of the project was the attainment of distinct cross-disciplinary learning outcomes\, including providing an opportunity to encourage local composers to work on original educational repertoires geared to school learning purposes. \nNew Choral Settings of Tang Poems Gala Concert\nDate: 7:30pm\, 3 January\, 2016\nVenue: HK Cultural Centre\, Concert Hall\nTickets: $120 from Urbtix
URL:https://www.bcmagazine.net/event/tang-poems/
LOCATION:HK Cultural Centre\, Concert Hall\, 10 Salisbury Road\, Tsim Sha Tsui\, Hong Kong
CATEGORIES:2016,Concert,Music
GEO:22.294318;114.171708
X-APPLE-STRUCTURED-LOCATION;VALUE=URI;X-ADDRESS=HK Cultural Centre Concert Hall 10 Salisbury Road Tsim Sha Tsui Hong Kong;X-APPLE-RADIUS=500;X-TITLE=10 Salisbury Road:geo:114.171708,22.294318
END:VEVENT
BEGIN:VEVENT
DTSTART;TZID=Asia/Hong_Kong:20160103T194500
DTEND;TZID=Asia/Hong_Kong:20160103T224500
DTSTAMP:20260426T071722
CREATED:19151126T154143Z
LAST-MODIFIED:20151202T001243Z
UID:10000168-1451850300-1451861100@www.bcmagazine.net
SUMMARY:Cantonese Opera
DESCRIPTION:Cantonese Opera\nDate: 7:45pm\,  23 December – 9 January\, 2016\nVenue: HKAPA\, Lyric Theatre\nTickets: $880\, $680\, $480\, $280 from HKTicketing
URL:https://www.bcmagazine.net/event/cantonese-opera-2/2016-01-03/
LOCATION:HKAPA: Lyric Theatre\, 1 Gloucester Road\, Wanchai\, Hong Kong
CATEGORIES:2015,2016,Cantonese Opera,Music,Performing Arts
GEO:22.2801854;114.1695054
X-APPLE-STRUCTURED-LOCATION;VALUE=URI;X-ADDRESS=HKAPA: Lyric Theatre 1 Gloucester Road Wanchai Hong Kong;X-APPLE-RADIUS=500;X-TITLE=1 Gloucester Road:geo:114.1695054,22.2801854
END:VEVENT
BEGIN:VEVENT
DTSTART;TZID=Asia/Hong_Kong:20160103T200000
DTEND;TZID=Asia/Hong_Kong:20160103T200000
DTSTAMP:20260426T071722
CREATED:19151213T120403Z
LAST-MODIFIED:20151213T120648Z
UID:10000923-1451851200-1451851200@www.bcmagazine.net
SUMMARY:Macau New Year’s Concert
DESCRIPTION:Macau New Year’s Concert\nMacao Youth Symphony Orchestra\nDate: 8pm\, 3 January\, 2016\nVenue: Macao Cultural Centre\, Grand Auditorium\nTickets: MOP$250\, $150\, $100 from MacauTicket
URL:https://www.bcmagazine.net/event/macau-new-years-concert-2/
LOCATION:Macao Cultural Centre\, Grand Auditorium\, Avenida Xian Xing Hai\, Macau\, Macau
CATEGORIES:2016,Concert,Macau,Music
END:VEVENT
BEGIN:VEVENT
DTSTART;TZID=Asia/Hong_Kong:20160103T213000
DTEND;TZID=Asia/Hong_Kong:20160103T213000
DTSTAMP:20260426T071722
CREATED:19151020T090343Z
LAST-MODIFIED:20151221T125128Z
UID:10000523-1451856600-1451856600@www.bcmagazine.net
SUMMARY:Twins
DESCRIPTION:Twins\nDate: 31 December – 4 January\, 2016\nVenue: HK Coliseum\nTickets: $680\, $480\, $280 from Urbtix\nMore info:\n31 December – 9:30pm\n1-3 January – 8:15pm
URL:https://www.bcmagazine.net/event/twins-2015-16/2016-01-03/
LOCATION:HK Coliseum\, 9 Cheong Wan Road\, Hung Hom\, Hong Kong
CATEGORIES:2015,2016,Concert,Music
GEO:22.3014169;114.1820305
X-APPLE-STRUCTURED-LOCATION;VALUE=URI;X-ADDRESS=HK Coliseum 9 Cheong Wan Road Hung Hom Hong Kong;X-APPLE-RADIUS=500;X-TITLE=9 Cheong Wan Road:geo:114.1820305,22.3014169
END:VEVENT
BEGIN:VEVENT
DTSTART;TZID=Asia/Hong_Kong:20160104T194500
DTEND;TZID=Asia/Hong_Kong:20160104T224500
DTSTAMP:20260426T071722
CREATED:19151126T154143Z
LAST-MODIFIED:20151202T001243Z
UID:10000169-1451936700-1451947500@www.bcmagazine.net
SUMMARY:Cantonese Opera
DESCRIPTION:Cantonese Opera\nDate: 7:45pm\,  23 December – 9 January\, 2016\nVenue: HKAPA\, Lyric Theatre\nTickets: $880\, $680\, $480\, $280 from HKTicketing
URL:https://www.bcmagazine.net/event/cantonese-opera-2/2016-01-04/
LOCATION:HKAPA: Lyric Theatre\, 1 Gloucester Road\, Wanchai\, Hong Kong
CATEGORIES:2015,2016,Cantonese Opera,Music,Performing Arts
GEO:22.2801854;114.1695054
X-APPLE-STRUCTURED-LOCATION;VALUE=URI;X-ADDRESS=HKAPA: Lyric Theatre 1 Gloucester Road Wanchai Hong Kong;X-APPLE-RADIUS=500;X-TITLE=1 Gloucester Road:geo:114.1695054,22.2801854
END:VEVENT
BEGIN:VEVENT
DTSTART;TZID=Asia/Hong_Kong:20160104T200000
DTEND;TZID=Asia/Hong_Kong:20160104T200000
DTSTAMP:20260426T071722
CREATED:19151121T021503Z
LAST-MODIFIED:20151121T024950Z
UID:10000670-1451937600-1451937600@www.bcmagazine.net
SUMMARY:Eddie Ng
DESCRIPTION:Eddie Ng\nDate: 8pm\, 4 January\, 2016\nVenue: Music Zone@E-Max\nTickets: $880\, $480 from Cityline
URL:https://www.bcmagazine.net/event/eddie-ng/
LOCATION:KITEC\, Music Zone@E-Max\, KITEC\,‎ 1 Trademart Drive\, Kowloon Bay\, Hong Kong
CATEGORIES:2016,Concert,Music
GEO:22.3239575;114.2037608
X-APPLE-STRUCTURED-LOCATION;VALUE=URI;X-ADDRESS=KITEC Music Zone@E-Max KITEC‎ 1 Trademart Drive Kowloon Bay Hong Kong;X-APPLE-RADIUS=500;X-TITLE=KITEC\,‎ 1 Trademart Drive:geo:114.2037608,22.3239575
END:VEVENT
BEGIN:VEVENT
DTSTART;TZID=Asia/Hong_Kong:20160104T200000
DTEND;TZID=Asia/Hong_Kong:20160104T230000
DTSTAMP:20260426T071722
CREATED:19151024T113655Z
LAST-MODIFIED:20151024T113909Z
UID:10000606-1451937600-1451948400@www.bcmagazine.net
SUMMARY:Active Arts Society
DESCRIPTION:Active Arts Society\nDate: 8pm\, 4 January\, 2016\nVenue: HK Cultural Centre\, Concert Hall\nTickets: $200\, $150\, $80 from Urbtix
URL:https://www.bcmagazine.net/event/active-arts-society/
LOCATION:HK Cultural Centre\, Concert Hall\, 10 Salisbury Road\, Tsim Sha Tsui\, Hong Kong
CATEGORIES:2016,Concert,Music
GEO:22.294318;114.171708
X-APPLE-STRUCTURED-LOCATION;VALUE=URI;X-ADDRESS=HK Cultural Centre Concert Hall 10 Salisbury Road Tsim Sha Tsui Hong Kong;X-APPLE-RADIUS=500;X-TITLE=10 Salisbury Road:geo:114.171708,22.294318
END:VEVENT
BEGIN:VEVENT
DTSTART;TZID=Asia/Hong_Kong:20160104T213000
DTEND;TZID=Asia/Hong_Kong:20160104T213000
DTSTAMP:20260426T071722
CREATED:19151020T090343Z
LAST-MODIFIED:20151221T125128Z
UID:10000524-1451943000-1451943000@www.bcmagazine.net
SUMMARY:Twins
DESCRIPTION:Twins\nDate: 31 December – 4 January\, 2016\nVenue: HK Coliseum\nTickets: $680\, $480\, $280 from Urbtix\nMore info:\n31 December – 9:30pm\n1-3 January – 8:15pm
URL:https://www.bcmagazine.net/event/twins-2015-16/2016-01-04/
LOCATION:HK Coliseum\, 9 Cheong Wan Road\, Hung Hom\, Hong Kong
CATEGORIES:2015,2016,Concert,Music
GEO:22.3014169;114.1820305
X-APPLE-STRUCTURED-LOCATION;VALUE=URI;X-ADDRESS=HK Coliseum 9 Cheong Wan Road Hung Hom Hong Kong;X-APPLE-RADIUS=500;X-TITLE=9 Cheong Wan Road:geo:114.1820305,22.3014169
END:VEVENT
BEGIN:VEVENT
DTSTART;VALUE=DATE:20160105
DTEND;VALUE=DATE:20160107
DTSTAMP:20260426T071722
CREATED:19150831T153547Z
LAST-MODIFIED:20190924T041356Z
UID:10000139-1451952000-1452124799@www.bcmagazine.net
SUMMARY:Gobsmacked
DESCRIPTION:Gobsmacked\nUdderbelly Festival\nDate: 29 December 2015 – 6 January\, 2016\nVenue: Udderbelly\, Central Harbourfront\nTickets: $523\, $435\, $385 from HKTicketing\nMore info:\n29 Dec 2015 (Tue) at 7pm\n30 Dec 2015 (Wed) at 7pm\n31 Dec 2015 (Thu) at 7pm\n1 Jan 2016 (Fri) at 7:15pm\n2 Jan 2016 (Sat) at 4pm & 7:15pm\n3 Jan 2016 (Sun) at 4pm & 7pm\n5 Jan 2016 (Tue) at 7pm\n6 Jan 2016 (Wed) at 7pm
URL:https://www.bcmagazine.net/event/gobsmacked-2/
LOCATION:Udderbelly\, Central Harbourfront\, 9 Lung Wo Road\, Central\, Hong Kong
CATEGORIES:2016,Cultural Festival,Performing Arts
GEO:22.2826223;114.164346
X-APPLE-STRUCTURED-LOCATION;VALUE=URI;X-ADDRESS=Udderbelly Central Harbourfront 9 Lung Wo Road Central Hong Kong;X-APPLE-RADIUS=500;X-TITLE=Central Harbourfront\, 9 Lung Wo Road:geo:114.164346,22.2826223
END:VEVENT
BEGIN:VEVENT
DTSTART;VALUE=DATE:20160105
DTEND;VALUE=DATE:20160111
DTSTAMP:20260426T071722
CREATED:19151002T035540Z
LAST-MODIFIED:20151002T041725Z
UID:10000089-1451952000-1452470399@www.bcmagazine.net
SUMMARY:Brainiac Live
DESCRIPTION:Brainiac Live\nUdderbelly Festival\nDate: 29 December – 10 January\, 2016\nVenue: Udderbelly\nTickets: $523\, $435\, $385 from HKTicketing\nMore info:\n29 Dec 2015 (Tue) 4:30pm\n30 Dec 2015 (Wed) 4:30pm\n31 Dec 2015 (Thu) 4:30pm\n1 Jan 2016 (Fri) 4:30pm\n2 Jan 2016 (Sat) 10am\, 12noon & 2pm\n3 Jan 2016 (Sun) 10am\, 12noon & 2pm \n5 Jan 2016 (Tue) 4:30pm\n6 Jan 2016 (Wed) 4:30pm\n7 Jan 2016 (Thu) 4:30pm\n8 Jan 2016 (Fri) 4:30pm\n9 Jan 2016 (Sat) 10am\, 12noon & 2pm\n10 Jan 2016 (Sun) 10am\, 12:30pm & 3pm
URL:https://www.bcmagazine.net/event/6288/
LOCATION:Udderbelly\, Central Harbourfront\, 9 Lung Wo Road\, Central\, Hong Kong
CATEGORIES:2016,Cultural Festival,Performing Arts,Theatre
GEO:22.2826223;114.164346
X-APPLE-STRUCTURED-LOCATION;VALUE=URI;X-ADDRESS=Udderbelly Central Harbourfront 9 Lung Wo Road Central Hong Kong;X-APPLE-RADIUS=500;X-TITLE=Central Harbourfront\, 9 Lung Wo Road:geo:114.164346,22.2826223
END:VEVENT
BEGIN:VEVENT
DTSTART;TZID=Asia/Hong_Kong:20160105T194500
DTEND;TZID=Asia/Hong_Kong:20160105T224500
DTSTAMP:20260426T071722
CREATED:19151126T154143Z
LAST-MODIFIED:20151202T001243Z
UID:10000170-1452023100-1452033900@www.bcmagazine.net
SUMMARY:Cantonese Opera
DESCRIPTION:Cantonese Opera\nDate: 7:45pm\,  23 December – 9 January\, 2016\nVenue: HKAPA\, Lyric Theatre\nTickets: $880\, $680\, $480\, $280 from HKTicketing
URL:https://www.bcmagazine.net/event/cantonese-opera-2/2016-01-05/
LOCATION:HKAPA: Lyric Theatre\, 1 Gloucester Road\, Wanchai\, Hong Kong
CATEGORIES:2015,2016,Cantonese Opera,Music,Performing Arts
GEO:22.2801854;114.1695054
X-APPLE-STRUCTURED-LOCATION;VALUE=URI;X-ADDRESS=HKAPA: Lyric Theatre 1 Gloucester Road Wanchai Hong Kong;X-APPLE-RADIUS=500;X-TITLE=1 Gloucester Road:geo:114.1695054,22.2801854
END:VEVENT
BEGIN:VEVENT
DTSTART;TZID=Asia/Hong_Kong:20160105T200000
DTEND;TZID=Asia/Hong_Kong:20160105T200000
DTSTAMP:20260426T071722
CREATED:19151208T095005Z
LAST-MODIFIED:20190924T041252Z
UID:10000851-1452024000-1452024000@www.bcmagazine.net
SUMMARY:Yarn/Wire
DESCRIPTION:Yarn/Wire\nThe Modern Academy II Concert Series\nDate: 8pm 5 January\, 2016\nVenue: Y Studio\, Youth Square\nTickets: $100\, $50 from Urbtix
URL:https://www.bcmagazine.net/event/yarnwire-2016/
LOCATION:Youth Square\, Y Theatre\, 238 Chai Wan Road\, Chai Wan\, Hong Kong
CATEGORIES:2016,Concert,Music,Performing Arts
GEO:22.26301;114.2366034
X-APPLE-STRUCTURED-LOCATION;VALUE=URI;X-ADDRESS=Youth Square Y Theatre 238 Chai Wan Road Chai Wan Hong Kong;X-APPLE-RADIUS=500;X-TITLE=238 Chai Wan Road:geo:114.2366034,22.26301
END:VEVENT
BEGIN:VEVENT
DTSTART;VALUE=DATE:20160106
DTEND;VALUE=DATE:20160108
DTSTAMP:20260426T071722
CREATED:19151002T022340Z
LAST-MODIFIED:20151002T022702Z
UID:10000460-1452038400-1452211199@www.bcmagazine.net
SUMMARY:Wil Anderson
DESCRIPTION:Wil Anderson – Free Wil\nUdderbelly Festival\nDate: 9pm\, 6-7 January\, 2016\nVenue: Udderbelly\nTickets: $683\, $595\, $385 from HKTicketing
URL:https://www.bcmagazine.net/event/wil-anderson/
LOCATION:Udderbelly\, Central Harbourfront\, 9 Lung Wo Road\, Central\, Hong Kong
CATEGORIES:2016,Comedy,Cultural Festival,Performing Arts
GEO:22.2826223;114.164346
X-APPLE-STRUCTURED-LOCATION;VALUE=URI;X-ADDRESS=Udderbelly Central Harbourfront 9 Lung Wo Road Central Hong Kong;X-APPLE-RADIUS=500;X-TITLE=Central Harbourfront\, 9 Lung Wo Road:geo:114.164346,22.2826223
END:VEVENT
BEGIN:VEVENT
DTSTART;TZID=Asia/Hong_Kong:20160106T194500
DTEND;TZID=Asia/Hong_Kong:20160106T224500
DTSTAMP:20260426T071722
CREATED:19151126T154143Z
LAST-MODIFIED:20151202T001243Z
UID:10000171-1452109500-1452120300@www.bcmagazine.net
SUMMARY:Cantonese Opera
DESCRIPTION:Cantonese Opera\nDate: 7:45pm\,  23 December – 9 January\, 2016\nVenue: HKAPA\, Lyric Theatre\nTickets: $880\, $680\, $480\, $280 from HKTicketing
URL:https://www.bcmagazine.net/event/cantonese-opera-2/2016-01-06/
LOCATION:HKAPA: Lyric Theatre\, 1 Gloucester Road\, Wanchai\, Hong Kong
CATEGORIES:2015,2016,Cantonese Opera,Music,Performing Arts
GEO:22.2801854;114.1695054
X-APPLE-STRUCTURED-LOCATION;VALUE=URI;X-ADDRESS=HKAPA: Lyric Theatre 1 Gloucester Road Wanchai Hong Kong;X-APPLE-RADIUS=500;X-TITLE=1 Gloucester Road:geo:114.1695054,22.2801854
END:VEVENT
BEGIN:VEVENT
DTSTART;TZID=Asia/Hong_Kong:20160106T200000
DTEND;TZID=Asia/Hong_Kong:20160106T200000
DTSTAMP:20260426T071722
CREATED:19151208T095442Z
LAST-MODIFIED:20151208T104055Z
UID:10000852-1452110400-1452110400@www.bcmagazine.net
SUMMARY:Fragments of Lost Time
DESCRIPTION:Fragments of Lost Time\nHong Kong New Music Ensemble & The Modern Academy Fellows\nThe Modern Academy II Concert Series\nDate: 8pm 6 January\, 2016\nVenue: Y Studio\, Youth Square\nTickets: Free\, registration required
URL:https://www.bcmagazine.net/event/fragments-of-lost-time-2016/
LOCATION:Youth Square\, Y Theatre\, 238 Chai Wan Road\, Chai Wan\, Hong Kong
CATEGORIES:2016,Concert,Music,Performing Arts
GEO:22.26301;114.2366034
X-APPLE-STRUCTURED-LOCATION;VALUE=URI;X-ADDRESS=Youth Square Y Theatre 238 Chai Wan Road Chai Wan Hong Kong;X-APPLE-RADIUS=500;X-TITLE=238 Chai Wan Road:geo:114.2366034,22.26301
END:VEVENT
END:VCALENDAR