BEGIN:VCALENDAR
VERSION:2.0
PRODID:-//bc magazine - ECPv6.15.20//NONSGML v1.0//EN
CALSCALE:GREGORIAN
METHOD:PUBLISH
X-WR-CALNAME:bc magazine
X-ORIGINAL-URL:https://www.bcmagazine.net
X-WR-CALDESC:Events for bc magazine
REFRESH-INTERVAL;VALUE=DURATION:PT1H
X-Robots-Tag:noindex
X-PUBLISHED-TTL:PT1H
BEGIN:VTIMEZONE
TZID:Asia/Hong_Kong
BEGIN:STANDARD
TZOFFSETFROM:+0800
TZOFFSETTO:+0800
TZNAME:HKT
DTSTART:20140101T000000
END:STANDARD
END:VTIMEZONE
BEGIN:VEVENT
DTSTART;VALUE=DATE:20151223
DTEND;VALUE=DATE:20160329
DTSTAMP:20260426T061315
CREATED:20151205T153540Z
LAST-MODIFIED:20160105T154954Z
UID:10005084-1450828800-1459209599@www.bcmagazine.net
SUMMARY:Tung Wah Charity Carnival
DESCRIPTION:Tung Wah Charity Carnival\nDate: 23 December 2015 – 28 March 2016\nVenue: Kai Tak Runway\nTickets: $180\nMore info:\nWeekdays: 3-11pm\nFriday\, Saturday: 11am-11pm\nwww.twcarnival.hk
URL:https://www.bcmagazine.net/event/tung-wah-charity-carnival-2016/
LOCATION:Kai Tak Runway\, Kai Tak\, Kowloon City\, Hong Kong
CATEGORIES:2015,2016,Nightlife
GEO:22.3246084;114.1990482
X-APPLE-STRUCTURED-LOCATION;VALUE=URI;X-ADDRESS=Kai Tak Runway Kai Tak Kowloon City Hong Kong;X-APPLE-RADIUS=500;X-TITLE=Kai Tak:geo:114.1990482,22.3246084
END:VEVENT
BEGIN:VEVENT
DTSTART;VALUE=DATE:20160209
DTEND;VALUE=DATE:20160215
DTSTAMP:20260426T061315
CREATED:19151002T021919Z
LAST-MODIFIED:20151002T022202Z
UID:10000457-1454976000-1455494399@www.bcmagazine.net
SUMMARY:This is Flawless
DESCRIPTION:This is Flawless\nUdderbelly Festival\nDate: 2-8\, 9-14 February\, 2016\nVenue: Udderbelly\nTickets: $523\, $435\, $385 from HKTicketing\nMore info:\n2 Feb 2016 (Tue) at 7pm\n3 Feb 2016 (Wed) at 7pm\n4 Feb 2016 (Thu) at 7pm\n5 Feb 2016 (Fri) at 7:15pm\n6 Feb 2016 (Sat) at 4pm & 7:15pm\n7 Feb 2016 (Sun) at 4pm & 7pm \n9 Feb 2016 (Tue) at 7pm\n10 Feb 2016 (Wed) at 7pm\n11 Feb 2016 (Thu) at 7pm\n12 Feb 2016 (Fri) at 7:15pm\n13 Feb 2016 (Sat) at 7:15pm\n14 Feb 2016 (Sun) at 7pm
URL:https://www.bcmagazine.net/event/this-is-flawless-2/
LOCATION:Udderbelly\, Central Harbourfront\, 9 Lung Wo Road\, Central\, Hong Kong
CATEGORIES:2016,Cultural Festival,Dance,Performing Arts
GEO:22.2826223;114.164346
X-APPLE-STRUCTURED-LOCATION;VALUE=URI;X-ADDRESS=Udderbelly Central Harbourfront 9 Lung Wo Road Central Hong Kong;X-APPLE-RADIUS=500;X-TITLE=Central Harbourfront\, 9 Lung Wo Road:geo:114.164346,22.2826223
END:VEVENT
BEGIN:VEVENT
DTSTART;VALUE=DATE:20160211
DTEND;VALUE=DATE:20160215
DTSTAMP:20260426T061315
CREATED:19150831T223658Z
LAST-MODIFIED:20150831T224030Z
UID:10000211-1455148800-1455494399@www.bcmagazine.net
SUMMARY:Erth's Dinosaur Zoo
DESCRIPTION:KIDSFEST! 2016: Erth’s Dinosaur Zoo\nUdderbelly Festival\nDate: 11-14 February\, 2016\nVenue: Udderbelly\, Central Harbourfront\nTickets: $523\, $435\, $385 from HKTicketing\nMore info:\nPerformed in English\n11 Feb 2015 (Thu) at 10am & 3pm\n12 Feb 2015 (Fri) at 10am & 3pm\n13 Feb 2015 (Sat) at 10am & 3pm\n14 Feb 2015 (Sun) at 10am & 3pm \nPerformed in Cantonese\n11 Feb 2015 (Thu) at 12pm & 5pm\n12 Feb 2015 (Fri) at 12pm & 5pm\n13 Feb 2015 (Sat) at 12pm & 5pm\n14 Feb 2015 (Sun) at 12pm & 5pm
URL:https://www.bcmagazine.net/event/erths-dinosaur-zoo/
LOCATION:Udderbelly\, Central Harbourfront\, 9 Lung Wo Road\, Central\, Hong Kong
CATEGORIES:2016,Cultural Festival,Performing Arts,Theatre
GEO:22.2826223;114.164346
X-APPLE-STRUCTURED-LOCATION;VALUE=URI;X-ADDRESS=Udderbelly Central Harbourfront 9 Lung Wo Road Central Hong Kong;X-APPLE-RADIUS=500;X-TITLE=Central Harbourfront\, 9 Lung Wo Road:geo:114.164346,22.2826223
END:VEVENT
BEGIN:VEVENT
DTSTART;VALUE=DATE:20160211
DTEND;VALUE=DATE:20160215
DTSTAMP:20260426T061315
CREATED:19151002T024626Z
LAST-MODIFIED:20151002T024808Z
UID:10000471-1455148800-1455494399@www.bcmagazine.net
SUMMARY:Edinburgh Festival Allstars
DESCRIPTION:Edinburgh Festival Allstars\nUdderbelly Festival\nDate: 4-7\, 11-14 February\, 2016\nVenue: Udderbelly\nTickets: $523\, $435\, $385 from HKTicketing\nMore info:\n04 Feb 2016 (Thu) at 9pm\n05 Feb 2016 (Fri) at 9:15pm\n06 Feb 2016 (Sat) at 9:15pm\n07 Feb 2016 (Sun) at 9pm \n11 Feb 2016 (Thu) at 9pm\n12 Feb 2016 (Fri) at 9:15pm\n13 Feb 2016 (Sat) at 9:15pm\n14 Feb 2016 (Sun) at 9pm
URL:https://www.bcmagazine.net/event/edinburgh-festival-allstars/
LOCATION:Udderbelly\, Central Harbourfront\, 9 Lung Wo Road\, Central\, Hong Kong
CATEGORIES:2016,Comedy,Cultural Festival,Dance,Music,Performing Arts
GEO:22.2826223;114.164346
X-APPLE-STRUCTURED-LOCATION;VALUE=URI;X-ADDRESS=Udderbelly Central Harbourfront 9 Lung Wo Road Central Hong Kong;X-APPLE-RADIUS=500;X-TITLE=Central Harbourfront\, 9 Lung Wo Road:geo:114.164346,22.2826223
END:VEVENT
BEGIN:VEVENT
DTSTART;TZID=Asia/Hong_Kong:20160212T120000
DTEND;TZID=Asia/Hong_Kong:20160212T200000
DTSTAMP:20260426T061315
CREATED:19160202T040055Z
LAST-MODIFIED:20160202T041832Z
UID:10000300-1455278400-1455307200@www.bcmagazine.net
SUMMARY:Wedding Fair
DESCRIPTION:82 Hong Kong Wedding Fair\nDate: 12 noon-8pm\, 12-14 February\, 2016\nVenue: HK Convention and Exhibition Centre\nTickets: $20
URL:https://www.bcmagazine.net/event/wedding-fair/2016-02-12/
LOCATION:HK Convention and Exhibition Centre\, 1 Expo Drive\, Wanchai\, Hong Kong
CATEGORIES:2016,Exhibition
END:VEVENT
BEGIN:VEVENT
DTSTART;TZID=Asia/Hong_Kong:20160212T201500
DTEND;TZID=Asia/Hong_Kong:20160212T201500
DTSTAMP:20260426T061315
CREATED:19151221T123514Z
LAST-MODIFIED:20151221T124209Z
UID:10000225-1455308100-1455308100@www.bcmagazine.net
SUMMARY:Wynners
DESCRIPTION:Wynners Live in Concert\nDate: 8:15pm\, 6-13 February\, 2016\nVenue: HK Coliseum\nTickets: $780\, $480\, $280 from Urbtix
URL:https://www.bcmagazine.net/event/wynners-2016/2016-02-12/
LOCATION:HK Coliseum\, 9 Cheong Wan Road\, Hung Hom\, Hong Kong
CATEGORIES:2016,Concert,Music,Performing Arts
GEO:22.3014169;114.1820305
X-APPLE-STRUCTURED-LOCATION;VALUE=URI;X-ADDRESS=HK Coliseum 9 Cheong Wan Road Hung Hom Hong Kong;X-APPLE-RADIUS=500;X-TITLE=9 Cheong Wan Road:geo:114.1820305,22.3014169
END:VEVENT
BEGIN:VEVENT
DTSTART;TZID=Asia/Hong_Kong:20160213T201500
DTEND;TZID=Asia/Hong_Kong:20160213T201500
DTSTAMP:20260426T061315
CREATED:19151221T123514Z
LAST-MODIFIED:20151221T124209Z
UID:10000226-1455394500-1455394500@www.bcmagazine.net
SUMMARY:Wynners
DESCRIPTION:Wynners Live in Concert\nDate: 8:15pm\, 6-13 February\, 2016\nVenue: HK Coliseum\nTickets: $780\, $480\, $280 from Urbtix
URL:https://www.bcmagazine.net/event/wynners-2016/2016-02-13/
LOCATION:HK Coliseum\, 9 Cheong Wan Road\, Hung Hom\, Hong Kong
CATEGORIES:2016,Concert,Music,Performing Arts
GEO:22.3014169;114.1820305
X-APPLE-STRUCTURED-LOCATION;VALUE=URI;X-ADDRESS=HK Coliseum 9 Cheong Wan Road Hung Hom Hong Kong;X-APPLE-RADIUS=500;X-TITLE=9 Cheong Wan Road:geo:114.1820305,22.3014169
END:VEVENT
BEGIN:VEVENT
DTSTART;TZID=Asia/Hong_Kong:20160214T110000
DTEND;TZID=Asia/Hong_Kong:20160214T190000
DTSTAMP:20260426T061315
CREATED:19151212T131918Z
LAST-MODIFIED:20151212T132213Z
UID:10000861-1455447600-1455476400@www.bcmagazine.net
SUMMARY:Comic World 41
DESCRIPTION:Comic World 41\nDate: 11am-7pm\, 14 February\, 2016\nVenue: KITEC\nTickets: $30
URL:https://www.bcmagazine.net/event/comic-world-41/
LOCATION:KITEC (Kowloon Bay International Trade & Exhibition Centre)\, 1 Trademart Drive\, Kowloon Bay\, Hong Kong
CATEGORIES:2016,Exhibition
GEO:22.3239575;114.2037608
X-APPLE-STRUCTURED-LOCATION;VALUE=URI;X-ADDRESS=KITEC (Kowloon Bay International Trade & Exhibition Centre) 1 Trademart Drive Kowloon Bay Hong Kong;X-APPLE-RADIUS=500;X-TITLE=1 Trademart Drive:geo:114.2037608,22.3239575
END:VEVENT
BEGIN:VEVENT
DTSTART;TZID=Asia/Hong_Kong:20160214T141500
DTEND;TZID=Asia/Hong_Kong:20160214T170000
DTSTAMP:20260426T061315
CREATED:19160107T090752Z
LAST-MODIFIED:20160107T090935Z
UID:10000294-1455459300-1455469200@www.bcmagazine.net
SUMMARY:Cantonese Opera
DESCRIPTION:Cantonese Opera\nChoi Fung Cheung Opera Troupe\nDate: 2:15pm\, 14 February\, 2016\nVenue: Ko Shan Theatre\nTickets: $160\, $100\, $50 from Urbtix
URL:https://www.bcmagazine.net/event/cantonese-opera-7/
LOCATION:Ko Shan Theatre\, 77 Ko Shan Road\, Hung Hom\, Hong Kong
CATEGORIES:2016,Cantonese Opera,Performing Arts
GEO:22.3145097;114.1868281
X-APPLE-STRUCTURED-LOCATION;VALUE=URI;X-ADDRESS=Ko Shan Theatre 77 Ko Shan Road Hung Hom Hong Kong;X-APPLE-RADIUS=500;X-TITLE=77 Ko Shan Road:geo:114.1868281,22.3145097
END:VEVENT
BEGIN:VEVENT
DTSTART;TZID=Asia/Hong_Kong:20160214T190000
DTEND;TZID=Asia/Hong_Kong:20160214T190000
DTSTAMP:20260426T061315
CREATED:20160105T141750Z
LAST-MODIFIED:20160105T141750Z
UID:10006083-1455476400-1455476400@www.bcmagazine.net
SUMMARY:Lee Hong Gi
DESCRIPTION:Lee Hong Gi – Live 302\nDate: 7pm\, 14 February\, 2016\nVenue: AsiaWorld Expo\, Hall 2\nTickets: $1\,480\, $1\,180\, $880\, $580 from HKTicketing (Tickets on sale 6 January)
URL:https://www.bcmagazine.net/event/lee-hong-gi-2016/
LOCATION:AsiaWorld-Expo\, Cheong Wing Road\, Chek Lap Kok\, Lantau\, Hong Kong
CATEGORIES:2016,Concert,Music
GEO:22.3217383;113.9402012
X-APPLE-STRUCTURED-LOCATION;VALUE=URI;X-ADDRESS=AsiaWorld-Expo Cheong Wing Road Chek Lap Kok Lantau Hong Kong;X-APPLE-RADIUS=500;X-TITLE=Cheong Wing Road\, Chek Lap Kok:geo:113.9402012,22.3217383
END:VEVENT
BEGIN:VEVENT
DTSTART;TZID=Asia/Hong_Kong:20160215T193000
DTEND;TZID=Asia/Hong_Kong:20160215T193000
DTSTAMP:20260426T061315
CREATED:19160107T084852Z
LAST-MODIFIED:20160107T085202Z
UID:10001119-1455564600-1455564600@www.bcmagazine.net
SUMMARY:Cantonese Opera
DESCRIPTION:Cantonese Opera\nYiu Ming Sing Cantonese Opera\nDate: 7:30pm\, 15 February\, 2016\nVenue: Ko Shan Theatre\, New Wing Auditorium\nTickets: $150\, $100\, $80\, $60 from Urbtix
URL:https://www.bcmagazine.net/event/cantonese-opera-4/
LOCATION:Ko Shan Theatre New Wing Auditorium\, 77 Ko Shan Road\, Hung Hom\, Hong Kong
CATEGORIES:2016,Cantonese Opera,Performing Arts
GEO:22.3145097;114.1868281
X-APPLE-STRUCTURED-LOCATION;VALUE=URI;X-ADDRESS=Ko Shan Theatre New Wing Auditorium 77 Ko Shan Road Hung Hom Hong Kong;X-APPLE-RADIUS=500;X-TITLE=77 Ko Shan Road:geo:114.1868281,22.3145097
END:VEVENT
BEGIN:VEVENT
DTSTART;VALUE=DATE:20160217
DTEND;VALUE=DATE:20160219
DTSTAMP:20260426T061315
CREATED:20150915T060258Z
LAST-MODIFIED:20150929T034818Z
UID:10005079-1455667200-1455839999@www.bcmagazine.net
SUMMARY:Madonna
DESCRIPTION:Madonna – Rebel Heart Tour\nDate: 8pm\, 17-18 February\, 2016\nVenue: AsiaWorld-Expo\, Arena\nTickets: $16\,888\, $11\,888\, $8\,888\, $6\,888\, $5\,888\, $4\,888\, $2\,488\, $1\,888\, $1\,488\, $688 from HKTicketing – on sale 25 September
URL:https://www.bcmagazine.net/event/madonna/
LOCATION:AsiaWorld-Expo\, Arena\, Cheong Wing Road\, Chek Lap Kok\, Lantau\, Hong Kong
CATEGORIES:2016,Concert,Music
GEO:22.3217383;113.9402012
X-APPLE-STRUCTURED-LOCATION;VALUE=URI;X-ADDRESS=AsiaWorld-Expo Arena Cheong Wing Road Chek Lap Kok Lantau Hong Kong;X-APPLE-RADIUS=500;X-TITLE=Cheong Wing Road\, Chek Lap Kok:geo:113.9402012,22.3217383
END:VEVENT
BEGIN:VEVENT
DTSTART;TZID=Asia/Hong_Kong:20160217T193000
DTEND;TZID=Asia/Hong_Kong:20160217T193000
DTSTAMP:20260426T061315
CREATED:19160107T091052Z
LAST-MODIFIED:20160107T091408Z
UID:10000292-1455737400-1455737400@www.bcmagazine.net
SUMMARY:Cantonese Opera
DESCRIPTION:Cantonese Opera\nBright Sing Cantonese Opera Troupe\nDate: 17-21 February\, 2016\nVenue: Ko Shan Theatre\nTickets: $350\, $280\, $220\, $160\, $120 from Urbtix
URL:https://www.bcmagazine.net/event/cantonese-opera-8/2016-02-17/
LOCATION:Ko Shan Theatre\, 77 Ko Shan Road\, Hung Hom\, Hong Kong
CATEGORIES:2016,Cantonese Opera,Performing Arts
GEO:22.3145097;114.1868281
X-APPLE-STRUCTURED-LOCATION;VALUE=URI;X-ADDRESS=Ko Shan Theatre 77 Ko Shan Road Hung Hom Hong Kong;X-APPLE-RADIUS=500;X-TITLE=77 Ko Shan Road:geo:114.1868281,22.3145097
END:VEVENT
BEGIN:VEVENT
DTSTART;TZID=Asia/Hong_Kong:20160217T200000
DTEND;TZID=Asia/Hong_Kong:20160217T200000
DTSTAMP:20260426T061315
CREATED:19151221T132624Z
LAST-MODIFIED:20151221T133430Z
UID:10001003-1455739200-1455739200@www.bcmagazine.net
SUMMARY:Bianco
DESCRIPTION:Bianco\nNoFit State Circus\nDate: 17-21 February\, 2016\nVenue: Queen Elizabeth Stadium\nTickets: $380 from Urbtix
URL:https://www.bcmagazine.net/event/bianco/2016-02-17/
LOCATION:Queen Elizabeth Stadium\, 18 Oi Kwan Road\, Wanchai\, Hong Kong
CATEGORIES:2016,Performing Arts
GEO:22.2751271;114.1789682
X-APPLE-STRUCTURED-LOCATION;VALUE=URI;X-ADDRESS=Queen Elizabeth Stadium 18 Oi Kwan Road Wanchai Hong Kong;X-APPLE-RADIUS=500;X-TITLE=18 Oi Kwan Road:geo:114.1789682,22.2751271
END:VEVENT
BEGIN:VEVENT
DTSTART;TZID=Asia/Hong_Kong:20160217T200000
DTEND;TZID=Asia/Hong_Kong:20160217T200000
DTSTAMP:20260426T061315
CREATED:19160113T090015Z
LAST-MODIFIED:20160219T081547Z
UID:10001181-1455739200-1455739200@www.bcmagazine.net
SUMMARY:Who's Afraid of Virginia Woolf?
DESCRIPTION:One of America’s greatest plays Who’s Afraid of Virginia Woolf? takes us into the home of George and Martha\, an aged college professor and his fiery wife locked in a battle of the sexes. Inviting younger couple Nick and Honey to the drinks party from hell\, things quickly take a darker turn in Edward Albee’s tragicomedy. As the alcohol flows\, so does the wit\, invective and spite. \nDirector: Jodi Gilchrist\nStarring: Kath O’Connor\, Henry Coombs\, Michelle Edwards and Matthew Rawcliffe \nWho’s Afraid of Virginia Woolf?\nHong Kong Players\nDate: 8pm\, 17-20 February\, 2016\nVenue: HK Arts Centre\, McAulay Studio Theatre\nTickets: $280 from Urbtix
URL:https://www.bcmagazine.net/event/whos-afraid-of-virginia-woolf-2016/2016-02-17/
LOCATION:HK Arts Centre\, McAulay Studio\, 2 Harbour Road\, Wanchai\, Hong Kong
CATEGORIES:2016,Performing Arts,Theatre
GEO:22.280173;114.1708144
X-APPLE-STRUCTURED-LOCATION;VALUE=URI;X-ADDRESS=HK Arts Centre McAulay Studio 2 Harbour Road Wanchai Hong Kong;X-APPLE-RADIUS=500;X-TITLE=2 Harbour Road:geo:114.1708144,22.280173
END:VEVENT
BEGIN:VEVENT
DTSTART;TZID=Asia/Hong_Kong:20160219T090000
DTEND;TZID=Asia/Hong_Kong:20160219T090000
DTSTAMP:20260426T061315
CREATED:19151212T133326Z
LAST-MODIFIED:20151212T134846Z
UID:10000869-1455872400-1455872400@www.bcmagazine.net
SUMMARY:Masters of Hong Kong
DESCRIPTION:Masters of Hong Kong\nDate: 19-21 February\, 2016\nVenue: AsiaWorld Expo\nTickets: $980\, $850\, $720\, $590 from Cityline\nMore info: \nSession 1 – 19 Feb 2016\, 6pm-12:00am: Prestige Seats $720\, Standard Seats $590\nSession 2 – 20 Feb 2016\, 9am-6pm: Standard Seats $330\nSession 3 – 20 Feb 2016\, 6pm-12:00am: Prestige Seats $720\, Standard Seats $590\nSession 4 – 21 Feb 2016\, 9am-6pm: Prestige Seats $980\, Standard Seats $850
URL:https://www.bcmagazine.net/event/masters-of-hong-kong-2016/2016-02-19/
LOCATION:AsiaWorld-Expo\, Cheong Wing Road\, Chek Lap Kok\, Lantau\, Hong Kong
CATEGORIES:2016,Sport
GEO:22.3217383;113.9402012
X-APPLE-STRUCTURED-LOCATION;VALUE=URI;X-ADDRESS=AsiaWorld-Expo Cheong Wing Road Chek Lap Kok Lantau Hong Kong;X-APPLE-RADIUS=500;X-TITLE=Cheong Wing Road\, Chek Lap Kok:geo:113.9402012,22.3217383
END:VEVENT
BEGIN:VEVENT
DTSTART;TZID=Asia/Hong_Kong:20160219T120000
DTEND;TZID=Asia/Hong_Kong:20160219T210000
DTSTAMP:20260426T061315
CREATED:19160202T040823Z
LAST-MODIFIED:20160202T041401Z
UID:10000299-1455883200-1455915600@www.bcmagazine.net
SUMMARY:Pet Show
DESCRIPTION:Pet Show\nDate: 12 noon-9pm\, 19-21 February\, 2016\nVenue: HK Convention and Exhibition Centre\nTickets: $30
URL:https://www.bcmagazine.net/event/pet-show/2016-02-19/
LOCATION:HK Convention and Exhibition Centre\, 1 Expo Drive\, Wanchai\, Hong Kong
CATEGORIES:2016,Exhibition
END:VEVENT
BEGIN:VEVENT
DTSTART;TZID=Asia/Hong_Kong:20160219T120000
DTEND;TZID=Asia/Hong_Kong:20160219T210000
DTSTAMP:20260426T061315
CREATED:19160202T041510Z
LAST-MODIFIED:20160202T042034Z
UID:10000297-1455883200-1455915600@www.bcmagazine.net
SUMMARY:C3 Cosplay
DESCRIPTION:C3 Cosplay – Characters x Culture x Contents\nDate: 12 noon-9pm\, 19-21 February\, 2016\nVenue: HK Convention and Exhibition Centre\nTickets: $35 ($30 Advance)
URL:https://www.bcmagazine.net/event/c3/2016-02-19/
LOCATION:HK Convention and Exhibition Centre\, 1 Expo Drive\, Wanchai\, Hong Kong
CATEGORIES:2016,Exhibition
END:VEVENT
BEGIN:VEVENT
DTSTART;TZID=Asia/Hong_Kong:20160219T200000
DTEND;TZID=Asia/Hong_Kong:20160219T200000
DTSTAMP:20260426T061315
CREATED:19151213T120706Z
LAST-MODIFIED:20151213T123008Z
UID:10000926-1455912000-1455912000@www.bcmagazine.net
SUMMARY:Muted
DESCRIPTION:Open Box: Muted\nRoute Arts Association\nDate: 8pm\, 19-20 February\, 2016\nVenue: ART\nTickets: MOP$120 from MacauTicket
URL:https://www.bcmagazine.net/event/open-box-2016/2016-02-19/
LOCATION:Hong Kong
CATEGORIES:2016,Concert,Dance,Macau,Music
END:VEVENT
BEGIN:VEVENT
DTSTART;TZID=Asia/Hong_Kong:20160219T200000
DTEND;TZID=Asia/Hong_Kong:20160219T200000
DTSTAMP:20260426T061315
CREATED:19160107T084123Z
LAST-MODIFIED:20160107T084343Z
UID:10001112-1455912000-1455912000@www.bcmagazine.net
SUMMARY:Nanyin in Guangdong
DESCRIPTION:Nanyin in Guangdong\nDate: 8pm\, 19 February\, 2016\nVenue: Ko Shan Theatre\, New Wing Auditorium\nTickets: $240\, $160 from Urbtix
URL:https://www.bcmagazine.net/event/nanyin-in-guangdong/
LOCATION:Ko Shan Theatre New Wing Auditorium\, 77 Ko Shan Road\, Hung Hom\, Hong Kong
CATEGORIES:2016,Concert,Music,Performing Arts
GEO:22.3145097;114.1868281
X-APPLE-STRUCTURED-LOCATION;VALUE=URI;X-ADDRESS=Ko Shan Theatre New Wing Auditorium 77 Ko Shan Road Hung Hom Hong Kong;X-APPLE-RADIUS=500;X-TITLE=77 Ko Shan Road:geo:114.1868281,22.3145097
END:VEVENT
BEGIN:VEVENT
DTSTART;TZID=Asia/Hong_Kong:20160219T200000
DTEND;TZID=Asia/Hong_Kong:20160219T200000
DTSTAMP:20260426T061315
CREATED:19160108T032913Z
LAST-MODIFIED:20160108T033519Z
UID:10001161-1455912000-1455912000@www.bcmagazine.net
SUMMARY:Office Mad Man
DESCRIPTION:Office Mad Man\nR&T (Rhythm & Tempo)\nDate: 19-21 February\, 2016\nVenue: Sai Wan Ho Civic Centre\, Theatre\nTickets: $200\, $160 from Urbtix\nMore info:\n19-20 February – 8pm\n21 February – 3pm
URL:https://www.bcmagazine.net/event/office-mad-man/2016-02-19/
LOCATION:Sai Wan Ho Civic Centre\, Theatre\, 111 Shau Kei Wan Road\, Sai Wan Ho\, Hong Kong
CATEGORIES:2016,Dance,Performing Arts,Theatre
GEO:22.282055;114.222378
X-APPLE-STRUCTURED-LOCATION;VALUE=URI;X-ADDRESS=Sai Wan Ho Civic Centre Theatre 111 Shau Kei Wan Road Sai Wan Ho Hong Kong;X-APPLE-RADIUS=500;X-TITLE=111 Shau Kei Wan Road:geo:114.222378,22.282055
END:VEVENT
BEGIN:VEVENT
DTSTART;TZID=Asia/Hong_Kong:20160219T213000
DTEND;TZID=Asia/Hong_Kong:20160219T213000
DTSTAMP:20260426T061315
CREATED:19151213T123019Z
LAST-MODIFIED:20151213T123433Z
UID:10000929-1455917400-1455917400@www.bcmagazine.net
SUMMARY:Weaving Landscarpe
DESCRIPTION:Open Box: Weaving Landscarpe\nThe Stone Commune\nDate: 9:30pm\, 19-20 February\, 2016\nVenue: Macao Cultural Centre\, Small Auditorium\nTickets: MOP$120 from MacauTicket
URL:https://www.bcmagazine.net/event/weaving-landscarpe/2016-02-19/
LOCATION:Macao Cultural Centre\, Small Auditorium\, Macau
CATEGORIES:2016,Macau,Performing Arts,Theatre
END:VEVENT
BEGIN:VEVENT
DTSTART;VALUE=DATE:20160220
DTEND;VALUE=DATE:20160222
DTSTAMP:20260426T061315
CREATED:20151012T124255Z
LAST-MODIFIED:20151013T023922Z
UID:10005078-1455926400-1456099199@www.bcmagazine.net
SUMMARY:Madonna in Macau
DESCRIPTION:Madonna in Macau\nDate: 8pm\, 20-21 February\, 2016\nVenue: Studio City Event Centre\nTickets: MOP$10\,588\, $8\,888\, $7\,888\, $2\,588 from www.studiocity-macau.com\nMore info: Tickets on sale 16 October
URL:https://www.bcmagazine.net/event/madonna-in-macau-2016/
LOCATION:Studio City\, Estrada do Istmo\, Cotai\, Macau
CATEGORIES:2016,Concert,Music
GEO:22.1397693;113.5632663
X-APPLE-STRUCTURED-LOCATION;VALUE=URI;X-ADDRESS=Studio City Estrada do Istmo Cotai Macau;X-APPLE-RADIUS=500;X-TITLE=Estrada do Istmo:geo:113.5632663,22.1397693
END:VEVENT
BEGIN:VEVENT
DTSTART;TZID=Asia/Hong_Kong:20160220T193000
DTEND;TZID=Asia/Hong_Kong:20160220T193000
DTSTAMP:20260426T061315
CREATED:19160107T083835Z
LAST-MODIFIED:20160107T084108Z
UID:10001108-1455996600-1455996600@www.bcmagazine.net
SUMMARY:Cantonese Opera
DESCRIPTION:Cantonese Opera\nMoon On The Water Xiqu Association\nDate: 7:30pm\, 20-21 February\, 2016\nVenue: Ko Shan Theatre\, New Wing Auditorium\nTickets: $180\, $160\, $140\, $120\, $100 from Urbtix
URL:https://www.bcmagazine.net/event/cantonese-opera-3/2016-02-20/
LOCATION:Ko Shan Theatre New Wing Auditorium\, 77 Ko Shan Road\, Hung Hom\, Hong Kong
CATEGORIES:2016,Cantonese Opera,Performing Arts
GEO:22.3145097;114.1868281
X-APPLE-STRUCTURED-LOCATION;VALUE=URI;X-ADDRESS=Ko Shan Theatre New Wing Auditorium 77 Ko Shan Road Hung Hom Hong Kong;X-APPLE-RADIUS=500;X-TITLE=77 Ko Shan Road:geo:114.1868281,22.3145097
END:VEVENT
BEGIN:VEVENT
DTSTART;TZID=Asia/Hong_Kong:20160220T200000
DTEND;TZID=Asia/Hong_Kong:20160220T200000
DTSTAMP:20260426T061315
CREATED:19160202T061003Z
LAST-MODIFIED:20160202T061452Z
UID:10001195-1455998400-1455998400@www.bcmagazine.net
SUMMARY:Glue
DESCRIPTION:Glue\nSupport: Chochukmo\, MouseFX\nDate: 8pm\, 25 February\, 2016\nVenue: Hidden Agenda\nTickets: $180 from Ticketflap
URL:https://www.bcmagazine.net/event/glue-2016/
LOCATION:Hidden Agenda (Livehouse)\, 80 Hung To Road\, Kwun Tong\, Hong Kong
CATEGORIES:2016,Concert,Music
GEO:22.308171;114.223939
X-APPLE-STRUCTURED-LOCATION;VALUE=URI;X-ADDRESS=Hidden Agenda (Livehouse) 80 Hung To Road Kwun Tong Hong Kong;X-APPLE-RADIUS=500;X-TITLE=80 Hung To Road:geo:114.223939,22.308171
END:VEVENT
BEGIN:VEVENT
DTSTART;TZID=Asia/Hong_Kong:20160220T213000
DTEND;TZID=Asia/Hong_Kong:20160220T213000
DTSTAMP:20260426T061315
CREATED:19151213T123019Z
LAST-MODIFIED:20151213T123433Z
UID:10000930-1456003800-1456003800@www.bcmagazine.net
SUMMARY:Weaving Landscarpe
DESCRIPTION:Open Box: Weaving Landscarpe\nThe Stone Commune\nDate: 9:30pm\, 19-20 February\, 2016\nVenue: Macao Cultural Centre\, Small Auditorium\nTickets: MOP$120 from MacauTicket
URL:https://www.bcmagazine.net/event/weaving-landscarpe/2016-02-20/
LOCATION:Macao Cultural Centre\, Small Auditorium\, Macau
CATEGORIES:2016,Macau,Performing Arts,Theatre
END:VEVENT
BEGIN:VEVENT
DTSTART;TZID=Asia/Hong_Kong:20160221T193000
DTEND;TZID=Asia/Hong_Kong:20160221T193000
DTSTAMP:20260426T061315
CREATED:19160107T083835Z
LAST-MODIFIED:20160107T084108Z
UID:10001109-1456083000-1456083000@www.bcmagazine.net
SUMMARY:Cantonese Opera
DESCRIPTION:Cantonese Opera\nMoon On The Water Xiqu Association\nDate: 7:30pm\, 20-21 February\, 2016\nVenue: Ko Shan Theatre\, New Wing Auditorium\nTickets: $180\, $160\, $140\, $120\, $100 from Urbtix
URL:https://www.bcmagazine.net/event/cantonese-opera-3/2016-02-21/
LOCATION:Ko Shan Theatre New Wing Auditorium\, 77 Ko Shan Road\, Hung Hom\, Hong Kong
CATEGORIES:2016,Cantonese Opera,Performing Arts
GEO:22.3145097;114.1868281
X-APPLE-STRUCTURED-LOCATION;VALUE=URI;X-ADDRESS=Ko Shan Theatre New Wing Auditorium 77 Ko Shan Road Hung Hom Hong Kong;X-APPLE-RADIUS=500;X-TITLE=77 Ko Shan Road:geo:114.1868281,22.3145097
END:VEVENT
BEGIN:VEVENT
DTSTART;TZID=Asia/Hong_Kong:20160222T200000
DTEND;TZID=Asia/Hong_Kong:20160222T200000
DTSTAMP:20260426T061315
CREATED:19160105T144031Z
LAST-MODIFIED:20160105T145333Z
UID:10001064-1456171200-1456171200@www.bcmagazine.net
SUMMARY:Mika
DESCRIPTION:Mika Live in Hong Kong\nDate: 8pm\, 22 February\, 2016\nVenue: The Vine Centre\nTickets: $590 from Ticketflap
URL:https://www.bcmagazine.net/event/mika-2016/
LOCATION:The Vine Centre\, 29 Burrows Street\, Wanchai\, Hong Kong
CATEGORIES:2016,Concert,Music
GEO:22.2762216;114.1763629
X-APPLE-STRUCTURED-LOCATION;VALUE=URI;X-ADDRESS=The Vine Centre 29 Burrows Street Wanchai Hong Kong;X-APPLE-RADIUS=500;X-TITLE=29 Burrows Street:geo:114.1763629,22.2762216
END:VEVENT
BEGIN:VEVENT
DTSTART;TZID=Asia/Hong_Kong:20160222T200000
DTEND;TZID=Asia/Hong_Kong:20160222T200000
DTSTAMP:20260426T061315
CREATED:19160107T105405Z
LAST-MODIFIED:20160107T110050Z
UID:10001131-1456171200-1456171200@www.bcmagazine.net
SUMMARY:Cecilia Fong
DESCRIPTION:Cecilia Fong\nDate: 8pm\, 22 February\, 2016\nVenue: HK Cultural Centre\, Concert Hall\nTickets: $450\, $350\, $250\, $150 from Urbtix
URL:https://www.bcmagazine.net/event/cecilia-fong/
LOCATION:HK Cultural Centre\, Concert Hall\, 10 Salisbury Road\, Tsim Sha Tsui\, Hong Kong
CATEGORIES:2016,Concert,Music
GEO:22.294318;114.171708
X-APPLE-STRUCTURED-LOCATION;VALUE=URI;X-ADDRESS=HK Cultural Centre Concert Hall 10 Salisbury Road Tsim Sha Tsui Hong Kong;X-APPLE-RADIUS=500;X-TITLE=10 Salisbury Road:geo:114.171708,22.294318
END:VEVENT
BEGIN:VEVENT
DTSTART;TZID=Asia/Hong_Kong:20160223T200000
DTEND;TZID=Asia/Hong_Kong:20160223T200000
DTSTAMP:20260426T061316
CREATED:19160107T110056Z
LAST-MODIFIED:20160107T110301Z
UID:10001134-1456257600-1456257600@www.bcmagazine.net
SUMMARY:Tam Sik Hay
DESCRIPTION:Tam Sik Hay\nDate: 8pm\, 23 February\, 2016\nVenue: HK Cultural Centre\, Concert Hall\nTickets: $380\, $280\, $180\, $120 from Urbtix
URL:https://www.bcmagazine.net/event/tam-sik-hay/
LOCATION:HK Cultural Centre\, Concert Hall\, 10 Salisbury Road\, Tsim Sha Tsui\, Hong Kong
CATEGORIES:2016,Concert,Music,Performing Arts
GEO:22.294318;114.171708
X-APPLE-STRUCTURED-LOCATION;VALUE=URI;X-ADDRESS=HK Cultural Centre Concert Hall 10 Salisbury Road Tsim Sha Tsui Hong Kong;X-APPLE-RADIUS=500;X-TITLE=10 Salisbury Road:geo:114.171708,22.294318
END:VEVENT
END:VCALENDAR