BEGIN:VCALENDAR
VERSION:2.0
PRODID:-//bc magazine - ECPv6.15.20//NONSGML v1.0//EN
CALSCALE:GREGORIAN
METHOD:PUBLISH
X-WR-CALNAME:bc magazine
X-ORIGINAL-URL:https://www.bcmagazine.net
X-WR-CALDESC:Events for bc magazine
REFRESH-INTERVAL;VALUE=DURATION:PT1H
X-Robots-Tag:noindex
X-PUBLISHED-TTL:PT1H
BEGIN:VTIMEZONE
TZID:Asia/Hong_Kong
BEGIN:STANDARD
TZOFFSETFROM:+0800
TZOFFSETTO:+0800
TZNAME:HKT
DTSTART:20140101T000000
END:STANDARD
END:VTIMEZONE
BEGIN:VEVENT
DTSTART;VALUE=DATE:20151223
DTEND;VALUE=DATE:20160329
DTSTAMP:20260426T093901
CREATED:20151205T153540Z
LAST-MODIFIED:20160105T154954Z
UID:10005084-1450828800-1459209599@www.bcmagazine.net
SUMMARY:Tung Wah Charity Carnival
DESCRIPTION:Tung Wah Charity Carnival\nDate: 23 December 2015 – 28 March 2016\nVenue: Kai Tak Runway\nTickets: $180\nMore info:\nWeekdays: 3-11pm\nFriday\, Saturday: 11am-11pm\nwww.twcarnival.hk
URL:https://www.bcmagazine.net/event/tung-wah-charity-carnival-2016/
LOCATION:Kai Tak Runway\, Kai Tak\, Kowloon City\, Hong Kong
CATEGORIES:2015,2016,Nightlife
GEO:22.3246084;114.1990482
X-APPLE-STRUCTURED-LOCATION;VALUE=URI;X-ADDRESS=Kai Tak Runway Kai Tak Kowloon City Hong Kong;X-APPLE-RADIUS=500;X-TITLE=Kai Tak:geo:114.1990482,22.3246084
END:VEVENT
BEGIN:VEVENT
DTSTART;VALUE=DATE:20160321
DTEND;VALUE=DATE:20160327
DTSTAMP:20260426T093901
CREATED:19151212T184843Z
LAST-MODIFIED:20220923T114526Z
UID:10000919-1458518400-1459036799@www.bcmagazine.net
SUMMARY:Art Central
DESCRIPTION:Art Central\nDate: 21\, 23-26 March\, 2016\nVenue: Central Harbourfront\nTickets: $500\, $230 from HKTicketing
URL:https://www.bcmagazine.net/event/art-central/
LOCATION:Central Harbourfront\,  9 Lung Wo Road\, Central\, Hong Kong
CATEGORIES:2016,Art Gallery,Exhibition
GEO:22.2826223;114.164346
X-APPLE-STRUCTURED-LOCATION;VALUE=URI;X-ADDRESS=Central Harbourfront  9 Lung Wo Road Central Hong Kong;X-APPLE-RADIUS=500;X-TITLE=9 Lung Wo Road:geo:114.164346,22.2826223
END:VEVENT
BEGIN:VEVENT
DTSTART;TZID=Asia/Hong_Kong:20160321T200000
DTEND;TZID=Asia/Hong_Kong:20160321T200000
DTSTAMP:20260426T093901
CREATED:19160107T111234Z
LAST-MODIFIED:20160107T111516Z
UID:10001147-1458590400-1458590400@www.bcmagazine.net
SUMMARY:Joe Mok
DESCRIPTION:Joe Mok\nDate: 8pm\, 21 March\, 2016\nVenue: HK Cultural Centre\, Concert Hall\nTickets: $450\, $350\, $250\, $150 from Urbtix
URL:https://www.bcmagazine.net/event/joe-mok/
LOCATION:HK Cultural Centre\, Concert Hall\, 10 Salisbury Road\, Tsim Sha Tsui\, Hong Kong
CATEGORIES:2016,Concert,Music,Performing Arts
GEO:22.294318;114.171708
X-APPLE-STRUCTURED-LOCATION;VALUE=URI;X-ADDRESS=HK Cultural Centre Concert Hall 10 Salisbury Road Tsim Sha Tsui Hong Kong;X-APPLE-RADIUS=500;X-TITLE=10 Salisbury Road:geo:114.171708,22.294318
END:VEVENT
BEGIN:VEVENT
DTSTART;TZID=Asia/Hong_Kong:20160322T184500
DTEND;TZID=Asia/Hong_Kong:20160322T184500
DTSTAMP:20260426T093901
CREATED:19160316T150415Z
LAST-MODIFIED:20160316T150556Z
UID:10001491-1458672300-1458672300@www.bcmagazine.net
SUMMARY:Gloucester String Quartet
DESCRIPTION:Gloucester String Quartet\nDate: 6:45pm 22 March\, 2016\nVenue: Ladies Recreation Club\nTickets: $320
URL:https://www.bcmagazine.net/event/gloucester-string-quartet/
LOCATION:Ladies Recreation Club\, 10 Old Peak Road\, Hong Kong
CATEGORIES:2016,Concert,Music
GEO:22.2754021;114.1538264
X-APPLE-STRUCTURED-LOCATION;VALUE=URI;X-ADDRESS=Ladies Recreation Club 10 Old Peak Road Hong Kong;X-APPLE-RADIUS=500;X-TITLE=10 Old Peak Road:geo:114.1538264,22.2754021
END:VEVENT
BEGIN:VEVENT
DTSTART;TZID=Asia/Hong_Kong:20160323T203000
DTEND;TZID=Asia/Hong_Kong:20160323T203000
DTSTAMP:20260426T093901
CREATED:19160305T030522Z
LAST-MODIFIED:20160305T031001Z
UID:10001420-1458765000-1458765000@www.bcmagazine.net
SUMMARY:Epica
DESCRIPTION:Epica The Asian Enigma\nDate: 8:30pm\, 23 March\, 2016\nVenue: Music Zone@E-Max\nTickets: $480 from Ticketflap
URL:https://www.bcmagazine.net/event/epica-the-asian-enigma-2016/
LOCATION:KITEC\, Music Zone@E-Max\, KITEC\,‎ 1 Trademart Drive\, Kowloon Bay\, Hong Kong
CATEGORIES:2016,Concert,Music
GEO:22.3239575;114.2037608
X-APPLE-STRUCTURED-LOCATION;VALUE=URI;X-ADDRESS=KITEC Music Zone@E-Max KITEC‎ 1 Trademart Drive Kowloon Bay Hong Kong;X-APPLE-RADIUS=500;X-TITLE=KITEC\,‎ 1 Trademart Drive:geo:114.2037608,22.3239575
END:VEVENT
BEGIN:VEVENT
DTSTART;VALUE=DATE:20160324
DTEND;VALUE=DATE:20160327
DTSTAMP:20260426T093901
CREATED:19151212T142309Z
LAST-MODIFIED:20161108T020511Z
UID:10000207-1458777600-1459036799@www.bcmagazine.net
SUMMARY:Art Basel
DESCRIPTION:Art Basel in Asia\nDate: 24-26 March\, 2016\nVenue: HK Convention & Exhibition Centre\nTickets: tbc
URL:https://www.bcmagazine.net/event/art-basel-2016/
LOCATION:HK Convention and Exhibition Centre\, 1 Expo Drive\, Wanchai\, Hong Kong
CATEGORIES:2016,Art Gallery,Exhibition
END:VEVENT
BEGIN:VEVENT
DTSTART;TZID=Asia/Hong_Kong:20160324T183000
DTEND;TZID=Asia/Hong_Kong:20160324T183000
DTSTAMP:20260426T093901
CREATED:19160221T064912Z
LAST-MODIFIED:20160221T065148Z
UID:10001373-1458844200-1458844200@www.bcmagazine.net
SUMMARY:Intelligence Squared Debate
DESCRIPTION:Intelligence Squared Debate\nDate: 6:30pm 24 March\, 2016\nVenue: HKCEC Meeting Room N101\nTickets: $300 from HKTicketing
URL:https://www.bcmagazine.net/event/intelligence-squared-debate/
LOCATION:HK Convention and Exhibition Centre\, 1 Expo Drive\, Wanchai\, Hong Kong
CATEGORIES:2016,Art Gallery
END:VEVENT
BEGIN:VEVENT
DTSTART;TZID=Asia/Hong_Kong:20160325T110000
DTEND;TZID=Asia/Hong_Kong:20160325T123000
DTSTAMP:20260426T093901
CREATED:19160105T131633Z
LAST-MODIFIED:20160105T132908Z
UID:10001021-1458903600-1458909000@www.bcmagazine.net
SUMMARY:Barney
DESCRIPTION:Barney’s Greatest Hits\nDate: 11am\, 2pm\, 5pm\, 25-27 March\, 2016\nVenue: Star Hall\nTickets: $700\, $580\, $480\, $450\, $350\, $250\, $150 from HKTicketing
URL:https://www.bcmagazine.net/event/barney-greatest-hits-2016/2016-03-25/
LOCATION:KITEC\, Star Hall\, KITEC\, 1 Trademart Drive\, Kowloon Bay\, Hong Kong
CATEGORIES:2016,Performing Arts
GEO:22.3239575;114.2037608
X-APPLE-STRUCTURED-LOCATION;VALUE=URI;X-ADDRESS=KITEC Star Hall KITEC 1 Trademart Drive Kowloon Bay Hong Kong;X-APPLE-RADIUS=500;X-TITLE=KITEC\, 1 Trademart Drive:geo:114.2037608,22.3239575
END:VEVENT
BEGIN:VEVENT
DTSTART;TZID=Asia/Hong_Kong:20160325T200000
DTEND;TZID=Asia/Hong_Kong:20160325T200000
DTSTAMP:20260426T093901
CREATED:19151024T141715Z
LAST-MODIFIED:20160107T101211Z
UID:10000144-1458936000-1458936000@www.bcmagazine.net
SUMMARY:Months on End
DESCRIPTION:Months on End\nChung Ying Theatre\nDate: 25-27\, 30-31 March\, 1-3 April\, 2016\nVenue: HK Cultural Centre\, Studio Theatre\nTickets: $280\, $180 from Urbtix\nMore info:\n25-26\, 30-31 March – 8pm\n26-27 March – 3pm\n1-2 April – 8pm\n2-3 April – 3pm
URL:https://www.bcmagazine.net/event/months-on-end-2016/2016-03-25/
LOCATION:HK Cultural Centre\, Studio Theatre\, 10 Salisbury Road\, Tsim Sha Tsui\, Hong Kong
CATEGORIES:2016,Performing Arts,Theatre
END:VEVENT
BEGIN:VEVENT
DTSTART;TZID=Asia/Hong_Kong:20160325T201500
DTEND;TZID=Asia/Hong_Kong:20160325T201500
DTSTAMP:20260426T093901
CREATED:19160217T065056Z
LAST-MODIFIED:20160217T070824Z
UID:10001355-1458936900-1458936900@www.bcmagazine.net
SUMMARY:Sandy Lam
DESCRIPTION:Sandy Lam PRANAVA\nDate: 8:15pm\, 25-28 March\, 2016\nVenue: HK Coliseum\nTickets: $780\, $480\, $300 from Urbtix
URL:https://www.bcmagazine.net/event/sandy-lam-pranava/2016-03-25/
LOCATION:HK Coliseum\, 9 Cheong Wan Road\, Hung Hom\, Hong Kong
CATEGORIES:2016,Concert,Music
GEO:22.3014169;114.1820305
X-APPLE-STRUCTURED-LOCATION;VALUE=URI;X-ADDRESS=HK Coliseum 9 Cheong Wan Road Hung Hom Hong Kong;X-APPLE-RADIUS=500;X-TITLE=9 Cheong Wan Road:geo:114.1820305,22.3014169
END:VEVENT
BEGIN:VEVENT
DTSTART;TZID=Asia/Hong_Kong:20160326T200000
DTEND;TZID=Asia/Hong_Kong:20160326T200000
DTSTAMP:20260426T093901
CREATED:19160224T083317Z
LAST-MODIFIED:20160224T083752Z
UID:10000343-1459022400-1459022400@www.bcmagazine.net
SUMMARY:S.H.E.
DESCRIPTION:S.H.E’s ‘Never Say Goodbye’\nDate: 8pm\, 26 March\, 2016\nVenue: Studio City\, Macau\nTickets: $25\,000\, $1\,580\, $1\,080\, $880\, $680\, $480
URL:https://www.bcmagazine.net/event/s-h-e/
LOCATION:Studio City\, Estrada do Istmo\, Cotai\, Macau
CATEGORIES:2016,Concert,Macau,Music
GEO:22.1397693;113.5632663
X-APPLE-STRUCTURED-LOCATION;VALUE=URI;X-ADDRESS=Studio City Estrada do Istmo Cotai Macau;X-APPLE-RADIUS=500;X-TITLE=Estrada do Istmo:geo:113.5632663,22.1397693
END:VEVENT
BEGIN:VEVENT
DTSTART;TZID=Asia/Hong_Kong:20160326T201500
DTEND;TZID=Asia/Hong_Kong:20160326T201500
DTSTAMP:20260426T093901
CREATED:19160217T065056Z
LAST-MODIFIED:20160217T070824Z
UID:10001356-1459023300-1459023300@www.bcmagazine.net
SUMMARY:Sandy Lam
DESCRIPTION:Sandy Lam PRANAVA\nDate: 8:15pm\, 25-28 March\, 2016\nVenue: HK Coliseum\nTickets: $780\, $480\, $300 from Urbtix
URL:https://www.bcmagazine.net/event/sandy-lam-pranava/2016-03-26/
LOCATION:HK Coliseum\, 9 Cheong Wan Road\, Hung Hom\, Hong Kong
CATEGORIES:2016,Concert,Music
GEO:22.3014169;114.1820305
X-APPLE-STRUCTURED-LOCATION;VALUE=URI;X-ADDRESS=HK Coliseum 9 Cheong Wan Road Hung Hom Hong Kong;X-APPLE-RADIUS=500;X-TITLE=9 Cheong Wan Road:geo:114.1820305,22.3014169
END:VEVENT
BEGIN:VEVENT
DTSTART;TZID=Asia/Hong_Kong:20160326T201500
DTEND;TZID=Asia/Hong_Kong:20160326T201500
DTSTAMP:20260426T093901
CREATED:20151212T152513Z
LAST-MODIFIED:20151212T164151Z
UID:10006078-1459023300-1459023300@www.bcmagazine.net
SUMMARY:Namie Amuro
DESCRIPTION:Namie Amuro Livegenic\nDate: 8:15pm\, 26 March\, 2016\nVenue: AsiaWorld Expo\, Arena\nTickets: $1\,680\, $1\,480\, $1\,280\, $980\, $680 from HKTicketing (14-18 December priority sale\, 8 January – public sale)
URL:https://www.bcmagazine.net/event/namie-amuro/
LOCATION:AsiaWorld-Expo\, Arena\, Cheong Wing Road\, Chek Lap Kok\, Lantau\, Hong Kong
CATEGORIES:2016,Concert,Music
GEO:22.3217383;113.9402012
X-APPLE-STRUCTURED-LOCATION;VALUE=URI;X-ADDRESS=AsiaWorld-Expo Arena Cheong Wing Road Chek Lap Kok Lantau Hong Kong;X-APPLE-RADIUS=500;X-TITLE=Cheong Wing Road\, Chek Lap Kok:geo:113.9402012,22.3217383
END:VEVENT
BEGIN:VEVENT
DTSTART;TZID=Asia/Hong_Kong:20160327T201500
DTEND;TZID=Asia/Hong_Kong:20160327T201500
DTSTAMP:20260426T093901
CREATED:19160217T065056Z
LAST-MODIFIED:20160217T070824Z
UID:10001357-1459109700-1459109700@www.bcmagazine.net
SUMMARY:Sandy Lam
DESCRIPTION:Sandy Lam PRANAVA\nDate: 8:15pm\, 25-28 March\, 2016\nVenue: HK Coliseum\nTickets: $780\, $480\, $300 from Urbtix
URL:https://www.bcmagazine.net/event/sandy-lam-pranava/2016-03-27/
LOCATION:HK Coliseum\, 9 Cheong Wan Road\, Hung Hom\, Hong Kong
CATEGORIES:2016,Concert,Music
GEO:22.3014169;114.1820305
X-APPLE-STRUCTURED-LOCATION;VALUE=URI;X-ADDRESS=HK Coliseum 9 Cheong Wan Road Hung Hom Hong Kong;X-APPLE-RADIUS=500;X-TITLE=9 Cheong Wan Road:geo:114.1820305,22.3014169
END:VEVENT
BEGIN:VEVENT
DTSTART;VALUE=DATE:20160328
DTEND;VALUE=DATE:20160329
DTSTAMP:20260426T093901
CREATED:19160217T134324Z
LAST-MODIFIED:20160217T135246Z
UID:10000336-1459123200-1459209599@www.bcmagazine.net
SUMMARY:JCKSC Easter Trophy
DESCRIPTION:JCKSC Easter Trophy\nDate: 28 March\, 2016\nVenue: Kau Sai Chau Public Golf Course\nTickets: $\,2\,200/team\nMore info: 2-Ball Best Ball Stableford
URL:https://www.bcmagazine.net/event/jcksc-easter-trophy-2016/
LOCATION:Kau Sai Chau Public Golf Course\, Kau Sai Chau\, Hong Kong
CATEGORIES:2016,Sport
GEO:22.3615399;114.3133433
END:VEVENT
BEGIN:VEVENT
DTSTART;TZID=Asia/Hong_Kong:20160328T193000
DTEND;TZID=Asia/Hong_Kong:20160328T193000
DTSTAMP:20260426T093901
CREATED:19160107T083135Z
LAST-MODIFIED:20160107T083432Z
UID:10001085-1459193400-1459193400@www.bcmagazine.net
SUMMARY:Princess Chang Ping
DESCRIPTION:Princess Chang Ping\nLink of Galaxies Cantonese Opera Association\nDate: 7:30pm\, 28 March\, 2016\nVenue: Ko Shan Theatre\, New Wing Auditorium\nTickets: $240\, $180\, $120\, $80 from Urbtix
URL:https://www.bcmagazine.net/event/princess-chang-ping/
LOCATION:Ko Shan Theatre New Wing Auditorium\, 77 Ko Shan Road\, Hung Hom\, Hong Kong
CATEGORIES:2016,Cantonese Opera,Performing Arts
GEO:22.3145097;114.1868281
X-APPLE-STRUCTURED-LOCATION;VALUE=URI;X-ADDRESS=Ko Shan Theatre New Wing Auditorium 77 Ko Shan Road Hung Hom Hong Kong;X-APPLE-RADIUS=500;X-TITLE=77 Ko Shan Road:geo:114.1868281,22.3145097
END:VEVENT
BEGIN:VEVENT
DTSTART;TZID=Asia/Hong_Kong:20160328T193000
DTEND;TZID=Asia/Hong_Kong:20160328T193000
DTSTAMP:20260426T093901
CREATED:19160305T024304Z
LAST-MODIFIED:20160305T024702Z
UID:10001414-1459193400-1459193400@www.bcmagazine.net
SUMMARY:Siddhartha The Musical
DESCRIPTION:Siddhartha The Musical\nDate: 7:30pm\, 28-29 March\, 2016\nVenue: Star Hall\nTickets: tbc
URL:https://www.bcmagazine.net/event/siddhartha-the-musical-2016/2016-03-28/
LOCATION:KITEC\, Star Hall\, KITEC\, 1 Trademart Drive\, Kowloon Bay\, Hong Kong
CATEGORIES:2016,Musical
GEO:22.3239575;114.2037608
X-APPLE-STRUCTURED-LOCATION;VALUE=URI;X-ADDRESS=KITEC Star Hall KITEC 1 Trademart Drive Kowloon Bay Hong Kong;X-APPLE-RADIUS=500;X-TITLE=KITEC\, 1 Trademart Drive:geo:114.2037608,22.3239575
END:VEVENT
BEGIN:VEVENT
DTSTART;TZID=Asia/Hong_Kong:20160328T201500
DTEND;TZID=Asia/Hong_Kong:20160328T201500
DTSTAMP:20260426T093901
CREATED:19160217T065056Z
LAST-MODIFIED:20160217T070824Z
UID:10001358-1459196100-1459196100@www.bcmagazine.net
SUMMARY:Sandy Lam
DESCRIPTION:Sandy Lam PRANAVA\nDate: 8:15pm\, 25-28 March\, 2016\nVenue: HK Coliseum\nTickets: $780\, $480\, $300 from Urbtix
URL:https://www.bcmagazine.net/event/sandy-lam-pranava/2016-03-28/
LOCATION:HK Coliseum\, 9 Cheong Wan Road\, Hung Hom\, Hong Kong
CATEGORIES:2016,Concert,Music
GEO:22.3014169;114.1820305
X-APPLE-STRUCTURED-LOCATION;VALUE=URI;X-ADDRESS=HK Coliseum 9 Cheong Wan Road Hung Hom Hong Kong;X-APPLE-RADIUS=500;X-TITLE=9 Cheong Wan Road:geo:114.1820305,22.3014169
END:VEVENT
BEGIN:VEVENT
DTSTART;TZID=Asia/Hong_Kong:20160329T193000
DTEND;TZID=Asia/Hong_Kong:20160329T193000
DTSTAMP:20260426T093902
CREATED:19160305T024304Z
LAST-MODIFIED:20160305T024702Z
UID:10001415-1459279800-1459279800@www.bcmagazine.net
SUMMARY:Siddhartha The Musical
DESCRIPTION:Siddhartha The Musical\nDate: 7:30pm\, 28-29 March\, 2016\nVenue: Star Hall\nTickets: tbc
URL:https://www.bcmagazine.net/event/siddhartha-the-musical-2016/2016-03-29/
LOCATION:KITEC\, Star Hall\, KITEC\, 1 Trademart Drive\, Kowloon Bay\, Hong Kong
CATEGORIES:2016,Musical
GEO:22.3239575;114.2037608
X-APPLE-STRUCTURED-LOCATION;VALUE=URI;X-ADDRESS=KITEC Star Hall KITEC 1 Trademart Drive Kowloon Bay Hong Kong;X-APPLE-RADIUS=500;X-TITLE=KITEC\, 1 Trademart Drive:geo:114.2037608,22.3239575
END:VEVENT
BEGIN:VEVENT
DTSTART;TZID=Asia/Hong_Kong:20160329T194500
DTEND;TZID=Asia/Hong_Kong:20160329T194500
DTSTAMP:20260426T093902
CREATED:19160107T111622Z
LAST-MODIFIED:20160217T070911Z
UID:10001151-1459280700-1459280700@www.bcmagazine.net
SUMMARY:Teresa Teng
DESCRIPTION:Teresa Teng Fan Club 40th Anniversary Charity Concert\nHong Kong Youth Symphonic Orchestra\nDate: 7:45pm\, 29 March\, 2016\nVenue: HK Cultural Centre\, Concert Hall\nTickets: $480\, $380\, $280\, $180 from Urbtix
URL:https://www.bcmagazine.net/event/teresa-teng-fan-club-40th-anniversary-charity-concert/
LOCATION:HK Cultural Centre\, Concert Hall\, 10 Salisbury Road\, Tsim Sha Tsui\, Hong Kong
CATEGORIES:2016,Concert,Music,Performing Arts
GEO:22.294318;114.171708
X-APPLE-STRUCTURED-LOCATION;VALUE=URI;X-ADDRESS=HK Cultural Centre Concert Hall 10 Salisbury Road Tsim Sha Tsui Hong Kong;X-APPLE-RADIUS=500;X-TITLE=10 Salisbury Road:geo:114.171708,22.294318
END:VEVENT
BEGIN:VEVENT
DTSTART;TZID=Asia/Hong_Kong:20160330T113000
DTEND;TZID=Asia/Hong_Kong:20160330T170000
DTSTAMP:20260426T093902
CREATED:19160211T131053Z
LAST-MODIFIED:20160211T132033Z
UID:10000318-1459337400-1459357200@www.bcmagazine.net
SUMMARY:Macao Chinese Orchestra
DESCRIPTION:Macao Chinese Orchestra\nDate: 11:30am\, 30 March\, 2016\nVenue: Macao Museum\nTickets: Free
URL:https://www.bcmagazine.net/event/macao-chinese-orchestra-03-2016/
CATEGORIES:2016,Concert,Free,Macau,Music,Performing Arts
END:VEVENT
BEGIN:VEVENT
DTSTART;TZID=Asia/Hong_Kong:20160331T193000
DTEND;TZID=Asia/Hong_Kong:20160331T193000
DTSTAMP:20260426T093902
CREATED:19160316T145304Z
LAST-MODIFIED:20160316T145743Z
UID:10001490-1459452600-1459452600@www.bcmagazine.net
SUMMARY:Jazz @ Fishsteria
DESCRIPTION:Jazz @ Fishsteria\nDate: 7:30pm 31 March\, 2016\nVenue: Fishsteria\nTickets: Free
URL:https://www.bcmagazine.net/event/jazz-fishsteria/
LOCATION:Fishsteria\, 111 Queen's Road East\, Wanchai\, Hong Kong
CATEGORIES:2016,Concert,Music
GEO:22.2758018;114.1705021
X-APPLE-STRUCTURED-LOCATION;VALUE=URI;X-ADDRESS=Fishsteria 111 Queen's Road East Wanchai Hong Kong;X-APPLE-RADIUS=500;X-TITLE=111 Queen's Road East:geo:114.1705021,22.2758018
END:VEVENT
BEGIN:VEVENT
DTSTART;TZID=Asia/Hong_Kong:20160401T190000
DTEND;TZID=Asia/Hong_Kong:20160401T190000
DTSTAMP:20260426T093902
CREATED:19160327T073214Z
LAST-MODIFIED:20160327T073558Z
UID:10000420-1459537200-1459537200@www.bcmagazine.net
SUMMARY:Peter Rabbit & Friends
DESCRIPTION:Peter Rabbit & Friends\nDate: 1-2 April\, 2016\nVenue: Fringe Club\, Fringe Underground\nTickets: $220 from HKTicketing
URL:https://www.bcmagazine.net/event/peter-rabbit-friends/2016-04-01/
LOCATION:Fringe Club: Fringe Underground\, Central\, Hong Kong
CATEGORIES:2016,Performing Arts,Theatre
END:VEVENT
BEGIN:VEVENT
DTSTART;TZID=Asia/Hong_Kong:20160401T193000
DTEND;TZID=Asia/Hong_Kong:20160401T193000
DTSTAMP:20260426T093902
CREATED:19160202T094310Z
LAST-MODIFIED:20160326T113926Z
UID:10001235-1459539000-1459539000@www.bcmagazine.net
SUMMARY:Man of La Tiger
DESCRIPTION:Man of La Tiger 2016\nDate: 1-3 April\, 2016\nVenue: HKAPA\, Lyric Theatre\nTickets: $480\, $380\, $280\, $180 from HKTicketing\nMore info:\n1 April – 7:30pm\n2-3 April – 2:30pm & 7:30pm
URL:https://www.bcmagazine.net/event/man-of-la-tiger-2016/2016-04-01/
LOCATION:HKAPA: Lyric Theatre\, 1 Gloucester Road\, Wanchai\, Hong Kong
CATEGORIES:2016,Performing Arts,Theatre
GEO:22.2801854;114.1695054
X-APPLE-STRUCTURED-LOCATION;VALUE=URI;X-ADDRESS=HKAPA: Lyric Theatre 1 Gloucester Road Wanchai Hong Kong;X-APPLE-RADIUS=500;X-TITLE=1 Gloucester Road:geo:114.1695054,22.2801854
END:VEVENT
BEGIN:VEVENT
DTSTART;TZID=Asia/Hong_Kong:20160401T200000
DTEND;TZID=Asia/Hong_Kong:20160401T200000
DTSTAMP:20260426T093902
CREATED:19160306T111957Z
LAST-MODIFIED:20160306T112247Z
UID:10000409-1459540800-1459540800@www.bcmagazine.net
SUMMARY:Phil Wang
DESCRIPTION:Phil Wang\nDate: 8pm\, 1-2 April\, 2016\nVenue: Fringe Club\, Fringe Upstairs\nTickets: $250 from HKTicketing
URL:https://www.bcmagazine.net/event/phil-wang/2016-04-01/
LOCATION:Fringe Club\, Fringe Upstairs\, Central\, Hong Kong
CATEGORIES:2016,Comedy,Performing Arts
END:VEVENT
BEGIN:VEVENT
DTSTART;TZID=Asia/Hong_Kong:20160401T200000
DTEND;TZID=Asia/Hong_Kong:20160401T200000
DTSTAMP:20260426T093902
CREATED:19160328T101857Z
LAST-MODIFIED:20160328T102649Z
UID:10001528-1459540800-1459540800@www.bcmagazine.net
SUMMARY:Will You Please Be Quiet\, Please?
DESCRIPTION:Will You Please Be Quiet\, Please?\n10th Chinese Drama Festival\, Piece by Piece\nDate: 1-3 April\, 2016\nVenue: HK Repertory Theatre Black Box\nTickets: $180 from Urbtix\nMore info:\n1-2 April – 8pm\n2-3 April – 3pm\nIn Cantonese
URL:https://www.bcmagazine.net/event/will-you-please-be-quiet-please-2016/2016-04-01/
LOCATION:HKREP Black Box Theatre\, 8/F\, Sheung Wan Civic Centre\, Sheung Wan Municipal Services Building\, 345 Queen's Road\, Sheung Wan\, Hong Kong
CATEGORIES:2016,Cultural Festival,Performing Arts,Theatre
END:VEVENT
BEGIN:VEVENT
DTSTART;TZID=Asia/Hong_Kong:20160401T200000
DTEND;TZID=Asia/Hong_Kong:20160401T200000
DTSTAMP:20260426T093902
CREATED:19160331T063957Z
LAST-MODIFIED:20160911T085820Z
UID:10000461-1459540800-1459540800@www.bcmagazine.net
SUMMARY:Tallis Vocalis A Renaissance Easter Journey
DESCRIPTION:A Renaissance Easter Journey\n\nTallis Vocalis\nDate: 8pm\, 2 April\, 2016\nVenue: HK City Hall\, Concert Hall\nTickets: $320\, $240\, $160\, $80 from Urbtix
URL:https://www.bcmagazine.net/event/tallis-vocalis-a-renaissance-easter-journey-2016/
LOCATION:HK City Hall\, Concert Hall\,  5 Edinburgh Place\, Central\, Hong Kong
CATEGORIES:2016,Concert,Music,Performing Arts
END:VEVENT
BEGIN:VEVENT
DTSTART;TZID=Asia/Hong_Kong:20160401T201500
DTEND;TZID=Asia/Hong_Kong:20160401T201500
DTSTAMP:20260426T093902
CREATED:19160306T103728Z
LAST-MODIFIED:20160306T104020Z
UID:10001423-1459541700-1459541700@www.bcmagazine.net
SUMMARY:Anthony Wong
DESCRIPTION:Anthony Wong\nDate: 8:15pm\, 1-3 April\, 2016\nVenue: MacPherson Stadium\nTickets: $580\, $420 from Cityline
URL:https://www.bcmagazine.net/event/anthony-wong/2016-04-01/
LOCATION:MacPherson Stadium\, 38 Nelson Street\, Mongkok\, Hong Kong
CATEGORIES:2016,Concert,Music
GEO:22.3188457;114.1728403
X-APPLE-STRUCTURED-LOCATION;VALUE=URI;X-ADDRESS=MacPherson Stadium 38 Nelson Street Mongkok Hong Kong;X-APPLE-RADIUS=500;X-TITLE=38 Nelson Street:geo:114.1728403,22.3188457
END:VEVENT
BEGIN:VEVENT
DTSTART;VALUE=DATE:20160402
DTEND;VALUE=DATE:20160403
DTSTAMP:20260426T093902
CREATED:19160212T083632Z
LAST-MODIFIED:20160319T091210Z
UID:10000317-1459555200-1459641599@www.bcmagazine.net
SUMMARY:Beach 5s [CANCELLED]
DESCRIPTION:The Hong Kong Beach 5s [CANCELLED]\nWhen: 2-3 April\, 2016\nWhere: Repulse Bay Beach\nHow much: Free
URL:https://www.bcmagazine.net/event/beach-5s-2016/2016-04-02/
LOCATION:Repulse Bay Beach\, Repulse Bay\, Hong Kong
CATEGORIES:2016,Football,Rugby,Sport
GEO:22.2371597;114.1971229
X-APPLE-STRUCTURED-LOCATION;VALUE=URI;X-ADDRESS=Repulse Bay Beach Repulse Bay Hong Kong;X-APPLE-RADIUS=500;X-TITLE=Repulse Bay:geo:114.1971229,22.2371597
END:VEVENT
BEGIN:VEVENT
DTSTART;VALUE=DATE:20160402
DTEND;VALUE=DATE:20160414
DTSTAMP:20260426T093902
CREATED:19160307T035428Z
LAST-MODIFIED:20220923T202528Z
UID:10000375-1459555200-1460591999@www.bcmagazine.net
SUMMARY:Footprints in the Snow
DESCRIPTION:Footprints in the Snow\nHong Kong Repertory Theatre\,10th Chinese Drama Festival\nDate: 2-13 April\, 2016\nVenue: HK City Hall\, Theatre\nTickets: $300\, $250\, $180 from Urbtix\nMore info:\n2\, 3\, 5-6\, 7\, 8-9\,11-13 April – 7:45pm\n3 April – 2:45pm
URL:https://www.bcmagazine.net/event/footprints-in-the-snow-2016/
LOCATION:HK City Hall\, Theatre\, 5 Edinburgh Place\, Central\, Hong Kong
CATEGORIES:2016,Cultural Festival,Performing Arts,Theatre,Theatre
GEO:22.2822646;114.1615275
X-APPLE-STRUCTURED-LOCATION;VALUE=URI;X-ADDRESS=HK City Hall Theatre 5 Edinburgh Place Central Hong Kong;X-APPLE-RADIUS=500;X-TITLE=5 Edinburgh Place:geo:114.1615275,22.2822646
END:VEVENT
END:VCALENDAR