BEGIN:VCALENDAR
VERSION:2.0
PRODID:-//bc magazine - ECPv6.15.20//NONSGML v1.0//EN
CALSCALE:GREGORIAN
METHOD:PUBLISH
X-WR-CALNAME:bc magazine
X-ORIGINAL-URL:https://www.bcmagazine.net
X-WR-CALDESC:Events for bc magazine
REFRESH-INTERVAL;VALUE=DURATION:PT1H
X-Robots-Tag:noindex
X-PUBLISHED-TTL:PT1H
BEGIN:VTIMEZONE
TZID:Asia/Hong_Kong
BEGIN:STANDARD
TZOFFSETFROM:+0800
TZOFFSETTO:+0800
TZNAME:HKT
DTSTART:20150101T000000
END:STANDARD
END:VTIMEZONE
BEGIN:VEVENT
DTSTART;TZID=Asia/Hong_Kong:20160423T120000
DTEND;TZID=Asia/Hong_Kong:20160423T170000
DTSTAMP:20260426T042009
CREATED:19160319T083926Z
LAST-MODIFIED:20160319T084144Z
UID:10000428-1461412800-1461430800@www.bcmagazine.net
SUMMARY:Hong Kong Wedding Showcase
DESCRIPTION:20th Hong Kong Wedding Showcase\nDate: 12-8pm\, 23-24 April 2016\nVenue: Star Hall\nTickets: $10
URL:https://www.bcmagazine.net/event/hong-kong-wedding-showcase/
LOCATION:KITEC\, Star Hall\, KITEC\, 1 Trademart Drive\, Kowloon Bay\, Hong Kong
CATEGORIES:2016,Exhibition
GEO:22.3239575;114.2037608
X-APPLE-STRUCTURED-LOCATION;VALUE=URI;X-ADDRESS=KITEC Star Hall KITEC 1 Trademart Drive Kowloon Bay Hong Kong;X-APPLE-RADIUS=500;X-TITLE=KITEC\, 1 Trademart Drive:geo:114.2037608,22.3239575
END:VEVENT
BEGIN:VEVENT
DTSTART;TZID=Asia/Hong_Kong:20160423T120000
DTEND;TZID=Asia/Hong_Kong:20160423T190000
DTSTAMP:20260426T042009
CREATED:19160420T080410Z
LAST-MODIFIED:20160513T012934Z
UID:10001583-1461412800-1461438000@www.bcmagazine.net
SUMMARY:Alley Street Food Market
DESCRIPTION:The Alley Street Food Market offers an upmarket take on street food inviting well known restaurants to showcase their food and drinks ‘on the street’. \nUp to 11 restaurants and bars will be participating each week\, among those signed up already are: Beef & Liberty\, Bread and Beast\, Bread n Butter Café\, Drunken Pot\, First Floor\, Moyo\, Munchies\, Nice Pops\, La Paloma\, Prancing Pony\, Punch Detox\, Topiary\, VCNCY and Zuc.cch.ero \nEach outlet will be offering three or four of their signature dishes and some created especially for the market. So for example you could pair one of Topiary’s fine cocktails the ‘Low Hanging Fruit’ with Moyo’s delicious Korean fried chicken and finish off your lunch with Bread n Butter’s Hong Kong crepe. After some live music or shopping\, rejuvenate with a Bulleit Bourbon Sour and plate of raclette – melted cheese over potatoes and ham. \nEntry is free and dishes are paid for in Guru Notes\, with 1 Guru equal to HK$10\, and dishes and drinks are expected to range between 4 and 10 Gurus. \nNote: Due to PMQ maintenance issues this event ended early. Any outstanding Guru notes can be refunded at Bread n Butter Cafe before 11 June\, 2016 \n \nAlley Street Food Market\nDate: Noon-7pm\, 23\, 30 April\, 7 May\, 2016\nVenue: Alley @ PMQ\, 35 Aberdeen Street\, Central\, Hong Kong\nTickets: Free
URL:https://www.bcmagazine.net/event/alley-street-food-market-2016/2016-04-23/
LOCATION:Alley @ PMQ\, 35 Aberdeen Street\, Central\, Hong Kong
CATEGORIES:2016,Food,Free,Market
GEO:22.2836011;114.1524554
X-APPLE-STRUCTURED-LOCATION;VALUE=URI;X-ADDRESS=Alley @ PMQ 35 Aberdeen Street Central Hong Kong;X-APPLE-RADIUS=500;X-TITLE=35 Aberdeen Street:geo:114.1524554,22.2836011
END:VEVENT
BEGIN:VEVENT
DTSTART;TZID=Asia/Hong_Kong:20160423T130000
DTEND;TZID=Asia/Hong_Kong:20160423T130000
DTSTAMP:20260426T042009
CREATED:19160420T082920Z
LAST-MODIFIED:20160420T084110Z
UID:10001584-1461416400-1461416400@www.bcmagazine.net
SUMMARY:Lan Kwai Fong Street Food Festival
DESCRIPTION:Lan Kwai Fong Street Food Festival\nDate: 23-24 April\, 2016\nVenue: Lan Kwai Fong\nTickets: Free entry\nMore info:\n23 April – 1pm – 12am\n24 April – 1pm – 10pm
URL:https://www.bcmagazine.net/event/lan-kwai-fong-street-food-festival-2016/2016-04-23/
LOCATION:Hong Kong
CATEGORIES:2016,Food,Free,Market,Nightlife
END:VEVENT
BEGIN:VEVENT
DTSTART;TZID=Asia/Hong_Kong:20160423T193000
DTEND;TZID=Asia/Hong_Kong:20160423T193000
DTSTAMP:20260426T042009
CREATED:19160211T125750Z
LAST-MODIFIED:20160211T130015Z
UID:10001260-1461439800-1461439800@www.bcmagazine.net
SUMMARY:Szymanowski Quartet
DESCRIPTION:Szymanowski Quartet & HKU Composers\nDate: 7:30pm\, 23 April\, 2016\nVenue: Grand Hall\, Lee Shau Kee Lecture Centre\, The University of Hong Kong\nTickets: $150 from Cityline
URL:https://www.bcmagazine.net/event/szymanowski-quartet/
LOCATION:Grand Hall\, Lee Shau Kee Lecture Centre\, Centennial Campus\, The University of Hong Kong\, The University of Hong Kong\, Pokfulam\, Hong Kong
CATEGORIES:2016,Concert,Music,Performing Arts
GEO:22.2840507;114.1378391
X-APPLE-STRUCTURED-LOCATION;VALUE=URI;X-ADDRESS=Grand Hall Lee Shau Kee Lecture Centre Centennial Campus The University of Hong Kong The University of Hong Kong Pokfulam Hong Kong;X-APPLE-RADIUS=500;X-TITLE=The University of Hong Kong:geo:114.1378391,22.2840507
END:VEVENT
BEGIN:VEVENT
DTSTART;TZID=Asia/Hong_Kong:20160423T193000
DTEND;TZID=Asia/Hong_Kong:20160423T193000
DTSTAMP:20260426T042009
CREATED:19160306T105651Z
LAST-MODIFIED:20160306T111029Z
UID:10000408-1461439800-1461439800@www.bcmagazine.net
SUMMARY:John & Jen
DESCRIPTION:John & Jen\nWestern District\nDate: 7:30pm\, 21-23 April\, 2016\nVenue: Fringe Club\, Fringe Underground\nTickets: $280 from HKTicketing
URL:https://www.bcmagazine.net/event/john-jen-2016/2016-04-23/
LOCATION:Fringe Club: Fringe Underground\, Central\, Hong Kong
CATEGORIES:2016,Musical,Performing Arts,Theatre
END:VEVENT
BEGIN:VEVENT
DTSTART;TZID=Asia/Hong_Kong:20160423T194500
DTEND;TZID=Asia/Hong_Kong:20160423T194500
DTSTAMP:20260426T042009
CREATED:19160331T091320Z
LAST-MODIFIED:20160331T091512Z
UID:10000466-1461440700-1461440700@www.bcmagazine.net
SUMMARY:Hong Kong Yeung Shing Musical Association
DESCRIPTION:Hong Kong Yeung Shing Musical Association\nDate: 7:45pm\, 23 April 2016\nVenue: HK City Hall\, Theatre\nTickets: $60 from Urbtix
URL:https://www.bcmagazine.net/event/hk-yeung-shing-musical-association-2016/
LOCATION:HK City Hall\, Theatre\, 5 Edinburgh Place\, Central\, Hong Kong
CATEGORIES:2016,Concert,Music
GEO:22.2822646;114.1615275
X-APPLE-STRUCTURED-LOCATION;VALUE=URI;X-ADDRESS=HK City Hall Theatre 5 Edinburgh Place Central Hong Kong;X-APPLE-RADIUS=500;X-TITLE=5 Edinburgh Place:geo:114.1615275,22.2822646
END:VEVENT
BEGIN:VEVENT
DTSTART;TZID=Asia/Hong_Kong:20160423T200000
DTEND;TZID=Asia/Hong_Kong:20160423T200000
DTSTAMP:20260426T042009
CREATED:19160327T165619Z
LAST-MODIFIED:20160327T170708Z
UID:10000431-1461441600-1461441600@www.bcmagazine.net
SUMMARY:Dance "IN" Possible V: 101
DESCRIPTION:Dance “IN” Possible V: 101\nY-Space\nDate: 23-24 April\, 2016\nVenue: HK Cultural Centre\, Studio Theatre\nTickets: $180 from Urbtix\nMore info:\n23 April – 8pm\n24 April – 3pm
URL:https://www.bcmagazine.net/event/dance-in-possible-v-101-2016/2016-04-23/
LOCATION:HK Cultural Centre\, Studio Theatre\, 10 Salisbury Road\, Tsim Sha Tsui\, Hong Kong
CATEGORIES:2016,Dance,Performing Arts,Theatre
END:VEVENT
BEGIN:VEVENT
DTSTART;TZID=Asia/Hong_Kong:20160423T200000
DTEND;TZID=Asia/Hong_Kong:20160423T200000
DTSTAMP:20260426T042009
CREATED:19160331T054833Z
LAST-MODIFIED:20160331T055333Z
UID:10001538-1461441600-1461441600@www.bcmagazine.net
SUMMARY:Hong Kong Sinfonietta
DESCRIPTION:“Inspired by Brahms Series”: Radovan Vlatkovic plays Richard Strauss\nHong Kong Sinfonietta\nDate: 8pm\, 23 April\, 2016\nVenue: HK City Hall\, Concert Hall\nTickets: $360\, $240\, $140 from Urbtix
URL:https://www.bcmagazine.net/event/hk-sinfonietta-inspired-by-brahms-series-radovan-vlatkovic-plays-richard-strauss-2016/
LOCATION:HK City Hall\, Concert Hall\,  5 Edinburgh Place\, Central\, Hong Kong
CATEGORIES:2016,Concert,Music,Performing Arts
END:VEVENT
BEGIN:VEVENT
DTSTART;TZID=Asia/Hong_Kong:20160423T201500
DTEND;TZID=Asia/Hong_Kong:20160423T201500
DTSTAMP:20260426T042009
CREATED:11160217T070151Z
LAST-MODIFIED:20220907T000225Z
UID:10000053-1461442500-1461442500@www.bcmagazine.net
SUMMARY:Shirley Kwan
DESCRIPTION:The Best of Shirley Kwan 25 Live\nDate: 8:15pm\, 23 April\, 2016\nVenue: HK Coliseum\nTickets: $680\, $480\, $280 from Urbtix
URL:https://www.bcmagazine.net/event/shirley-kwan/
LOCATION:HK Coliseum\, 9 Cheong Wan Road\, Hung Hom\, Hong Kong
CATEGORIES:2016,Concert,Music
GEO:22.3014169;114.1820305
X-APPLE-STRUCTURED-LOCATION;VALUE=URI;X-ADDRESS=HK Coliseum 9 Cheong Wan Road Hung Hom Hong Kong;X-APPLE-RADIUS=500;X-TITLE=9 Cheong Wan Road:geo:114.1820305,22.3014169
END:VEVENT
BEGIN:VEVENT
DTSTART;TZID=Asia/Hong_Kong:20160424T150000
DTEND;TZID=Asia/Hong_Kong:20160424T150000
DTSTAMP:20260426T042009
CREATED:19160331T054450Z
LAST-MODIFIED:20160331T054827Z
UID:10001537-1461510000-1461510000@www.bcmagazine.net
SUMMARY:Hong Kong Sinfonietta
DESCRIPTION:UpClose Encounters: Radovan Vlatkovic\nHong Kong Sinfonietta\nDate: 3pm\, 24 April\, 2016\nVenue: HK City Hall\, Concert Hall\nTickets: $250 from Urbtix
URL:https://www.bcmagazine.net/event/hk-sinfonietta-upclose-encounters-radovan-vlatkovic-2016/
LOCATION:HK City Hall\, Concert Hall\,  5 Edinburgh Place\, Central\, Hong Kong
CATEGORIES:2016,Concert,Music,Performing Arts
END:VEVENT
BEGIN:VEVENT
DTSTART;TZID=Asia/Hong_Kong:20160425T193000
DTEND;TZID=Asia/Hong_Kong:20160425T193000
DTSTAMP:20260426T042009
CREATED:19160331T091036Z
LAST-MODIFIED:20160331T091234Z
UID:10000482-1461612600-1461612600@www.bcmagazine.net
SUMMARY:Sing Along Vocal Society
DESCRIPTION:Sing Along Vocal Society\nDate: 7:30pm\, 25 April 2016\nVenue: HK City Hall\, Theatre\nTickets: $200\, $120 from Urbtix
URL:https://www.bcmagazine.net/event/sing-along-vocal-society-2016/
LOCATION:HK City Hall\, Theatre\, 5 Edinburgh Place\, Central\, Hong Kong
CATEGORIES:2016,Concert,Music,Performing Arts
GEO:22.2822646;114.1615275
X-APPLE-STRUCTURED-LOCATION;VALUE=URI;X-ADDRESS=HK City Hall Theatre 5 Edinburgh Place Central Hong Kong;X-APPLE-RADIUS=500;X-TITLE=5 Edinburgh Place:geo:114.1615275,22.2822646
END:VEVENT
BEGIN:VEVENT
DTSTART;TZID=Asia/Hong_Kong:20160425T200000
DTEND;TZID=Asia/Hong_Kong:20160425T200000
DTSTAMP:20260426T042009
CREATED:19160327T150020Z
LAST-MODIFIED:20160327T150310Z
UID:10001500-1461614400-1461614400@www.bcmagazine.net
SUMMARY:Art and Culture Motivation
DESCRIPTION:Art and Culture Motivation\nDate: 8pm\, 25-26 April\, 2016\nVenue: HK Cultural Centre\, Concert Hall\nTickets: $550\, $450\, $300\, $200\, $130 from Urbtix
URL:https://www.bcmagazine.net/event/art-and-culture-motivation-2016/2016-04-25/
LOCATION:HK Cultural Centre\, Concert Hall\, 10 Salisbury Road\, Tsim Sha Tsui\, Hong Kong
CATEGORIES:2016,Concert,Music
GEO:22.294318;114.171708
X-APPLE-STRUCTURED-LOCATION;VALUE=URI;X-ADDRESS=HK Cultural Centre Concert Hall 10 Salisbury Road Tsim Sha Tsui Hong Kong;X-APPLE-RADIUS=500;X-TITLE=10 Salisbury Road:geo:114.171708,22.294318
END:VEVENT
BEGIN:VEVENT
DTSTART;TZID=Asia/Hong_Kong:20160425T200000
DTEND;TZID=Asia/Hong_Kong:20160425T200000
DTSTAMP:20260426T042009
CREATED:19160331T060138Z
LAST-MODIFIED:20160331T060345Z
UID:10001501-1461614400-1461614400@www.bcmagazine.net
SUMMARY:Louis Schwizgebel
DESCRIPTION:Louis Schwizgebel Piano Recital\nDate: 8pm\, 25 April\, 2016\nVenue: HK City Hall\, Concert Hall\nTickets: $480\, $280\, $180\, $80 from Urbtix
URL:https://www.bcmagazine.net/event/louis-schwizgebel-piano-recital-2016/
LOCATION:HK City Hall\, Concert Hall\,  5 Edinburgh Place\, Central\, Hong Kong
CATEGORIES:2016,Concert,Music,Performing Arts
END:VEVENT
BEGIN:VEVENT
DTSTART;TZID=Asia/Hong_Kong:20160426T193000
DTEND;TZID=Asia/Hong_Kong:20160426T193000
DTSTAMP:20260426T042009
CREATED:19160331T055756Z
LAST-MODIFIED:20160331T060119Z
UID:10001540-1461699000-1461699000@www.bcmagazine.net
SUMMARY:68th Hong Kong Schools Music Festival
DESCRIPTION:68th Hong Kong Schools Music Festival Prize-winners’ Concert\nDate: 7:30pm\, 26 April\, 2016\nVenue: HK City Hall\, Concert Hall\nTickets: $80 from Urbtix
URL:https://www.bcmagazine.net/event/68th-hk-schools-music-festival-2016/
LOCATION:HK City Hall\, Concert Hall\,  5 Edinburgh Place\, Central\, Hong Kong
CATEGORIES:2016,Concert,Music,Performing Arts
END:VEVENT
BEGIN:VEVENT
DTSTART;TZID=Asia/Hong_Kong:20160427T200000
DTEND;TZID=Asia/Hong_Kong:20160427T200000
DTSTAMP:20260426T042009
CREATED:19160216T040426Z
LAST-MODIFIED:20160216T042222Z
UID:10000320-1461787200-1461787200@www.bcmagazine.net
SUMMARY:Branford Marsalis
DESCRIPTION:Branford Marsalis\nWhen: 27 April\, 2016\nWhere: HK City Hall\, Concert Hall\nHow much: $480\, $380\, $200 from Urbtix (On sale 22 February)
URL:https://www.bcmagazine.net/event/branford-marsalis-2016/
LOCATION:HK City Hall\, Concert Hall\,  5 Edinburgh Place\, Central\, Hong Kong
CATEGORIES:2016,Concert,Music
END:VEVENT
BEGIN:VEVENT
DTSTART;TZID=Asia/Hong_Kong:20160427T200000
DTEND;TZID=Asia/Hong_Kong:20160427T200000
DTSTAMP:20260426T042009
CREATED:19160331T090745Z
LAST-MODIFIED:20160331T091015Z
UID:10000480-1461787200-1461787200@www.bcmagazine.net
SUMMARY:Hong Kong Music Society
DESCRIPTION:Concert of Hong Kong Composers’ Works\nHong Kong Music Society\nDate: 8pm\, 27 April 2016\nVenue: HK City Hall\, Theatre\nTickets: $100 from Urbtix
URL:https://www.bcmagazine.net/event/hong-kong-music-society/
LOCATION:HK City Hall\, Theatre\, 5 Edinburgh Place\, Central\, Hong Kong
CATEGORIES:2016,Concert,Music,Performing Arts
GEO:22.2822646;114.1615275
X-APPLE-STRUCTURED-LOCATION;VALUE=URI;X-ADDRESS=HK City Hall Theatre 5 Edinburgh Place Central Hong Kong;X-APPLE-RADIUS=500;X-TITLE=5 Edinburgh Place:geo:114.1615275,22.2822646
END:VEVENT
BEGIN:VEVENT
DTSTART;TZID=Asia/Hong_Kong:20160427T201500
DTEND;TZID=Asia/Hong_Kong:20160427T201500
DTSTAMP:20260426T042009
CREATED:20160319T081001Z
LAST-MODIFIED:20160319T081001Z
UID:10006103-1461788100-1461788100@www.bcmagazine.net
SUMMARY:Amase
DESCRIPTION:Amase\nKelvin Kwan\, Soler\, Shino Lin\nDate: 8:15pm\, 27 April\, 2016\nVenue: Star Hall\nTickets: $680\, $480\, $280 from HKTicketing
URL:https://www.bcmagazine.net/event/amase-2016/
LOCATION:KITEC\, Star Hall\, KITEC\, 1 Trademart Drive\, Kowloon Bay\, Hong Kong
CATEGORIES:2016,Concert,Music
GEO:22.3239575;114.2037608
X-APPLE-STRUCTURED-LOCATION;VALUE=URI;X-ADDRESS=KITEC Star Hall KITEC 1 Trademart Drive Kowloon Bay Hong Kong;X-APPLE-RADIUS=500;X-TITLE=KITEC\, 1 Trademart Drive:geo:114.2037608,22.3239575
END:VEVENT
BEGIN:VEVENT
DTSTART;TZID=Asia/Hong_Kong:20160428T194500
DTEND;TZID=Asia/Hong_Kong:20160428T194500
DTSTAMP:20260426T042009
CREATED:19160327T164411Z
LAST-MODIFIED:20160327T165513Z
UID:10001527-1461872700-1461872700@www.bcmagazine.net
SUMMARY:Our Town
DESCRIPTION:Our Town\nChasing Theatre\nDate: 28-30 April\, 1 May\, 2016\nVenue: HK Cultural Centre\, Studio Theatre\nTickets: $180 from Urbtix\nMore info:\n28-30 April – 7:45pm\n30 April\, 1 May – 2:45pm
URL:https://www.bcmagazine.net/event/our-town-2016/2016-04-28/
LOCATION:HK Cultural Centre\, Studio Theatre\, 10 Salisbury Road\, Tsim Sha Tsui\, Hong Kong
CATEGORIES:2016,Performing Arts,Theatre
END:VEVENT
BEGIN:VEVENT
DTSTART;TZID=Asia/Hong_Kong:20160428T200000
DTEND;TZID=Asia/Hong_Kong:20160428T200000
DTSTAMP:20260426T042009
CREATED:19160319T091926Z
LAST-MODIFIED:20160429T223927Z
UID:10000414-1461873600-1461873600@www.bcmagazine.net
SUMMARY:Leon Lai
DESCRIPTION:Leon 30th Anniversary Random Love Songs in 4D Live 2016\nDate: 8pm\, 28 April – 3\, 6-7 May\, 2016\nVenue: Central Harbourfront\nTickets: $1\,980\, $980 from Cityline
URL:https://www.bcmagazine.net/event/leon-lai-2016/2016-04-28/
LOCATION:Central Harbourfront\,  9 Lung Wo Road\, Central\, Hong Kong
CATEGORIES:2016,Concert,Music
GEO:22.2826223;114.164346
X-APPLE-STRUCTURED-LOCATION;VALUE=URI;X-ADDRESS=Central Harbourfront  9 Lung Wo Road Central Hong Kong;X-APPLE-RADIUS=500;X-TITLE=9 Lung Wo Road:geo:114.164346,22.2826223
END:VEVENT
BEGIN:VEVENT
DTSTART;TZID=Asia/Hong_Kong:20160429T193000
DTEND;TZID=Asia/Hong_Kong:20160429T193000
DTSTAMP:20260426T042009
CREATED:19160331T053908Z
LAST-MODIFIED:20160331T054326Z
UID:10001535-1461958200-1461958200@www.bcmagazine.net
SUMMARY:Hong Kong Sinfonietta
DESCRIPTION:Know Your Classical Music: Haydn\nHong Kong Sinfonietta\nDate: 7:30pm\, 29-30 April\, 2016\nVenue: HK City Hall\, Concert Hall\nTickets: $280\, $220\, $140 from Urbtix
URL:https://www.bcmagazine.net/event/hk-sinfonietta-know-your-classical-music-haydn-2016/2016-04-29/
LOCATION:HK City Hall\, Concert Hall\,  5 Edinburgh Place\, Central\, Hong Kong
CATEGORIES:2016,Concert,Music,Performing Arts
END:VEVENT
BEGIN:VEVENT
DTSTART;TZID=Asia/Hong_Kong:20160429T201500
DTEND;TZID=Asia/Hong_Kong:20160429T201500
DTSTAMP:20260426T042009
CREATED:19160217T063444Z
LAST-MODIFIED:20160217T063756Z
UID:10001286-1461960900-1461960900@www.bcmagazine.net
SUMMARY:Heart Attack
DESCRIPTION:Heart Attack LF Live in HK\nDate: 8:15pm\, 29 April – 1 May\, 2016\nVenue: HK Coliseum\nTickets: $680\, $480\, $280 from Urbtix
URL:https://www.bcmagazine.net/event/heart-attack/2016-04-29/
LOCATION:HK Coliseum\, 9 Cheong Wan Road\, Hung Hom\, Hong Kong
CATEGORIES:2016,Concert,Music
GEO:22.3014169;114.1820305
X-APPLE-STRUCTURED-LOCATION;VALUE=URI;X-ADDRESS=HK Coliseum 9 Cheong Wan Road Hung Hom Hong Kong;X-APPLE-RADIUS=500;X-TITLE=9 Cheong Wan Road:geo:114.1820305,22.3014169
END:VEVENT
BEGIN:VEVENT
DTSTART;VALUE=DATE:20160430
DTEND;VALUE=DATE:20160501
DTSTAMP:20260426T042009
CREATED:19160305T023440Z
LAST-MODIFIED:20160305T023957Z
UID:10001412-1461974400-1462060799@www.bcmagazine.net
SUMMARY:World Health Industry Expo
DESCRIPTION:World Health Industry Expo\nDate: 30 April – 2 May\, 2016\nVenue: Star Hall\nTickets: tbc
URL:https://www.bcmagazine.net/event/world-health-industry-expo-2016/2016-04-30/
LOCATION:KITEC\, Star Hall\, KITEC\, 1 Trademart Drive\, Kowloon Bay\, Hong Kong
CATEGORIES:2016,Exhibition
GEO:22.3239575;114.2037608
X-APPLE-STRUCTURED-LOCATION;VALUE=URI;X-ADDRESS=KITEC Star Hall KITEC 1 Trademart Drive Kowloon Bay Hong Kong;X-APPLE-RADIUS=500;X-TITLE=KITEC\, 1 Trademart Drive:geo:114.2037608,22.3239575
END:VEVENT
BEGIN:VEVENT
DTSTART;TZID=Asia/Hong_Kong:20160430T110000
DTEND;TZID=Asia/Hong_Kong:20160430T210000
DTSTAMP:20260426T042009
CREATED:20160430T000803Z
LAST-MODIFIED:20160502T041735Z
UID:10006107-1462014000-1462050000@www.bcmagazine.net
SUMMARY:Le French GourMay @ PMQ
DESCRIPTION:The 8th Le French GourMay opens with a celebration of French Food and Wine from the Alsace region of France at PMQ. The 3 day launch party features the flavours and gastronomy of the region including French cheeses\, specialties from the delicatessen\, seafood\, seasonal dishes and of course wine. \nThere’ll also be music with a brass band playing classic French movie soundtracks\, dancers from the Cirque Eloize and an open-air street graffiti party. \nThe participating restaurants and wine shops at PMQ include: B.A.M\, Maison Argaud & Centre du Vin\, Cococabana\, Frensh.hk\, LaBoucherie.com.hk\, Le Port Parfumé\, M&C Asia\, Monsieur Chatté\, PillariWine\, Popsy Modern Kitchen and Tartine. \nFor the full list of events and participating restaurants in the Le French Gourmay see www.frenchgourmay.com \n\nLe French GourMay @ PMQ\nDate: 30 April – 2 May\, 2016\nVenue: PMQ\nTickets: Free\nMore info:\n30 April – 1 May – 11am – 9pm\n2 May – 11am – 8pm
URL:https://www.bcmagazine.net/event/le-french-gourmay-pmq-2016/2016-04-30/
LOCATION:PMQ\, 35 Aberdeen Street\, Central\, Hong Kong
CATEGORIES:2016,Food,Free,Market
GEO:22.2836011;114.1524554
X-APPLE-STRUCTURED-LOCATION;VALUE=URI;X-ADDRESS=PMQ 35 Aberdeen Street Central Hong Kong;X-APPLE-RADIUS=500;X-TITLE=35 Aberdeen Street:geo:114.1524554,22.2836011
END:VEVENT
BEGIN:VEVENT
DTSTART;TZID=Asia/Hong_Kong:20160430T193000
DTEND;TZID=Asia/Hong_Kong:20160430T193000
DTSTAMP:20260426T042009
CREATED:19160331T053908Z
LAST-MODIFIED:20160331T054326Z
UID:10001536-1462044600-1462044600@www.bcmagazine.net
SUMMARY:Hong Kong Sinfonietta
DESCRIPTION:Know Your Classical Music: Haydn\nHong Kong Sinfonietta\nDate: 7:30pm\, 29-30 April\, 2016\nVenue: HK City Hall\, Concert Hall\nTickets: $280\, $220\, $140 from Urbtix
URL:https://www.bcmagazine.net/event/hk-sinfonietta-know-your-classical-music-haydn-2016/2016-04-30/
LOCATION:HK City Hall\, Concert Hall\,  5 Edinburgh Place\, Central\, Hong Kong
CATEGORIES:2016,Concert,Music,Performing Arts
END:VEVENT
BEGIN:VEVENT
DTSTART;TZID=Asia/Hong_Kong:20160430T200000
DTEND;TZID=Asia/Hong_Kong:20160430T200000
DTSTAMP:20260426T042009
CREATED:19160221T063811Z
LAST-MODIFIED:20160221T064131Z
UID:10001372-1462046400-1462046400@www.bcmagazine.net
SUMMARY:Jolin Tsai
DESCRIPTION:Jolin Tsai 〈PLAY〉\nDate: 8pm\, 30 April\, 2016\nVenue: Venetian\, CotaiArena\nTickets: $1\,480\, $1\,080\, $680\, $480\, $280 from HKTicketing
URL:https://www.bcmagazine.net/event/jolin-tsai/
LOCATION:CotaiArena\, Venetian Macao\, Taipa\, Macau
CATEGORIES:2016,Concert,Macau,Music
GEO:22.1483528;113.5602019
X-APPLE-STRUCTURED-LOCATION;VALUE=URI;X-ADDRESS=CotaiArena Venetian Macao Taipa Macau;X-APPLE-RADIUS=500;X-TITLE=Venetian Macao:geo:113.5602019,22.1483528
END:VEVENT
BEGIN:VEVENT
DTSTART;TZID=Asia/Hong_Kong:20160430T201500
DTEND;TZID=Asia/Hong_Kong:20160430T201500
DTSTAMP:20260426T042009
CREATED:19160217T063444Z
LAST-MODIFIED:20160217T063756Z
UID:10001287-1462047300-1462047300@www.bcmagazine.net
SUMMARY:Heart Attack
DESCRIPTION:Heart Attack LF Live in HK\nDate: 8:15pm\, 29 April – 1 May\, 2016\nVenue: HK Coliseum\nTickets: $680\, $480\, $280 from Urbtix
URL:https://www.bcmagazine.net/event/heart-attack/2016-04-30/
LOCATION:HK Coliseum\, 9 Cheong Wan Road\, Hung Hom\, Hong Kong
CATEGORIES:2016,Concert,Music
GEO:22.3014169;114.1820305
X-APPLE-STRUCTURED-LOCATION;VALUE=URI;X-ADDRESS=HK Coliseum 9 Cheong Wan Road Hung Hom Hong Kong;X-APPLE-RADIUS=500;X-TITLE=9 Cheong Wan Road:geo:114.1820305,22.3014169
END:VEVENT
BEGIN:VEVENT
DTSTART;TZID=Asia/Hong_Kong:20160501T143000
DTEND;TZID=Asia/Hong_Kong:20160501T170000
DTSTAMP:20260426T042009
CREATED:19160326T112717Z
LAST-MODIFIED:20160326T112948Z
UID:10000418-1462113000-1462122000@www.bcmagazine.net
SUMMARY:S!N
DESCRIPTION:S!N\nDate: 2:30pm\, 1 May\, 2016\nVenue: Music Zone@E-Max\nTickets: $580\, $330 from Cityline
URL:https://www.bcmagazine.net/event/sn/
LOCATION:KITEC\, Music Zone@E-Max\, KITEC\,‎ 1 Trademart Drive\, Kowloon Bay\, Hong Kong
CATEGORIES:2016,Concert,Music
GEO:22.3239575;114.2037608
X-APPLE-STRUCTURED-LOCATION;VALUE=URI;X-ADDRESS=KITEC Music Zone@E-Max KITEC‎ 1 Trademart Drive Kowloon Bay Hong Kong;X-APPLE-RADIUS=500;X-TITLE=KITEC\,‎ 1 Trademart Drive:geo:114.2037608,22.3239575
END:VEVENT
BEGIN:VEVENT
DTSTART;TZID=Asia/Hong_Kong:20160501T200000
DTEND;TZID=Asia/Hong_Kong:20160501T200000
DTSTAMP:20260426T042009
CREATED:19160327T145721Z
LAST-MODIFIED:20160327T150002Z
UID:10001499-1462132800-1462132800@www.bcmagazine.net
SUMMARY:Kenneth Choi
DESCRIPTION:Kenneth Choi Song & Whisper\nDate: 8pm\, 1-2 May\, 2016\nVenue: HK Cultural Centre\, Concert Hall\nTickets: $680\, $580\, $480\, $380\, $280\, $180 from Urbtix
URL:https://www.bcmagazine.net/event/kenneth-choi-2016/2016-05-01/
LOCATION:HK Cultural Centre\, Concert Hall\, 10 Salisbury Road\, Tsim Sha Tsui\, Hong Kong
GEO:22.294318;114.171708
X-APPLE-STRUCTURED-LOCATION;VALUE=URI;X-ADDRESS=HK Cultural Centre Concert Hall 10 Salisbury Road Tsim Sha Tsui Hong Kong;X-APPLE-RADIUS=500;X-TITLE=10 Salisbury Road:geo:114.171708,22.294318
END:VEVENT
BEGIN:VEVENT
DTSTART;TZID=Asia/Hong_Kong:20160501T201500
DTEND;TZID=Asia/Hong_Kong:20160501T201500
DTSTAMP:20260426T042009
CREATED:19160217T063444Z
LAST-MODIFIED:20160217T063756Z
UID:10001288-1462133700-1462133700@www.bcmagazine.net
SUMMARY:Heart Attack
DESCRIPTION:Heart Attack LF Live in HK\nDate: 8:15pm\, 29 April – 1 May\, 2016\nVenue: HK Coliseum\nTickets: $680\, $480\, $280 from Urbtix
URL:https://www.bcmagazine.net/event/heart-attack/2016-05-01/
LOCATION:HK Coliseum\, 9 Cheong Wan Road\, Hung Hom\, Hong Kong
CATEGORIES:2016,Concert,Music
GEO:22.3014169;114.1820305
X-APPLE-STRUCTURED-LOCATION;VALUE=URI;X-ADDRESS=HK Coliseum 9 Cheong Wan Road Hung Hom Hong Kong;X-APPLE-RADIUS=500;X-TITLE=9 Cheong Wan Road:geo:114.1820305,22.3014169
END:VEVENT
BEGIN:VEVENT
DTSTART;VALUE=DATE:20160502
DTEND;VALUE=DATE:20160503
DTSTAMP:20260426T042009
CREATED:20160223T102321Z
LAST-MODIFIED:20160223T102321Z
UID:10006089-1462147200-1462233599@www.bcmagazine.net
SUMMARY:Hong Kong Rugby League 9s
DESCRIPTION:Following the popularity among players and fans of the inaugural Hong Kong Rugby League Nines in 2015 – won by the Mong Kok Creepers – the HKRL have announced that entries are now open for the second Nines tournament. The 9s will be on the 2 May 2016 at Kings Park. \nTeams interested in taking part in the tournament are invited to contact the Hong Kong Rugby League on email at info@hongkongrugbyleague.com \nEntry for the tournament is HKD 2\,000 for teams who enter and pay their fees by March 15. Entry fee for teams who enter after March 15 will be HKD 2\,500. \nHong Kong Rugby League Nines\nDate: 2 May\, 2016\nVenue: Kings Park\nTickets: Free\nMore info:\nTeam entry $2\,000
URL:https://www.bcmagazine.net/event/hong-kong-rugby-league-nines-2016/
LOCATION:King’s Park Sports Ground\, 11 Wylie Path\, Ho Man Tin\, Jordan\, Hong Kong
CATEGORIES:2016,Rugby League,Sport
END:VEVENT
END:VCALENDAR