BEGIN:VCALENDAR
VERSION:2.0
PRODID:-//bc magazine - ECPv6.15.20//NONSGML v1.0//EN
CALSCALE:GREGORIAN
METHOD:PUBLISH
X-WR-CALNAME:bc magazine
X-ORIGINAL-URL:https://www.bcmagazine.net
X-WR-CALDESC:Events for bc magazine
REFRESH-INTERVAL;VALUE=DURATION:PT1H
X-Robots-Tag:noindex
X-PUBLISHED-TTL:PT1H
BEGIN:VTIMEZONE
TZID:Asia/Hong_Kong
BEGIN:STANDARD
TZOFFSETFROM:+0800
TZOFFSETTO:+0800
TZNAME:HKT
DTSTART:20150101T000000
END:STANDARD
END:VTIMEZONE
BEGIN:VEVENT
DTSTART;TZID=Asia/Hong_Kong:20160519T193000
DTEND;TZID=Asia/Hong_Kong:20160519T193000
DTSTAMP:20260426T094248
CREATED:19160221T065307Z
LAST-MODIFIED:20160221T065851Z
UID:10001386-1463686200-1463686200@www.bcmagazine.net
SUMMARY:Chan Po Chu / Mui Suet See
DESCRIPTION:Chan Po Chu / Mui Suet See\nCantonese Opera\nDate: 7:30pm 7-23 May\, 2016\nVenue: HKAPA\, Lyric Theatre\nTickets: $1\,000\, $880\, $680\, $480\, $280 from HKTicketing
URL:https://www.bcmagazine.net/event/chan-po-chu-mui-suet-see-2016/2016-05-19/
LOCATION:HKAPA: Lyric Theatre\, 1 Gloucester Road\, Wanchai\, Hong Kong
CATEGORIES:2016,Cantonese Opera,Performing Arts
GEO:22.2801854;114.1695054
X-APPLE-STRUCTURED-LOCATION;VALUE=URI;X-ADDRESS=HKAPA: Lyric Theatre 1 Gloucester Road Wanchai Hong Kong;X-APPLE-RADIUS=500;X-TITLE=1 Gloucester Road:geo:114.1695054,22.2801854
END:VEVENT
BEGIN:VEVENT
DTSTART;TZID=Asia/Hong_Kong:20160519T200000
DTEND;TZID=Asia/Hong_Kong:20160519T200000
DTSTAMP:20260426T094248
CREATED:19160327T145053Z
LAST-MODIFIED:20160327T145441Z
UID:10001497-1463688000-1463688000@www.bcmagazine.net
SUMMARY:The Philadelphia Orchestra
DESCRIPTION:The Philadelphia Orchestra\nDate: 8pm\, 19-20 May\, 2016\nVenue: HK Cultural Centre\, Concert Hall\nTickets: $1\,250\, $1\,050\, $850\, $650\, $450\, $300 from Urbtix
URL:https://www.bcmagazine.net/event/the-philadelphia-orchestra-2016/2016-05-19/
LOCATION:HK Cultural Centre\, Concert Hall\, 10 Salisbury Road\, Tsim Sha Tsui\, Hong Kong
CATEGORIES:2016,Concert,Music
GEO:22.294318;114.171708
X-APPLE-STRUCTURED-LOCATION;VALUE=URI;X-ADDRESS=HK Cultural Centre Concert Hall 10 Salisbury Road Tsim Sha Tsui Hong Kong;X-APPLE-RADIUS=500;X-TITLE=10 Salisbury Road:geo:114.171708,22.294318
END:VEVENT
BEGIN:VEVENT
DTSTART;TZID=Asia/Hong_Kong:20160520T180000
DTEND;TZID=Asia/Hong_Kong:20160520T180000
DTSTAMP:20260426T094248
CREATED:19160405T153640Z
LAST-MODIFIED:20170412T084403Z
UID:10000472-1463767200-1463767200@www.bcmagazine.net
SUMMARY:Soccer Sevens
DESCRIPTION:Soccer Sevens\nDate: 20-22 May\, 2016\nVenue: HK Football Club\nTickets: $300 (Weekend pass)\, $160 (Day ticket)\, Free (Friday night) from Cityline\nMore info:\n20 May (Fri): 6 – 9pm; exhibition youth matches start at 4.45pm\n21 May (Sat): 9am – 7.40pm\n22 May (Sun): 9am – 6pm
URL:https://www.bcmagazine.net/event/soccer-sevens-2016/2016-05-20/
LOCATION:Hong Kong Football Club\, 3 Sports Road\, Causeway Bay\, Hong Kong
CATEGORIES:2016,Football,Sport
GEO:22.275374;114.1822239
X-APPLE-STRUCTURED-LOCATION;VALUE=URI;X-ADDRESS=Hong Kong Football Club 3 Sports Road Causeway Bay Hong Kong;X-APPLE-RADIUS=500;X-TITLE=3 Sports Road:geo:114.1822239,22.275374
END:VEVENT
BEGIN:VEVENT
DTSTART;TZID=Asia/Hong_Kong:20160520T193000
DTEND;TZID=Asia/Hong_Kong:20160520T193000
DTSTAMP:20260426T094248
CREATED:19160221T065307Z
LAST-MODIFIED:20160221T065851Z
UID:10001387-1463772600-1463772600@www.bcmagazine.net
SUMMARY:Chan Po Chu / Mui Suet See
DESCRIPTION:Chan Po Chu / Mui Suet See\nCantonese Opera\nDate: 7:30pm 7-23 May\, 2016\nVenue: HKAPA\, Lyric Theatre\nTickets: $1\,000\, $880\, $680\, $480\, $280 from HKTicketing
URL:https://www.bcmagazine.net/event/chan-po-chu-mui-suet-see-2016/2016-05-20/
LOCATION:HKAPA: Lyric Theatre\, 1 Gloucester Road\, Wanchai\, Hong Kong
CATEGORIES:2016,Cantonese Opera,Performing Arts
GEO:22.2801854;114.1695054
X-APPLE-STRUCTURED-LOCATION;VALUE=URI;X-ADDRESS=HKAPA: Lyric Theatre 1 Gloucester Road Wanchai Hong Kong;X-APPLE-RADIUS=500;X-TITLE=1 Gloucester Road:geo:114.1695054,22.2801854
END:VEVENT
BEGIN:VEVENT
DTSTART;TZID=Asia/Hong_Kong:20160520T194500
DTEND;TZID=Asia/Hong_Kong:20160520T194500
DTSTAMP:20260426T094248
CREATED:19160327T160737Z
LAST-MODIFIED:20160327T162443Z
UID:10001521-1463773500-1463773500@www.bcmagazine.net
SUMMARY:Postcolonial Affairs of Food and the Heart
DESCRIPTION:Postcolonial Affairs of Food and the Heart\nOn & On Theatre Workshop\nDate: 7:45pm\, 20-24 May\, 2016\nVenue: HK Cultural Centre\, Studio Theatre\nTickets: $280\, $200 from Urbtix\nMore info:\nCantonese Drama
URL:https://www.bcmagazine.net/event/postcolonial-affairs-of-food-and-the-heart-2016/2016-05-20/
LOCATION:HK Cultural Centre\, Studio Theatre\, 10 Salisbury Road\, Tsim Sha Tsui\, Hong Kong
CATEGORIES:2016,Performing Arts,Theatre
END:VEVENT
BEGIN:VEVENT
DTSTART;TZID=Asia/Hong_Kong:20160520T200000
DTEND;TZID=Asia/Hong_Kong:20160520T200000
DTSTAMP:20260426T094248
CREATED:19160221T141840Z
LAST-MODIFIED:20160221T142220Z
UID:10001410-1463774400-1463774400@www.bcmagazine.net
SUMMARY:Dimitri Vegas and Like Mike 2016
DESCRIPTION:Dimitri Vegas and Like Mike 2016\nDate: 8pm 20 May\, 2016\nVenue: AsiaWorld Expo\, Hall 10\nTickets: $20\,000\, $2\,000\, $900\, $780 from HKTicketing
URL:https://www.bcmagazine.net/event/dimitri-vegas-and-like-mike-2016/
LOCATION:AsiaWorld-Expo\, Hall 10\, Cheong Wing Road\, Chek Lap Kok\, Lantau\, Hong Kong
CATEGORIES:2016,DJ,Music
GEO:22.3217383;113.9402012
X-APPLE-STRUCTURED-LOCATION;VALUE=URI;X-ADDRESS=AsiaWorld-Expo Hall 10 Cheong Wing Road Chek Lap Kok Lantau Hong Kong;X-APPLE-RADIUS=500;X-TITLE=Cheong Wing Road\, Chek Lap Kok:geo:113.9402012,22.3217383
END:VEVENT
BEGIN:VEVENT
DTSTART;TZID=Asia/Hong_Kong:20160520T200000
DTEND;TZID=Asia/Hong_Kong:20160520T200000
DTSTAMP:20260426T094248
CREATED:19160414T104307Z
LAST-MODIFIED:20160414T105142Z
UID:10000477-1463774400-1463774400@www.bcmagazine.net
SUMMARY:Paris Combo
DESCRIPTION:Paris Combo\nSupport: SIU2\nLe French May\nDate: 8pm\, 20-21 May\, 2016\nVenue: HKAPA\, HK Jockey Club Amphitheatre\nTickets: $480\, $380\, $280\, $180 from HKTicketing
URL:https://www.bcmagazine.net/event/paris-combo-2016/2016-05-20/
LOCATION:HKAPA: Jockey Club Amphitheatre\, 1 Gloucester Road\, Wanchai\, Hong Kong
CATEGORIES:2016,Concert,Cultural Festival,Music,Performing Arts
GEO:22.2801854;114.1695054
X-APPLE-STRUCTURED-LOCATION;VALUE=URI;X-ADDRESS=HKAPA: Jockey Club Amphitheatre 1 Gloucester Road Wanchai Hong Kong;X-APPLE-RADIUS=500;X-TITLE=1 Gloucester Road:geo:114.1695054,22.2801854
END:VEVENT
BEGIN:VEVENT
DTSTART;TZID=Asia/Hong_Kong:20160520T200000
DTEND;TZID=Asia/Hong_Kong:20160520T200000
DTSTAMP:20260426T094248
CREATED:19160429T214341Z
LAST-MODIFIED:20160429T214647Z
UID:10001591-1463774400-1463774400@www.bcmagazine.net
SUMMARY:蛋堡 Soft Lipa
DESCRIPTION:蛋堡 Soft Lipa\nDate: 8pm\, 20 May\, 2016\nVenue: Music Zone@E-Max\nTickets: $350 from Cityline
URL:https://www.bcmagazine.net/event/soft-lipa-2016/
LOCATION:KITEC\, Music Zone@E-Max\, KITEC\,‎ 1 Trademart Drive\, Kowloon Bay\, Hong Kong
CATEGORIES:2016,Concert,Music
GEO:22.3239575;114.2037608
X-APPLE-STRUCTURED-LOCATION;VALUE=URI;X-ADDRESS=KITEC Music Zone@E-Max KITEC‎ 1 Trademart Drive Kowloon Bay Hong Kong;X-APPLE-RADIUS=500;X-TITLE=KITEC\,‎ 1 Trademart Drive:geo:114.2037608,22.3239575
END:VEVENT
BEGIN:VEVENT
DTSTART;TZID=Asia/Hong_Kong:20160521T170000
DTEND;TZID=Asia/Hong_Kong:20160521T170000
DTSTAMP:20260426T094248
CREATED:19160429T215011Z
LAST-MODIFIED:20160429T215819Z
UID:10000499-1463850000-1463850000@www.bcmagazine.net
SUMMARY:C-ute
DESCRIPTION:C-ute Cutie Circuit~Let’s Go to Hong Kong\nDate: 5pm\, 21 May\, 2016\nVenue: Music Zone@E-Max\nTickets: $680 from Cityline
URL:https://www.bcmagazine.net/event/c-ute-2016/
LOCATION:KITEC\, Music Zone@E-Max\, KITEC\,‎ 1 Trademart Drive\, Kowloon Bay\, Hong Kong
CATEGORIES:2016,Concert,Music
GEO:22.3239575;114.2037608
X-APPLE-STRUCTURED-LOCATION;VALUE=URI;X-ADDRESS=KITEC Music Zone@E-Max KITEC‎ 1 Trademart Drive Kowloon Bay Hong Kong;X-APPLE-RADIUS=500;X-TITLE=KITEC\,‎ 1 Trademart Drive:geo:114.2037608,22.3239575
END:VEVENT
BEGIN:VEVENT
DTSTART;TZID=Asia/Hong_Kong:20160521T193000
DTEND;TZID=Asia/Hong_Kong:20160521T193000
DTSTAMP:20260426T094248
CREATED:19160221T065307Z
LAST-MODIFIED:20160221T065851Z
UID:10001388-1463859000-1463859000@www.bcmagazine.net
SUMMARY:Chan Po Chu / Mui Suet See
DESCRIPTION:Chan Po Chu / Mui Suet See\nCantonese Opera\nDate: 7:30pm 7-23 May\, 2016\nVenue: HKAPA\, Lyric Theatre\nTickets: $1\,000\, $880\, $680\, $480\, $280 from HKTicketing
URL:https://www.bcmagazine.net/event/chan-po-chu-mui-suet-see-2016/2016-05-21/
LOCATION:HKAPA: Lyric Theatre\, 1 Gloucester Road\, Wanchai\, Hong Kong
CATEGORIES:2016,Cantonese Opera,Performing Arts
GEO:22.2801854;114.1695054
X-APPLE-STRUCTURED-LOCATION;VALUE=URI;X-ADDRESS=HKAPA: Lyric Theatre 1 Gloucester Road Wanchai Hong Kong;X-APPLE-RADIUS=500;X-TITLE=1 Gloucester Road:geo:114.1695054,22.2801854
END:VEVENT
BEGIN:VEVENT
DTSTART;TZID=Asia/Hong_Kong:20160521T194500
DTEND;TZID=Asia/Hong_Kong:20160521T194500
DTSTAMP:20260426T094248
CREATED:19160327T160737Z
LAST-MODIFIED:20160327T162443Z
UID:10001522-1463859900-1463859900@www.bcmagazine.net
SUMMARY:Postcolonial Affairs of Food and the Heart
DESCRIPTION:Postcolonial Affairs of Food and the Heart\nOn & On Theatre Workshop\nDate: 7:45pm\, 20-24 May\, 2016\nVenue: HK Cultural Centre\, Studio Theatre\nTickets: $280\, $200 from Urbtix\nMore info:\nCantonese Drama
URL:https://www.bcmagazine.net/event/postcolonial-affairs-of-food-and-the-heart-2016/2016-05-21/
LOCATION:HK Cultural Centre\, Studio Theatre\, 10 Salisbury Road\, Tsim Sha Tsui\, Hong Kong
CATEGORIES:2016,Performing Arts,Theatre
END:VEVENT
BEGIN:VEVENT
DTSTART;TZID=Asia/Hong_Kong:20160522T193000
DTEND;TZID=Asia/Hong_Kong:20160522T193000
DTSTAMP:20260426T094248
CREATED:19160221T065307Z
LAST-MODIFIED:20160221T065851Z
UID:10001389-1463945400-1463945400@www.bcmagazine.net
SUMMARY:Chan Po Chu / Mui Suet See
DESCRIPTION:Chan Po Chu / Mui Suet See\nCantonese Opera\nDate: 7:30pm 7-23 May\, 2016\nVenue: HKAPA\, Lyric Theatre\nTickets: $1\,000\, $880\, $680\, $480\, $280 from HKTicketing
URL:https://www.bcmagazine.net/event/chan-po-chu-mui-suet-see-2016/2016-05-22/
LOCATION:HKAPA: Lyric Theatre\, 1 Gloucester Road\, Wanchai\, Hong Kong
CATEGORIES:2016,Cantonese Opera,Performing Arts
GEO:22.2801854;114.1695054
X-APPLE-STRUCTURED-LOCATION;VALUE=URI;X-ADDRESS=HKAPA: Lyric Theatre 1 Gloucester Road Wanchai Hong Kong;X-APPLE-RADIUS=500;X-TITLE=1 Gloucester Road:geo:114.1695054,22.2801854
END:VEVENT
BEGIN:VEVENT
DTSTART;TZID=Asia/Hong_Kong:20160522T194500
DTEND;TZID=Asia/Hong_Kong:20160522T194500
DTSTAMP:20260426T094248
CREATED:19160327T160737Z
LAST-MODIFIED:20160327T162443Z
UID:10001523-1463946300-1463946300@www.bcmagazine.net
SUMMARY:Postcolonial Affairs of Food and the Heart
DESCRIPTION:Postcolonial Affairs of Food and the Heart\nOn & On Theatre Workshop\nDate: 7:45pm\, 20-24 May\, 2016\nVenue: HK Cultural Centre\, Studio Theatre\nTickets: $280\, $200 from Urbtix\nMore info:\nCantonese Drama
URL:https://www.bcmagazine.net/event/postcolonial-affairs-of-food-and-the-heart-2016/2016-05-22/
LOCATION:HK Cultural Centre\, Studio Theatre\, 10 Salisbury Road\, Tsim Sha Tsui\, Hong Kong
CATEGORIES:2016,Performing Arts,Theatre
END:VEVENT
BEGIN:VEVENT
DTSTART;TZID=Asia/Hong_Kong:20160523T193000
DTEND;TZID=Asia/Hong_Kong:20160523T193000
DTSTAMP:20260426T094248
CREATED:19160221T065307Z
LAST-MODIFIED:20160221T065851Z
UID:10001390-1464031800-1464031800@www.bcmagazine.net
SUMMARY:Chan Po Chu / Mui Suet See
DESCRIPTION:Chan Po Chu / Mui Suet See\nCantonese Opera\nDate: 7:30pm 7-23 May\, 2016\nVenue: HKAPA\, Lyric Theatre\nTickets: $1\,000\, $880\, $680\, $480\, $280 from HKTicketing
URL:https://www.bcmagazine.net/event/chan-po-chu-mui-suet-see-2016/2016-05-23/
LOCATION:HKAPA: Lyric Theatre\, 1 Gloucester Road\, Wanchai\, Hong Kong
CATEGORIES:2016,Cantonese Opera,Performing Arts
GEO:22.2801854;114.1695054
X-APPLE-STRUCTURED-LOCATION;VALUE=URI;X-ADDRESS=HKAPA: Lyric Theatre 1 Gloucester Road Wanchai Hong Kong;X-APPLE-RADIUS=500;X-TITLE=1 Gloucester Road:geo:114.1695054,22.2801854
END:VEVENT
BEGIN:VEVENT
DTSTART;TZID=Asia/Hong_Kong:20160523T194500
DTEND;TZID=Asia/Hong_Kong:20160523T194500
DTSTAMP:20260426T094248
CREATED:19160327T160737Z
LAST-MODIFIED:20160327T162443Z
UID:10001524-1464032700-1464032700@www.bcmagazine.net
SUMMARY:Postcolonial Affairs of Food and the Heart
DESCRIPTION:Postcolonial Affairs of Food and the Heart\nOn & On Theatre Workshop\nDate: 7:45pm\, 20-24 May\, 2016\nVenue: HK Cultural Centre\, Studio Theatre\nTickets: $280\, $200 from Urbtix\nMore info:\nCantonese Drama
URL:https://www.bcmagazine.net/event/postcolonial-affairs-of-food-and-the-heart-2016/2016-05-23/
LOCATION:HK Cultural Centre\, Studio Theatre\, 10 Salisbury Road\, Tsim Sha Tsui\, Hong Kong
CATEGORIES:2016,Performing Arts,Theatre
END:VEVENT
BEGIN:VEVENT
DTSTART;TZID=Asia/Hong_Kong:20160524T093000
DTEND;TZID=Asia/Hong_Kong:20160524T183000
DTSTAMP:20260426T094248
CREATED:19160524T020416Z
LAST-MODIFIED:20160524T102608Z
UID:10000510-1464082200-1464114600@www.bcmagazine.net
SUMMARY:Vinexpo
DESCRIPTION:Over 1300 wine producers and distributors from across the globe are exhibiting and showcasing their wines at this year’s Vinexpo. There’s something for everyone to enjoy and taste from the casual wine drinker to the connoisseur. As well as two floors of wine to explore\, there’s seminars and curated tastings to enjoy. \nVinexpo\nDate: 9:30am-6:30pm\, 24-26 May 2016\nVenue: HKCEC\nTickets: $600 (free with invitation)
URL:https://www.bcmagazine.net/event/vinexpo-2016/2016-05-24/
LOCATION:HK Convention and Exhibition Centre\, 1 Expo Drive\, Wanchai\, Hong Kong
CATEGORIES:2016,Exhibition,Food
END:VEVENT
BEGIN:VEVENT
DTSTART;TZID=Asia/Hong_Kong:20160524T194500
DTEND;TZID=Asia/Hong_Kong:20160524T194500
DTSTAMP:20260426T094248
CREATED:19160327T160737Z
LAST-MODIFIED:20160327T162443Z
UID:10001525-1464119100-1464119100@www.bcmagazine.net
SUMMARY:Postcolonial Affairs of Food and the Heart
DESCRIPTION:Postcolonial Affairs of Food and the Heart\nOn & On Theatre Workshop\nDate: 7:45pm\, 20-24 May\, 2016\nVenue: HK Cultural Centre\, Studio Theatre\nTickets: $280\, $200 from Urbtix\nMore info:\nCantonese Drama
URL:https://www.bcmagazine.net/event/postcolonial-affairs-of-food-and-the-heart-2016/2016-05-24/
LOCATION:HK Cultural Centre\, Studio Theatre\, 10 Salisbury Road\, Tsim Sha Tsui\, Hong Kong
CATEGORIES:2016,Performing Arts,Theatre
END:VEVENT
BEGIN:VEVENT
DTSTART;TZID=Asia/Hong_Kong:20160525T093000
DTEND;TZID=Asia/Hong_Kong:20160525T183000
DTSTAMP:20260426T094248
CREATED:19160524T020416Z
LAST-MODIFIED:20160524T102608Z
UID:10000511-1464168600-1464201000@www.bcmagazine.net
SUMMARY:Vinexpo
DESCRIPTION:Over 1300 wine producers and distributors from across the globe are exhibiting and showcasing their wines at this year’s Vinexpo. There’s something for everyone to enjoy and taste from the casual wine drinker to the connoisseur. As well as two floors of wine to explore\, there’s seminars and curated tastings to enjoy. \nVinexpo\nDate: 9:30am-6:30pm\, 24-26 May 2016\nVenue: HKCEC\nTickets: $600 (free with invitation)
URL:https://www.bcmagazine.net/event/vinexpo-2016/2016-05-25/
LOCATION:HK Convention and Exhibition Centre\, 1 Expo Drive\, Wanchai\, Hong Kong
CATEGORIES:2016,Exhibition,Food
END:VEVENT
BEGIN:VEVENT
DTSTART;TZID=Asia/Hong_Kong:20160525T200000
DTEND;TZID=Asia/Hong_Kong:20160525T200000
DTSTAMP:20260426T094248
CREATED:19160331T071358Z
LAST-MODIFIED:20160331T072245Z
UID:10000453-1464206400-1464206400@www.bcmagazine.net
SUMMARY:Metro Vocal Group
DESCRIPTION:Metro Vocal Group – No Borders\nBel Canto Singers\nDate: 8pm\, 25 May\, 2016\nVenue: HK City Hall\, Concert Hall\nTickets: $500\, $350\, $250\, $150 from Urbtix
URL:https://www.bcmagazine.net/event/metro-vocal-group-2016/
LOCATION:HK City Hall\, Concert Hall\,  5 Edinburgh Place\, Central\, Hong Kong
CATEGORIES:2016,Concert,Music,Performing Arts
END:VEVENT
BEGIN:VEVENT
DTSTART;TZID=Asia/Hong_Kong:20160526T093000
DTEND;TZID=Asia/Hong_Kong:20160526T183000
DTSTAMP:20260426T094248
CREATED:19160524T020416Z
LAST-MODIFIED:20160524T102608Z
UID:10000512-1464255000-1464287400@www.bcmagazine.net
SUMMARY:Vinexpo
DESCRIPTION:Over 1300 wine producers and distributors from across the globe are exhibiting and showcasing their wines at this year’s Vinexpo. There’s something for everyone to enjoy and taste from the casual wine drinker to the connoisseur. As well as two floors of wine to explore\, there’s seminars and curated tastings to enjoy. \nVinexpo\nDate: 9:30am-6:30pm\, 24-26 May 2016\nVenue: HKCEC\nTickets: $600 (free with invitation)
URL:https://www.bcmagazine.net/event/vinexpo-2016/2016-05-26/
LOCATION:HK Convention and Exhibition Centre\, 1 Expo Drive\, Wanchai\, Hong Kong
CATEGORIES:2016,Exhibition,Food
END:VEVENT
BEGIN:VEVENT
DTSTART;TZID=Asia/Hong_Kong:20160526T200000
DTEND;TZID=Asia/Hong_Kong:20160526T200000
DTSTAMP:20260426T094248
CREATED:19160327T172235Z
LAST-MODIFIED:20160327T172811Z
UID:10000435-1464292800-1464292800@www.bcmagazine.net
SUMMARY:Albert Au
DESCRIPTION:Albert Au Let’s Sing For Life\nDate: 8pm\, 26-28 May\, 2016\nVenue: Queen Elizabeth Stadium\nTickets: $580\, $480\, $380\, $280\, $180 from Urbtix
URL:https://www.bcmagazine.net/event/albert-au-lets-sing-for-life-2016/2016-05-26/
LOCATION:Queen Elizabeth Stadium\, 18 Oi Kwan Road\, Wanchai\, Hong Kong
CATEGORIES:2016,Concert,Music
GEO:22.2751271;114.1789682
X-APPLE-STRUCTURED-LOCATION;VALUE=URI;X-ADDRESS=Queen Elizabeth Stadium 18 Oi Kwan Road Wanchai Hong Kong;X-APPLE-RADIUS=500;X-TITLE=18 Oi Kwan Road:geo:114.1789682,22.2751271
END:VEVENT
BEGIN:VEVENT
DTSTART;VALUE=DATE:20160527
DTEND;VALUE=DATE:20160529
DTSTAMP:20260426T094248
CREATED:20160524T035332Z
LAST-MODIFIED:20160710T012618Z
UID:10006112-1464307200-1464479999@www.bcmagazine.net
SUMMARY:4th Hong Kong Rum Fest
DESCRIPTION:The 4th Hong Kong Rum Fest\, which marks the end of the month long Rum Run 2016\, takes place on the 27 and 28 May and features a range of masterclasses and after-parties where you can enjoy lots of delicious rum. \nThe masterclasses run from noon on Friday and Saturday at Mahalo Tiki Lounge and feature Global Rum Ambassador Ian Burrell\, a “Rum in the Flair” masterclass by the World Flair Motion Champion Nicolas Saint Jean and appearances from Don Q Rum Global Brand Ambassador Alexx Mouzouris and Mahiki Brand Ambassador & Bar Manager Georgi Radev. \nMaster Classes & After Parties\nFriday 27th May\n12pm – Introduction to the HKRF by Ian Burrell\, Global Rum Ambassador\n12.30pm – Rum in the World Master Class by Ian Burrell\, Global Rum Ambassador\n1.30pm – Indonesian Rums “What is old is new again” by Sam Jeveons (Nusa Cana) and Dre Masso (Potato Head Group Singapore)\n2.30pm – Tiki Culture by Georgi Radev (Mahiki London)\n3.30pm – Rum in the Flair Master Class by Nicolas Saint Jean (Flair Motion)\n4.30pm – “Rum in all states” Mauritian Rum Master Class by Philippe Buchle\n5.30pm – Caribbean Rum Cocktails (Re-Mixed) Ian Burrell talks about his favourite Classic Rum Cocktails and how they have been remixed for 2016\n8pm – After parties: \nHoni Honi Tiki Cocktail Lounge: Celebrate the launch of Rum Fest with Alexx Mouzouris – Don Q Rum’s Global Ambassador\, Georgi Radev from Mahiki (London) and Davide Boncimino from Limehouse Singapore.\nMahalo Tiki Lounge: Celebrate launch of Rum Fest with Nicolas Saint Jean\, the World Flair Motion Champion.\n\nSaturday 28th May\n12pm – HKRR 2016 Cocktail Competition Final with introduction from “Nicolas St Jean Master Flair Show”\n12.30-2pm – Competition starts and finishes.\n2.30pm – Rum in the Flair Master Class by Nicolas Saint Jean (Flair Motion)\n3.30pm – HKRR Cocktail Competition Winner Announcement\n4.30pm – HKRR Winner Master Class led by Ian Burrell\n5pm – Richard Seale Master Distiller Seminar\n6.15pm – Tycoon Private Master Class by Ian Burrell\n8pm – After parties:\n\nMahalo Tiki Lounge: with Nicolas St. Jean\nLily & Bloom: with Alexx Mouzouris\, Don Q Rum’s Global Ambassador and Georgi Radev from Mahiki London\nHoni Honi Tiki Cocktail Lounge: with Davide Boncimino from Limehouse Singapore.\n\n\nThere will also be several new rums\, available in Hong Kong for the first time\, to taste including Black Magic Spiced Rum\, Bumbu Spiced Rum\, Trois Rivieres Agricole Rhum\, Nusa Caña Rum\, Trois Rivières Agricole Rhum\, and a selection of Mauritian Rums.\nRum Run Participating outlets:\nBibo\, Boujis\, Cé La Vi\, Duddell’s\, Fishsteria\, Flint Grill & Bar\, Frites\, Ham & Sherry\, Honi Honi Tiki Cocktail Lounge\, Le Boudoir\, Lily & Bloom\, Mahalo Tiki Lounge\, My House\, On Dining\, The Optimist\, Paradis\, Pirata\, Quinary\, Rummin’ Tings\, Stockton\, The Continental\, The Envoy\, The Pawn\, The Pontiac\, The Woods\, Zuma \nWARNING Mahalo bar staff have a nasty habit of taking your unfinished drink while your chatting with friends\, dancing or grabbing a smoke. And then giving you that blank I don’t know what you’re talking about look before asking you to buy another. \n4th Hong Kong Rum Fest\nDate: 27-28 May\, 2016\nVenue: Mahalo Tiki Lounge\nAfter parties: Lily & Bloom\, Honi Honi Tiki Cocktail Lounge\nTickets: Free
URL:https://www.bcmagazine.net/event/4th-hong-kong-rum-fest-2016/
LOCATION:Mahalo Tiki Lounge\, 29/F\, QRE Plaza\, 202 Queens Road East\, Wanchai\, Hong Kong
CATEGORIES:2016,Food,Nightlife
GEO:22.2749791;114.1722099
X-APPLE-STRUCTURED-LOCATION;VALUE=URI;X-ADDRESS=Mahalo Tiki Lounge 29/F QRE Plaza 202 Queens Road East Wanchai Hong Kong;X-APPLE-RADIUS=500;X-TITLE=29/F\, QRE Plaza\, 202 Queens Road East:geo:114.1722099,22.2749791
END:VEVENT
BEGIN:VEVENT
DTSTART;TZID=Asia/Hong_Kong:20160527T193000
DTEND;TZID=Asia/Hong_Kong:20160527T193000
DTSTAMP:20260426T094248
CREATED:19160327T153301Z
LAST-MODIFIED:20160327T153800Z
UID:10001509-1464377400-1464377400@www.bcmagazine.net
SUMMARY:Romeo et Juliette
DESCRIPTION:Romeo et Juliette\nLe French May\, Opera Hong Kong\nDate: 7:30pm\, 27-29 May\, 2016\nVenue: HK Cultural Centre\, Grand Theatre\nTickets: $800\, $680\, $420\, $300\, $150 from Urbtix
URL:https://www.bcmagazine.net/event/romeo-et-juliette/2016-05-27/
LOCATION:HK Cultural Centre\, Grand Theatre\,\, 10 Salisbury Road\, Tsim Sha Tsui\, Hong Kong
CATEGORIES:2016,Concert,Cultural Festival,Music,Performing Arts
GEO:22.294318;114.171708
X-APPLE-STRUCTURED-LOCATION;VALUE=URI;X-ADDRESS=HK Cultural Centre Grand Theatre 10 Salisbury Road Tsim Sha Tsui Hong Kong;X-APPLE-RADIUS=500;X-TITLE=10 Salisbury Road:geo:114.171708,22.294318
END:VEVENT
BEGIN:VEVENT
DTSTART;TZID=Asia/Hong_Kong:20160527T200000
DTEND;TZID=Asia/Hong_Kong:20160527T200000
DTSTAMP:20260426T094248
CREATED:19160331T072258Z
LAST-MODIFIED:20160331T072452Z
UID:10000455-1464379200-1464379200@www.bcmagazine.net
SUMMARY:Melody Light Charity Concert
DESCRIPTION:Melody Light Charity Concert\nDate: 8pm\, 27 May\, 2016\nVenue: HK City Hall\, Concert Hall\nTickets: $1\,000\, $360\, $260\, $120 from Urbtix
URL:https://www.bcmagazine.net/event/melody-light-charity-concert-2016/
LOCATION:HK City Hall\, Concert Hall\,  5 Edinburgh Place\, Central\, Hong Kong
CATEGORIES:2016,Concert,Music,Performing Arts
END:VEVENT
BEGIN:VEVENT
DTSTART;TZID=Asia/Hong_Kong:20160527T200000
DTEND;TZID=Asia/Hong_Kong:20160527T200000
DTSTAMP:20260426T094248
CREATED:19160429T213736Z
LAST-MODIFIED:20160429T214304Z
UID:10001590-1464379200-1464379200@www.bcmagazine.net
SUMMARY:Mastamic
DESCRIPTION:Mastamic\nDate: 8pm\, 27 May\, 2016\nVenue: Music Zone@E-Max\nTickets: tbc
URL:https://www.bcmagazine.net/event/mastamic-2016/
LOCATION:KITEC\, Music Zone@E-Max\, KITEC\,‎ 1 Trademart Drive\, Kowloon Bay\, Hong Kong
CATEGORIES:2016,Concert,Music
GEO:22.3239575;114.2037608
X-APPLE-STRUCTURED-LOCATION;VALUE=URI;X-ADDRESS=KITEC Music Zone@E-Max KITEC‎ 1 Trademart Drive Kowloon Bay Hong Kong;X-APPLE-RADIUS=500;X-TITLE=KITEC\,‎ 1 Trademart Drive:geo:114.2037608,22.3239575
END:VEVENT
BEGIN:VEVENT
DTSTART;VALUE=DATE:20160528
DTEND;VALUE=DATE:20160530
DTSTAMP:20260426T094248
CREATED:20160510T161802Z
LAST-MODIFIED:20160510T182932Z
UID:10006108-1464393600-1464566399@www.bcmagazine.net
SUMMARY:T20 Blitz
DESCRIPTION:FREE mobile phone with the first 500 tickets sold for each day \n \nT20 Blitz\nDate: 28-29 May\, 2016\nVenue: Tin Kwong Road Recreation Ground\nTickets: $100 from Ticketflap
URL:https://www.bcmagazine.net/event/t20-blitz-2016/
LOCATION:Tin Kwong Road Recreation Ground\, Tin Kwong Road\, Mong Kok\, Hong Kong
CATEGORIES:2016,Cricket,Sport
GEO:22.3219997;114.1847986
X-APPLE-STRUCTURED-LOCATION;VALUE=URI;X-ADDRESS=Tin Kwong Road Recreation Ground Tin Kwong Road Mong Kok Hong Kong;X-APPLE-RADIUS=500;X-TITLE=Tin Kwong Road:geo:114.1847986,22.3219997
END:VEVENT
BEGIN:VEVENT
DTSTART;TZID=Asia/Hong_Kong:20160528T150000
DTEND;TZID=Asia/Hong_Kong:20160528T170000
DTSTAMP:20260426T094248
CREATED:19160327T151537Z
LAST-MODIFIED:20160327T153923Z
UID:10001506-1464447600-1464454800@www.bcmagazine.net
SUMMARY:A Love Insight - Romeo et Juliette
DESCRIPTION:A Love Insight – Romeo et Juliette\nOpera Hong Kong\nDate: 28\, 30 May\, 2016\nVenue: HK Cultural Centre\, Grand Theatre\nTickets: $220\, $180\, $120\, $60 from Urbtix
URL:https://www.bcmagazine.net/event/a-love-insight-romeo-et-juliette/
LOCATION:HK Cultural Centre\, Grand Theatre\,\, 10 Salisbury Road\, Tsim Sha Tsui\, Hong Kong
CATEGORIES:2016,Concert,Music,Performing Arts
GEO:22.294318;114.171708
X-APPLE-STRUCTURED-LOCATION;VALUE=URI;X-ADDRESS=HK Cultural Centre Grand Theatre 10 Salisbury Road Tsim Sha Tsui Hong Kong;X-APPLE-RADIUS=500;X-TITLE=10 Salisbury Road:geo:114.171708,22.294318
END:VEVENT
BEGIN:VEVENT
DTSTART;TZID=Asia/Hong_Kong:20160528T190000
DTEND;TZID=Asia/Hong_Kong:20160528T190000
DTSTAMP:20260426T094248
CREATED:19160518T015412Z
LAST-MODIFIED:20160518T015920Z
UID:10000508-1464462000-1464462000@www.bcmagazine.net
SUMMARY:Dancing in the Park
DESCRIPTION:Dancing in the Park\nDate: 7pm\, 28 May\, 2016\nVenue: Tamar Park\nTickets: Free
URL:https://www.bcmagazine.net/event/dancing-in-the-park-05-2016/
LOCATION:Tamar Park\, Harcourt Road\, Admiralty\, Hong Kong
CATEGORIES:2016,Dance,Free,Nightlife
GEO:22.2797904;114.1649412
X-APPLE-STRUCTURED-LOCATION;VALUE=URI;X-ADDRESS=Tamar Park Harcourt Road Admiralty Hong Kong;X-APPLE-RADIUS=500;X-TITLE=Harcourt Road:geo:114.1649412,22.2797904
END:VEVENT
BEGIN:VEVENT
DTSTART;TZID=Asia/Hong_Kong:20160528T193000
DTEND;TZID=Asia/Hong_Kong:20160528T193000
DTSTAMP:20260426T094248
CREATED:19160327T153301Z
LAST-MODIFIED:20160327T153800Z
UID:10001510-1464463800-1464463800@www.bcmagazine.net
SUMMARY:Romeo et Juliette
DESCRIPTION:Romeo et Juliette\nLe French May\, Opera Hong Kong\nDate: 7:30pm\, 27-29 May\, 2016\nVenue: HK Cultural Centre\, Grand Theatre\nTickets: $800\, $680\, $420\, $300\, $150 from Urbtix
URL:https://www.bcmagazine.net/event/romeo-et-juliette/2016-05-28/
LOCATION:HK Cultural Centre\, Grand Theatre\,\, 10 Salisbury Road\, Tsim Sha Tsui\, Hong Kong
CATEGORIES:2016,Concert,Cultural Festival,Music,Performing Arts
GEO:22.294318;114.171708
X-APPLE-STRUCTURED-LOCATION;VALUE=URI;X-ADDRESS=HK Cultural Centre Grand Theatre 10 Salisbury Road Tsim Sha Tsui Hong Kong;X-APPLE-RADIUS=500;X-TITLE=10 Salisbury Road:geo:114.171708,22.294318
END:VEVENT
BEGIN:VEVENT
DTSTART;TZID=Asia/Hong_Kong:20160528T194500
DTEND;TZID=Asia/Hong_Kong:20160528T194500
DTSTAMP:20260426T094248
CREATED:19160307T042013Z
LAST-MODIFIED:20160308T025112Z
UID:10000366-1464464700-1464464700@www.bcmagazine.net
SUMMARY:Whose Wife is it Anyway?
DESCRIPTION:Whose Wife is it Anyway?\nHong Kong Repertory Theatre\nDate: 28 May – 12 June\, 2016\nVenue: HK City Hall\, Theatre\nTickets: $300\, $250\, $180 from Urbtix\nMore info:\n28\, 31 May; 1-4\, 7-8\, 10-11 June – 7:45pm\n29 May; 4-5\, 9\, 11-12 June – 2:45pm\nIn Cantonese with English surtitles
URL:https://www.bcmagazine.net/event/whose-wife-is-it-anyway/2016-05-28/
LOCATION:HK City Hall\, Theatre\, 5 Edinburgh Place\, Central\, Hong Kong
CATEGORIES:2016,Performing Arts,Theatre,Theatre
GEO:22.2822646;114.1615275
X-APPLE-STRUCTURED-LOCATION;VALUE=URI;X-ADDRESS=HK City Hall Theatre 5 Edinburgh Place Central Hong Kong;X-APPLE-RADIUS=500;X-TITLE=5 Edinburgh Place:geo:114.1615275,22.2822646
END:VEVENT
END:VCALENDAR