BEGIN:VCALENDAR
VERSION:2.0
PRODID:-//bc magazine - ECPv6.15.20//NONSGML v1.0//EN
CALSCALE:GREGORIAN
METHOD:PUBLISH
X-WR-CALNAME:bc magazine
X-ORIGINAL-URL:https://www.bcmagazine.net
X-WR-CALDESC:Events for bc magazine
REFRESH-INTERVAL;VALUE=DURATION:PT1H
X-Robots-Tag:noindex
X-PUBLISHED-TTL:PT1H
BEGIN:VTIMEZONE
TZID:Asia/Hong_Kong
BEGIN:STANDARD
TZOFFSETFROM:+0800
TZOFFSETTO:+0800
TZNAME:HKT
DTSTART:20150101T000000
END:STANDARD
END:VTIMEZONE
BEGIN:VEVENT
DTSTART;VALUE=DATE:20160909
DTEND;VALUE=DATE:20161017
DTSTAMP:20260426T122641
CREATED:19160725T052105Z
LAST-MODIFIED:20160725T052258Z
UID:10001919-1473379200-1476662399@www.bcmagazine.net
SUMMARY:Chinese Documentary Festival 2016
DESCRIPTION:Chinese Documentary Festival 2016\nDate: 9 September – 16 October\, 2016\nVenue:\nHong Kong Space Museum (10 Salisbury Road\, TST)\nHong Kong Science Museum (2 Observatory Road\, TST)\nThe Grand Cinema (2/F\, Elements\, 1 Austin Road West\, TST)\nTickets: $85\, $70\nMore info: www.visiblerecord.com
URL:https://www.bcmagazine.net/event/chinese-documentary-festival-2016/
CATEGORIES:2016,Cultural Festival,Film
END:VEVENT
BEGIN:VEVENT
DTSTART;VALUE=DATE:20160917
DTEND;VALUE=DATE:20161003
DTSTAMP:20260426T122641
CREATED:20160825T060915Z
LAST-MODIFIED:20160914T062906Z
UID:10006128-1474070400-1475452799@www.bcmagazine.net
SUMMARY:HK Lesbian & Gay Film Festival 2016
DESCRIPTION:The 27th Hong Kong Lesbian & Gay Film Festival (HKLGFF) opens and closes with documentary films and in-between showcases a wide range of Western and Asian LGBT films for audiences to enjoy. \nHK Lesbian & Gay Film Festival 2016\nDate: 17 September – 2 October\, 2016\nVenue: Palace ifc ($110)\, The ONE ($95) & Broadway Cinematheque ($85)\nTickets: $110\, $95\, $85\nMore info: www.hklgff.hk
URL:https://www.bcmagazine.net/event/hk-lesbian-gay-film-festival-2016/
CATEGORIES:2016,Cultural Festival,Film,LGBT
END:VEVENT
BEGIN:VEVENT
DTSTART;VALUE=DATE:20161001
DTEND;VALUE=DATE:20161002
DTSTAMP:20260426T122641
CREATED:19160223T063818Z
LAST-MODIFIED:20160223T064019Z
UID:10000356-1475280000-1475366399@www.bcmagazine.net
SUMMARY:Sundance Film Festival: Hong Kong
DESCRIPTION:Sundance Film Festival: Hong Kong\nDate: 22 September – 2 October\, 2016\nVenue: The Metroplex\nTickets: tbc
URL:https://www.bcmagazine.net/event/sundance-film-festival-hong-kong/2016-10-01/
LOCATION:The Metroplex\, Kowloon Bay\, Hong Kong
CATEGORIES:2016,Film
END:VEVENT
BEGIN:VEVENT
DTSTART;TZID=Asia/Hong_Kong:20161001T130000
DTEND;TZID=Asia/Hong_Kong:20161001T130000
DTSTAMP:20260426T122641
CREATED:20160919T105017Z
LAST-MODIFIED:20160919T105017Z
UID:10006294-1475326800-1475326800@www.bcmagazine.net
SUMMARY:Pakistan Association v HKCC Nomads
DESCRIPTION:Championship League A: Pakistan Association v HKCC Nomads
URL:https://www.bcmagazine.net/event/pakistan-association-v-hkcc-nomads/
LOCATION:Hong Kong Cricket Club\, 137 Wong Ngai Chung Gap Road\, Hong Kong
CATEGORIES:2016,Cricket,Free,Sport
GEO:22.258574;114.1934009
X-APPLE-STRUCTURED-LOCATION;VALUE=URI;X-ADDRESS=Hong Kong Cricket Club 137 Wong Ngai Chung Gap Road Hong Kong;X-APPLE-RADIUS=500;X-TITLE=137 Wong Ngai Chung Gap Road:geo:114.1934009,22.258574
END:VEVENT
BEGIN:VEVENT
DTSTART;TZID=Asia/Hong_Kong:20161001T130000
DTEND;TZID=Asia/Hong_Kong:20161001T130000
DTSTAMP:20260426T122641
CREATED:20160919T105018Z
LAST-MODIFIED:20160919T105018Z
UID:10006297-1475326800-1475326800@www.bcmagazine.net
SUMMARY:SCC Lancers v CCC Hung See
DESCRIPTION:Championship League B: SCC Lancers v CCC Hung See
URL:https://www.bcmagazine.net/event/scc-lancers-v-ccc-hung-see/
LOCATION:Police Training College\, Police School Road\, Aberdeen\, Hong Kong
CATEGORIES:2016,Cricket,Free,Sport
GEO:22.246154;114.1706686
X-APPLE-STRUCTURED-LOCATION;VALUE=URI;X-ADDRESS=Police Training College Police School Road Aberdeen Hong Kong;X-APPLE-RADIUS=500;X-TITLE=Police School Road:geo:114.1706686,22.246154
END:VEVENT
BEGIN:VEVENT
DTSTART;TZID=Asia/Hong_Kong:20161001T130000
DTEND;TZID=Asia/Hong_Kong:20161001T200000
DTSTAMP:20260426T122641
CREATED:19160906T150024Z
LAST-MODIFIED:20160909T024627Z
UID:10000766-1475326800-1475352000@www.bcmagazine.net
SUMMARY:MGM Macau Oktoberfest
DESCRIPTION:MGM Macau Oktoberfest\nDate: 1-8pm\, 12 September – 23 October\, 2016\nVenue: MGM Macau\nTickets: $16o
URL:https://www.bcmagazine.net/event/mgm-macau-oktoberfest-2016/2016-10-01/
LOCATION:Hong Kong
CATEGORIES:2016,Food,Macau,Nightlife
END:VEVENT
BEGIN:VEVENT
DTSTART;TZID=Asia/Hong_Kong:20161001T150000
DTEND;TZID=Asia/Hong_Kong:20161001T170000
DTSTAMP:20260426T122641
CREATED:19160912T061622Z
LAST-MODIFIED:20160912T062011Z
UID:10002114-1475334000-1475341200@www.bcmagazine.net
SUMMARY:Neighbourhood
DESCRIPTION:Neighbourhood\nTalents World\nDate: 1-2 October\, 2016\nVenue: Sheung Wan Civic Centre\, Lecture Hall\nTickets: $150 from Urbtix
URL:https://www.bcmagazine.net/event/neighbourhood/2016-10-01/
LOCATION:Sheung Wan Civic Centre\, Lecture Hall\, 345 Queen's Road Central\, Sheung Wan\, Hong Kong
CATEGORIES:2016,Performing Arts,Theatre
GEO:22.286086;114.149854
X-APPLE-STRUCTURED-LOCATION;VALUE=URI;X-ADDRESS=Sheung Wan Civic Centre Lecture Hall 345 Queen's Road Central Sheung Wan Hong Kong;X-APPLE-RADIUS=500;X-TITLE=345 Queen's Road Central:geo:114.149854,22.286086
END:VEVENT
BEGIN:VEVENT
DTSTART;TZID=Asia/Hong_Kong:20161001T170000
DTEND;TZID=Asia/Hong_Kong:20161001T170000
DTSTAMP:20260426T122641
CREATED:19160829T030822Z
LAST-MODIFIED:20160829T031325Z
UID:10002009-1475341200-1475341200@www.bcmagazine.net
SUMMARY:The Gruffalo's Child
DESCRIPTION:The Gruffalo’s Child\nDate: 30 September – 2 October\, 2016\nVenue: HKAPA\, Drama Theatre\nTickets: $435\, $385\, $335\, $195 from HKTicketing\nMore info:\n30 Sep – 5pm\n1-2 Oct – at 11am\, 2pm & 4:30pm
URL:https://www.bcmagazine.net/event/the-gruffalos-child-2016/2016-10-01/
LOCATION:HKAPA: Drama Theatre\, 1 Gloucester Road\, Wanchai\, Hong Kong
CATEGORIES:2016,Performing Arts,Theatre
GEO:22.2801854;114.1695054
X-APPLE-STRUCTURED-LOCATION;VALUE=URI;X-ADDRESS=HKAPA: Drama Theatre 1 Gloucester Road Wanchai Hong Kong;X-APPLE-RADIUS=500;X-TITLE=1 Gloucester Road:geo:114.1695054,22.2801854
END:VEVENT
BEGIN:VEVENT
DTSTART;TZID=Asia/Hong_Kong:20161001T191500
DTEND;TZID=Asia/Hong_Kong:20161001T191500
DTSTAMP:20260426T122641
CREATED:19160912T052043Z
LAST-MODIFIED:20160912T052325Z
UID:10000800-1475349300-1475349300@www.bcmagazine.net
SUMMARY:Li Ming Ying
DESCRIPTION:Li Ming Ying The Chinese Folk-Song and Art Association\nDate: 1 October\, 2016\nVenue: Sheung Wan Civic Centre\, Theatre\nTickets: $280\, $100 from Urbtix
URL:https://www.bcmagazine.net/event/li-ming-ying-10-2016/
LOCATION:Sheung Wan Civic Centre\, Theatre\, 345 Queen's Road Central\, Sheung Wan\, Hong Kong
CATEGORIES:2016,Concert,Music,Performing Arts
GEO:22.2861929;114.1497606
X-APPLE-STRUCTURED-LOCATION;VALUE=URI;X-ADDRESS=Sheung Wan Civic Centre Theatre 345 Queen's Road Central Sheung Wan Hong Kong;X-APPLE-RADIUS=500;X-TITLE=345 Queen's Road Central:geo:114.1497606,22.2861929
END:VEVENT
BEGIN:VEVENT
DTSTART;TZID=Asia/Hong_Kong:20161001T200000
DTEND;TZID=Asia/Hong_Kong:20161001T200000
DTSTAMP:20260426T122641
CREATED:19160825T031059Z
LAST-MODIFIED:20160825T031402Z
UID:10001963-1475352000-1475352000@www.bcmagazine.net
SUMMARY:Ben Phillips
DESCRIPTION:Ben Phillips\nDate: 1 September\, 2016\nVenue: HMV\nTickets: tbc from Ticketflap
URL:https://www.bcmagazine.net/event/ben-phillips-2016/
LOCATION:HMV Bar & Restaurant\, 4/F Pearl City\, 22-36 Paterson Street\, Causeway Bay\, Hong Kong
CATEGORIES:2016,Nightlife
GEO:22.2809926;114.1858675
X-APPLE-STRUCTURED-LOCATION;VALUE=URI;X-ADDRESS=HMV Bar & Restaurant 4/F Pearl City 22-36 Paterson Street Causeway Bay Hong Kong;X-APPLE-RADIUS=500;X-TITLE=4/F Pearl City\, 22-36 Paterson Street:geo:114.1858675,22.2809926
END:VEVENT
BEGIN:VEVENT
DTSTART;TZID=Asia/Hong_Kong:20161001T200000
DTEND;TZID=Asia/Hong_Kong:20161001T200000
DTSTAMP:20260426T122641
CREATED:19160829T023047Z
LAST-MODIFIED:20160829T023637Z
UID:10001977-1475352000-1475352000@www.bcmagazine.net
SUMMARY:Stomp
DESCRIPTION:Stomp\nDate: 23 September-9 October\, 2016\nVenue: Venetian Theatre\nTickets: $780\, $580\, $380\, $180 from HKTicketing\nMore info:\nTue – Fri: 8pm\nSat: 2pm & 8pm\nSun: 1pm & 6pm
URL:https://www.bcmagazine.net/event/stomp-macau-2016/2016-10-01/
LOCATION:The Venetian Theatre\, Venetian Macao\, Taipa\, Macau
CATEGORIES:2016,Market,Musical,Performing Arts
GEO:22.1483528;113.5602019
X-APPLE-STRUCTURED-LOCATION;VALUE=URI;X-ADDRESS=The Venetian Theatre Venetian Macao Taipa Macau;X-APPLE-RADIUS=500;X-TITLE=Venetian Macao:geo:113.5602019,22.1483528
END:VEVENT
BEGIN:VEVENT
DTSTART;TZID=Asia/Hong_Kong:20161001T200000
DTEND;TZID=Asia/Hong_Kong:20161001T200000
DTSTAMP:20260426T122641
CREATED:19160829T025325Z
LAST-MODIFIED:20160921T144637Z
UID:10001992-1475352000-1475352000@www.bcmagazine.net
SUMMARY:A Midsummer Night's Dream
DESCRIPTION:A Midsummer Night’s Dream\nDate: 30 September – 22 October\, 2016\nVenue: HKAPA\, Lyric Theatre\nTickets:\nWednesday+ Thursday: $980\, $780\, $580\, $380\, $280\, $180\nFriday + Saturday $1\,180\, $980\, $680\, $480\, $380\, $280\nfrom HKTicketing\nMore info:\nMon-Tue: no show\nWed-Sat: 8pm\nSun: 3pm\n*No show on 12 Oct 2016 (Wed)\nDrama in Cantonese (with both Chinese & English surtitles)
URL:https://www.bcmagazine.net/event/dct-a-midsummer-nights-dream-2016/2016-10-01/
LOCATION:HKAPA: Lyric Theatre\, 1 Gloucester Road\, Wanchai\, Hong Kong
CATEGORIES:2016,Performing Arts,Theatre
GEO:22.2801854;114.1695054
X-APPLE-STRUCTURED-LOCATION;VALUE=URI;X-ADDRESS=HKAPA: Lyric Theatre 1 Gloucester Road Wanchai Hong Kong;X-APPLE-RADIUS=500;X-TITLE=1 Gloucester Road:geo:114.1695054,22.2801854
END:VEVENT
BEGIN:VEVENT
DTSTART;VALUE=DATE:20161002
DTEND;VALUE=DATE:20161003
DTSTAMP:20260426T122641
CREATED:19160223T063818Z
LAST-MODIFIED:20160223T064019Z
UID:10000357-1475366400-1475452799@www.bcmagazine.net
SUMMARY:Sundance Film Festival: Hong Kong
DESCRIPTION:Sundance Film Festival: Hong Kong\nDate: 22 September – 2 October\, 2016\nVenue: The Metroplex\nTickets: tbc
URL:https://www.bcmagazine.net/event/sundance-film-festival-hong-kong/2016-10-02/
LOCATION:The Metroplex\, Kowloon Bay\, Hong Kong
CATEGORIES:2016,Film
END:VEVENT
BEGIN:VEVENT
DTSTART;TZID=Asia/Hong_Kong:20161002T090000
DTEND;TZID=Asia/Hong_Kong:20161002T090000
DTSTAMP:20260426T122641
CREATED:20160919T105017Z
LAST-MODIFIED:20160919T105017Z
UID:10006295-1475398800-1475398800@www.bcmagazine.net
SUMMARY:KCC Maidens v CCC Fung Wong
DESCRIPTION:Women’s T20 A: KCC Maidens v CCC Fung Wong
URL:https://www.bcmagazine.net/event/kcc-maidens-v-ccc-fung-wong-2/
LOCATION:Po Kong Village Road Reservoir Ground\, Po Kong Village Road\, Tsz Wan Shan\, Hong Kong
CATEGORIES:2016,Cricket,Free,Sport
GEO:22.346522;114.204203
X-APPLE-STRUCTURED-LOCATION;VALUE=URI;X-ADDRESS=Po Kong Village Road Reservoir Ground Po Kong Village Road Tsz Wan Shan Hong Kong;X-APPLE-RADIUS=500;X-TITLE=Po Kong Village Road:geo:114.204203,22.346522
END:VEVENT
BEGIN:VEVENT
DTSTART;TZID=Asia/Hong_Kong:20161002T100000
DTEND;TZID=Asia/Hong_Kong:20161002T100000
DTSTAMP:20260426T122641
CREATED:20160919T105016Z
LAST-MODIFIED:20160919T105016Z
UID:10006290-1475402400-1475402400@www.bcmagazine.net
SUMMARY:HKCC v PACC
DESCRIPTION:Premier League 1-Day A: HKCC v PACC
URL:https://www.bcmagazine.net/event/hkcc-v-pacc/
LOCATION:Hong Kong Cricket Club\, 137 Wong Ngai Chung Gap Road\, Hong Kong
CATEGORIES:2016,Cricket,Free,Sport
GEO:22.258574;114.1934009
X-APPLE-STRUCTURED-LOCATION;VALUE=URI;X-ADDRESS=Hong Kong Cricket Club 137 Wong Ngai Chung Gap Road Hong Kong;X-APPLE-RADIUS=500;X-TITLE=137 Wong Ngai Chung Gap Road:geo:114.1934009,22.258574
END:VEVENT
BEGIN:VEVENT
DTSTART;TZID=Asia/Hong_Kong:20161002T100000
DTEND;TZID=Asia/Hong_Kong:20161002T100000
DTSTAMP:20260426T122641
CREATED:20160919T105016Z
LAST-MODIFIED:20160919T105016Z
UID:10006291-1475402400-1475402400@www.bcmagazine.net
SUMMARY:DLSWCC v KCC
DESCRIPTION:Premier League 1-Day A: DLSWCC v KCC
URL:https://www.bcmagazine.net/event/dlswcc-v-kcc/
LOCATION:Kowloon Cricket Club\, 10 Cox's Road\, Jordan\, Hong Kong
CATEGORIES:2016,Cricket,Free,Sport
GEO:22.3048927;114.1737401
X-APPLE-STRUCTURED-LOCATION;VALUE=URI;X-ADDRESS=Kowloon Cricket Club 10 Cox's Road Jordan Hong Kong;X-APPLE-RADIUS=500;X-TITLE=10 Cox's Road:geo:114.1737401,22.3048927
END:VEVENT
BEGIN:VEVENT
DTSTART;TZID=Asia/Hong_Kong:20161002T123000
DTEND;TZID=Asia/Hong_Kong:20161002T123000
DTSTAMP:20260426T122641
CREATED:20160919T105016Z
LAST-MODIFIED:20160919T105016Z
UID:10006292-1475411400-1475411400@www.bcmagazine.net
SUMMARY:Kai Tak v HKU CC
DESCRIPTION:Championship League B: Kai Tak v HKU CC
URL:https://www.bcmagazine.net/event/kai-tak-v-hku-cc/
LOCATION:Po Kong Village Road Park\, 140 Po Kong Village Road\, Diamond Hill\, Hong Kong
CATEGORIES:2016,Cricket,Free,Sport
GEO:22.3435827;114.2044989
X-APPLE-STRUCTURED-LOCATION;VALUE=URI;X-ADDRESS=Po Kong Village Road Park 140 Po Kong Village Road Diamond Hill Hong Kong;X-APPLE-RADIUS=500;X-TITLE=140 Po Kong Village Road:geo:114.2044989,22.3435827
END:VEVENT
BEGIN:VEVENT
DTSTART;TZID=Asia/Hong_Kong:20161002T123000
DTEND;TZID=Asia/Hong_Kong:20161002T123000
DTSTAMP:20260426T122641
CREATED:20160919T105016Z
LAST-MODIFIED:20160919T105016Z
UID:10006293-1475411400-1475411400@www.bcmagazine.net
SUMMARY:CCC Fung Wong v HKCC Willow Wielders
DESCRIPTION:Women’s T20 A: CCC Fung Wong v HKCC Willow Wielders
URL:https://www.bcmagazine.net/event/ccc-fung-wong-v-hkcc-willow-wielders-2/
LOCATION:Po Kong Village Road Reservoir Ground\, Po Kong Village Road\, Tsz Wan Shan\, Hong Kong
CATEGORIES:2016,Cricket,Free,Sport
GEO:22.346522;114.204203
X-APPLE-STRUCTURED-LOCATION;VALUE=URI;X-ADDRESS=Po Kong Village Road Reservoir Ground Po Kong Village Road Tsz Wan Shan Hong Kong;X-APPLE-RADIUS=500;X-TITLE=Po Kong Village Road:geo:114.204203,22.346522
END:VEVENT
BEGIN:VEVENT
DTSTART;TZID=Asia/Hong_Kong:20161002T130000
DTEND;TZID=Asia/Hong_Kong:20161002T200000
DTSTAMP:20260426T122641
CREATED:19160906T150024Z
LAST-MODIFIED:20160909T024627Z
UID:10000767-1475413200-1475438400@www.bcmagazine.net
SUMMARY:MGM Macau Oktoberfest
DESCRIPTION:MGM Macau Oktoberfest\nDate: 1-8pm\, 12 September – 23 October\, 2016\nVenue: MGM Macau\nTickets: $16o
URL:https://www.bcmagazine.net/event/mgm-macau-oktoberfest-2016/2016-10-02/
LOCATION:Hong Kong
CATEGORIES:2016,Food,Macau,Nightlife
END:VEVENT
BEGIN:VEVENT
DTSTART;TZID=Asia/Hong_Kong:20161002T150000
DTEND;TZID=Asia/Hong_Kong:20161002T150000
DTSTAMP:20260426T122641
CREATED:19160912T052332Z
LAST-MODIFIED:20160912T052558Z
UID:10000801-1475420400-1475420400@www.bcmagazine.net
SUMMARY:Belilios Winds
DESCRIPTION:Belilios Winds: Beli Bala Concert\nDate: 3pm\, 2 October\, 2016\nVenue: Sheung Wan Civic Centre\, Theatre\nTickets: $130\, $100 from Urbtix
URL:https://www.bcmagazine.net/event/belilios-winds-beli-bala-2016/
LOCATION:Sheung Wan Civic Centre\, Theatre\, 345 Queen's Road Central\, Sheung Wan\, Hong Kong
GEO:22.2861929;114.1497606
X-APPLE-STRUCTURED-LOCATION;VALUE=URI;X-ADDRESS=Sheung Wan Civic Centre Theatre 345 Queen's Road Central Sheung Wan Hong Kong;X-APPLE-RADIUS=500;X-TITLE=345 Queen's Road Central:geo:114.1497606,22.2861929
END:VEVENT
BEGIN:VEVENT
DTSTART;TZID=Asia/Hong_Kong:20161002T150000
DTEND;TZID=Asia/Hong_Kong:20161002T170000
DTSTAMP:20260426T122641
CREATED:19160912T061622Z
LAST-MODIFIED:20160912T062011Z
UID:10002115-1475420400-1475427600@www.bcmagazine.net
SUMMARY:Neighbourhood
DESCRIPTION:Neighbourhood\nTalents World\nDate: 1-2 October\, 2016\nVenue: Sheung Wan Civic Centre\, Lecture Hall\nTickets: $150 from Urbtix
URL:https://www.bcmagazine.net/event/neighbourhood/2016-10-02/
LOCATION:Sheung Wan Civic Centre\, Lecture Hall\, 345 Queen's Road Central\, Sheung Wan\, Hong Kong
CATEGORIES:2016,Performing Arts,Theatre
GEO:22.286086;114.149854
X-APPLE-STRUCTURED-LOCATION;VALUE=URI;X-ADDRESS=Sheung Wan Civic Centre Lecture Hall 345 Queen's Road Central Sheung Wan Hong Kong;X-APPLE-RADIUS=500;X-TITLE=345 Queen's Road Central:geo:114.149854,22.286086
END:VEVENT
BEGIN:VEVENT
DTSTART;TZID=Asia/Hong_Kong:20161002T170000
DTEND;TZID=Asia/Hong_Kong:20161002T170000
DTSTAMP:20260426T122641
CREATED:19160829T030822Z
LAST-MODIFIED:20160829T031325Z
UID:10002010-1475427600-1475427600@www.bcmagazine.net
SUMMARY:The Gruffalo's Child
DESCRIPTION:The Gruffalo’s Child\nDate: 30 September – 2 October\, 2016\nVenue: HKAPA\, Drama Theatre\nTickets: $435\, $385\, $335\, $195 from HKTicketing\nMore info:\n30 Sep – 5pm\n1-2 Oct – at 11am\, 2pm & 4:30pm
URL:https://www.bcmagazine.net/event/the-gruffalos-child-2016/2016-10-02/
LOCATION:HKAPA: Drama Theatre\, 1 Gloucester Road\, Wanchai\, Hong Kong
CATEGORIES:2016,Performing Arts,Theatre
GEO:22.2801854;114.1695054
X-APPLE-STRUCTURED-LOCATION;VALUE=URI;X-ADDRESS=HKAPA: Drama Theatre 1 Gloucester Road Wanchai Hong Kong;X-APPLE-RADIUS=500;X-TITLE=1 Gloucester Road:geo:114.1695054,22.2801854
END:VEVENT
BEGIN:VEVENT
DTSTART;TZID=Asia/Hong_Kong:20161002T200000
DTEND;TZID=Asia/Hong_Kong:20161002T200000
DTSTAMP:20260426T122641
CREATED:19160221T072449Z
LAST-MODIFIED:20160829T025551Z
UID:10001406-1475438400-1475438400@www.bcmagazine.net
SUMMARY:Hong Kong Stories
DESCRIPTION:Hong Kong Stories\nDate: 8pm\, 2 March\, 2016\nVenue: Fringe Club\, Fringe Upstairs\nTickets: $120 from HKTicketing\nMore info:\nEvery last Wednesday of the month
URL:https://www.bcmagazine.net/event/hong-kong-stories-2016/2016-10-02/
LOCATION:Fringe Club\, Fringe Upstairs\, Central\, Hong Kong
CATEGORIES:2016,Performing Arts,Theatre
END:VEVENT
BEGIN:VEVENT
DTSTART;TZID=Asia/Hong_Kong:20161002T200000
DTEND;TZID=Asia/Hong_Kong:20161002T200000
DTSTAMP:20260426T122641
CREATED:20230114T102844Z
LAST-MODIFIED:20230114T102844Z
UID:10001984-1475438400-1475438400@www.bcmagazine.net
SUMMARY:Stomp
DESCRIPTION:Stomp\nDate: 23 September-9 October\, 2016\nVenue: Venetian Theatre\nTickets: $780\, $580\, $380\, $180 from HKTicketing\nMore info:\nTue – Fri: 8pm\nSat: 2pm & 8pm\nSun: 1pm & 6pm
URL:https://www.bcmagazine.net/event/stomp-macau-2016/2016-10-02/
LOCATION:The Venetian Theatre\, Venetian Macao\, Taipa\, Macau
CATEGORIES:2016,Market,Musical,Performing Arts
GEO:22.1483528;113.5602019
X-APPLE-STRUCTURED-LOCATION;VALUE=URI;X-ADDRESS=The Venetian Theatre Venetian Macao Taipa Macau;X-APPLE-RADIUS=500;X-TITLE=Venetian Macao:geo:113.5602019,22.1483528
END:VEVENT
BEGIN:VEVENT
DTSTART;TZID=Asia/Hong_Kong:20161002T200000
DTEND;TZID=Asia/Hong_Kong:20161002T200000
DTSTAMP:20260426T122641
CREATED:20230114T102933Z
LAST-MODIFIED:20230114T102933Z
UID:10002005-1475438400-1475438400@www.bcmagazine.net
SUMMARY:A Midsummer Night's Dream
DESCRIPTION:A Midsummer Night’s Dream\nDate: 30 September – 22 October\, 2016\nVenue: HKAPA\, Lyric Theatre\nTickets:\nWednesday+ Thursday: $980\, $780\, $580\, $380\, $280\, $180\nFriday + Saturday $1\,180\, $980\, $680\, $480\, $380\, $280\nfrom HKTicketing\nMore info:\nMon-Tue: no show\nWed-Sat: 8pm\nSun: 3pm\n*No show on 12 Oct 2016 (Wed)\nDrama in Cantonese (with both Chinese & English surtitles)
URL:https://www.bcmagazine.net/event/dct-a-midsummer-nights-dream-2016/2016-10-02/
LOCATION:HKAPA: Lyric Theatre\, 1 Gloucester Road\, Wanchai\, Hong Kong
CATEGORIES:2016,Performing Arts,Theatre
GEO:22.2801854;114.1695054
X-APPLE-STRUCTURED-LOCATION;VALUE=URI;X-ADDRESS=HKAPA: Lyric Theatre 1 Gloucester Road Wanchai Hong Kong;X-APPLE-RADIUS=500;X-TITLE=1 Gloucester Road:geo:114.1695054,22.2801854
END:VEVENT
BEGIN:VEVENT
DTSTART;TZID=Asia/Hong_Kong:20161003T130000
DTEND;TZID=Asia/Hong_Kong:20161003T200000
DTSTAMP:20260426T122641
CREATED:19160906T150024Z
LAST-MODIFIED:20160909T024627Z
UID:10000768-1475499600-1475524800@www.bcmagazine.net
SUMMARY:MGM Macau Oktoberfest
DESCRIPTION:MGM Macau Oktoberfest\nDate: 1-8pm\, 12 September – 23 October\, 2016\nVenue: MGM Macau\nTickets: $16o
URL:https://www.bcmagazine.net/event/mgm-macau-oktoberfest-2016/2016-10-03/
LOCATION:Hong Kong
CATEGORIES:2016,Food,Macau,Nightlife
END:VEVENT
BEGIN:VEVENT
DTSTART;TZID=Asia/Hong_Kong:20161004T130000
DTEND;TZID=Asia/Hong_Kong:20161004T200000
DTSTAMP:20260426T122641
CREATED:19160906T150024Z
LAST-MODIFIED:20160909T024627Z
UID:10000769-1475586000-1475611200@www.bcmagazine.net
SUMMARY:MGM Macau Oktoberfest
DESCRIPTION:MGM Macau Oktoberfest\nDate: 1-8pm\, 12 September – 23 October\, 2016\nVenue: MGM Macau\nTickets: $16o
URL:https://www.bcmagazine.net/event/mgm-macau-oktoberfest-2016/2016-10-04/
LOCATION:Hong Kong
CATEGORIES:2016,Food,Macau,Nightlife
END:VEVENT
BEGIN:VEVENT
DTSTART;TZID=Asia/Hong_Kong:20161004T200000
DTEND;TZID=Asia/Hong_Kong:20161004T200000
DTSTAMP:20260426T122641
CREATED:19160829T023047Z
LAST-MODIFIED:20160829T023637Z
UID:10001978-1475611200-1475611200@www.bcmagazine.net
SUMMARY:Stomp
DESCRIPTION:Stomp\nDate: 23 September-9 October\, 2016\nVenue: Venetian Theatre\nTickets: $780\, $580\, $380\, $180 from HKTicketing\nMore info:\nTue – Fri: 8pm\nSat: 2pm & 8pm\nSun: 1pm & 6pm
URL:https://www.bcmagazine.net/event/stomp-macau-2016/2016-10-04/
LOCATION:The Venetian Theatre\, Venetian Macao\, Taipa\, Macau
CATEGORIES:2016,Market,Musical,Performing Arts
GEO:22.1483528;113.5602019
X-APPLE-STRUCTURED-LOCATION;VALUE=URI;X-ADDRESS=The Venetian Theatre Venetian Macao Taipa Macau;X-APPLE-RADIUS=500;X-TITLE=Venetian Macao:geo:113.5602019,22.1483528
END:VEVENT
BEGIN:VEVENT
DTSTART;TZID=Asia/Hong_Kong:20161004T203000
DTEND;TZID=Asia/Hong_Kong:20161004T203000
DTSTAMP:20260426T122641
CREATED:19160923T055850Z
LAST-MODIFIED:20160923T060640Z
UID:10000849-1475613000-1475613000@www.bcmagazine.net
SUMMARY:Angela Hui
DESCRIPTION:Angela Hui – EP Pre-Launch Party\nDate: 8:30pm\, 4 October\, 2016\nVenue: 1563 at the East\nTickets: tbc
URL:https://www.bcmagazine.net/event/angela-hui-04-10-2016/
LOCATION:1563 at The East\, 6/F Hopewell Centre\, 183 Queen's Road East\, Wanchai\, Hong Kong
CATEGORIES:2016,Concert,Music
GEO:22.396428;114.109497
X-APPLE-STRUCTURED-LOCATION;VALUE=URI;X-ADDRESS=1563 at The East 6/F Hopewell Centre 183 Queen's Road East Wanchai Hong Kong;X-APPLE-RADIUS=500;X-TITLE=6/F Hopewell Centre\, 183 Queen's Road East:geo:114.109497,22.396428
END:VEVENT
BEGIN:VEVENT
DTSTART;VALUE=DATE:20161005
DTEND;VALUE=DATE:20161010
DTSTAMP:20260426T122641
CREATED:19160824T052116Z
LAST-MODIFIED:20160914T144849Z
UID:10001956-1475625600-1476057599@www.bcmagazine.net
SUMMARY:Hong Kong ePrix
DESCRIPTION:The inaugural Hong Kong ePrix\, part of the third season of the FIA Formula E Championship\, will take place on the 9 October 2016 in Central. The approximately 2km-long track will run between Lung Wo Road and the Star Ferry\, with cars reaching speeds of up to 225kph (140mph). \nHong Kong ePrix\nDate: 5-9 October\, 2016\nVenue: Central Harbourfront\nTickets:\nObservation Wheel Grandstand $2\,380\neVillage $300
URL:https://www.bcmagazine.net/event/hong-kong-eprix-2016/
LOCATION:Central Harbourfront\,  9 Lung Wo Road\, Central\, Hong Kong
CATEGORIES:2016,Sport
GEO:22.2826223;114.164346
X-APPLE-STRUCTURED-LOCATION;VALUE=URI;X-ADDRESS=Central Harbourfront  9 Lung Wo Road Central Hong Kong;X-APPLE-RADIUS=500;X-TITLE=9 Lung Wo Road:geo:114.164346,22.2826223
END:VEVENT
END:VCALENDAR