BEGIN:VCALENDAR
VERSION:2.0
PRODID:-//bc magazine - ECPv6.15.20//NONSGML v1.0//EN
CALSCALE:GREGORIAN
METHOD:PUBLISH
X-WR-CALNAME:bc magazine
X-ORIGINAL-URL:https://www.bcmagazine.net
X-WR-CALDESC:Events for bc magazine
REFRESH-INTERVAL;VALUE=DURATION:PT1H
X-Robots-Tag:noindex
X-PUBLISHED-TTL:PT1H
BEGIN:VTIMEZONE
TZID:Asia/Hong_Kong
BEGIN:STANDARD
TZOFFSETFROM:+0800
TZOFFSETTO:+0800
TZNAME:HKT
DTSTART:20150101T000000
END:STANDARD
END:VTIMEZONE
BEGIN:VEVENT
DTSTART;VALUE=DATE:20160909
DTEND;VALUE=DATE:20161017
DTSTAMP:20260426T105924
CREATED:19160725T052105Z
LAST-MODIFIED:20160725T052258Z
UID:10001919-1473379200-1476662399@www.bcmagazine.net
SUMMARY:Chinese Documentary Festival 2016
DESCRIPTION:Chinese Documentary Festival 2016\nDate: 9 September – 16 October\, 2016\nVenue:\nHong Kong Space Museum (10 Salisbury Road\, TST)\nHong Kong Science Museum (2 Observatory Road\, TST)\nThe Grand Cinema (2/F\, Elements\, 1 Austin Road West\, TST)\nTickets: $85\, $70\nMore info: www.visiblerecord.com
URL:https://www.bcmagazine.net/event/chinese-documentary-festival-2016/
CATEGORIES:2016,Cultural Festival,Film
END:VEVENT
BEGIN:VEVENT
DTSTART;VALUE=DATE:20161005
DTEND;VALUE=DATE:20161010
DTSTAMP:20260426T105924
CREATED:19160824T052116Z
LAST-MODIFIED:20160914T144849Z
UID:10001956-1475625600-1476057599@www.bcmagazine.net
SUMMARY:Hong Kong ePrix
DESCRIPTION:The inaugural Hong Kong ePrix\, part of the third season of the FIA Formula E Championship\, will take place on the 9 October 2016 in Central. The approximately 2km-long track will run between Lung Wo Road and the Star Ferry\, with cars reaching speeds of up to 225kph (140mph). \nHong Kong ePrix\nDate: 5-9 October\, 2016\nVenue: Central Harbourfront\nTickets:\nObservation Wheel Grandstand $2\,380\neVillage $300
URL:https://www.bcmagazine.net/event/hong-kong-eprix-2016/
LOCATION:Central Harbourfront\,  9 Lung Wo Road\, Central\, Hong Kong
CATEGORIES:2016,Sport
GEO:22.2826223;114.164346
X-APPLE-STRUCTURED-LOCATION;VALUE=URI;X-ADDRESS=Central Harbourfront  9 Lung Wo Road Central Hong Kong;X-APPLE-RADIUS=500;X-TITLE=9 Lung Wo Road:geo:114.164346,22.2826223
END:VEVENT
BEGIN:VEVENT
DTSTART;TZID=Asia/Hong_Kong:20161008T123000
DTEND;TZID=Asia/Hong_Kong:20161008T123000
DTSTAMP:20260426T105924
CREATED:20160919T105015Z
LAST-MODIFIED:20160919T105015Z
UID:10006289-1475929800-1475929800@www.bcmagazine.net
SUMMARY:HKU CC v DLSWCC Spartans
DESCRIPTION:Championship League B: HKU CC v DLSWCC Spartans
URL:https://www.bcmagazine.net/event/hku-cc-v-dlswcc-spartans/
LOCATION:Po Kong Village Road Park\, 140 Po Kong Village Road\, Diamond Hill\, Hong Kong
CATEGORIES:2016,Cricket,Free,Sport
GEO:22.3435827;114.2044989
X-APPLE-STRUCTURED-LOCATION;VALUE=URI;X-ADDRESS=Po Kong Village Road Park 140 Po Kong Village Road Diamond Hill Hong Kong;X-APPLE-RADIUS=500;X-TITLE=140 Po Kong Village Road:geo:114.2044989,22.3435827
END:VEVENT
BEGIN:VEVENT
DTSTART;TZID=Asia/Hong_Kong:20161008T130000
DTEND;TZID=Asia/Hong_Kong:20161008T130000
DTSTAMP:20260426T105924
CREATED:20160919T105015Z
LAST-MODIFIED:20160919T105015Z
UID:10006288-1475931600-1475931600@www.bcmagazine.net
SUMMARY:CCC Jing Sun v KCC Crusaders
DESCRIPTION:Championship League A: CCC Jing Sun v KCC Crusaders
URL:https://www.bcmagazine.net/event/ccc-jing-sun-v-kcc-crusaders/
LOCATION:Kowloon Cricket Club\, 10 Cox's Road\, Jordan\, Hong Kong
CATEGORIES:2016,Cricket,Free,Sport
GEO:22.3048927;114.1737401
X-APPLE-STRUCTURED-LOCATION;VALUE=URI;X-ADDRESS=Kowloon Cricket Club 10 Cox's Road Jordan Hong Kong;X-APPLE-RADIUS=500;X-TITLE=10 Cox's Road:geo:114.1737401,22.3048927
END:VEVENT
BEGIN:VEVENT
DTSTART;TZID=Asia/Hong_Kong:20161008T130000
DTEND;TZID=Asia/Hong_Kong:20161008T130000
DTSTAMP:20260426T105924
CREATED:20160919T105015Z
LAST-MODIFIED:20160919T105015Z
UID:10006287-1475931600-1475931600@www.bcmagazine.net
SUMMARY:HKCC Witherers v HKCC Nomads
DESCRIPTION:Championship League A: HKCC Witherers v HKCC Nomads
URL:https://www.bcmagazine.net/event/hkcc-witherers-v-hkcc-nomads/
LOCATION:Hong Kong Cricket Club\, 137 Wong Ngai Chung Gap Road\, Hong Kong
CATEGORIES:2016,Cricket,Free,Sport
GEO:22.258574;114.1934009
X-APPLE-STRUCTURED-LOCATION;VALUE=URI;X-ADDRESS=Hong Kong Cricket Club 137 Wong Ngai Chung Gap Road Hong Kong;X-APPLE-RADIUS=500;X-TITLE=137 Wong Ngai Chung Gap Road:geo:114.1934009,22.258574
END:VEVENT
BEGIN:VEVENT
DTSTART;TZID=Asia/Hong_Kong:20161008T130000
DTEND;TZID=Asia/Hong_Kong:20161008T200000
DTSTAMP:20260426T105924
CREATED:19160906T150024Z
LAST-MODIFIED:20160909T024627Z
UID:10000773-1475931600-1475956800@www.bcmagazine.net
SUMMARY:MGM Macau Oktoberfest
DESCRIPTION:MGM Macau Oktoberfest\nDate: 1-8pm\, 12 September – 23 October\, 2016\nVenue: MGM Macau\nTickets: $16o
URL:https://www.bcmagazine.net/event/mgm-macau-oktoberfest-2016/2016-10-08/
LOCATION:Hong Kong
CATEGORIES:2016,Food,Macau,Nightlife
END:VEVENT
BEGIN:VEVENT
DTSTART;TZID=Asia/Hong_Kong:20161008T140000
DTEND;TZID=Asia/Hong_Kong:20161008T140000
DTSTAMP:20260426T105925
CREATED:19160913T062302Z
LAST-MODIFIED:20160913T063951Z
UID:10002127-1475935200-1475935200@www.bcmagazine.net
SUMMARY:Curtis
DESCRIPTION:Curtis\nHKUST Music Live!\nDate: 2pm\, 8 October\, 2016\nVenue: HKUST\, Cheng Yu Tung Building\, CMA Lecture Hall\nTickets: free – register here
URL:https://www.bcmagazine.net/event/curtis-2016/
LOCATION:HKUST\, Cheng Yu Tung Building\, CMA Lecture Hall\, Clear Water Bay\, Hong Kong
CATEGORIES:2016,Concert,Free,Music,Performing Arts
GEO:22.3104901;114.2836275
END:VEVENT
BEGIN:VEVENT
DTSTART;TZID=Asia/Hong_Kong:20161008T190000
DTEND;TZID=Asia/Hong_Kong:20161008T190000
DTSTAMP:20260426T105925
CREATED:19160829T035813Z
LAST-MODIFIED:20160829T040025Z
UID:10000737-1475953200-1475953200@www.bcmagazine.net
SUMMARY:Battle of Victors
DESCRIPTION:Battle of Victors\nDate: 7pm\, 8 October\, 2016\nVenue: HKCEC\, Hall 5\nTickets: $1\,880\, $\,1280\, $880\, $580\, $380 from HKTicketing
URL:https://www.bcmagazine.net/event/battle-of-victors-boxing-2016/
LOCATION:HK Convention and Exhibition Centre\, 1 Expo Drive\, Wanchai\, Hong Kong
CATEGORIES:2016,Concert,Music
END:VEVENT
BEGIN:VEVENT
DTSTART;TZID=Asia/Hong_Kong:20161008T193000
DTEND;TZID=Asia/Hong_Kong:20161008T193000
DTSTAMP:20260426T105925
CREATED:19160829T034829Z
LAST-MODIFIED:20160829T035313Z
UID:10000733-1475955000-1475955000@www.bcmagazine.net
SUMMARY:Macbeth
DESCRIPTION:Macbeth\nDate: 8-9 October\, 2016\nVenue: HKAPA\, Drama Theatre\nTickets: $120 from HKTicketing\nMore info:\n8 Oct – 2:30pm\, 7:30pm\n9 Oct – 2:30pm
URL:https://www.bcmagazine.net/event/macbeth-shakespeare4all-2016/2016-10-08/
LOCATION:HKAPA: Drama Theatre\, 1 Gloucester Road\, Wanchai\, Hong Kong
CATEGORIES:2016,Performing Arts,Theatre
GEO:22.2801854;114.1695054
X-APPLE-STRUCTURED-LOCATION;VALUE=URI;X-ADDRESS=HKAPA: Drama Theatre 1 Gloucester Road Wanchai Hong Kong;X-APPLE-RADIUS=500;X-TITLE=1 Gloucester Road:geo:114.1695054,22.2801854
END:VEVENT
BEGIN:VEVENT
DTSTART;TZID=Asia/Hong_Kong:20161008T193000
DTEND;TZID=Asia/Hong_Kong:20161008T193000
DTSTAMP:20260426T105925
CREATED:19161008T053655Z
LAST-MODIFIED:20161008T053920Z
UID:10002159-1475955000-1475955000@www.bcmagazine.net
SUMMARY:World's End Girlfriend
DESCRIPTION:World’s End Girlfriend\nDate: 7:30pm\, 8 October\, 2016\nVenue: KITEC\, Music Zone@E-Max\nTickets: $500
URL:https://www.bcmagazine.net/event/worlds-end-girlfriend-2016/
LOCATION:KITEC\, Star Hall\, KITEC\, 1 Trademart Drive\, Kowloon Bay\, Hong Kong
CATEGORIES:2016,Concert,Music
GEO:22.3239575;114.2037608
X-APPLE-STRUCTURED-LOCATION;VALUE=URI;X-ADDRESS=KITEC Star Hall KITEC 1 Trademart Drive Kowloon Bay Hong Kong;X-APPLE-RADIUS=500;X-TITLE=KITEC\, 1 Trademart Drive:geo:114.2037608,22.3239575
END:VEVENT
BEGIN:VEVENT
DTSTART;TZID=Asia/Hong_Kong:20161008T200000
DTEND;TZID=Asia/Hong_Kong:20161008T200000
DTSTAMP:20260426T105925
CREATED:19160829T023047Z
LAST-MODIFIED:20160829T023637Z
UID:10001982-1475956800-1475956800@www.bcmagazine.net
SUMMARY:Stomp
DESCRIPTION:Stomp\nDate: 23 September-9 October\, 2016\nVenue: Venetian Theatre\nTickets: $780\, $580\, $380\, $180 from HKTicketing\nMore info:\nTue – Fri: 8pm\nSat: 2pm & 8pm\nSun: 1pm & 6pm
URL:https://www.bcmagazine.net/event/stomp-macau-2016/2016-10-08/
LOCATION:The Venetian Theatre\, Venetian Macao\, Taipa\, Macau
CATEGORIES:2016,Market,Musical,Performing Arts
GEO:22.1483528;113.5602019
X-APPLE-STRUCTURED-LOCATION;VALUE=URI;X-ADDRESS=The Venetian Theatre Venetian Macao Taipa Macau;X-APPLE-RADIUS=500;X-TITLE=Venetian Macao:geo:113.5602019,22.1483528
END:VEVENT
BEGIN:VEVENT
DTSTART;TZID=Asia/Hong_Kong:20161008T200000
DTEND;TZID=Asia/Hong_Kong:20161008T200000
DTSTAMP:20260426T105925
CREATED:19160829T025325Z
LAST-MODIFIED:20160921T144637Z
UID:10001996-1475956800-1475956800@www.bcmagazine.net
SUMMARY:A Midsummer Night's Dream
DESCRIPTION:A Midsummer Night’s Dream\nDate: 30 September – 22 October\, 2016\nVenue: HKAPA\, Lyric Theatre\nTickets:\nWednesday+ Thursday: $980\, $780\, $580\, $380\, $280\, $180\nFriday + Saturday $1\,180\, $980\, $680\, $480\, $380\, $280\nfrom HKTicketing\nMore info:\nMon-Tue: no show\nWed-Sat: 8pm\nSun: 3pm\n*No show on 12 Oct 2016 (Wed)\nDrama in Cantonese (with both Chinese & English surtitles)
URL:https://www.bcmagazine.net/event/dct-a-midsummer-nights-dream-2016/2016-10-08/
LOCATION:HKAPA: Lyric Theatre\, 1 Gloucester Road\, Wanchai\, Hong Kong
CATEGORIES:2016,Performing Arts,Theatre
GEO:22.2801854;114.1695054
X-APPLE-STRUCTURED-LOCATION;VALUE=URI;X-ADDRESS=HKAPA: Lyric Theatre 1 Gloucester Road Wanchai Hong Kong;X-APPLE-RADIUS=500;X-TITLE=1 Gloucester Road:geo:114.1695054,22.2801854
END:VEVENT
BEGIN:VEVENT
DTSTART;TZID=Asia/Hong_Kong:20161008T200000
DTEND;TZID=Asia/Hong_Kong:20161008T200000
DTSTAMP:20260426T105925
CREATED:19160829T035326Z
LAST-MODIFIED:20160829T035741Z
UID:10000735-1475956800-1475956800@www.bcmagazine.net
SUMMARY:The Platters
DESCRIPTION:The Platters\nDate: 8pm\, 8 October\, 2016\nVenue: HKCEC\, Hall 5\nTickets: $1\,280\, $880\, $480 from HKTicketing
URL:https://www.bcmagazine.net/event/the-platters-2016/
LOCATION:HK Convention and Exhibition Centre\, 1 Expo Drive\, Wanchai\, Hong Kong
CATEGORIES:2016,Concert,Music
END:VEVENT
BEGIN:VEVENT
DTSTART;TZID=Asia/Hong_Kong:20161008T200000
DTEND;TZID=Asia/Hong_Kong:20161008T200000
DTSTAMP:20260426T105925
CREATED:19160912T052823Z
LAST-MODIFIED:20160912T053228Z
UID:10000803-1475956800-1475956800@www.bcmagazine.net
SUMMARY:Hong Kong Symphony Society
DESCRIPTION:Hong Kong Symphony Society\nDate: 8pm\, 8 October\, 2016\nVenue: Sheung Wan Civic Centre\, Theatre\nTickets: $120\, $80 from Urbtix
URL:https://www.bcmagazine.net/event/hong-kong-symphony-society-08-10-2016/
LOCATION:Sheung Wan Civic Centre\, Theatre\, 345 Queen's Road Central\, Sheung Wan\, Hong Kong
CATEGORIES:2016,Concert,Music
GEO:22.2861929;114.1497606
X-APPLE-STRUCTURED-LOCATION;VALUE=URI;X-ADDRESS=Sheung Wan Civic Centre Theatre 345 Queen's Road Central Sheung Wan Hong Kong;X-APPLE-RADIUS=500;X-TITLE=345 Queen's Road Central:geo:114.1497606,22.2861929
END:VEVENT
BEGIN:VEVENT
DTSTART;TZID=Asia/Hong_Kong:20161008T200000
DTEND;TZID=Asia/Hong_Kong:20161008T200000
DTSTAMP:20260426T105925
CREATED:19160912T055339Z
LAST-MODIFIED:20160912T055843Z
UID:10000809-1475956800-1475956800@www.bcmagazine.net
SUMMARY:Two
DESCRIPTION:Two\nActors’ Family\, Theatre du Pif\nDate: 7-9 October\, 2016\nVenue: HKREP Black Box Theatre\nTickets: $140 from Urbtix\nMore info:\nCantonese drama
URL:https://www.bcmagazine.net/event/two/2016-10-08/
LOCATION:HKREP Black Box Theatre\, 8/F\, Sheung Wan Civic Centre\, Sheung Wan Municipal Services Building\, 345 Queen's Road\, Sheung Wan\, Hong Kong
CATEGORIES:2016,Performing Arts,Theatre
END:VEVENT
BEGIN:VEVENT
DTSTART;TZID=Asia/Hong_Kong:20161008T200000
DTEND;TZID=Asia/Hong_Kong:20161008T200000
DTSTAMP:20260426T105925
CREATED:20230114T070959Z
LAST-MODIFIED:20230114T070959Z
UID:10000556-1475956800-1475956800@www.bcmagazine.net
SUMMARY:Death of Old China
DESCRIPTION:Mahjong History Theatre: Death of Old China\nZuni Icosahedron\nDate: 7-9\, 14-15 October\, 2016\nVenue: HK Cultural Centre\, Studio Theatre\nTickets: $280\, $200\, $188 from Urbtix
URL:https://www.bcmagazine.net/event/death-of-old-china-2016/2016-10-08/
LOCATION:HK Cultural Centre\, Studio Theatre\, 10 Salisbury Road\, Tsim Sha Tsui\, Hong Kong
CATEGORIES:2016,Performing Arts,Theatre
END:VEVENT
BEGIN:VEVENT
DTSTART;TZID=Asia/Hong_Kong:20161008T201500
DTEND;TZID=Asia/Hong_Kong:20161008T201500
DTSTAMP:20260426T105925
CREATED:19160815T172652Z
LAST-MODIFIED:20160815T173230Z
UID:10001930-1475957700-1475957700@www.bcmagazine.net
SUMMARY:HOCC
DESCRIPTION:Dear Friend HOCC Live 2016\nDate: 8:15pm\, 8-9 October\, 2016\nVenue: HK Coliseum\nTickets: $680\, $480\, $280 from Urbtix
URL:https://www.bcmagazine.net/event/hocc-dear-friend-2016/2016-10-08/
LOCATION:HK Coliseum\, 9 Cheong Wan Road\, Hung Hom\, Hong Kong
CATEGORIES:2016,Concert,Music
GEO:22.3014169;114.1820305
X-APPLE-STRUCTURED-LOCATION;VALUE=URI;X-ADDRESS=HK Coliseum 9 Cheong Wan Road Hung Hom Hong Kong;X-APPLE-RADIUS=500;X-TITLE=9 Cheong Wan Road:geo:114.1820305,22.3014169
END:VEVENT
BEGIN:VEVENT
DTSTART;TZID=Asia/Hong_Kong:20161008T203000
DTEND;TZID=Asia/Hong_Kong:20161008T203000
DTSTAMP:20260426T105925
CREATED:19160829T040053Z
LAST-MODIFIED:20160829T040341Z
UID:10000742-1475958600-1475958600@www.bcmagazine.net
SUMMARY:Women Love & Life
DESCRIPTION:Women Love & Life – A Cabaret\nDate: 8:30pm\, 5-8 October\, 2016\nVenue: Fringe Club\, Fringe Dairy\nTickets: $260\, $240 from HKTicketing
URL:https://www.bcmagazine.net/event/women-love-life-2016/2016-10-08/
LOCATION:Fringe Club\, Fringe Dairy\, Central\, Hong Kong
CATEGORIES:2016,Performing Arts,Theatre
END:VEVENT
BEGIN:VEVENT
DTSTART;TZID=Asia/Hong_Kong:20161008T203000
DTEND;TZID=Asia/Hong_Kong:20161008T203000
DTSTAMP:20260426T105925
CREATED:19160909T032521Z
LAST-MODIFIED:20160909T033212Z
UID:10002099-1475958600-1475958600@www.bcmagazine.net
SUMMARY:Women\, Love and Life – A Cabaret
DESCRIPTION:Women\, Love and Life – A Cabaret\nFrankie x Billy x Jarita x Jenus x Jessie x Lydia\nDate: 8:30pm\, 5-8 October\, 2016\nVenue: Fringe Club\, Fringe Dairy\nTickets: $260\, $240 from HKTicketing
URL:https://www.bcmagazine.net/event/women-love-life-a-cabaret-2016/2016-10-08/
LOCATION:Fringe Club\, Fringe Dairy\, Central\, Hong Kong
CATEGORIES:2016,Musical,Performing Arts,Theatre
END:VEVENT
BEGIN:VEVENT
DTSTART;TZID=Asia/Hong_Kong:20161008T220000
DTEND;TZID=Asia/Hong_Kong:20161008T220000
DTSTAMP:20260426T105925
CREATED:19160921T143210Z
LAST-MODIFIED:20160921T143739Z
UID:10000845-1475964000-1475964000@www.bcmagazine.net
SUMMARY:eprix Party
DESCRIPTION:eprix Party\nDate: 8 & 9\, October\, 2016\nVenue: Secrets\nTickets: tbc
URL:https://www.bcmagazine.net/event/eprix-party-2016/2016-10-08/
LOCATION:Secrets\, 5/F California Tower\, 32 D'Aguilar Street\, Central\, Hong Kong
CATEGORIES:2016,DJ,Music,Nightclub,Nightlife
GEO:22.2810013;114.1554148
X-APPLE-STRUCTURED-LOCATION;VALUE=URI;X-ADDRESS=Secrets 5/F California Tower 32 D'Aguilar Street Central Hong Kong;X-APPLE-RADIUS=500;X-TITLE=5/F California Tower\, 32 D'Aguilar Street:geo:114.1554148,22.2810013
END:VEVENT
BEGIN:VEVENT
DTSTART;VALUE=DATE:20161009
DTEND;VALUE=DATE:20161010
DTSTAMP:20260426T105925
CREATED:19161008T062633Z
LAST-MODIFIED:20161008T062955Z
UID:10000854-1475971200-1476057599@www.bcmagazine.net
SUMMARY:4th World Wing Chun Competition
DESCRIPTION:4th World Wing Chun Competition\nDate: 7pm\, 9 October\, 2016\nVenue: MacPherson Stadium\nTickets: $50 from Cityline
URL:https://www.bcmagazine.net/event/4th-world-wing-chun-competition-2016/
LOCATION:MacPherson Stadium\, 38 Nelson Street\, Mongkok\, Hong Kong
CATEGORIES:2016,Sport
GEO:22.3188457;114.1728403
X-APPLE-STRUCTURED-LOCATION;VALUE=URI;X-ADDRESS=MacPherson Stadium 38 Nelson Street Mongkok Hong Kong;X-APPLE-RADIUS=500;X-TITLE=38 Nelson Street:geo:114.1728403,22.3188457
END:VEVENT
BEGIN:VEVENT
DTSTART;TZID=Asia/Hong_Kong:20161009T090000
DTEND;TZID=Asia/Hong_Kong:20161009T090000
DTSTAMP:20260426T105925
CREATED:20160919T105014Z
LAST-MODIFIED:20160919T105014Z
UID:10006286-1476003600-1476003600@www.bcmagazine.net
SUMMARY:HKCC Willow Wielders v CCC Fung Wong
DESCRIPTION:Women’s T20 A: HKCC Willow Wielders v CCC Fung Wong
URL:https://www.bcmagazine.net/event/hkcc-willow-wielders-v-ccc-fung-wong-3/
LOCATION:Po Kong Village Road Reservoir Ground\, Po Kong Village Road\, Tsz Wan Shan\, Hong Kong
CATEGORIES:2016,Cricket,Free,Sport
GEO:22.346522;114.204203
X-APPLE-STRUCTURED-LOCATION;VALUE=URI;X-ADDRESS=Po Kong Village Road Reservoir Ground Po Kong Village Road Tsz Wan Shan Hong Kong;X-APPLE-RADIUS=500;X-TITLE=Po Kong Village Road:geo:114.204203,22.346522
END:VEVENT
BEGIN:VEVENT
DTSTART;TZID=Asia/Hong_Kong:20161009T100000
DTEND;TZID=Asia/Hong_Kong:20161009T100000
DTSTAMP:20260426T105925
CREATED:20160919T105014Z
LAST-MODIFIED:20160919T105014Z
UID:10006284-1476007200-1476007200@www.bcmagazine.net
SUMMARY:DLSWCC v HKCC
DESCRIPTION:Premier League 1-Day A: DLSWCC v HKCC
URL:https://www.bcmagazine.net/event/dlswcc-v-hkcc/
LOCATION:Hong Kong Cricket Club\, 137 Wong Ngai Chung Gap Road\, Hong Kong
CATEGORIES:2016,Cricket,Free,Sport
GEO:22.258574;114.1934009
X-APPLE-STRUCTURED-LOCATION;VALUE=URI;X-ADDRESS=Hong Kong Cricket Club 137 Wong Ngai Chung Gap Road Hong Kong;X-APPLE-RADIUS=500;X-TITLE=137 Wong Ngai Chung Gap Road:geo:114.1934009,22.258574
END:VEVENT
BEGIN:VEVENT
DTSTART;TZID=Asia/Hong_Kong:20161009T100000
DTEND;TZID=Asia/Hong_Kong:20161009T100000
DTSTAMP:20260426T105925
CREATED:20160919T105014Z
LAST-MODIFIED:20160919T105014Z
UID:10006285-1476007200-1476007200@www.bcmagazine.net
SUMMARY:CHK XI v KCC
DESCRIPTION:Premier League 1-Day A: CHK XI v KCC
URL:https://www.bcmagazine.net/event/chk-xi-v-kcc/
LOCATION:Kowloon Cricket Club\, 10 Cox's Road\, Jordan\, Hong Kong
CATEGORIES:2016,Cricket,Free,Sport
GEO:22.3048927;114.1737401
X-APPLE-STRUCTURED-LOCATION;VALUE=URI;X-ADDRESS=Kowloon Cricket Club 10 Cox's Road Jordan Hong Kong;X-APPLE-RADIUS=500;X-TITLE=10 Cox's Road:geo:114.1737401,22.3048927
END:VEVENT
BEGIN:VEVENT
DTSTART;TZID=Asia/Hong_Kong:20161009T123000
DTEND;TZID=Asia/Hong_Kong:20161009T123000
DTSTAMP:20260426T105925
CREATED:20160919T105013Z
LAST-MODIFIED:20160919T105013Z
UID:10006278-1476016200-1476016200@www.bcmagazine.net
SUMMARY:USRC v DLSWCC Wasps
DESCRIPTION:Women’s T20 A: USRC v DLSWCC Wasps
URL:https://www.bcmagazine.net/event/usrc-v-dlswcc-wasps/
LOCATION:Po Kong Village Road Reservoir Ground\, Po Kong Village Road\, Tsz Wan Shan\, Hong Kong
CATEGORIES:2016,Cricket,Free,Sport
GEO:22.346522;114.204203
X-APPLE-STRUCTURED-LOCATION;VALUE=URI;X-ADDRESS=Po Kong Village Road Reservoir Ground Po Kong Village Road Tsz Wan Shan Hong Kong;X-APPLE-RADIUS=500;X-TITLE=Po Kong Village Road:geo:114.204203,22.346522
END:VEVENT
BEGIN:VEVENT
DTSTART;TZID=Asia/Hong_Kong:20161009T130000
DTEND;TZID=Asia/Hong_Kong:20161009T200000
DTSTAMP:20260426T105925
CREATED:19160906T150024Z
LAST-MODIFIED:20160909T024627Z
UID:10000774-1476018000-1476043200@www.bcmagazine.net
SUMMARY:MGM Macau Oktoberfest
DESCRIPTION:MGM Macau Oktoberfest\nDate: 1-8pm\, 12 September – 23 October\, 2016\nVenue: MGM Macau\nTickets: $16o
URL:https://www.bcmagazine.net/event/mgm-macau-oktoberfest-2016/2016-10-09/
LOCATION:Hong Kong
CATEGORIES:2016,Food,Macau,Nightlife
END:VEVENT
BEGIN:VEVENT
DTSTART;TZID=Asia/Hong_Kong:20161009T190000
DTEND;TZID=Asia/Hong_Kong:20161009T190000
DTSTAMP:20260426T105925
CREATED:19160826T054556Z
LAST-MODIFIED:20160826T055235Z
UID:10000708-1476039600-1476039600@www.bcmagazine.net
SUMMARY:Dirty Boogie Rockabilly Festival 2016
DESCRIPTION:Dirty Boogie Rockabilly Festival 2016\nThe Los Rizlaz\, The Pringles\, The Boogie Playboys\nDate: 7pm\, 9 October\, 2016\nVenue: Fringe Club\nTickets: $280 from Ticketflap
URL:https://www.bcmagazine.net/event/dirty-boogie-rockabilly-festival-2016/
LOCATION:Fringe Club\, Fringe Dairy\, Central\, Hong Kong
CATEGORIES:2016,Concert,Music
END:VEVENT
BEGIN:VEVENT
DTSTART;TZID=Asia/Hong_Kong:20161009T193000
DTEND;TZID=Asia/Hong_Kong:20161009T193000
DTSTAMP:20260426T105925
CREATED:19160829T034829Z
LAST-MODIFIED:20160829T035313Z
UID:10000734-1476041400-1476041400@www.bcmagazine.net
SUMMARY:Macbeth
DESCRIPTION:Macbeth\nDate: 8-9 October\, 2016\nVenue: HKAPA\, Drama Theatre\nTickets: $120 from HKTicketing\nMore info:\n8 Oct – 2:30pm\, 7:30pm\n9 Oct – 2:30pm
URL:https://www.bcmagazine.net/event/macbeth-shakespeare4all-2016/2016-10-09/
LOCATION:HKAPA: Drama Theatre\, 1 Gloucester Road\, Wanchai\, Hong Kong
CATEGORIES:2016,Performing Arts,Theatre
GEO:22.2801854;114.1695054
X-APPLE-STRUCTURED-LOCATION;VALUE=URI;X-ADDRESS=HKAPA: Drama Theatre 1 Gloucester Road Wanchai Hong Kong;X-APPLE-RADIUS=500;X-TITLE=1 Gloucester Road:geo:114.1695054,22.2801854
END:VEVENT
BEGIN:VEVENT
DTSTART;TZID=Asia/Hong_Kong:20161009T200000
DTEND;TZID=Asia/Hong_Kong:20161009T200000
DTSTAMP:20260426T105925
CREATED:19160820T092720Z
LAST-MODIFIED:20160820T092917Z
UID:10000699-1476043200-1476043200@www.bcmagazine.net
SUMMARY:Murray Perahia
DESCRIPTION:Encore Series: Piano Recital by Murray Perahia\nDate: 8pm\, 9 October\, 2016\nVenue: HK Cultural Centre\, Concert Hall\nTickets: $650\, $550\, $450\, $350\, $250 from Urbtix
URL:https://www.bcmagazine.net/event/murray-perahia-2016/
LOCATION:HK Cultural Centre\, Concert Hall\, 10 Salisbury Road\, Tsim Sha Tsui\, Hong Kong
CATEGORIES:2016,Concert,concert,Music,Performing Arts
GEO:22.294318;114.171708
X-APPLE-STRUCTURED-LOCATION;VALUE=URI;X-ADDRESS=HK Cultural Centre Concert Hall 10 Salisbury Road Tsim Sha Tsui Hong Kong;X-APPLE-RADIUS=500;X-TITLE=10 Salisbury Road:geo:114.171708,22.294318
END:VEVENT
BEGIN:VEVENT
DTSTART;TZID=Asia/Hong_Kong:20161009T200000
DTEND;TZID=Asia/Hong_Kong:20161009T200000
DTSTAMP:20260426T105925
CREATED:19160912T055339Z
LAST-MODIFIED:20160912T055843Z
UID:10000810-1476043200-1476043200@www.bcmagazine.net
SUMMARY:Two
DESCRIPTION:Two\nActors’ Family\, Theatre du Pif\nDate: 7-9 October\, 2016\nVenue: HKREP Black Box Theatre\nTickets: $140 from Urbtix\nMore info:\nCantonese drama
URL:https://www.bcmagazine.net/event/two/2016-10-09/
LOCATION:HKREP Black Box Theatre\, 8/F\, Sheung Wan Civic Centre\, Sheung Wan Municipal Services Building\, 345 Queen's Road\, Sheung Wan\, Hong Kong
CATEGORIES:2016,Performing Arts,Theatre
END:VEVENT
END:VCALENDAR