BEGIN:VCALENDAR
VERSION:2.0
PRODID:-//bc magazine - ECPv6.15.20//NONSGML v1.0//EN
CALSCALE:GREGORIAN
METHOD:PUBLISH
X-WR-CALNAME:bc magazine
X-ORIGINAL-URL:https://www.bcmagazine.net
X-WR-CALDESC:Events for bc magazine
REFRESH-INTERVAL;VALUE=DURATION:PT1H
X-Robots-Tag:noindex
X-PUBLISHED-TTL:PT1H
BEGIN:VTIMEZONE
TZID:Asia/Hong_Kong
BEGIN:STANDARD
TZOFFSETFROM:+0800
TZOFFSETTO:+0800
TZNAME:HKT
DTSTART:20150101T000000
END:STANDARD
END:VTIMEZONE
BEGIN:VEVENT
DTSTART;VALUE=DATE:20160909
DTEND;VALUE=DATE:20161017
DTSTAMP:20260426T100829
CREATED:19160725T052105Z
LAST-MODIFIED:20160725T052258Z
UID:10001919-1473379200-1476662399@www.bcmagazine.net
SUMMARY:Chinese Documentary Festival 2016
DESCRIPTION:Chinese Documentary Festival 2016\nDate: 9 September – 16 October\, 2016\nVenue:\nHong Kong Space Museum (10 Salisbury Road\, TST)\nHong Kong Science Museum (2 Observatory Road\, TST)\nThe Grand Cinema (2/F\, Elements\, 1 Austin Road West\, TST)\nTickets: $85\, $70\nMore info: www.visiblerecord.com
URL:https://www.bcmagazine.net/event/chinese-documentary-festival-2016/
CATEGORIES:2016,Cultural Festival,Film
END:VEVENT
BEGIN:VEVENT
DTSTART;VALUE=DATE:20161011
DTEND;VALUE=DATE:20161017
DTSTAMP:20260426T100829
CREATED:19160716T141648Z
LAST-MODIFIED:20160716T142241Z
UID:10001900-1476144000-1476662399@www.bcmagazine.net
SUMMARY:HK Tennis Open 2016
DESCRIPTION:HK Tennis Open 2016\nDate: 11-16 October\, 2016\nVenue: Victoria Park\nTickets: $880-$160 from Cityline
URL:https://www.bcmagazine.net/event/hk-tennis-open-2016/
LOCATION:Victoria Park\, Causeway Bay\, Hong Kong
CATEGORIES:2016,Sport
END:VEVENT
BEGIN:VEVENT
DTSTART;TZID=Asia/Hong_Kong:20161013T130000
DTEND;TZID=Asia/Hong_Kong:20161013T200000
DTSTAMP:20260426T100829
CREATED:19160906T150024Z
LAST-MODIFIED:20160909T024627Z
UID:10000778-1476363600-1476388800@www.bcmagazine.net
SUMMARY:MGM Macau Oktoberfest
DESCRIPTION:MGM Macau Oktoberfest\nDate: 1-8pm\, 12 September – 23 October\, 2016\nVenue: MGM Macau\nTickets: $16o
URL:https://www.bcmagazine.net/event/mgm-macau-oktoberfest-2016/2016-10-13/
LOCATION:Hong Kong
CATEGORIES:2016,Food,Macau,Nightlife
END:VEVENT
BEGIN:VEVENT
DTSTART;TZID=Asia/Hong_Kong:20161013T193000
DTEND;TZID=Asia/Hong_Kong:20161013T193000
DTSTAMP:20260426T100829
CREATED:19160909T031113Z
LAST-MODIFIED:20160909T032051Z
UID:10002093-1476387000-1476387000@www.bcmagazine.net
SUMMARY:Philosophy Cafe
DESCRIPTION:Philosophy Cafe\nDate: 7:30pm\, 2nd Tuesday of the month\nVenue: Fringe Club\, Colette’s\nTickets: Free\nMore info:\nwww.facebook.com/HKPhilosophyCafe
URL:https://www.bcmagazine.net/event/philosophy-cafe-2016/2016-10-13/
LOCATION:Fringe Club\, Colette’s\, 2 Lower Albert Road\, Central\, Hong Kong
CATEGORIES:2016,Free,Other
GEO:22.2803491;114.156067
X-APPLE-STRUCTURED-LOCATION;VALUE=URI;X-ADDRESS=Fringe Club Colette’s 2 Lower Albert Road Central Hong Kong;X-APPLE-RADIUS=500;X-TITLE=2 Lower Albert Road:geo:114.156067,22.2803491
END:VEVENT
BEGIN:VEVENT
DTSTART;TZID=Asia/Hong_Kong:20161013T193000
DTEND;TZID=Asia/Hong_Kong:20161013T193000
DTSTAMP:20260426T100830
CREATED:19161011T020717Z
LAST-MODIFIED:20161011T021009Z
UID:10002222-1476387000-1476387000@www.bcmagazine.net
SUMMARY:Otello
DESCRIPTION:Otello\nOpera Hong Kong\nDate: 7:30pm\, 13-16 October\, 2016\nVenue: HK Cultural Centre\, Grand Theatre\nTickets: $800\, $680\, $420\, $300\, $150 from Urbtix
URL:https://www.bcmagazine.net/event/otello-2016/2016-10-13/
LOCATION:HK Cultural Centre\, Grand Theatre\,\, 10 Salisbury Road\, Tsim Sha Tsui\, Hong Kong
CATEGORIES:2016,Music,Opera,Performing Arts
GEO:22.294318;114.171708
X-APPLE-STRUCTURED-LOCATION;VALUE=URI;X-ADDRESS=HK Cultural Centre Grand Theatre 10 Salisbury Road Tsim Sha Tsui Hong Kong;X-APPLE-RADIUS=500;X-TITLE=10 Salisbury Road:geo:114.171708,22.294318
END:VEVENT
BEGIN:VEVENT
DTSTART;TZID=Asia/Hong_Kong:20161013T194500
DTEND;TZID=Asia/Hong_Kong:20161013T194500
DTSTAMP:20260426T100830
CREATED:19160307T051324Z
LAST-MODIFIED:20160307T063518Z
UID:10000389-1476387900-1476387900@www.bcmagazine.net
SUMMARY:Hu XueYan\, My Dear
DESCRIPTION:Hu XueYan\, My Dear\nHong Kong Repertory Theatre\nDate: 12-30 October\, 2016\nVenue: HK City Hall\, Theatre\nTickets: $300\, $250\, $180 from Urbtix\nMore info:\n12-15\, 18-20\, 21\, 22\, 25-29 October – 7:45pm\n16\, 23\, 30 October – 2:45pm\nIn Cantonese with English surtitles 
URL:https://www.bcmagazine.net/event/hu-xueyan-my-dear/2016-10-13/
LOCATION:HK City Hall\, Theatre\, 5 Edinburgh Place\, Central\, Hong Kong
CATEGORIES:2016,Performing Arts,Theatre
GEO:22.2822646;114.1615275
X-APPLE-STRUCTURED-LOCATION;VALUE=URI;X-ADDRESS=HK City Hall Theatre 5 Edinburgh Place Central Hong Kong;X-APPLE-RADIUS=500;X-TITLE=5 Edinburgh Place:geo:114.1615275,22.2822646
END:VEVENT
BEGIN:VEVENT
DTSTART;TZID=Asia/Hong_Kong:20161013T200000
DTEND;TZID=Asia/Hong_Kong:20161013T200000
DTSTAMP:20260426T100830
CREATED:19160708T082602Z
LAST-MODIFIED:20160708T083043Z
UID:10001840-1476388800-1476388800@www.bcmagazine.net
SUMMARY:Confucius 63
DESCRIPTION:Confucius 63\nChung Ying Theatre\nDate: 13-16 October\, 2016\nVenue: Kwai Tsing Theatre\, Auditorium\nTickets: $280\, $220\, $160 from Urbtix\nMore info:\n13-15 October – 8pm\n15-16 October – 3pm\nIn Cantonese
URL:https://www.bcmagazine.net/event/confucius-63-2016/2016-10-13/
LOCATION:Kwai Tsing Theatre\, Auditorium\, 12 Hing Ning Road\, Kwai Chung\, Hong Kong
CATEGORIES:2016,Performing Arts,Theatre
GEO:22.3568224;114.126199
X-APPLE-STRUCTURED-LOCATION;VALUE=URI;X-ADDRESS=Kwai Tsing Theatre Auditorium 12 Hing Ning Road Kwai Chung Hong Kong;X-APPLE-RADIUS=500;X-TITLE=12 Hing Ning Road:geo:114.126199,22.3568224
END:VEVENT
BEGIN:VEVENT
DTSTART;TZID=Asia/Hong_Kong:20161013T200000
DTEND;TZID=Asia/Hong_Kong:20161013T200000
DTSTAMP:20260426T100830
CREATED:19160829T025325Z
LAST-MODIFIED:20160921T144637Z
UID:10001998-1476388800-1476388800@www.bcmagazine.net
SUMMARY:A Midsummer Night's Dream
DESCRIPTION:A Midsummer Night’s Dream\nDate: 30 September – 22 October\, 2016\nVenue: HKAPA\, Lyric Theatre\nTickets:\nWednesday+ Thursday: $980\, $780\, $580\, $380\, $280\, $180\nFriday + Saturday $1\,180\, $980\, $680\, $480\, $380\, $280\nfrom HKTicketing\nMore info:\nMon-Tue: no show\nWed-Sat: 8pm\nSun: 3pm\n*No show on 12 Oct 2016 (Wed)\nDrama in Cantonese (with both Chinese & English surtitles)
URL:https://www.bcmagazine.net/event/dct-a-midsummer-nights-dream-2016/2016-10-13/
LOCATION:HKAPA: Lyric Theatre\, 1 Gloucester Road\, Wanchai\, Hong Kong
CATEGORIES:2016,Performing Arts,Theatre
GEO:22.2801854;114.1695054
X-APPLE-STRUCTURED-LOCATION;VALUE=URI;X-ADDRESS=HKAPA: Lyric Theatre 1 Gloucester Road Wanchai Hong Kong;X-APPLE-RADIUS=500;X-TITLE=1 Gloucester Road:geo:114.1695054,22.2801854
END:VEVENT
BEGIN:VEVENT
DTSTART;TZID=Asia/Hong_Kong:20161013T210000
DTEND;TZID=Asia/Hong_Kong:20161013T210000
DTSTAMP:20260426T100830
CREATED:19161012T072928Z
LAST-MODIFIED:20161012T073738Z
UID:10002267-1476392400-1476392400@www.bcmagazine.net
SUMMARY:Yoko Wende + Orlando Bonzi
DESCRIPTION:Yoko Wende + Orlando Bonzi\nDate: 9pm\, 13 October\, 2016\nVenue: Orange Peel\nTickets: free
URL:https://www.bcmagazine.net/event/yoko-wende-orlando-bonzi-13-10-2016/
LOCATION:Orange Peel\, 2/F\, 38-44 D'Aguilar Street\, Central\, Hong Kong\, Hong Kong
CATEGORIES:2016,Concert,Music
GEO:22.2807864;114.1553675
X-APPLE-STRUCTURED-LOCATION;VALUE=URI;X-ADDRESS=Orange Peel 2/F 38-44 D'Aguilar Street Central Hong Kong Hong Kong;X-APPLE-RADIUS=500;X-TITLE=2/F\, 38-44 D'Aguilar Street\, Central:geo:114.1553675,22.2807864
END:VEVENT
BEGIN:VEVENT
DTSTART;TZID=Asia/Hong_Kong:20161014T130000
DTEND;TZID=Asia/Hong_Kong:20161014T200000
DTSTAMP:20260426T100830
CREATED:19160906T150024Z
LAST-MODIFIED:20160909T024627Z
UID:10000779-1476450000-1476475200@www.bcmagazine.net
SUMMARY:MGM Macau Oktoberfest
DESCRIPTION:MGM Macau Oktoberfest\nDate: 1-8pm\, 12 September – 23 October\, 2016\nVenue: MGM Macau\nTickets: $16o
URL:https://www.bcmagazine.net/event/mgm-macau-oktoberfest-2016/2016-10-14/
LOCATION:Hong Kong
CATEGORIES:2016,Food,Macau,Nightlife
END:VEVENT
BEGIN:VEVENT
DTSTART;TZID=Asia/Hong_Kong:20161014T190000
DTEND;TZID=Asia/Hong_Kong:20161014T190000
DTSTAMP:20260426T100830
CREATED:19161008T053953Z
LAST-MODIFIED:20161008T054205Z
UID:10002160-1476471600-1476471600@www.bcmagazine.net
SUMMARY:Depapepe
DESCRIPTION:Depapepe All Time Best Asia Tour\nDate: 7pm\, 14 October\, 2016\nVenue: KITEC\, Music Zone@E-Max\nTickets: $480\, $380 from Cityline
URL:https://www.bcmagazine.net/event/depapepe-2016/
LOCATION:KITEC\, Music Zone@E-Max\, KITEC\,‎ 1 Trademart Drive\, Kowloon Bay\, Hong Kong
CATEGORIES:2016,Concert,Music
GEO:22.3239575;114.2037608
X-APPLE-STRUCTURED-LOCATION;VALUE=URI;X-ADDRESS=KITEC Music Zone@E-Max KITEC‎ 1 Trademart Drive Kowloon Bay Hong Kong;X-APPLE-RADIUS=500;X-TITLE=KITEC\,‎ 1 Trademart Drive:geo:114.2037608,22.3239575
END:VEVENT
BEGIN:VEVENT
DTSTART;TZID=Asia/Hong_Kong:20161014T193000
DTEND;TZID=Asia/Hong_Kong:20161014T193000
DTSTAMP:20260426T100830
CREATED:19161011T020717Z
LAST-MODIFIED:20161011T021009Z
UID:10002223-1476473400-1476473400@www.bcmagazine.net
SUMMARY:Otello
DESCRIPTION:Otello\nOpera Hong Kong\nDate: 7:30pm\, 13-16 October\, 2016\nVenue: HK Cultural Centre\, Grand Theatre\nTickets: $800\, $680\, $420\, $300\, $150 from Urbtix
URL:https://www.bcmagazine.net/event/otello-2016/2016-10-14/
LOCATION:HK Cultural Centre\, Grand Theatre\,\, 10 Salisbury Road\, Tsim Sha Tsui\, Hong Kong
CATEGORIES:2016,Music,Opera,Performing Arts
GEO:22.294318;114.171708
X-APPLE-STRUCTURED-LOCATION;VALUE=URI;X-ADDRESS=HK Cultural Centre Grand Theatre 10 Salisbury Road Tsim Sha Tsui Hong Kong;X-APPLE-RADIUS=500;X-TITLE=10 Salisbury Road:geo:114.171708,22.294318
END:VEVENT
BEGIN:VEVENT
DTSTART;TZID=Asia/Hong_Kong:20161014T194500
DTEND;TZID=Asia/Hong_Kong:20161014T194500
DTSTAMP:20260426T100830
CREATED:19160307T051324Z
LAST-MODIFIED:20160307T063518Z
UID:10000390-1476474300-1476474300@www.bcmagazine.net
SUMMARY:Hu XueYan\, My Dear
DESCRIPTION:Hu XueYan\, My Dear\nHong Kong Repertory Theatre\nDate: 12-30 October\, 2016\nVenue: HK City Hall\, Theatre\nTickets: $300\, $250\, $180 from Urbtix\nMore info:\n12-15\, 18-20\, 21\, 22\, 25-29 October – 7:45pm\n16\, 23\, 30 October – 2:45pm\nIn Cantonese with English surtitles 
URL:https://www.bcmagazine.net/event/hu-xueyan-my-dear/2016-10-14/
LOCATION:HK City Hall\, Theatre\, 5 Edinburgh Place\, Central\, Hong Kong
CATEGORIES:2016,Performing Arts,Theatre
GEO:22.2822646;114.1615275
X-APPLE-STRUCTURED-LOCATION;VALUE=URI;X-ADDRESS=HK City Hall Theatre 5 Edinburgh Place Central Hong Kong;X-APPLE-RADIUS=500;X-TITLE=5 Edinburgh Place:geo:114.1615275,22.2822646
END:VEVENT
BEGIN:VEVENT
DTSTART;TZID=Asia/Hong_Kong:20161014T194500
DTEND;TZID=Asia/Hong_Kong:20161014T194500
DTSTAMP:20260426T100830
CREATED:19160918T154641Z
LAST-MODIFIED:20160918T155402Z
UID:10000830-1476474300-1476474300@www.bcmagazine.net
SUMMARY:Japan Rock Jam
DESCRIPTION:Japan Rock Jam – Kyoji\, Michiaki and Eiji\nDate: 7:45pm\, 14 October\, 2016\nVenue: HKAPA\, Hong Kong Jockey Club Amphitheatre\nTickets: $380 from HKTicketing
URL:https://www.bcmagazine.net/event/japan-rock-jam-2016/
LOCATION:HKAPA: Jockey Club Amphitheatre\, 1 Gloucester Road\, Wanchai\, Hong Kong
CATEGORIES:2016,Concert,Music
GEO:22.2801854;114.1695054
X-APPLE-STRUCTURED-LOCATION;VALUE=URI;X-ADDRESS=HKAPA: Jockey Club Amphitheatre 1 Gloucester Road Wanchai Hong Kong;X-APPLE-RADIUS=500;X-TITLE=1 Gloucester Road:geo:114.1695054,22.2801854
END:VEVENT
BEGIN:VEVENT
DTSTART;TZID=Asia/Hong_Kong:20161014T200000
DTEND;TZID=Asia/Hong_Kong:20161014T200000
DTSTAMP:20260426T100830
CREATED:19160414T150338Z
LAST-MODIFIED:20160414T150803Z
UID:10001578-1476475200-1476475200@www.bcmagazine.net
SUMMARY:Dunhuang Reflections
DESCRIPTION:Dunhuang Reflections (Re-run)\nHK Dance Company\nDate: 8pm\, 14-15 October\, 2016\nVenue: Tsuen Wan Town Hall\, Auditorium\nTickets: $180\, $120 from Urbtix
URL:https://www.bcmagazine.net/event/dunhuang-reflections-2016/2016-10-14/
LOCATION:Tsuen Wan Town Hall\, Auditorium\, 72 Tai Ho Road\, Tsuen Wan\, Hong Kong
CATEGORIES:2016,Dance,Performing Arts
GEO:22.3708519;114.112733
X-APPLE-STRUCTURED-LOCATION;VALUE=URI;X-ADDRESS=Tsuen Wan Town Hall Auditorium 72 Tai Ho Road Tsuen Wan Hong Kong;X-APPLE-RADIUS=500;X-TITLE=72 Tai Ho Road:geo:114.112733,22.3708519
END:VEVENT
BEGIN:VEVENT
DTSTART;TZID=Asia/Hong_Kong:20161014T200000
DTEND;TZID=Asia/Hong_Kong:20161014T200000
DTSTAMP:20260426T100830
CREATED:19160708T082602Z
LAST-MODIFIED:20160708T083043Z
UID:10001841-1476475200-1476475200@www.bcmagazine.net
SUMMARY:Confucius 63
DESCRIPTION:Confucius 63\nChung Ying Theatre\nDate: 13-16 October\, 2016\nVenue: Kwai Tsing Theatre\, Auditorium\nTickets: $280\, $220\, $160 from Urbtix\nMore info:\n13-15 October – 8pm\n15-16 October – 3pm\nIn Cantonese
URL:https://www.bcmagazine.net/event/confucius-63-2016/2016-10-14/
LOCATION:Kwai Tsing Theatre\, Auditorium\, 12 Hing Ning Road\, Kwai Chung\, Hong Kong
CATEGORIES:2016,Performing Arts,Theatre
GEO:22.3568224;114.126199
X-APPLE-STRUCTURED-LOCATION;VALUE=URI;X-ADDRESS=Kwai Tsing Theatre Auditorium 12 Hing Ning Road Kwai Chung Hong Kong;X-APPLE-RADIUS=500;X-TITLE=12 Hing Ning Road:geo:114.126199,22.3568224
END:VEVENT
BEGIN:VEVENT
DTSTART;TZID=Asia/Hong_Kong:20161014T200000
DTEND;TZID=Asia/Hong_Kong:20161014T200000
DTSTAMP:20260426T100830
CREATED:19160829T025325Z
LAST-MODIFIED:20160921T144637Z
UID:10001999-1476475200-1476475200@www.bcmagazine.net
SUMMARY:A Midsummer Night's Dream
DESCRIPTION:A Midsummer Night’s Dream\nDate: 30 September – 22 October\, 2016\nVenue: HKAPA\, Lyric Theatre\nTickets:\nWednesday+ Thursday: $980\, $780\, $580\, $380\, $280\, $180\nFriday + Saturday $1\,180\, $980\, $680\, $480\, $380\, $280\nfrom HKTicketing\nMore info:\nMon-Tue: no show\nWed-Sat: 8pm\nSun: 3pm\n*No show on 12 Oct 2016 (Wed)\nDrama in Cantonese (with both Chinese & English surtitles)
URL:https://www.bcmagazine.net/event/dct-a-midsummer-nights-dream-2016/2016-10-14/
LOCATION:HKAPA: Lyric Theatre\, 1 Gloucester Road\, Wanchai\, Hong Kong
CATEGORIES:2016,Performing Arts,Theatre
GEO:22.2801854;114.1695054
X-APPLE-STRUCTURED-LOCATION;VALUE=URI;X-ADDRESS=HKAPA: Lyric Theatre 1 Gloucester Road Wanchai Hong Kong;X-APPLE-RADIUS=500;X-TITLE=1 Gloucester Road:geo:114.1695054,22.2801854
END:VEVENT
BEGIN:VEVENT
DTSTART;TZID=Asia/Hong_Kong:20161014T200000
DTEND;TZID=Asia/Hong_Kong:20161014T200000
DTSTAMP:20260426T100830
CREATED:20230114T070959Z
LAST-MODIFIED:20230114T070959Z
UID:10000557-1476475200-1476475200@www.bcmagazine.net
SUMMARY:Death of Old China
DESCRIPTION:Mahjong History Theatre: Death of Old China\nZuni Icosahedron\nDate: 7-9\, 14-15 October\, 2016\nVenue: HK Cultural Centre\, Studio Theatre\nTickets: $280\, $200\, $188 from Urbtix
URL:https://www.bcmagazine.net/event/death-of-old-china-2016/2016-10-14/
LOCATION:HK Cultural Centre\, Studio Theatre\, 10 Salisbury Road\, Tsim Sha Tsui\, Hong Kong
CATEGORIES:2016,Performing Arts,Theatre
END:VEVENT
BEGIN:VEVENT
DTSTART;TZID=Asia/Hong_Kong:20161014T200000
DTEND;TZID=Asia/Hong_Kong:20161014T230000
DTSTAMP:20260426T100830
CREATED:19160908T165220Z
LAST-MODIFIED:20160916T164135Z
UID:10002073-1476475200-1476486000@www.bcmagazine.net
SUMMARY:Peel Street Poetry
DESCRIPTION:Peel Street Poetry is an open mic poetry night at Orange Peel. It runs every Wednesdays of the month except the first. The environment is friendly and they love new performers\, so come share your poetry or just listen along to some of Hong Kong’s sharpest poetic talents. \nPeel Street Poetry Open Mic\nDate: 2nd\, 3rd\, 4th (and 5th) Wednesdays of the month\nVenue: Orange Peel\nTickets: Free\nMore info:\nwww.peelstreetpoetry.com
URL:https://www.bcmagazine.net/event/peel-street-poetry-2016/2016-10-14/
LOCATION:Orange Peel\, 2/F\, 38-44 D'Aguilar Street\, Central\, Hong Kong\, Hong Kong
CATEGORIES:2016,Free,Nightlife,Performing Arts,Poetry
GEO:22.2807864;114.1553675
X-APPLE-STRUCTURED-LOCATION;VALUE=URI;X-ADDRESS=Orange Peel 2/F 38-44 D'Aguilar Street Central Hong Kong Hong Kong;X-APPLE-RADIUS=500;X-TITLE=2/F\, 38-44 D'Aguilar Street\, Central:geo:114.1553675,22.2807864
END:VEVENT
BEGIN:VEVENT
DTSTART;TZID=Asia/Hong_Kong:20161014T230000
DTEND;TZID=Asia/Hong_Kong:20161014T230000
DTSTAMP:20260426T100830
CREATED:19161002T141535Z
LAST-MODIFIED:20161002T142048Z
UID:10002150-1476486000-1476486000@www.bcmagazine.net
SUMMARY:Telephones + San Soda + Rifain
DESCRIPTION:Telephones + San Soda + Rifain\nDate: 11pm\, 14 October\, 2016\nVenue: Acadana (Room 33 17/F Wah Lok Ind Centre Blk B 41 Shan Mei Street\, Fo Tan)\nTickets: $100
URL:https://www.bcmagazine.net/event/telephones-san-soda-rifain/
CATEGORIES:2016,Concert,Music
END:VEVENT
BEGIN:VEVENT
DTSTART;TZID=Asia/Hong_Kong:20161015T123000
DTEND;TZID=Asia/Hong_Kong:20161015T123000
DTSTAMP:20260426T100830
CREATED:20160919T105013Z
LAST-MODIFIED:20160919T105013Z
UID:10006282-1476534600-1476534600@www.bcmagazine.net
SUMMARY:DLSWCC Spartans v Kai Tak
DESCRIPTION:Championship League B: DLSWCC Spartans v Kai Tak
URL:https://www.bcmagazine.net/event/dlswcc-spartans-v-kai-tak/
LOCATION:Po Kong Village Road Park\, 140 Po Kong Village Road\, Diamond Hill\, Hong Kong
CATEGORIES:2016,Cricket,Free,Sport
GEO:22.3435827;114.2044989
X-APPLE-STRUCTURED-LOCATION;VALUE=URI;X-ADDRESS=Po Kong Village Road Park 140 Po Kong Village Road Diamond Hill Hong Kong;X-APPLE-RADIUS=500;X-TITLE=140 Po Kong Village Road:geo:114.2044989,22.3435827
END:VEVENT
BEGIN:VEVENT
DTSTART;TZID=Asia/Hong_Kong:20161015T130000
DTEND;TZID=Asia/Hong_Kong:20161015T130000
DTSTAMP:20260426T100830
CREATED:20160919T105012Z
LAST-MODIFIED:20160919T105012Z
UID:10006275-1476536400-1476536400@www.bcmagazine.net
SUMMARY:Lamma v Pioneers CC
DESCRIPTION:Championship League B: Lamma v Pioneers CC
URL:https://www.bcmagazine.net/event/lamma-v-pioneers-cc/
LOCATION:Guangzhou Cricket Stadium\, Guangzhou\, China
CATEGORIES:2016,Cricket,Free,Sport
GEO:23.12911;113.264385
END:VEVENT
BEGIN:VEVENT
DTSTART;TZID=Asia/Hong_Kong:20161015T130000
DTEND;TZID=Asia/Hong_Kong:20161015T130000
DTSTAMP:20260426T100830
CREATED:20160919T105013Z
LAST-MODIFIED:20160919T105013Z
UID:10006281-1476536400-1476536400@www.bcmagazine.net
SUMMARY:KCC Crusaders v HKCC Gap Ramblers
DESCRIPTION:Championship League A: KCC Crusaders v HKCC Gap Ramblers
URL:https://www.bcmagazine.net/event/kcc-crusaders-v-hkcc-gap-ramblers/
LOCATION:Kowloon Cricket Club\, 10 Cox's Road\, Jordan\, Hong Kong
CATEGORIES:2016,Cricket,Free,Sport
GEO:22.3048927;114.1737401
X-APPLE-STRUCTURED-LOCATION;VALUE=URI;X-ADDRESS=Kowloon Cricket Club 10 Cox's Road Jordan Hong Kong;X-APPLE-RADIUS=500;X-TITLE=10 Cox's Road:geo:114.1737401,22.3048927
END:VEVENT
BEGIN:VEVENT
DTSTART;TZID=Asia/Hong_Kong:20161015T130000
DTEND;TZID=Asia/Hong_Kong:20161015T130000
DTSTAMP:20260426T100830
CREATED:20160919T105013Z
LAST-MODIFIED:20160919T105013Z
UID:10006283-1476536400-1476536400@www.bcmagazine.net
SUMMARY:DLSWCC Wasps v CCC Fung Wong
DESCRIPTION:Women’s League A: DLSWCC Wasps v CCC Fung Wong
URL:https://www.bcmagazine.net/event/dlswcc-wasps-v-ccc-fung-wong-2/
LOCATION:Po Kong Village Road Reservoir Ground\, Po Kong Village Road\, Tsz Wan Shan\, Hong Kong
CATEGORIES:2016,Cricket,Free,Sport
GEO:22.346522;114.204203
X-APPLE-STRUCTURED-LOCATION;VALUE=URI;X-ADDRESS=Po Kong Village Road Reservoir Ground Po Kong Village Road Tsz Wan Shan Hong Kong;X-APPLE-RADIUS=500;X-TITLE=Po Kong Village Road:geo:114.204203,22.346522
END:VEVENT
BEGIN:VEVENT
DTSTART;TZID=Asia/Hong_Kong:20161015T130000
DTEND;TZID=Asia/Hong_Kong:20161015T130000
DTSTAMP:20260426T100830
CREATED:20160919T105013Z
LAST-MODIFIED:20160919T105013Z
UID:10006280-1476536400-1476536400@www.bcmagazine.net
SUMMARY:Pakistan Association v HKCC Witherers
DESCRIPTION:Championship League A: Pakistan Association v HKCC Witherers
URL:https://www.bcmagazine.net/event/pakistan-association-v-hkcc-witherers/
LOCATION:Hong Kong Cricket Club\, 137 Wong Ngai Chung Gap Road\, Hong Kong
CATEGORIES:2016,Cricket,Free,Sport
GEO:22.258574;114.1934009
X-APPLE-STRUCTURED-LOCATION;VALUE=URI;X-ADDRESS=Hong Kong Cricket Club 137 Wong Ngai Chung Gap Road Hong Kong;X-APPLE-RADIUS=500;X-TITLE=137 Wong Ngai Chung Gap Road:geo:114.1934009,22.258574
END:VEVENT
BEGIN:VEVENT
DTSTART;TZID=Asia/Hong_Kong:20161015T130000
DTEND;TZID=Asia/Hong_Kong:20161015T200000
DTSTAMP:20260426T100830
CREATED:19160906T150024Z
LAST-MODIFIED:20160909T024627Z
UID:10000780-1476536400-1476561600@www.bcmagazine.net
SUMMARY:MGM Macau Oktoberfest
DESCRIPTION:MGM Macau Oktoberfest\nDate: 1-8pm\, 12 September – 23 October\, 2016\nVenue: MGM Macau\nTickets: $16o
URL:https://www.bcmagazine.net/event/mgm-macau-oktoberfest-2016/2016-10-15/
LOCATION:Hong Kong
CATEGORIES:2016,Food,Macau,Nightlife
END:VEVENT
BEGIN:VEVENT
DTSTART;TZID=Asia/Hong_Kong:20161015T143000
DTEND;TZID=Asia/Hong_Kong:20161015T143000
DTSTAMP:20260426T100830
CREATED:19161011T095646Z
LAST-MODIFIED:20161011T102358Z
UID:10002249-1476541800-1476541800@www.bcmagazine.net
SUMMARY:Yellowing
DESCRIPTION:The Umbrella Movement happened over two years ago when tens of thousands took to the streets of Hong Kong in a fight for democracy. Yellowing is a documentary that sheds light on the nameless\, ordinary young people whose massed peaceful protest stunned the world. \nThe film is composed of 20 memorandums\, each recording a different aspect of the movement\, more of daily chores\, that in the most realistic respect\, made this seemingly unrealistic defiance possible. Where there is discord\, may we bring harmony; and where there is despair\, may we bring hope.\nDirector: Chan Tze Woon \nYellowing\nDirector: Chan Tze Woon\nWhen: 15\, 22\, 29 October\, 2016\nWhere: HKICC Lee Shau Kee School of Creativity\, Multi-Media Theatre\nTickets: $70 from Urbtix\nMore info:\nIn Cantonese with Chi & Eng Subtitles
URL:https://www.bcmagazine.net/event/yellowing-10-2016/2016-10-15/
LOCATION:HKICC Lee Shau Kee School of Creativity\, Multimedia Theatre\, 135 Junction Road\, Kowloon City\, Hong Kong
CATEGORIES:2016,Film
GEO:22.333647;114.1870039
X-APPLE-STRUCTURED-LOCATION;VALUE=URI;X-ADDRESS=HKICC Lee Shau Kee School of Creativity Multimedia Theatre 135 Junction Road Kowloon City Hong Kong;X-APPLE-RADIUS=500;X-TITLE=135 Junction Road:geo:114.1870039,22.333647
END:VEVENT
BEGIN:VEVENT
DTSTART;TZID=Asia/Hong_Kong:20161015T143000
DTEND;TZID=Asia/Hong_Kong:20161015T170000
DTSTAMP:20260426T100830
CREATED:19160820T081105Z
LAST-MODIFIED:20160820T081326Z
UID:10001940-1476541800-1476550800@www.bcmagazine.net
SUMMARY:Alice in Wonderland
DESCRIPTION:Alice in Wonderland\nDate: 11am\, 2:30pm\, 15 October\, 2016\nVenue: Star Hall\nTickets: $400\, $300\, $200 from HKTicketing
URL:https://www.bcmagazine.net/event/alice-in-wonderland-2016/
LOCATION:KITEC\, Star Hall\, KITEC\, 1 Trademart Drive\, Kowloon Bay\, Hong Kong
CATEGORIES:2016,Performing Arts
GEO:22.3239575;114.2037608
X-APPLE-STRUCTURED-LOCATION;VALUE=URI;X-ADDRESS=KITEC Star Hall KITEC 1 Trademart Drive Kowloon Bay Hong Kong;X-APPLE-RADIUS=500;X-TITLE=KITEC\, 1 Trademart Drive:geo:114.2037608,22.3239575
END:VEVENT
BEGIN:VEVENT
DTSTART;TZID=Asia/Hong_Kong:20161015T193000
DTEND;TZID=Asia/Hong_Kong:20161015T193000
DTSTAMP:20260426T100830
CREATED:19161011T020717Z
LAST-MODIFIED:20161011T021009Z
UID:10002224-1476559800-1476559800@www.bcmagazine.net
SUMMARY:Otello
DESCRIPTION:Otello\nOpera Hong Kong\nDate: 7:30pm\, 13-16 October\, 2016\nVenue: HK Cultural Centre\, Grand Theatre\nTickets: $800\, $680\, $420\, $300\, $150 from Urbtix
URL:https://www.bcmagazine.net/event/otello-2016/2016-10-15/
LOCATION:HK Cultural Centre\, Grand Theatre\,\, 10 Salisbury Road\, Tsim Sha Tsui\, Hong Kong
CATEGORIES:2016,Music,Opera,Performing Arts
GEO:22.294318;114.171708
X-APPLE-STRUCTURED-LOCATION;VALUE=URI;X-ADDRESS=HK Cultural Centre Grand Theatre 10 Salisbury Road Tsim Sha Tsui Hong Kong;X-APPLE-RADIUS=500;X-TITLE=10 Salisbury Road:geo:114.171708,22.294318
END:VEVENT
BEGIN:VEVENT
DTSTART;TZID=Asia/Hong_Kong:20161015T194500
DTEND;TZID=Asia/Hong_Kong:20161015T194500
DTSTAMP:20260426T100830
CREATED:19160307T051324Z
LAST-MODIFIED:20160307T063518Z
UID:10000391-1476560700-1476560700@www.bcmagazine.net
SUMMARY:Hu XueYan\, My Dear
DESCRIPTION:Hu XueYan\, My Dear\nHong Kong Repertory Theatre\nDate: 12-30 October\, 2016\nVenue: HK City Hall\, Theatre\nTickets: $300\, $250\, $180 from Urbtix\nMore info:\n12-15\, 18-20\, 21\, 22\, 25-29 October – 7:45pm\n16\, 23\, 30 October – 2:45pm\nIn Cantonese with English surtitles 
URL:https://www.bcmagazine.net/event/hu-xueyan-my-dear/2016-10-15/
LOCATION:HK City Hall\, Theatre\, 5 Edinburgh Place\, Central\, Hong Kong
CATEGORIES:2016,Performing Arts,Theatre
GEO:22.2822646;114.1615275
X-APPLE-STRUCTURED-LOCATION;VALUE=URI;X-ADDRESS=HK City Hall Theatre 5 Edinburgh Place Central Hong Kong;X-APPLE-RADIUS=500;X-TITLE=5 Edinburgh Place:geo:114.1615275,22.2822646
END:VEVENT
END:VCALENDAR