BEGIN:VCALENDAR
VERSION:2.0
PRODID:-//bc magazine - ECPv6.15.20//NONSGML v1.0//EN
CALSCALE:GREGORIAN
METHOD:PUBLISH
X-WR-CALNAME:bc magazine
X-ORIGINAL-URL:https://www.bcmagazine.net
X-WR-CALDESC:Events for bc magazine
REFRESH-INTERVAL;VALUE=DURATION:PT1H
X-Robots-Tag:noindex
X-PUBLISHED-TTL:PT1H
BEGIN:VTIMEZONE
TZID:Asia/Hong_Kong
BEGIN:STANDARD
TZOFFSETFROM:+0800
TZOFFSETTO:+0800
TZNAME:HKT
DTSTART:20150101T000000
END:STANDARD
END:VTIMEZONE
BEGIN:VEVENT
DTSTART;VALUE=DATE:20160909
DTEND;VALUE=DATE:20161017
DTSTAMP:20260426T110552
CREATED:19160725T052105Z
LAST-MODIFIED:20160725T052258Z
UID:10001919-1473379200-1476662399@www.bcmagazine.net
SUMMARY:Chinese Documentary Festival 2016
DESCRIPTION:Chinese Documentary Festival 2016\nDate: 9 September – 16 October\, 2016\nVenue:\nHong Kong Space Museum (10 Salisbury Road\, TST)\nHong Kong Science Museum (2 Observatory Road\, TST)\nThe Grand Cinema (2/F\, Elements\, 1 Austin Road West\, TST)\nTickets: $85\, $70\nMore info: www.visiblerecord.com
URL:https://www.bcmagazine.net/event/chinese-documentary-festival-2016/
CATEGORIES:2016,Cultural Festival,Film
END:VEVENT
BEGIN:VEVENT
DTSTART;VALUE=DATE:20161011
DTEND;VALUE=DATE:20161017
DTSTAMP:20260426T110552
CREATED:19160716T141648Z
LAST-MODIFIED:20160716T142241Z
UID:10001900-1476144000-1476662399@www.bcmagazine.net
SUMMARY:HK Tennis Open 2016
DESCRIPTION:HK Tennis Open 2016\nDate: 11-16 October\, 2016\nVenue: Victoria Park\nTickets: $880-$160 from Cityline
URL:https://www.bcmagazine.net/event/hk-tennis-open-2016/
LOCATION:Victoria Park\, Causeway Bay\, Hong Kong
CATEGORIES:2016,Sport
END:VEVENT
BEGIN:VEVENT
DTSTART;TZID=Asia/Hong_Kong:20161016T080000
DTEND;TZID=Asia/Hong_Kong:20161016T170000
DTSTAMP:20260426T110552
CREATED:19161012T100809Z
LAST-MODIFIED:20161012T102624Z
UID:10002268-1476604800-1476637200@www.bcmagazine.net
SUMMARY:First Light
DESCRIPTION:Unilluminated Morning Dance\nFirst Light\nDate: 8am\, 16 October\, 2016\nVenue: The Annex\nTickets: Free with registration
URL:https://www.bcmagazine.net/event/unilluminated-morning-dance-16-10-2016/
LOCATION:The Annex\, Unit 6\, 2/F\, Wing Wo Street\, Central\, Hong Kong
CATEGORIES:2016,Nightlife
GEO:22.2857232;114.1540104
X-APPLE-STRUCTURED-LOCATION;VALUE=URI;X-ADDRESS=The Annex Unit 6 2/F Wing Wo Street Central Hong Kong;X-APPLE-RADIUS=500;X-TITLE=Unit 6\, 2/F\, Wing Wo Street:geo:114.1540104,22.2857232
END:VEVENT
BEGIN:VEVENT
DTSTART;TZID=Asia/Hong_Kong:20161016T083000
DTEND;TZID=Asia/Hong_Kong:20161016T170000
DTSTAMP:20260426T110552
CREATED:20160607T101338Z
LAST-MODIFIED:20160607T101744Z
UID:10006115-1476606600-1476637200@www.bcmagazine.net
SUMMARY:Victoria Harbour Race 2016
DESCRIPTION:The sixth Victoria Harbour Race takes place on the 16th October from Lei Yue Mun Sam Ka Tsuen Public Pier to Quarry Bay Park Public Pier. \nThe race comprises two groups\, Racing and Leisure\, which have respective quotas of 600 and 2\,400 swimmers. There are seven categories in the Racing Group: Youth (aged 12 to 16)\, Open A (aged 17 to 34)\, Open B (aged 35 to 49)\, Open C (aged 50 or above)\, International (aged 14 or above)\, the Invitation Cup and the School category. The Leisure Group is open to all eligible swimmers aged 12 or above. \nOnline entry registration starts at www.hkharbourrace.com on the 8th June with the number of entries increased to 3000 this year. \nVictoria Harbour Race 2016\nDate: 8:30am\, 16 October\, 2016\nVenue: Victoria Harbour\nTickets: Online registration starts on 8 June 2016 at www.hkharbourrace.com
URL:https://www.bcmagazine.net/event/victoria-harbour-race-2016/
LOCATION:Victoria Harbour\, Hong Kong
CATEGORIES:2016,Sport
END:VEVENT
BEGIN:VEVENT
DTSTART;TZID=Asia/Hong_Kong:20161016T090000
DTEND;TZID=Asia/Hong_Kong:20161016T170000
DTSTAMP:20260426T110552
CREATED:19160602T143315Z
LAST-MODIFIED:20160602T143712Z
UID:10001768-1476608400-1476637200@www.bcmagazine.net
SUMMARY:Central Rat Race
DESCRIPTION:Central Rat Race\nDate: 9am\, 16 October\, 2016\nVenue: Central\nTickets: $60\,000/team\, Free to watch
URL:https://www.bcmagazine.net/event/central-rat-race-2016/
LOCATION:Hong Kong
CATEGORIES:2016,Charity,Other
END:VEVENT
BEGIN:VEVENT
DTSTART;TZID=Asia/Hong_Kong:20161016T100000
DTEND;TZID=Asia/Hong_Kong:20161016T100000
DTSTAMP:20260426T110552
CREATED:20160919T105012Z
LAST-MODIFIED:20160919T105012Z
UID:10006276-1476612000-1476612000@www.bcmagazine.net
SUMMARY:DLSWCC JKN v HKCC Scorpions
DESCRIPTION:Elite League A: DLSWCC JKN v HKCC Scorpions
URL:https://www.bcmagazine.net/event/dlswcc-jkn-v-hkcc-scorpions/
LOCATION:Hong Kong Cricket Club\, 137 Wong Ngai Chung Gap Road\, Hong Kong
CATEGORIES:2016,Cricket,Free,Sport
GEO:22.258574;114.1934009
X-APPLE-STRUCTURED-LOCATION;VALUE=URI;X-ADDRESS=Hong Kong Cricket Club 137 Wong Ngai Chung Gap Road Hong Kong;X-APPLE-RADIUS=500;X-TITLE=137 Wong Ngai Chung Gap Road:geo:114.1934009,22.258574
END:VEVENT
BEGIN:VEVENT
DTSTART;TZID=Asia/Hong_Kong:20161016T130000
DTEND;TZID=Asia/Hong_Kong:20161016T130000
DTSTAMP:20260426T110552
CREATED:20160919T105012Z
LAST-MODIFIED:20160919T105012Z
UID:10006277-1476622800-1476622800@www.bcmagazine.net
SUMMARY:HKCC Cavaliers v KCC Maidens
DESCRIPTION:Women’s League A: HKCC Cavaliers v KCC Maidens
URL:https://www.bcmagazine.net/event/hkcc-cavaliers-v-kcc-maidens-2/
LOCATION:Po Kong Village Road Reservoir Ground\, Po Kong Village Road\, Tsz Wan Shan\, Hong Kong
CATEGORIES:2016,Cricket,Free,Sport
GEO:22.346522;114.204203
X-APPLE-STRUCTURED-LOCATION;VALUE=URI;X-ADDRESS=Po Kong Village Road Reservoir Ground Po Kong Village Road Tsz Wan Shan Hong Kong;X-APPLE-RADIUS=500;X-TITLE=Po Kong Village Road:geo:114.204203,22.346522
END:VEVENT
BEGIN:VEVENT
DTSTART;TZID=Asia/Hong_Kong:20161016T130000
DTEND;TZID=Asia/Hong_Kong:20161016T200000
DTSTAMP:20260426T110552
CREATED:19160906T150024Z
LAST-MODIFIED:20160909T024627Z
UID:10000781-1476622800-1476648000@www.bcmagazine.net
SUMMARY:MGM Macau Oktoberfest
DESCRIPTION:MGM Macau Oktoberfest\nDate: 1-8pm\, 12 September – 23 October\, 2016\nVenue: MGM Macau\nTickets: $16o
URL:https://www.bcmagazine.net/event/mgm-macau-oktoberfest-2016/2016-10-16/
LOCATION:Hong Kong
CATEGORIES:2016,Food,Macau,Nightlife
END:VEVENT
BEGIN:VEVENT
DTSTART;TZID=Asia/Hong_Kong:20161016T150000
DTEND;TZID=Asia/Hong_Kong:20161016T150000
DTSTAMP:20260426T110552
CREATED:19160831T085504Z
LAST-MODIFIED:20160831T090027Z
UID:10002070-1476630000-1476630000@www.bcmagazine.net
SUMMARY:Steven Isserlis
DESCRIPTION:Steven Isserlis\nDate: 3pm\, 16 October\, 2016\nVenue: Grand Hall\, Lee Shau Kee Lecture Centre\, The University of Hong Kong\nTickets: $250\, $150 from Urbtix
URL:https://www.bcmagazine.net/event/steven-isserlis-2016/
LOCATION:Grand Hall\, Lee Shau Kee Lecture Centre\, Centennial Campus\, The University of Hong Kong\, The University of Hong Kong\, Pokfulam\, Hong Kong
CATEGORIES:2016,Concert,Music
GEO:22.2840507;114.1378391
X-APPLE-STRUCTURED-LOCATION;VALUE=URI;X-ADDRESS=Grand Hall Lee Shau Kee Lecture Centre Centennial Campus The University of Hong Kong The University of Hong Kong Pokfulam Hong Kong;X-APPLE-RADIUS=500;X-TITLE=The University of Hong Kong:geo:114.1378391,22.2840507
END:VEVENT
BEGIN:VEVENT
DTSTART;TZID=Asia/Hong_Kong:20161016T193000
DTEND;TZID=Asia/Hong_Kong:20161016T193000
DTSTAMP:20260426T110552
CREATED:19160820T085246Z
LAST-MODIFIED:20160820T085606Z
UID:10001945-1476646200-1476646200@www.bcmagazine.net
SUMMARY:Garnidelia x Tomohisa Sako
DESCRIPTION:Garnidelia x Tomohisa Sako Two Man Live in Hong Kong\nDate: 7:30pm\, 16 October\, 2016\nVenue: Music Zone@E-Max\nTickets: $780\, $650\, $550 from Cityline
URL:https://www.bcmagazine.net/event/garnidelia-x-tomohisa-sako-2016/
LOCATION:KITEC\, Music Zone@E-Max\, KITEC\,‎ 1 Trademart Drive\, Kowloon Bay\, Hong Kong
GEO:22.3239575;114.2037608
X-APPLE-STRUCTURED-LOCATION;VALUE=URI;X-ADDRESS=KITEC Music Zone@E-Max KITEC‎ 1 Trademart Drive Kowloon Bay Hong Kong;X-APPLE-RADIUS=500;X-TITLE=KITEC\,‎ 1 Trademart Drive:geo:114.2037608,22.3239575
END:VEVENT
BEGIN:VEVENT
DTSTART;TZID=Asia/Hong_Kong:20161016T193000
DTEND;TZID=Asia/Hong_Kong:20161016T193000
DTSTAMP:20260426T110552
CREATED:19161011T020717Z
LAST-MODIFIED:20161011T021009Z
UID:10002225-1476646200-1476646200@www.bcmagazine.net
SUMMARY:Otello
DESCRIPTION:Otello\nOpera Hong Kong\nDate: 7:30pm\, 13-16 October\, 2016\nVenue: HK Cultural Centre\, Grand Theatre\nTickets: $800\, $680\, $420\, $300\, $150 from Urbtix
URL:https://www.bcmagazine.net/event/otello-2016/2016-10-16/
LOCATION:HK Cultural Centre\, Grand Theatre\,\, 10 Salisbury Road\, Tsim Sha Tsui\, Hong Kong
CATEGORIES:2016,Music,Opera,Performing Arts
GEO:22.294318;114.171708
X-APPLE-STRUCTURED-LOCATION;VALUE=URI;X-ADDRESS=HK Cultural Centre Grand Theatre 10 Salisbury Road Tsim Sha Tsui Hong Kong;X-APPLE-RADIUS=500;X-TITLE=10 Salisbury Road:geo:114.171708,22.294318
END:VEVENT
BEGIN:VEVENT
DTSTART;TZID=Asia/Hong_Kong:20161016T194500
DTEND;TZID=Asia/Hong_Kong:20161016T194500
DTSTAMP:20260426T110552
CREATED:20230114T065827Z
LAST-MODIFIED:20230114T065827Z
UID:10000402-1476647100-1476647100@www.bcmagazine.net
SUMMARY:Hu XueYan\, My Dear
DESCRIPTION:Hu XueYan\, My Dear\nHong Kong Repertory Theatre\nDate: 12-30 October\, 2016\nVenue: HK City Hall\, Theatre\nTickets: $300\, $250\, $180 from Urbtix\nMore info:\n12-15\, 18-20\, 21\, 22\, 25-29 October – 7:45pm\n16\, 23\, 30 October – 2:45pm\nIn Cantonese with English surtitles 
URL:https://www.bcmagazine.net/event/hu-xueyan-my-dear/2016-10-16/
LOCATION:HK City Hall\, Theatre\, 5 Edinburgh Place\, Central\, Hong Kong
CATEGORIES:2016,Performing Arts,Theatre
GEO:22.2822646;114.1615275
X-APPLE-STRUCTURED-LOCATION;VALUE=URI;X-ADDRESS=HK City Hall Theatre 5 Edinburgh Place Central Hong Kong;X-APPLE-RADIUS=500;X-TITLE=5 Edinburgh Place:geo:114.1615275,22.2822646
END:VEVENT
BEGIN:VEVENT
DTSTART;TZID=Asia/Hong_Kong:20161016T200000
DTEND;TZID=Asia/Hong_Kong:20161016T200000
DTSTAMP:20260426T110552
CREATED:19160820T080445Z
LAST-MODIFIED:20160820T081048Z
UID:10001939-1476648000-1476648000@www.bcmagazine.net
SUMMARY:Songs of Yesteryear
DESCRIPTION:Songs of Yesteryear\nDate: 2:30pm\, 8:30pm\, 16 October\, 2016\nVenue: Star Hall\nTickets: $580\, $480\, $280\, $180 from HKTicketing
URL:https://www.bcmagazine.net/event/songs-of-yesteryear-2016/
LOCATION:KITEC\, Star Hall\, KITEC\, 1 Trademart Drive\, Kowloon Bay\, Hong Kong
CATEGORIES:2016,Concert,Music
GEO:22.3239575;114.2037608
X-APPLE-STRUCTURED-LOCATION;VALUE=URI;X-ADDRESS=KITEC Star Hall KITEC 1 Trademart Drive Kowloon Bay Hong Kong;X-APPLE-RADIUS=500;X-TITLE=KITEC\, 1 Trademart Drive:geo:114.2037608,22.3239575
END:VEVENT
BEGIN:VEVENT
DTSTART;TZID=Asia/Hong_Kong:20161016T200000
DTEND;TZID=Asia/Hong_Kong:20161016T200000
DTSTAMP:20260426T110552
CREATED:20230114T080859Z
LAST-MODIFIED:20230114T080859Z
UID:10001475-1476648000-1476648000@www.bcmagazine.net
SUMMARY:Descendants of the Eunuch Admiral
DESCRIPTION:International Black Box Festival 2016: Descendants of the Eunuch Admiral\nHKRep Black Box\, Performer Studio\nDate: 15-23 October\, 2016\nVenue: HKRep Black Box Theatre\nTickets: $200 from Urbtix\nMore info:\n15\, 18-22 October – 8pm\n16\, 22-23 October – 3pm\nIn Cantonese 
URL:https://www.bcmagazine.net/event/descendants-of-the-eunuch-admiral/2016-10-16/
LOCATION:HKREP Black Box Theatre\, 8/F\, Sheung Wan Civic Centre\, Sheung Wan Municipal Services Building\, 345 Queen's Road\, Sheung Wan\, Hong Kong
CATEGORIES:2016,Cultural Festival,Performing Arts,Theatre
END:VEVENT
BEGIN:VEVENT
DTSTART;TZID=Asia/Hong_Kong:20161016T200000
DTEND;TZID=Asia/Hong_Kong:20161016T200000
DTSTAMP:20260426T110552
CREATED:20230114T095619Z
LAST-MODIFIED:20230114T095619Z
UID:10001843-1476648000-1476648000@www.bcmagazine.net
SUMMARY:Confucius 63
DESCRIPTION:Confucius 63\nChung Ying Theatre\nDate: 13-16 October\, 2016\nVenue: Kwai Tsing Theatre\, Auditorium\nTickets: $280\, $220\, $160 from Urbtix\nMore info:\n13-15 October – 8pm\n15-16 October – 3pm\nIn Cantonese
URL:https://www.bcmagazine.net/event/confucius-63-2016/2016-10-16/
LOCATION:Kwai Tsing Theatre\, Auditorium\, 12 Hing Ning Road\, Kwai Chung\, Hong Kong
CATEGORIES:2016,Performing Arts,Theatre
GEO:22.3568224;114.126199
X-APPLE-STRUCTURED-LOCATION;VALUE=URI;X-ADDRESS=Kwai Tsing Theatre Auditorium 12 Hing Ning Road Kwai Chung Hong Kong;X-APPLE-RADIUS=500;X-TITLE=12 Hing Ning Road:geo:114.126199,22.3568224
END:VEVENT
BEGIN:VEVENT
DTSTART;TZID=Asia/Hong_Kong:20161016T200000
DTEND;TZID=Asia/Hong_Kong:20161016T200000
DTSTAMP:20260426T110552
CREATED:20230114T102933Z
LAST-MODIFIED:20230114T102933Z
UID:10002007-1476648000-1476648000@www.bcmagazine.net
SUMMARY:A Midsummer Night's Dream
DESCRIPTION:A Midsummer Night’s Dream\nDate: 30 September – 22 October\, 2016\nVenue: HKAPA\, Lyric Theatre\nTickets:\nWednesday+ Thursday: $980\, $780\, $580\, $380\, $280\, $180\nFriday + Saturday $1\,180\, $980\, $680\, $480\, $380\, $280\nfrom HKTicketing\nMore info:\nMon-Tue: no show\nWed-Sat: 8pm\nSun: 3pm\n*No show on 12 Oct 2016 (Wed)\nDrama in Cantonese (with both Chinese & English surtitles)
URL:https://www.bcmagazine.net/event/dct-a-midsummer-nights-dream-2016/2016-10-16/
LOCATION:HKAPA: Lyric Theatre\, 1 Gloucester Road\, Wanchai\, Hong Kong
CATEGORIES:2016,Performing Arts,Theatre
GEO:22.2801854;114.1695054
X-APPLE-STRUCTURED-LOCATION;VALUE=URI;X-ADDRESS=HKAPA: Lyric Theatre 1 Gloucester Road Wanchai Hong Kong;X-APPLE-RADIUS=500;X-TITLE=1 Gloucester Road:geo:114.1695054,22.2801854
END:VEVENT
BEGIN:VEVENT
DTSTART;TZID=Asia/Hong_Kong:20161017T130000
DTEND;TZID=Asia/Hong_Kong:20161017T200000
DTSTAMP:20260426T110552
CREATED:19160906T150024Z
LAST-MODIFIED:20160909T024627Z
UID:10000782-1476709200-1476734400@www.bcmagazine.net
SUMMARY:MGM Macau Oktoberfest
DESCRIPTION:MGM Macau Oktoberfest\nDate: 1-8pm\, 12 September – 23 October\, 2016\nVenue: MGM Macau\nTickets: $16o
URL:https://www.bcmagazine.net/event/mgm-macau-oktoberfest-2016/2016-10-17/
LOCATION:Hong Kong
CATEGORIES:2016,Food,Macau,Nightlife
END:VEVENT
BEGIN:VEVENT
DTSTART;TZID=Asia/Hong_Kong:20161018T130000
DTEND;TZID=Asia/Hong_Kong:20161018T200000
DTSTAMP:20260426T110552
CREATED:19160906T150024Z
LAST-MODIFIED:20160909T024627Z
UID:10000783-1476795600-1476820800@www.bcmagazine.net
SUMMARY:MGM Macau Oktoberfest
DESCRIPTION:MGM Macau Oktoberfest\nDate: 1-8pm\, 12 September – 23 October\, 2016\nVenue: MGM Macau\nTickets: $16o
URL:https://www.bcmagazine.net/event/mgm-macau-oktoberfest-2016/2016-10-18/
LOCATION:Hong Kong
CATEGORIES:2016,Food,Macau,Nightlife
END:VEVENT
BEGIN:VEVENT
DTSTART;TZID=Asia/Hong_Kong:20161018T194500
DTEND;TZID=Asia/Hong_Kong:20161018T194500
DTSTAMP:20260426T110552
CREATED:19160307T051324Z
LAST-MODIFIED:20160307T063518Z
UID:10000392-1476819900-1476819900@www.bcmagazine.net
SUMMARY:Hu XueYan\, My Dear
DESCRIPTION:Hu XueYan\, My Dear\nHong Kong Repertory Theatre\nDate: 12-30 October\, 2016\nVenue: HK City Hall\, Theatre\nTickets: $300\, $250\, $180 from Urbtix\nMore info:\n12-15\, 18-20\, 21\, 22\, 25-29 October – 7:45pm\n16\, 23\, 30 October – 2:45pm\nIn Cantonese with English surtitles 
URL:https://www.bcmagazine.net/event/hu-xueyan-my-dear/2016-10-18/
LOCATION:HK City Hall\, Theatre\, 5 Edinburgh Place\, Central\, Hong Kong
CATEGORIES:2016,Performing Arts,Theatre
GEO:22.2822646;114.1615275
X-APPLE-STRUCTURED-LOCATION;VALUE=URI;X-ADDRESS=HK City Hall Theatre 5 Edinburgh Place Central Hong Kong;X-APPLE-RADIUS=500;X-TITLE=5 Edinburgh Place:geo:114.1615275,22.2822646
END:VEVENT
BEGIN:VEVENT
DTSTART;TZID=Asia/Hong_Kong:20161018T200000
DTEND;TZID=Asia/Hong_Kong:20161018T200000
DTSTAMP:20260426T110552
CREATED:20230114T080859Z
LAST-MODIFIED:20230114T080859Z
UID:10001470-1476820800-1476820800@www.bcmagazine.net
SUMMARY:Descendants of the Eunuch Admiral
DESCRIPTION:International Black Box Festival 2016: Descendants of the Eunuch Admiral\nHKRep Black Box\, Performer Studio\nDate: 15-23 October\, 2016\nVenue: HKRep Black Box Theatre\nTickets: $200 from Urbtix\nMore info:\n15\, 18-22 October – 8pm\n16\, 22-23 October – 3pm\nIn Cantonese 
URL:https://www.bcmagazine.net/event/descendants-of-the-eunuch-admiral/2016-10-18/
LOCATION:HKREP Black Box Theatre\, 8/F\, Sheung Wan Civic Centre\, Sheung Wan Municipal Services Building\, 345 Queen's Road\, Sheung Wan\, Hong Kong
CATEGORIES:2016,Cultural Festival,Performing Arts,Theatre
END:VEVENT
BEGIN:VEVENT
DTSTART;TZID=Asia/Hong_Kong:20161019T130000
DTEND;TZID=Asia/Hong_Kong:20161019T200000
DTSTAMP:20260426T110552
CREATED:19160906T150024Z
LAST-MODIFIED:20160909T024627Z
UID:10000784-1476882000-1476907200@www.bcmagazine.net
SUMMARY:MGM Macau Oktoberfest
DESCRIPTION:MGM Macau Oktoberfest\nDate: 1-8pm\, 12 September – 23 October\, 2016\nVenue: MGM Macau\nTickets: $16o
URL:https://www.bcmagazine.net/event/mgm-macau-oktoberfest-2016/2016-10-19/
LOCATION:Hong Kong
CATEGORIES:2016,Food,Macau,Nightlife
END:VEVENT
BEGIN:VEVENT
DTSTART;TZID=Asia/Hong_Kong:20161019T183000
DTEND;TZID=Asia/Hong_Kong:20161019T183000
DTSTAMP:20260426T110553
CREATED:19160913T064454Z
LAST-MODIFIED:20160913T065105Z
UID:10000821-1476901800-1476901800@www.bcmagazine.net
SUMMARY:Entering the Minds of Composers: Melody
DESCRIPTION:Melody\nYue Kong Pao Lecture Series\, Intimacy of Creativity: Entering the Minds of Composers\, HKUST Music Live!\nDate: 6:30pm\, 19 October\, 2016\nVenue: HKUST\, Cheng Yu Tung Building\, CMA Lecture Hall\nTickets: free – register here
URL:https://www.bcmagazine.net/event/entering-the-minds-of-composers-melody-2016/
LOCATION:HKUST\, Cheng Yu Tung Building\, CMA Lecture Hall\, Clear Water Bay\, Hong Kong
CATEGORIES:2016,Concert,Free,Music,Performing Arts
GEO:22.3104901;114.2836275
END:VEVENT
BEGIN:VEVENT
DTSTART;TZID=Asia/Hong_Kong:20161019T194500
DTEND;TZID=Asia/Hong_Kong:20161019T194500
DTSTAMP:20260426T110553
CREATED:19160307T051324Z
LAST-MODIFIED:20160307T063518Z
UID:10000393-1476906300-1476906300@www.bcmagazine.net
SUMMARY:Hu XueYan\, My Dear
DESCRIPTION:Hu XueYan\, My Dear\nHong Kong Repertory Theatre\nDate: 12-30 October\, 2016\nVenue: HK City Hall\, Theatre\nTickets: $300\, $250\, $180 from Urbtix\nMore info:\n12-15\, 18-20\, 21\, 22\, 25-29 October – 7:45pm\n16\, 23\, 30 October – 2:45pm\nIn Cantonese with English surtitles 
URL:https://www.bcmagazine.net/event/hu-xueyan-my-dear/2016-10-19/
LOCATION:HK City Hall\, Theatre\, 5 Edinburgh Place\, Central\, Hong Kong
CATEGORIES:2016,Performing Arts,Theatre
GEO:22.2822646;114.1615275
X-APPLE-STRUCTURED-LOCATION;VALUE=URI;X-ADDRESS=HK City Hall Theatre 5 Edinburgh Place Central Hong Kong;X-APPLE-RADIUS=500;X-TITLE=5 Edinburgh Place:geo:114.1615275,22.2822646
END:VEVENT
BEGIN:VEVENT
DTSTART;TZID=Asia/Hong_Kong:20161019T200000
DTEND;TZID=Asia/Hong_Kong:20161019T200000
DTSTAMP:20260426T110553
CREATED:19160829T025325Z
LAST-MODIFIED:20160921T144637Z
UID:10002001-1476907200-1476907200@www.bcmagazine.net
SUMMARY:A Midsummer Night's Dream
DESCRIPTION:A Midsummer Night’s Dream\nDate: 30 September – 22 October\, 2016\nVenue: HKAPA\, Lyric Theatre\nTickets:\nWednesday+ Thursday: $980\, $780\, $580\, $380\, $280\, $180\nFriday + Saturday $1\,180\, $980\, $680\, $480\, $380\, $280\nfrom HKTicketing\nMore info:\nMon-Tue: no show\nWed-Sat: 8pm\nSun: 3pm\n*No show on 12 Oct 2016 (Wed)\nDrama in Cantonese (with both Chinese & English surtitles)
URL:https://www.bcmagazine.net/event/dct-a-midsummer-nights-dream-2016/2016-10-19/
LOCATION:HKAPA: Lyric Theatre\, 1 Gloucester Road\, Wanchai\, Hong Kong
CATEGORIES:2016,Performing Arts,Theatre
GEO:22.2801854;114.1695054
X-APPLE-STRUCTURED-LOCATION;VALUE=URI;X-ADDRESS=HKAPA: Lyric Theatre 1 Gloucester Road Wanchai Hong Kong;X-APPLE-RADIUS=500;X-TITLE=1 Gloucester Road:geo:114.1695054,22.2801854
END:VEVENT
BEGIN:VEVENT
DTSTART;TZID=Asia/Hong_Kong:20161019T200000
DTEND;TZID=Asia/Hong_Kong:20161019T200000
DTSTAMP:20260426T110553
CREATED:20230114T080859Z
LAST-MODIFIED:20230114T080859Z
UID:10001471-1476907200-1476907200@www.bcmagazine.net
SUMMARY:Descendants of the Eunuch Admiral
DESCRIPTION:International Black Box Festival 2016: Descendants of the Eunuch Admiral\nHKRep Black Box\, Performer Studio\nDate: 15-23 October\, 2016\nVenue: HKRep Black Box Theatre\nTickets: $200 from Urbtix\nMore info:\n15\, 18-22 October – 8pm\n16\, 22-23 October – 3pm\nIn Cantonese 
URL:https://www.bcmagazine.net/event/descendants-of-the-eunuch-admiral/2016-10-19/
LOCATION:HKREP Black Box Theatre\, 8/F\, Sheung Wan Civic Centre\, Sheung Wan Municipal Services Building\, 345 Queen's Road\, Sheung Wan\, Hong Kong
CATEGORIES:2016,Cultural Festival,Performing Arts,Theatre
END:VEVENT
BEGIN:VEVENT
DTSTART;TZID=Asia/Hong_Kong:20161020T130000
DTEND;TZID=Asia/Hong_Kong:20161020T200000
DTSTAMP:20260426T110553
CREATED:19160906T150024Z
LAST-MODIFIED:20160909T024627Z
UID:10000785-1476968400-1476993600@www.bcmagazine.net
SUMMARY:MGM Macau Oktoberfest
DESCRIPTION:MGM Macau Oktoberfest\nDate: 1-8pm\, 12 September – 23 October\, 2016\nVenue: MGM Macau\nTickets: $16o
URL:https://www.bcmagazine.net/event/mgm-macau-oktoberfest-2016/2016-10-20/
LOCATION:Hong Kong
CATEGORIES:2016,Food,Macau,Nightlife
END:VEVENT
BEGIN:VEVENT
DTSTART;TZID=Asia/Hong_Kong:20161020T194500
DTEND;TZID=Asia/Hong_Kong:20161020T194500
DTSTAMP:20260426T110553
CREATED:19160307T051324Z
LAST-MODIFIED:20160307T063518Z
UID:10000394-1476992700-1476992700@www.bcmagazine.net
SUMMARY:Hu XueYan\, My Dear
DESCRIPTION:Hu XueYan\, My Dear\nHong Kong Repertory Theatre\nDate: 12-30 October\, 2016\nVenue: HK City Hall\, Theatre\nTickets: $300\, $250\, $180 from Urbtix\nMore info:\n12-15\, 18-20\, 21\, 22\, 25-29 October – 7:45pm\n16\, 23\, 30 October – 2:45pm\nIn Cantonese with English surtitles 
URL:https://www.bcmagazine.net/event/hu-xueyan-my-dear/2016-10-20/
LOCATION:HK City Hall\, Theatre\, 5 Edinburgh Place\, Central\, Hong Kong
CATEGORIES:2016,Performing Arts,Theatre
GEO:22.2822646;114.1615275
X-APPLE-STRUCTURED-LOCATION;VALUE=URI;X-ADDRESS=HK City Hall Theatre 5 Edinburgh Place Central Hong Kong;X-APPLE-RADIUS=500;X-TITLE=5 Edinburgh Place:geo:114.1615275,22.2822646
END:VEVENT
BEGIN:VEVENT
DTSTART;TZID=Asia/Hong_Kong:20161020T200000
DTEND;TZID=Asia/Hong_Kong:20161020T200000
DTSTAMP:20260426T110553
CREATED:19160829T025325Z
LAST-MODIFIED:20160921T144637Z
UID:10002002-1476993600-1476993600@www.bcmagazine.net
SUMMARY:A Midsummer Night's Dream
DESCRIPTION:A Midsummer Night’s Dream\nDate: 30 September – 22 October\, 2016\nVenue: HKAPA\, Lyric Theatre\nTickets:\nWednesday+ Thursday: $980\, $780\, $580\, $380\, $280\, $180\nFriday + Saturday $1\,180\, $980\, $680\, $480\, $380\, $280\nfrom HKTicketing\nMore info:\nMon-Tue: no show\nWed-Sat: 8pm\nSun: 3pm\n*No show on 12 Oct 2016 (Wed)\nDrama in Cantonese (with both Chinese & English surtitles)
URL:https://www.bcmagazine.net/event/dct-a-midsummer-nights-dream-2016/2016-10-20/
LOCATION:HKAPA: Lyric Theatre\, 1 Gloucester Road\, Wanchai\, Hong Kong
CATEGORIES:2016,Performing Arts,Theatre
GEO:22.2801854;114.1695054
X-APPLE-STRUCTURED-LOCATION;VALUE=URI;X-ADDRESS=HKAPA: Lyric Theatre 1 Gloucester Road Wanchai Hong Kong;X-APPLE-RADIUS=500;X-TITLE=1 Gloucester Road:geo:114.1695054,22.2801854
END:VEVENT
BEGIN:VEVENT
DTSTART;TZID=Asia/Hong_Kong:20161020T200000
DTEND;TZID=Asia/Hong_Kong:20161020T200000
DTSTAMP:20260426T110553
CREATED:20230114T080859Z
LAST-MODIFIED:20230114T080859Z
UID:10001472-1476993600-1476993600@www.bcmagazine.net
SUMMARY:Descendants of the Eunuch Admiral
DESCRIPTION:International Black Box Festival 2016: Descendants of the Eunuch Admiral\nHKRep Black Box\, Performer Studio\nDate: 15-23 October\, 2016\nVenue: HKRep Black Box Theatre\nTickets: $200 from Urbtix\nMore info:\n15\, 18-22 October – 8pm\n16\, 22-23 October – 3pm\nIn Cantonese 
URL:https://www.bcmagazine.net/event/descendants-of-the-eunuch-admiral/2016-10-20/
LOCATION:HKREP Black Box Theatre\, 8/F\, Sheung Wan Civic Centre\, Sheung Wan Municipal Services Building\, 345 Queen's Road\, Sheung Wan\, Hong Kong
CATEGORIES:2016,Cultural Festival,Performing Arts,Theatre
END:VEVENT
BEGIN:VEVENT
DTSTART;TZID=Asia/Hong_Kong:20161020T201500
DTEND;TZID=Asia/Hong_Kong:20161020T201500
DTSTAMP:20260426T110553
CREATED:19160824T055138Z
LAST-MODIFIED:20160824T061653Z
UID:10001959-1476994500-1476994500@www.bcmagazine.net
SUMMARY:Roy Hargrove
DESCRIPTION:Roy Hargrove\nDate: 8:15pm\, 20 October\, 2016\nVenue: HK City Hall\, Concert Hall\nTickets: $580\, $480\, $380\, $280 from Ticketflap
URL:https://www.bcmagazine.net/event/roy-hargrove-2016/
LOCATION:HK City Hall\, Concert Hall\,  5 Edinburgh Place\, Central\, Hong Kong
CATEGORIES:2016,Concert,Music
END:VEVENT
END:VCALENDAR