BEGIN:VCALENDAR
VERSION:2.0
PRODID:-//bc magazine - ECPv6.15.20//NONSGML v1.0//EN
CALSCALE:GREGORIAN
METHOD:PUBLISH
X-WR-CALNAME:bc magazine
X-ORIGINAL-URL:https://www.bcmagazine.net
X-WR-CALDESC:Events for bc magazine
REFRESH-INTERVAL;VALUE=DURATION:PT1H
X-Robots-Tag:noindex
X-PUBLISHED-TTL:PT1H
BEGIN:VTIMEZONE
TZID:Asia/Hong_Kong
BEGIN:STANDARD
TZOFFSETFROM:+0800
TZOFFSETTO:+0800
TZNAME:HKT
DTSTART:20150101T000000
END:STANDARD
END:VTIMEZONE
BEGIN:VEVENT
DTSTART;VALUE=DATE:20161021
DTEND;VALUE=DATE:20161024
DTSTAMP:20260426T044909
CREATED:19160921T012555Z
LAST-MODIFIED:20160921T013057Z
UID:10000841-1477008000-1477267199@www.bcmagazine.net
SUMMARY:Silvermine Bay Music Festival
DESCRIPTION:Silvermine Bay Music Festival\nDate: 21-23 October\, 2016\nVenue: Silvermine Bay\nTickets: tbc
URL:https://www.bcmagazine.net/event/silvermine-bay-music-festival-2016/
CATEGORIES:2016,Concert,Music
END:VEVENT
BEGIN:VEVENT
DTSTART;VALUE=DATE:20161021
DTEND;VALUE=DATE:20161024
DTSTAMP:20260426T044909
CREATED:19161017T172433Z
LAST-MODIFIED:20161017T172717Z
UID:10000904-1477008000-1477267199@www.bcmagazine.net
SUMMARY:Lusofonia Festival
DESCRIPTION:Lusofonia Festival\nDate: 21-23 October\, 2016\nVenue: Casas – Museu da Taipa\nTickets: Free
URL:https://www.bcmagazine.net/event/lusofonia-festival-macau-2016/
LOCATION:Macau\, Macau
CATEGORIES:2016,Cultural Festival,Free,Macau
GEO:22.198745;113.543873
END:VEVENT
BEGIN:VEVENT
DTSTART;TZID=Asia/Hong_Kong:20161021T130000
DTEND;TZID=Asia/Hong_Kong:20161021T200000
DTSTAMP:20260426T044909
CREATED:19160906T150024Z
LAST-MODIFIED:20160909T024627Z
UID:10000786-1477054800-1477080000@www.bcmagazine.net
SUMMARY:MGM Macau Oktoberfest
DESCRIPTION:MGM Macau Oktoberfest\nDate: 1-8pm\, 12 September – 23 October\, 2016\nVenue: MGM Macau\nTickets: $16o
URL:https://www.bcmagazine.net/event/mgm-macau-oktoberfest-2016/2016-10-21/
LOCATION:Hong Kong
CATEGORIES:2016,Food,Macau,Nightlife
END:VEVENT
BEGIN:VEVENT
DTSTART;TZID=Asia/Hong_Kong:20161021T193000
DTEND;TZID=Asia/Hong_Kong:20161021T193000
DTSTAMP:20260426T044910
CREATED:19161011T020334Z
LAST-MODIFIED:20161011T020615Z
UID:10002219-1477078200-1477078200@www.bcmagazine.net
SUMMARY:Matsukaze
DESCRIPTION:NVAF 2016: Matsukaze\nNew Vision Arts Festival\, Sasha Waltz & Guests\nDate: 7:30pm\, 21-23 October\, 2016\nVenue: HK Cultural Centre\, Grand Theatre\nTickets: $580\, $480\, $380\, $280\, $160 from Urbtix
URL:https://www.bcmagazine.net/event/matsukaze-2016/2016-10-21/
LOCATION:HK Cultural Centre\, Grand Theatre\,\, 10 Salisbury Road\, Tsim Sha Tsui\, Hong Kong
CATEGORIES:2016,Cultural Festival,Music,Performing Arts
GEO:22.294318;114.171708
X-APPLE-STRUCTURED-LOCATION;VALUE=URI;X-ADDRESS=HK Cultural Centre Grand Theatre 10 Salisbury Road Tsim Sha Tsui Hong Kong;X-APPLE-RADIUS=500;X-TITLE=10 Salisbury Road:geo:114.171708,22.294318
END:VEVENT
BEGIN:VEVENT
DTSTART;TZID=Asia/Hong_Kong:20161021T194500
DTEND;TZID=Asia/Hong_Kong:20161021T194500
DTSTAMP:20260426T044910
CREATED:19160307T051324Z
LAST-MODIFIED:20160307T063518Z
UID:10000395-1477079100-1477079100@www.bcmagazine.net
SUMMARY:Hu XueYan\, My Dear
DESCRIPTION:Hu XueYan\, My Dear\nHong Kong Repertory Theatre\nDate: 12-30 October\, 2016\nVenue: HK City Hall\, Theatre\nTickets: $300\, $250\, $180 from Urbtix\nMore info:\n12-15\, 18-20\, 21\, 22\, 25-29 October – 7:45pm\n16\, 23\, 30 October – 2:45pm\nIn Cantonese with English surtitles 
URL:https://www.bcmagazine.net/event/hu-xueyan-my-dear/2016-10-21/
LOCATION:HK City Hall\, Theatre\, 5 Edinburgh Place\, Central\, Hong Kong
CATEGORIES:2016,Performing Arts,Theatre
GEO:22.2822646;114.1615275
X-APPLE-STRUCTURED-LOCATION;VALUE=URI;X-ADDRESS=HK City Hall Theatre 5 Edinburgh Place Central Hong Kong;X-APPLE-RADIUS=500;X-TITLE=5 Edinburgh Place:geo:114.1615275,22.2822646
END:VEVENT
BEGIN:VEVENT
DTSTART;TZID=Asia/Hong_Kong:20161021T200000
DTEND;TZID=Asia/Hong_Kong:20161021T200000
DTSTAMP:20260426T044910
CREATED:19160829T025325Z
LAST-MODIFIED:20160921T144637Z
UID:10002003-1477080000-1477080000@www.bcmagazine.net
SUMMARY:A Midsummer Night's Dream
DESCRIPTION:A Midsummer Night’s Dream\nDate: 30 September – 22 October\, 2016\nVenue: HKAPA\, Lyric Theatre\nTickets:\nWednesday+ Thursday: $980\, $780\, $580\, $380\, $280\, $180\nFriday + Saturday $1\,180\, $980\, $680\, $480\, $380\, $280\nfrom HKTicketing\nMore info:\nMon-Tue: no show\nWed-Sat: 8pm\nSun: 3pm\n*No show on 12 Oct 2016 (Wed)\nDrama in Cantonese (with both Chinese & English surtitles)
URL:https://www.bcmagazine.net/event/dct-a-midsummer-nights-dream-2016/2016-10-21/
LOCATION:HKAPA: Lyric Theatre\, 1 Gloucester Road\, Wanchai\, Hong Kong
CATEGORIES:2016,Performing Arts,Theatre
GEO:22.2801854;114.1695054
X-APPLE-STRUCTURED-LOCATION;VALUE=URI;X-ADDRESS=HKAPA: Lyric Theatre 1 Gloucester Road Wanchai Hong Kong;X-APPLE-RADIUS=500;X-TITLE=1 Gloucester Road:geo:114.1695054,22.2801854
END:VEVENT
BEGIN:VEVENT
DTSTART;TZID=Asia/Hong_Kong:20161021T200000
DTEND;TZID=Asia/Hong_Kong:20161021T200000
DTSTAMP:20260426T044910
CREATED:19160912T053542Z
LAST-MODIFIED:20160912T054051Z
UID:10000805-1477080000-1477080000@www.bcmagazine.net
SUMMARY:A Love Song Sung for Me
DESCRIPTION:A Love Song Sung for Me\nThink Big Theatre\nDate: 21-23 October\, 2016\nVenue: Sheung Wan Civic Centre\, Theatre\nTickets: $220\, $180 from Urbtix
URL:https://www.bcmagazine.net/event/think-big-theatre-a-love-song-sung-for-me-2016/2016-10-21/
LOCATION:Sheung Wan Civic Centre\, Theatre\, 345 Queen's Road Central\, Sheung Wan\, Hong Kong
CATEGORIES:2016,Music,Performing Arts,Theatre
GEO:22.2861929;114.1497606
X-APPLE-STRUCTURED-LOCATION;VALUE=URI;X-ADDRESS=Sheung Wan Civic Centre Theatre 345 Queen's Road Central Sheung Wan Hong Kong;X-APPLE-RADIUS=500;X-TITLE=345 Queen's Road Central:geo:114.1497606,22.2861929
END:VEVENT
BEGIN:VEVENT
DTSTART;TZID=Asia/Hong_Kong:20161021T200000
DTEND;TZID=Asia/Hong_Kong:20161021T200000
DTSTAMP:20260426T044910
CREATED:20230114T080859Z
LAST-MODIFIED:20230114T080859Z
UID:10001473-1477080000-1477080000@www.bcmagazine.net
SUMMARY:Descendants of the Eunuch Admiral
DESCRIPTION:International Black Box Festival 2016: Descendants of the Eunuch Admiral\nHKRep Black Box\, Performer Studio\nDate: 15-23 October\, 2016\nVenue: HKRep Black Box Theatre\nTickets: $200 from Urbtix\nMore info:\n15\, 18-22 October – 8pm\n16\, 22-23 October – 3pm\nIn Cantonese 
URL:https://www.bcmagazine.net/event/descendants-of-the-eunuch-admiral/2016-10-21/
LOCATION:HKREP Black Box Theatre\, 8/F\, Sheung Wan Civic Centre\, Sheung Wan Municipal Services Building\, 345 Queen's Road\, Sheung Wan\, Hong Kong
CATEGORIES:2016,Cultural Festival,Performing Arts,Theatre
END:VEVENT
BEGIN:VEVENT
DTSTART;TZID=Asia/Hong_Kong:20161021T201500
DTEND;TZID=Asia/Hong_Kong:20161021T201500
DTSTAMP:20260426T044910
CREATED:19161008T052846Z
LAST-MODIFIED:20161008T053636Z
UID:10002158-1477080900-1477080900@www.bcmagazine.net
SUMMARY:Joyce Cheng
DESCRIPTION:Joyce Cheng\nDate: 8:15pm\, 21-22 October\, 2016\nVenue: KITEC\, Star Hall\nTickets: $580\, $480\, $380 from HKTicketing
URL:https://www.bcmagazine.net/event/joyce-cheng-2016/2016-10-21/
LOCATION:KITEC\, Star Hall\, KITEC\, 1 Trademart Drive\, Kowloon Bay\, Hong Kong
CATEGORIES:2016,Concert,Music
GEO:22.3239575;114.2037608
X-APPLE-STRUCTURED-LOCATION;VALUE=URI;X-ADDRESS=KITEC Star Hall KITEC 1 Trademart Drive Kowloon Bay Hong Kong;X-APPLE-RADIUS=500;X-TITLE=KITEC\, 1 Trademart Drive:geo:114.2037608,22.3239575
END:VEVENT
BEGIN:VEVENT
DTSTART;VALUE=DATE:20161022
DTEND;VALUE=DATE:20161024
DTSTAMP:20260426T044910
CREATED:19160824T054604Z
LAST-MODIFIED:20160824T055113Z
UID:10001958-1477094400-1477267199@www.bcmagazine.net
SUMMARY:HK Beach Water Polo Tournament
DESCRIPTION:4th International Hong Kong Beach Water Polo Tournament\nDate: 22-23 October\, 2016\nVenue: Repulse Bay Beach\nTickets: $530\, $150\, $120 from Ticketflap
URL:https://www.bcmagazine.net/event/hk-beach-water-polo-tournament-2016/
LOCATION:Repulse Bay Beach\, Repulse Bay\, Hong Kong
CATEGORIES:2016,Sport
GEO:22.2371597;114.1971229
X-APPLE-STRUCTURED-LOCATION;VALUE=URI;X-ADDRESS=Repulse Bay Beach Repulse Bay Hong Kong;X-APPLE-RADIUS=500;X-TITLE=Repulse Bay:geo:114.1971229,22.2371597
END:VEVENT
BEGIN:VEVENT
DTSTART;VALUE=DATE:20161022
DTEND;VALUE=DATE:20161024
DTSTAMP:20260426T044910
CREATED:19161024T144444Z
LAST-MODIFIED:20161024T145507Z
UID:10002317-1477094400-1477267199@www.bcmagazine.net
SUMMARY:FEI World Jumping Challenge 2016-17
DESCRIPTION:FEI World Jumping Challenge 2016-17\nDate: 22–23 October; 5–6 November; 3–4 December\, 2016\nVenue: Beas River Equestrian Centre\nTickets: Free
URL:https://www.bcmagazine.net/event/fei-world-jumping-challenge-2016-17/
LOCATION:Beas River Equestrian Centre\, Kam Tsin Road\, Hong Kong
CATEGORIES:2016,Sport
GEO:22.4991652;114.1093292
X-APPLE-STRUCTURED-LOCATION;VALUE=URI;X-ADDRESS=Beas River Equestrian Centre Kam Tsin Road Hong Kong;X-APPLE-RADIUS=500;X-TITLE=Kam Tsin Road:geo:114.1093292,22.4991652
END:VEVENT
BEGIN:VEVENT
DTSTART;TZID=Asia/Hong_Kong:20161022T080000
DTEND;TZID=Asia/Hong_Kong:20161022T170000
DTSTAMP:20260426T044910
CREATED:19160525T090249Z
LAST-MODIFIED:20160525T090745Z
UID:10001643-1477123200-1477155600@www.bcmagazine.net
SUMMARY:Beach Water Polo
DESCRIPTION:4th International Hong Kong Beach Water Polo Tournament\nDate: 22-23 October\, 2016\nVenue: Repulse Bay Beach\nTickets: Free
URL:https://www.bcmagazine.net/event/beach-water-polo-tournament-2016/2016-10-22/
LOCATION:Repulse Bay Beach\, Repulse Bay\, Hong Kong
CATEGORIES:2016,Sport
GEO:22.2371597;114.1971229
X-APPLE-STRUCTURED-LOCATION;VALUE=URI;X-ADDRESS=Repulse Bay Beach Repulse Bay Hong Kong;X-APPLE-RADIUS=500;X-TITLE=Repulse Bay:geo:114.1971229,22.2371597
END:VEVENT
BEGIN:VEVENT
DTSTART;TZID=Asia/Hong_Kong:20161022T123000
DTEND;TZID=Asia/Hong_Kong:20161022T123000
DTSTAMP:20260426T044910
CREATED:20160919T104432Z
LAST-MODIFIED:20160919T104432Z
UID:10006274-1477139400-1477139400@www.bcmagazine.net
SUMMARY:Kai Tak v SCC Lancers
DESCRIPTION:Championship League B: Kai Tak v SCC Lancers
URL:https://www.bcmagazine.net/event/kai-tak-v-scc-lancers/
LOCATION:Po Kong Village Road Park\, 140 Po Kong Village Road\, Diamond Hill\, Hong Kong
CATEGORIES:2016,Cricket,Free,Sport
GEO:22.3435827;114.2044989
X-APPLE-STRUCTURED-LOCATION;VALUE=URI;X-ADDRESS=Po Kong Village Road Park 140 Po Kong Village Road Diamond Hill Hong Kong;X-APPLE-RADIUS=500;X-TITLE=140 Po Kong Village Road:geo:114.2044989,22.3435827
END:VEVENT
BEGIN:VEVENT
DTSTART;TZID=Asia/Hong_Kong:20161022T130000
DTEND;TZID=Asia/Hong_Kong:20161022T130000
DTSTAMP:20260426T044910
CREATED:20160919T104430Z
LAST-MODIFIED:20160919T104430Z
UID:10006269-1477141200-1477141200@www.bcmagazine.net
SUMMARY:Pioneers CC v DLSWCC Spartans
DESCRIPTION:Championship League B: Pioneers CC v DLSWCC Spartans
URL:https://www.bcmagazine.net/event/pioneers-cc-v-dlswcc-spartans/
LOCATION:Guangzhou Cricket Stadium\, Guangzhou\, China
CATEGORIES:2016,Cricket,Free,Sport
GEO:23.12911;113.264385
END:VEVENT
BEGIN:VEVENT
DTSTART;TZID=Asia/Hong_Kong:20161022T130000
DTEND;TZID=Asia/Hong_Kong:20161022T130000
DTSTAMP:20260426T044910
CREATED:20160919T104430Z
LAST-MODIFIED:20160919T104430Z
UID:10006270-1477141200-1477141200@www.bcmagazine.net
SUMMARY:HKCC Nomads v KCC Saracens
DESCRIPTION:Championship League A: HKCC Nomads v KCC Saracens
URL:https://www.bcmagazine.net/event/hkcc-nomads-v-kcc-saracens/
LOCATION:Hong Kong Cricket Club\, 137 Wong Ngai Chung Gap Road\, Hong Kong
CATEGORIES:2016,Cricket,Free,Sport
GEO:22.258574;114.1934009
X-APPLE-STRUCTURED-LOCATION;VALUE=URI;X-ADDRESS=Hong Kong Cricket Club 137 Wong Ngai Chung Gap Road Hong Kong;X-APPLE-RADIUS=500;X-TITLE=137 Wong Ngai Chung Gap Road:geo:114.1934009,22.258574
END:VEVENT
BEGIN:VEVENT
DTSTART;TZID=Asia/Hong_Kong:20161022T130000
DTEND;TZID=Asia/Hong_Kong:20161022T130000
DTSTAMP:20260426T044910
CREATED:20160919T104431Z
LAST-MODIFIED:20160919T104431Z
UID:10006271-1477141200-1477141200@www.bcmagazine.net
SUMMARY:KCC Tartars v USRC/MCC
DESCRIPTION:Championship League A: KCC Tartars v USRC/MCC
URL:https://www.bcmagazine.net/event/kcc-tartars-v-usrcmcc/
LOCATION:Kowloon Cricket Club\, 10 Cox's Road\, Jordan\, Hong Kong
CATEGORIES:2016,Cricket,Free,Sport
GEO:22.3048927;114.1737401
X-APPLE-STRUCTURED-LOCATION;VALUE=URI;X-ADDRESS=Kowloon Cricket Club 10 Cox's Road Jordan Hong Kong;X-APPLE-RADIUS=500;X-TITLE=10 Cox's Road:geo:114.1737401,22.3048927
END:VEVENT
BEGIN:VEVENT
DTSTART;TZID=Asia/Hong_Kong:20161022T130000
DTEND;TZID=Asia/Hong_Kong:20161022T130000
DTSTAMP:20260426T044910
CREATED:20160919T104431Z
LAST-MODIFIED:20160919T104431Z
UID:10006272-1477141200-1477141200@www.bcmagazine.net
SUMMARY:HKCC Willow Wielders v HKCC Cavaliers
DESCRIPTION:Women’s League A: HKCC Willow Wielders v HKCC Cavaliers
URL:https://www.bcmagazine.net/event/hkcc-willow-wielders-v-hkcc-cavaliers-2/
LOCATION:Po Kong Village Road Reservoir Ground\, Po Kong Village Road\, Tsz Wan Shan\, Hong Kong
CATEGORIES:2016,Cricket,Free,Sport
GEO:22.346522;114.204203
X-APPLE-STRUCTURED-LOCATION;VALUE=URI;X-ADDRESS=Po Kong Village Road Reservoir Ground Po Kong Village Road Tsz Wan Shan Hong Kong;X-APPLE-RADIUS=500;X-TITLE=Po Kong Village Road:geo:114.204203,22.346522
END:VEVENT
BEGIN:VEVENT
DTSTART;TZID=Asia/Hong_Kong:20161022T130000
DTEND;TZID=Asia/Hong_Kong:20161022T130000
DTSTAMP:20260426T044910
CREATED:20160919T104431Z
LAST-MODIFIED:20160919T104431Z
UID:10006273-1477141200-1477141200@www.bcmagazine.net
SUMMARY:CCC Hung See v Laguna Gully
DESCRIPTION:Championship League B: CCC Hung See v Laguna Gully
URL:https://www.bcmagazine.net/event/ccc-hung-see-v-laguna-gully/
LOCATION:Police Training College\, Police School Road\, Aberdeen\, Hong Kong
CATEGORIES:2016,Cricket,Free,Sport
GEO:22.246154;114.1706686
X-APPLE-STRUCTURED-LOCATION;VALUE=URI;X-ADDRESS=Police Training College Police School Road Aberdeen Hong Kong;X-APPLE-RADIUS=500;X-TITLE=Police School Road:geo:114.1706686,22.246154
END:VEVENT
BEGIN:VEVENT
DTSTART;TZID=Asia/Hong_Kong:20161022T130000
DTEND;TZID=Asia/Hong_Kong:20161022T200000
DTSTAMP:20260426T044910
CREATED:19160906T150024Z
LAST-MODIFIED:20160909T024627Z
UID:10000787-1477141200-1477166400@www.bcmagazine.net
SUMMARY:MGM Macau Oktoberfest
DESCRIPTION:MGM Macau Oktoberfest\nDate: 1-8pm\, 12 September – 23 October\, 2016\nVenue: MGM Macau\nTickets: $16o
URL:https://www.bcmagazine.net/event/mgm-macau-oktoberfest-2016/2016-10-22/
LOCATION:Hong Kong
CATEGORIES:2016,Food,Macau,Nightlife
END:VEVENT
BEGIN:VEVENT
DTSTART;TZID=Asia/Hong_Kong:20161022T143000
DTEND;TZID=Asia/Hong_Kong:20161022T143000
DTSTAMP:20260426T044910
CREATED:19161011T095646Z
LAST-MODIFIED:20161011T102358Z
UID:10002250-1477146600-1477146600@www.bcmagazine.net
SUMMARY:Yellowing
DESCRIPTION:The Umbrella Movement happened over two years ago when tens of thousands took to the streets of Hong Kong in a fight for democracy. Yellowing is a documentary that sheds light on the nameless\, ordinary young people whose massed peaceful protest stunned the world. \nThe film is composed of 20 memorandums\, each recording a different aspect of the movement\, more of daily chores\, that in the most realistic respect\, made this seemingly unrealistic defiance possible. Where there is discord\, may we bring harmony; and where there is despair\, may we bring hope.\nDirector: Chan Tze Woon \nYellowing\nDirector: Chan Tze Woon\nWhen: 15\, 22\, 29 October\, 2016\nWhere: HKICC Lee Shau Kee School of Creativity\, Multi-Media Theatre\nTickets: $70 from Urbtix\nMore info:\nIn Cantonese with Chi & Eng Subtitles
URL:https://www.bcmagazine.net/event/yellowing-10-2016/2016-10-22/
LOCATION:HKICC Lee Shau Kee School of Creativity\, Multimedia Theatre\, 135 Junction Road\, Kowloon City\, Hong Kong
CATEGORIES:2016,Film
GEO:22.333647;114.1870039
X-APPLE-STRUCTURED-LOCATION;VALUE=URI;X-ADDRESS=HKICC Lee Shau Kee School of Creativity Multimedia Theatre 135 Junction Road Kowloon City Hong Kong;X-APPLE-RADIUS=500;X-TITLE=135 Junction Road:geo:114.1870039,22.333647
END:VEVENT
BEGIN:VEVENT
DTSTART;TZID=Asia/Hong_Kong:20161022T183000
DTEND;TZID=Asia/Hong_Kong:20161022T183000
DTSTAMP:20260426T044910
CREATED:19161017T165426Z
LAST-MODIFIED:20161017T165644Z
UID:10000897-1477161000-1477161000@www.bcmagazine.net
SUMMARY:Kim Woo Bin
DESCRIPTION:Kim Woo Bin\nDate: 8pm\, 22 October\, 2016\nVenue: CotaiArena\nTickets: $1\,190\, $890\, $690\, $490 from CotaiTicketing
URL:https://www.bcmagazine.net/event/kim-woo-bin-macau-2016/
LOCATION:CotaiArena\, Venetian Macao\, Taipa\, Macau
CATEGORIES:2016,Concert,Macau,Music
GEO:22.1483528;113.5602019
X-APPLE-STRUCTURED-LOCATION;VALUE=URI;X-ADDRESS=CotaiArena Venetian Macao Taipa Macau;X-APPLE-RADIUS=500;X-TITLE=Venetian Macao:geo:113.5602019,22.1483528
END:VEVENT
BEGIN:VEVENT
DTSTART;TZID=Asia/Hong_Kong:20161022T193000
DTEND;TZID=Asia/Hong_Kong:20161022T193000
DTSTAMP:20260426T044910
CREATED:19160708T080905Z
LAST-MODIFIED:20161003T021410Z
UID:10001831-1477164600-1477164600@www.bcmagazine.net
SUMMARY:Twelfth Night
DESCRIPTION:Twelfth Night\nThe Absolutely Fabulous Theatre Connection\nDate: 22-23 October\, 2016\nVenue: Kwai Tsing Theatre\, Auditorium\nTickets: $160\, $120\, $80 from Urbtix
URL:https://www.bcmagazine.net/event/twelfth-night-aftec-2016/2016-10-22/
LOCATION:Kwai Tsing Theatre\, Auditorium\, 12 Hing Ning Road\, Kwai Chung\, Hong Kong
CATEGORIES:2016,Performing Arts,Theatre
GEO:22.3568224;114.126199
X-APPLE-STRUCTURED-LOCATION;VALUE=URI;X-ADDRESS=Kwai Tsing Theatre Auditorium 12 Hing Ning Road Kwai Chung Hong Kong;X-APPLE-RADIUS=500;X-TITLE=12 Hing Ning Road:geo:114.126199,22.3568224
END:VEVENT
BEGIN:VEVENT
DTSTART;TZID=Asia/Hong_Kong:20161022T193000
DTEND;TZID=Asia/Hong_Kong:20161022T193000
DTSTAMP:20260426T044910
CREATED:19161011T020334Z
LAST-MODIFIED:20161011T020615Z
UID:10002220-1477164600-1477164600@www.bcmagazine.net
SUMMARY:Matsukaze
DESCRIPTION:NVAF 2016: Matsukaze\nNew Vision Arts Festival\, Sasha Waltz & Guests\nDate: 7:30pm\, 21-23 October\, 2016\nVenue: HK Cultural Centre\, Grand Theatre\nTickets: $580\, $480\, $380\, $280\, $160 from Urbtix
URL:https://www.bcmagazine.net/event/matsukaze-2016/2016-10-22/
LOCATION:HK Cultural Centre\, Grand Theatre\,\, 10 Salisbury Road\, Tsim Sha Tsui\, Hong Kong
CATEGORIES:2016,Cultural Festival,Music,Performing Arts
GEO:22.294318;114.171708
X-APPLE-STRUCTURED-LOCATION;VALUE=URI;X-ADDRESS=HK Cultural Centre Grand Theatre 10 Salisbury Road Tsim Sha Tsui Hong Kong;X-APPLE-RADIUS=500;X-TITLE=10 Salisbury Road:geo:114.171708,22.294318
END:VEVENT
BEGIN:VEVENT
DTSTART;TZID=Asia/Hong_Kong:20161022T194500
DTEND;TZID=Asia/Hong_Kong:20161022T194500
DTSTAMP:20260426T044910
CREATED:19160307T051324Z
LAST-MODIFIED:20160307T063518Z
UID:10000396-1477165500-1477165500@www.bcmagazine.net
SUMMARY:Hu XueYan\, My Dear
DESCRIPTION:Hu XueYan\, My Dear\nHong Kong Repertory Theatre\nDate: 12-30 October\, 2016\nVenue: HK City Hall\, Theatre\nTickets: $300\, $250\, $180 from Urbtix\nMore info:\n12-15\, 18-20\, 21\, 22\, 25-29 October – 7:45pm\n16\, 23\, 30 October – 2:45pm\nIn Cantonese with English surtitles 
URL:https://www.bcmagazine.net/event/hu-xueyan-my-dear/2016-10-22/
LOCATION:HK City Hall\, Theatre\, 5 Edinburgh Place\, Central\, Hong Kong
CATEGORIES:2016,Performing Arts,Theatre
GEO:22.2822646;114.1615275
X-APPLE-STRUCTURED-LOCATION;VALUE=URI;X-ADDRESS=HK City Hall Theatre 5 Edinburgh Place Central Hong Kong;X-APPLE-RADIUS=500;X-TITLE=5 Edinburgh Place:geo:114.1615275,22.2822646
END:VEVENT
BEGIN:VEVENT
DTSTART;TZID=Asia/Hong_Kong:20161022T200000
DTEND;TZID=Asia/Hong_Kong:20161022T200000
DTSTAMP:20260426T044910
CREATED:19160331T080534Z
LAST-MODIFIED:20160331T080804Z
UID:10001553-1477166400-1477166400@www.bcmagazine.net
SUMMARY:Julia Fischer
DESCRIPTION:Encore Series: Volin Recital by Julia Fischer\nDate: 8pm\, 22 October\, 2016\nVenue: HK City Hall\, Concert Hall\nTickets: $400\, $320\, $250\, $180 from Urbtix
URL:https://www.bcmagazine.net/event/julia-fischer-2016/
LOCATION:HK City Hall\, Concert Hall\,  5 Edinburgh Place\, Central\, Hong Kong
CATEGORIES:2016,Concert,Music,Performing Arts
END:VEVENT
BEGIN:VEVENT
DTSTART;TZID=Asia/Hong_Kong:20161022T200000
DTEND;TZID=Asia/Hong_Kong:20161022T200000
DTSTAMP:20260426T044910
CREATED:19160829T025325Z
LAST-MODIFIED:20160921T144637Z
UID:10002004-1477166400-1477166400@www.bcmagazine.net
SUMMARY:A Midsummer Night's Dream
DESCRIPTION:A Midsummer Night’s Dream\nDate: 30 September – 22 October\, 2016\nVenue: HKAPA\, Lyric Theatre\nTickets:\nWednesday+ Thursday: $980\, $780\, $580\, $380\, $280\, $180\nFriday + Saturday $1\,180\, $980\, $680\, $480\, $380\, $280\nfrom HKTicketing\nMore info:\nMon-Tue: no show\nWed-Sat: 8pm\nSun: 3pm\n*No show on 12 Oct 2016 (Wed)\nDrama in Cantonese (with both Chinese & English surtitles)
URL:https://www.bcmagazine.net/event/dct-a-midsummer-nights-dream-2016/2016-10-22/
LOCATION:HKAPA: Lyric Theatre\, 1 Gloucester Road\, Wanchai\, Hong Kong
CATEGORIES:2016,Performing Arts,Theatre
GEO:22.2801854;114.1695054
X-APPLE-STRUCTURED-LOCATION;VALUE=URI;X-ADDRESS=HKAPA: Lyric Theatre 1 Gloucester Road Wanchai Hong Kong;X-APPLE-RADIUS=500;X-TITLE=1 Gloucester Road:geo:114.1695054,22.2801854
END:VEVENT
BEGIN:VEVENT
DTSTART;TZID=Asia/Hong_Kong:20161022T200000
DTEND;TZID=Asia/Hong_Kong:20161022T200000
DTSTAMP:20260426T044910
CREATED:19160912T053542Z
LAST-MODIFIED:20160912T054051Z
UID:10000806-1477166400-1477166400@www.bcmagazine.net
SUMMARY:A Love Song Sung for Me
DESCRIPTION:A Love Song Sung for Me\nThink Big Theatre\nDate: 21-23 October\, 2016\nVenue: Sheung Wan Civic Centre\, Theatre\nTickets: $220\, $180 from Urbtix
URL:https://www.bcmagazine.net/event/think-big-theatre-a-love-song-sung-for-me-2016/2016-10-22/
LOCATION:Sheung Wan Civic Centre\, Theatre\, 345 Queen's Road Central\, Sheung Wan\, Hong Kong
CATEGORIES:2016,Music,Performing Arts,Theatre
GEO:22.2861929;114.1497606
X-APPLE-STRUCTURED-LOCATION;VALUE=URI;X-ADDRESS=Sheung Wan Civic Centre Theatre 345 Queen's Road Central Sheung Wan Hong Kong;X-APPLE-RADIUS=500;X-TITLE=345 Queen's Road Central:geo:114.1497606,22.2861929
END:VEVENT
BEGIN:VEVENT
DTSTART;TZID=Asia/Hong_Kong:20161022T200000
DTEND;TZID=Asia/Hong_Kong:20161022T200000
DTSTAMP:20260426T044910
CREATED:19161008T063017Z
LAST-MODIFIED:20161008T063420Z
UID:10000856-1477166400-1477166400@www.bcmagazine.net
SUMMARY:Eman Lam
DESCRIPTION:Eman Lam – People Like Us\nDate: 8pm\, 22-23 October\, 2016\nVenue: MacPherson Stadium\nTickets: $580\, $480 from Cityline
URL:https://www.bcmagazine.net/event/eman-lam-people-like-us-2016/2016-10-22/
LOCATION:MacPherson Stadium\, 38 Nelson Street\, Mongkok\, Hong Kong
CATEGORIES:2016,Concert,Music
GEO:22.3188457;114.1728403
X-APPLE-STRUCTURED-LOCATION;VALUE=URI;X-ADDRESS=MacPherson Stadium 38 Nelson Street Mongkok Hong Kong;X-APPLE-RADIUS=500;X-TITLE=38 Nelson Street:geo:114.1728403,22.3188457
END:VEVENT
BEGIN:VEVENT
DTSTART;TZID=Asia/Hong_Kong:20161022T200000
DTEND;TZID=Asia/Hong_Kong:20161022T200000
DTSTAMP:20260426T044910
CREATED:20230114T080859Z
LAST-MODIFIED:20230114T080859Z
UID:10001474-1477166400-1477166400@www.bcmagazine.net
SUMMARY:Descendants of the Eunuch Admiral
DESCRIPTION:International Black Box Festival 2016: Descendants of the Eunuch Admiral\nHKRep Black Box\, Performer Studio\nDate: 15-23 October\, 2016\nVenue: HKRep Black Box Theatre\nTickets: $200 from Urbtix\nMore info:\n15\, 18-22 October – 8pm\n16\, 22-23 October – 3pm\nIn Cantonese 
URL:https://www.bcmagazine.net/event/descendants-of-the-eunuch-admiral/2016-10-22/
LOCATION:HKREP Black Box Theatre\, 8/F\, Sheung Wan Civic Centre\, Sheung Wan Municipal Services Building\, 345 Queen's Road\, Sheung Wan\, Hong Kong
CATEGORIES:2016,Cultural Festival,Performing Arts,Theatre
END:VEVENT
BEGIN:VEVENT
DTSTART;TZID=Asia/Hong_Kong:20161023T080000
DTEND;TZID=Asia/Hong_Kong:20161023T170000
DTSTAMP:20260426T044910
CREATED:19160525T090249Z
LAST-MODIFIED:20160525T090745Z
UID:10001644-1477209600-1477242000@www.bcmagazine.net
SUMMARY:Beach Water Polo
DESCRIPTION:4th International Hong Kong Beach Water Polo Tournament\nDate: 22-23 October\, 2016\nVenue: Repulse Bay Beach\nTickets: Free
URL:https://www.bcmagazine.net/event/beach-water-polo-tournament-2016/2016-10-23/
LOCATION:Repulse Bay Beach\, Repulse Bay\, Hong Kong
CATEGORIES:2016,Sport
GEO:22.2371597;114.1971229
X-APPLE-STRUCTURED-LOCATION;VALUE=URI;X-ADDRESS=Repulse Bay Beach Repulse Bay Hong Kong;X-APPLE-RADIUS=500;X-TITLE=Repulse Bay:geo:114.1971229,22.2371597
END:VEVENT
END:VCALENDAR