BEGIN:VCALENDAR
VERSION:2.0
PRODID:-//bc magazine - ECPv6.15.20//NONSGML v1.0//EN
CALSCALE:GREGORIAN
METHOD:PUBLISH
X-WR-CALNAME:bc magazine
X-ORIGINAL-URL:https://www.bcmagazine.net
X-WR-CALDESC:Events for bc magazine
REFRESH-INTERVAL;VALUE=DURATION:PT1H
X-Robots-Tag:noindex
X-PUBLISHED-TTL:PT1H
BEGIN:VTIMEZONE
TZID:Asia/Hong_Kong
BEGIN:STANDARD
TZOFFSETFROM:+0800
TZOFFSETTO:+0800
TZNAME:HKT
DTSTART:20150101T000000
END:STANDARD
END:VTIMEZONE
BEGIN:VEVENT
DTSTART;VALUE=DATE:20161027
DTEND;VALUE=DATE:20161110
DTSTAMP:20260426T094629
CREATED:19160921T152425Z
LAST-MODIFIED:20160921T152736Z
UID:10000848-1477526400-1478735999@www.bcmagazine.net
SUMMARY:HK Art Week 2016
DESCRIPTION:HK Art Week 2016\nDate: 27 October – 9 November\, 2016\nVenue: Various\nTickets: Free\, tbc
URL:https://www.bcmagazine.net/event/hk-art-week-2016/
CATEGORIES:2016,Art Gallery,Free,Opera
END:VEVENT
BEGIN:VEVENT
DTSTART;VALUE=DATE:20161027
DTEND;VALUE=DATE:20161110
DTSTAMP:20260426T094629
CREATED:19160921T152425Z
LAST-MODIFIED:20230221T020310Z
UID:10006736-1477526400-1478735999@www.bcmagazine.net
SUMMARY:HK Art Week 2023
DESCRIPTION:HK Art Week 2023\nDate: 22 – 25 March\, 2023\nVenue: HK Convention and Exhibition Centre\nTickets: Free\, tbc
URL:https://www.bcmagazine.net/event/hk-art-week-2023/
LOCATION:HK Convention and Exhibition Centre\, 1 Expo Drive\, Wanchai\, Hong Kong
CATEGORIES:2023,Art Gallery,Free,Opera
ATTACH;FMTTYPE=image/webp:https://www.bcmagazine.net/wp-content/uploads/2023/01/art-week-2023-BW.webp
END:VEVENT
BEGIN:VEVENT
DTSTART;VALUE=DATE:20161104
DTEND;VALUE=DATE:20161114
DTSTAMP:20260426T094629
CREATED:20160909T011944Z
LAST-MODIFIED:20160909T055630Z
UID:10006131-1478217600-1479081599@www.bcmagazine.net
SUMMARY:Hong Kong International Literary Festival 2016
DESCRIPTION:Celebrated writers from a diverse range of literary corners\, including fiction\, history\, poetry\, fitness and science\, will come together this autumn at the The 2016 Hong Kong International Literary Festival. Authors participating in this year’s festival include Bei Dao\, Lionel Shriver\, Hanya Yanagihara\, Adam Johnson\, Hyeonseo Lee and Sarah Howe. The festival programme of more than 35 events includes talks\, literary lunches\, readings\, panel discussions and spans ten days from 4 to 13 November at a variety of venues across the city. \nFull event schedule and tickets onsale soon. \nHong Kong International Literary Festival 2016\nDate: 4-13 November\, 2016\nVenue: Various\nTickets: tbc\nMore info: www.festival.org.hk
URL:https://www.bcmagazine.net/event/hong-kong-international-literary-festival-2016/
CATEGORIES:2016,Cultural Festival,Performing Arts
END:VEVENT
BEGIN:VEVENT
DTSTART;VALUE=DATE:20161105
DTEND;VALUE=DATE:20161106
DTSTAMP:20260426T094629
CREATED:19161103T135521Z
LAST-MODIFIED:20161103T135655Z
UID:10002331-1478304000-1478390399@www.bcmagazine.net
SUMMARY:24HR Dinghy Race
DESCRIPTION:24HR Dinghy Race\nDate: 5 November\, 2016\nVenue: Hebe Haven Yacht Club\nTickets: Free
URL:https://www.bcmagazine.net/event/24hr-dinghy-race-2016/
LOCATION:Hebe Haven Yacht Club\, Hebe Haven\, Hong Kong
CATEGORIES:2016,Sailing,Sport
END:VEVENT
BEGIN:VEVENT
DTSTART;VALUE=DATE:20161105
DTEND;VALUE=DATE:20161107
DTSTAMP:20260426T094629
CREATED:19160819T040322Z
LAST-MODIFIED:20160819T041102Z
UID:10001932-1478304000-1478476799@www.bcmagazine.net
SUMMARY:Spartan Race
DESCRIPTION:Spartan Race\nDate: 5-6 November\, 2016\nVenue: Kam Tin Country Club\nTickets: $1\,190\, $890
URL:https://www.bcmagazine.net/event/spartan-race-2016/
LOCATION:Kam Tin Country Club\, Hong Kong
CATEGORIES:2016,Sport
GEO:22.396428;114.109497
END:VEVENT
BEGIN:VEVENT
DTSTART;VALUE=DATE:20161105
DTEND;VALUE=DATE:20161107
DTSTAMP:20260426T094629
CREATED:19161024T145524Z
LAST-MODIFIED:20161024T145704Z
UID:10002318-1478304000-1478476799@www.bcmagazine.net
SUMMARY:FEI World Jumping Challenge 2016-17
DESCRIPTION:FEI World Jumping Challenge 2016-17\nDate: 5–6 November; 3–4 December\, 2016\nVenue: Beas River Equestrian Centre\nTickets: Free
URL:https://www.bcmagazine.net/event/fei-world-jumping-challenge-11-2016/
LOCATION:Beas River Equestrian Centre\, Kam Tsin Road\, Hong Kong
CATEGORIES:2016,Sport
GEO:22.4991652;114.1093292
X-APPLE-STRUCTURED-LOCATION;VALUE=URI;X-ADDRESS=Beas River Equestrian Centre Kam Tsin Road Hong Kong;X-APPLE-RADIUS=500;X-TITLE=Kam Tsin Road:geo:114.1093292,22.4991652
END:VEVENT
BEGIN:VEVENT
DTSTART;VALUE=DATE:20161105
DTEND;VALUE=DATE:20161107
DTSTAMP:20260426T094629
CREATED:19161024T152015Z
LAST-MODIFIED:20161024T152426Z
UID:10000925-1478304000-1478476799@www.bcmagazine.net
SUMMARY:29th Hong Kong - Guangzhou Invitation Tournament
DESCRIPTION:29th Hong Kong – Guangzhou Invitation Tournament\nDate: 5-6 November\, 2016\nVenue: Lai Chi Kok Park Sports Centre\nTickets: tbc
URL:https://www.bcmagazine.net/event/29th-hong-kong-guangzhou-invitation-tournament-2016/
LOCATION:Lai Chi Kok Park Sports Centre\, 1 Lai Wan Road\, Lai Chi Kok\, Hong Kong
CATEGORIES:2016,Sport
GEO:22.3406715;114.1369969
X-APPLE-STRUCTURED-LOCATION;VALUE=URI;X-ADDRESS=Lai Chi Kok Park Sports Centre 1 Lai Wan Road Lai Chi Kok Hong Kong;X-APPLE-RADIUS=500;X-TITLE=1 Lai Wan Road:geo:114.1369969,22.3406715
END:VEVENT
BEGIN:VEVENT
DTSTART;VALUE=DATE:20161105
DTEND;VALUE=DATE:20161114
DTSTAMP:20260426T094629
CREATED:19161024T161051Z
LAST-MODIFIED:20161024T162004Z
UID:10000927-1478304000-1479081599@www.bcmagazine.net
SUMMARY:HK International Bowls Classic 2016
DESCRIPTION:HK International Bowls Classic 2016\nDate: 5-13 November\, 2016\nVenue: tbc\nTickets: tbc
URL:https://www.bcmagazine.net/event/hk-international-bowls-classic-2016/
CATEGORIES:2016,Sport
END:VEVENT
BEGIN:VEVENT
DTSTART;VALUE=DATE:20161105
DTEND;VALUE=DATE:20161201
DTSTAMP:20260426T094629
CREATED:19161008T064312Z
LAST-MODIFIED:20161008T064556Z
UID:10000862-1478304000-1480550399@www.bcmagazine.net
SUMMARY:The World of Tim Burton
DESCRIPTION:The World of Tim Burton\nDate: 5-30 November\, 2016\nVenue: Artis Tree\, Taikoo Place\nTickets: $220 from Cityline
URL:https://www.bcmagazine.net/event/the-world-of-tim-burton-2016/
LOCATION:ArtisTree\, 1/F Cornwall House\, Taikoo Place\, 979 King's Road\, Quarry Bay\, Hong Kong
CATEGORIES:2016,Exhibition
GEO:22.2867164;114.2128456
X-APPLE-STRUCTURED-LOCATION;VALUE=URI;X-ADDRESS=ArtisTree 1/F Cornwall House Taikoo Place 979 King's Road Quarry Bay Hong Kong;X-APPLE-RADIUS=500;X-TITLE=1/F Cornwall House\, Taikoo Place\, 979 King's Road:geo:114.2128456,22.2867164
END:VEVENT
BEGIN:VEVENT
DTSTART;TZID=Asia/Hong_Kong:20161105T100000
DTEND;TZID=Asia/Hong_Kong:20161105T170000
DTSTAMP:20260426T094629
CREATED:19161011T042713Z
LAST-MODIFIED:20161011T044904Z
UID:10002226-1478340000-1478365200@www.bcmagazine.net
SUMMARY:Terry Fox Run Hong Kong
DESCRIPTION:The Terry Fox Run is an annual charity event inspired by a young Canadian activist. The 4th Terry Fox Run Hong Kong (TFRHK) will be held on Saturday 5 November 2016 at Renaissance College in Ma On Shan.  \nThe ‘run’ is a 3km\, 5km or 10km non-competitive\, family-oriented run or walk. There’s no enrolment fee for participation or minimum donation required\, TFRHK welcomes everyone from running enthusiasts to families with kids to school groups and corporate teams – to join. \nTerry Fox Run Hong Kong\nDate: 10am\, 5 November\, 2016\nVenue: Renaissance College Hong Kong\, Ma On Shan\nTickets: free with registration\nMore info:\nterryfoxrunhk @ rchk.edu.hk
URL:https://www.bcmagazine.net/event/terry-fox-run-2016/
LOCATION:Renaissance College Hong Kong\, 5 Hang Ming Street\, Ma On Shan\, Hong Kong
CATEGORIES:2016,Charity,Sport
GEO:22.4183367;114.2248604
X-APPLE-STRUCTURED-LOCATION;VALUE=URI;X-ADDRESS=Renaissance College Hong Kong 5 Hang Ming Street Ma On Shan Hong Kong;X-APPLE-RADIUS=500;X-TITLE=5 Hang Ming Street:geo:114.2248604,22.4183367
END:VEVENT
BEGIN:VEVENT
DTSTART;TZID=Asia/Hong_Kong:20161105T123000
DTEND;TZID=Asia/Hong_Kong:20161105T123000
DTSTAMP:20260426T094629
CREATED:20160919T104426Z
LAST-MODIFIED:20160919T104426Z
UID:10006253-1478349000-1478349000@www.bcmagazine.net
SUMMARY:SCC Lancers v DLSWCC Sarjan
DESCRIPTION:Championship League B: SCC Lancers v DLSWCC Sarjan
URL:https://www.bcmagazine.net/event/scc-lancers-v-dlswcc-sarjan/
LOCATION:Po Kong Village Road Park\, 140 Po Kong Village Road\, Diamond Hill\, Hong Kong
CATEGORIES:2016,Cricket,Free,Sport
GEO:22.3435827;114.2044989
X-APPLE-STRUCTURED-LOCATION;VALUE=URI;X-ADDRESS=Po Kong Village Road Park 140 Po Kong Village Road Diamond Hill Hong Kong;X-APPLE-RADIUS=500;X-TITLE=140 Po Kong Village Road:geo:114.2044989,22.3435827
END:VEVENT
BEGIN:VEVENT
DTSTART;TZID=Asia/Hong_Kong:20161105T130000
DTEND;TZID=Asia/Hong_Kong:20161105T130000
DTSTAMP:20260426T094629
CREATED:20160919T104425Z
LAST-MODIFIED:20160919T104425Z
UID:10006250-1478350800-1478350800@www.bcmagazine.net
SUMMARY:HKCC Gap Ramblers v USRC/MCC
DESCRIPTION:Championship League A: HKCC Gap Ramblers v USRC/MCC
URL:https://www.bcmagazine.net/event/hkcc-gap-ramblers-v-usrcmcc/
LOCATION:Hong Kong Cricket Club\, 137 Wong Ngai Chung Gap Road\, Hong Kong
CATEGORIES:2016,Cricket,Free,Sport
GEO:22.258574;114.1934009
X-APPLE-STRUCTURED-LOCATION;VALUE=URI;X-ADDRESS=Hong Kong Cricket Club 137 Wong Ngai Chung Gap Road Hong Kong;X-APPLE-RADIUS=500;X-TITLE=137 Wong Ngai Chung Gap Road:geo:114.1934009,22.258574
END:VEVENT
BEGIN:VEVENT
DTSTART;TZID=Asia/Hong_Kong:20161105T130000
DTEND;TZID=Asia/Hong_Kong:20161105T130000
DTSTAMP:20260426T094629
CREATED:20160919T104426Z
LAST-MODIFIED:20160919T104426Z
UID:10006254-1478350800-1478350800@www.bcmagazine.net
SUMMARY:CCC Fung Wong v KCC Maidens
DESCRIPTION:Women’s League A: CCC Fung Wong v KCC Maidens
URL:https://www.bcmagazine.net/event/ccc-fung-wong-v-kcc-maidens-2/
LOCATION:Po Kong Village Road Reservoir Ground\, Po Kong Village Road\, Tsz Wan Shan\, Hong Kong
CATEGORIES:2016,Cricket,Free,Sport
GEO:22.346522;114.204203
X-APPLE-STRUCTURED-LOCATION;VALUE=URI;X-ADDRESS=Po Kong Village Road Reservoir Ground Po Kong Village Road Tsz Wan Shan Hong Kong;X-APPLE-RADIUS=500;X-TITLE=Po Kong Village Road:geo:114.204203,22.346522
END:VEVENT
BEGIN:VEVENT
DTSTART;TZID=Asia/Hong_Kong:20161105T130000
DTEND;TZID=Asia/Hong_Kong:20161105T130000
DTSTAMP:20260426T094629
CREATED:20160919T104426Z
LAST-MODIFIED:20160919T104426Z
UID:10006255-1478350800-1478350800@www.bcmagazine.net
SUMMARY:CCC Jing Sun v Pakistan Association
DESCRIPTION:Championship League A: CCC Jing Sun v Pakistan Association
URL:https://www.bcmagazine.net/event/ccc-jing-sun-v-pakistan-association/
LOCATION:Police Training College\, Police School Road\, Aberdeen\, Hong Kong
CATEGORIES:2016,Cricket,Free,Sport
GEO:22.246154;114.1706686
X-APPLE-STRUCTURED-LOCATION;VALUE=URI;X-ADDRESS=Police Training College Police School Road Aberdeen Hong Kong;X-APPLE-RADIUS=500;X-TITLE=Police School Road:geo:114.1706686,22.246154
END:VEVENT
BEGIN:VEVENT
DTSTART;TZID=Asia/Hong_Kong:20161105T140000
DTEND;TZID=Asia/Hong_Kong:20161105T170000
DTSTAMP:20260426T094629
CREATED:19161008T055613Z
LAST-MODIFIED:20161008T060339Z
UID:10002162-1478354400-1478365200@www.bcmagazine.net
SUMMARY:Animate Extravaganza
DESCRIPTION:Animate Extravaganza\nDate: 2pm\, 5-6 November\, 2016\nVenue: KITEC\, Music Zone@E-Max\nTickets: $280 from Cityline
URL:https://www.bcmagazine.net/event/animate-extravaganza-2016/
LOCATION:KITEC\, Music Zone@E-Max\, KITEC\,‎ 1 Trademart Drive\, Kowloon Bay\, Hong Kong
CATEGORIES:2016,Exhibition
GEO:22.3239575;114.2037608
X-APPLE-STRUCTURED-LOCATION;VALUE=URI;X-ADDRESS=KITEC Music Zone@E-Max KITEC‎ 1 Trademart Drive Kowloon Bay Hong Kong;X-APPLE-RADIUS=500;X-TITLE=KITEC\,‎ 1 Trademart Drive:geo:114.2037608,22.3239575
END:VEVENT
BEGIN:VEVENT
DTSTART;TZID=Asia/Hong_Kong:20161105T190000
DTEND;TZID=Asia/Hong_Kong:20161105T190000
DTSTAMP:20260426T094629
CREATED:19161008T063436Z
LAST-MODIFIED:20161008T063907Z
UID:10000857-1478372400-1478372400@www.bcmagazine.net
SUMMARY:Kenichi Suzumura
DESCRIPTION:Kenichi Suzumura\nDate: 7pm\, 5 November\, 2016\nVenue: MacPherson Stadium\nTickets: $680\, $480\, $380 from Cityline
URL:https://www.bcmagazine.net/event/kenichi-suzumura-2016/
LOCATION:MacPherson Stadium\, 38 Nelson Street\, Mongkok\, Hong Kong
CATEGORIES:2016,Concert,Music
GEO:22.3188457;114.1728403
X-APPLE-STRUCTURED-LOCATION;VALUE=URI;X-ADDRESS=MacPherson Stadium 38 Nelson Street Mongkok Hong Kong;X-APPLE-RADIUS=500;X-TITLE=38 Nelson Street:geo:114.1728403,22.3188457
END:VEVENT
BEGIN:VEVENT
DTSTART;TZID=Asia/Hong_Kong:20161105T193000
DTEND;TZID=Asia/Hong_Kong:20161105T193000
DTSTAMP:20260426T094629
CREATED:19161011T015716Z
LAST-MODIFIED:20161011T020155Z
UID:10002214-1478374200-1478374200@www.bcmagazine.net
SUMMARY:Lady of the Camellias
DESCRIPTION:Lady of the Camellias\nHK Ballet\nDate: 4-6\, 11-13 November\, 2016\nVenue: HK Cultural Centre\, Grand Theatre\nTickets: $1\,000\, $680\, $480\, $280\, $140 from Urbtix
URL:https://www.bcmagazine.net/event/lady-of-the-camellias-2016/2016-11-05/
LOCATION:HK Cultural Centre\, Grand Theatre\,\, 10 Salisbury Road\, Tsim Sha Tsui\, Hong Kong
CATEGORIES:2016,Dance,Performing Arts
GEO:22.294318;114.171708
X-APPLE-STRUCTURED-LOCATION;VALUE=URI;X-ADDRESS=HK Cultural Centre Grand Theatre 10 Salisbury Road Tsim Sha Tsui Hong Kong;X-APPLE-RADIUS=500;X-TITLE=10 Salisbury Road:geo:114.171708,22.294318
END:VEVENT
BEGIN:VEVENT
DTSTART;TZID=Asia/Hong_Kong:20161105T194500
DTEND;TZID=Asia/Hong_Kong:20161105T194500
DTSTAMP:20260426T094629
CREATED:19160829T045855Z
LAST-MODIFIED:20160829T050429Z
UID:10002022-1478375100-1478375100@www.bcmagazine.net
SUMMARY:Fortuitousness•Xu Zhimo
DESCRIPTION:Fortuitousness•Xu Zhimo\nDate: 3-6 November\, 2016\nVenue: HKAPA\, Lyric Theatre\nTickets: $680\, $480\, $380\, $280 from HKTicketing\nMore info:\n3-5 Nov – 7:45pm\n5-6 Nov – 2:30pm\n6 Nov – 7:30pm\nDrama in Cantonese
URL:https://www.bcmagazine.net/event/fortuitousness-xu-zhimo-2016/2016-11-05/
LOCATION:HKAPA: Lyric Theatre\, 1 Gloucester Road\, Wanchai\, Hong Kong
CATEGORIES:2016,Performing Arts,Theatre
GEO:22.2801854;114.1695054
X-APPLE-STRUCTURED-LOCATION;VALUE=URI;X-ADDRESS=HKAPA: Lyric Theatre 1 Gloucester Road Wanchai Hong Kong;X-APPLE-RADIUS=500;X-TITLE=1 Gloucester Road:geo:114.1695054,22.2801854
END:VEVENT
BEGIN:VEVENT
DTSTART;TZID=Asia/Hong_Kong:20161105T194500
DTEND;TZID=Asia/Hong_Kong:20161105T194500
DTSTAMP:20260426T094629
CREATED:19160909T014009Z
LAST-MODIFIED:20160909T015946Z
UID:10002077-1478375100-1478375100@www.bcmagazine.net
SUMMARY:Poetry OutLoud
DESCRIPTION:On the first Wednesday of every month\, Poetry OutLoud present a mixed bag of original poetry\, classics\, lesser-known works and music. The format generally consists of a number of featured readers\, plus an open mike section in which audience-members are welcomed and encouraged to read. \nPoetry OutLoud\nDate: 1st Wednesday of the month\nVenue: Fringe Club\, Colette’s\nTickets: Free\nMore info: www.facebook.com/PoetryOutLoudHK
URL:https://www.bcmagazine.net/event/poetry-outloud-2016/2016-11-05/
LOCATION:Fringe Club\, Colette’s\, 2 Lower Albert Road\, Central\, Hong Kong
CATEGORIES:2016,Free,Other,Performing Arts,Poetry
GEO:22.2803491;114.156067
X-APPLE-STRUCTURED-LOCATION;VALUE=URI;X-ADDRESS=Fringe Club Colette’s 2 Lower Albert Road Central Hong Kong;X-APPLE-RADIUS=500;X-TITLE=2 Lower Albert Road:geo:114.156067,22.2803491
END:VEVENT
BEGIN:VEVENT
DTSTART;TZID=Asia/Hong_Kong:20161105T194500
DTEND;TZID=Asia/Hong_Kong:20161105T194500
DTSTAMP:20260426T094629
CREATED:19161011T093006Z
LAST-MODIFIED:20161011T093603Z
UID:10002236-1478375100-1478375100@www.bcmagazine.net
SUMMARY:The Sound of Music
DESCRIPTION:The Sound of Music\nHong Kong Chorus Society\nDate: 7:45pm\, 5 November\, 2016\nVenue: HK Cultural Centre\, Concert Hall\nTickets: $450\, $380\, $280\, $180 from Urbtix
URL:https://www.bcmagazine.net/event/the-sound-of-music-2016/
LOCATION:HK Cultural Centre\, Concert Hall\, 10 Salisbury Road\, Tsim Sha Tsui\, Hong Kong
CATEGORIES:2016,Musical,Performing Arts
GEO:22.294318;114.171708
X-APPLE-STRUCTURED-LOCATION;VALUE=URI;X-ADDRESS=HK Cultural Centre Concert Hall 10 Salisbury Road Tsim Sha Tsui Hong Kong;X-APPLE-RADIUS=500;X-TITLE=10 Salisbury Road:geo:114.171708,22.294318
END:VEVENT
BEGIN:VEVENT
DTSTART;TZID=Asia/Hong_Kong:20161105T194500
DTEND;TZID=Asia/Hong_Kong:20161105T194500
DTSTAMP:20260426T094629
CREATED:19161023T090646Z
LAST-MODIFIED:20161023T091100Z
UID:10002306-1478375100-1478375100@www.bcmagazine.net
SUMMARY:Fortuitousness - Xu Zhimo
DESCRIPTION:Fortuitousness – Xu Zhimo\nAggressive Art Company\nDate: 3-6 November\, 2016\nVenue: HKAPA\, Lyric Theatre\nTickets: $680\, $480\, $380\, $280 from HKTicketing
URL:https://www.bcmagazine.net/event/fortuitousness-xu-zhimo-2016-2/2016-11-05/
LOCATION:HKAPA: Lyric Theatre\, 1 Gloucester Road\, Wanchai\, Hong Kong
CATEGORIES:2016,Performing Arts,Theatre
GEO:22.2801854;114.1695054
X-APPLE-STRUCTURED-LOCATION;VALUE=URI;X-ADDRESS=HKAPA: Lyric Theatre 1 Gloucester Road Wanchai Hong Kong;X-APPLE-RADIUS=500;X-TITLE=1 Gloucester Road:geo:114.1695054,22.2801854
END:VEVENT
BEGIN:VEVENT
DTSTART;TZID=Asia/Hong_Kong:20161105T200000
DTEND;TZID=Asia/Hong_Kong:20161105T200000
DTSTAMP:20260426T094629
CREATED:19160307T133250Z
LAST-MODIFIED:20160928T043631Z
UID:10001483-1478376000-1478376000@www.bcmagazine.net
SUMMARY:Asagao
DESCRIPTION:International Black Box Festival 2016: Asagao\nHKRep Black Box\, BKYUYUGEKITAI\nDate: 3-6 November\, 2016\nVenue: HKRep Black Box Theatre\nTickets: $280 from Urbtix\nMore info:\n3-5 November – 8pm\n5 November – 3pm\n6 November – 5pm\nIn Japanese with Chinese surtitles 
URL:https://www.bcmagazine.net/event/asagao/2016-11-05/
LOCATION:HKREP Black Box Theatre\, 8/F\, Sheung Wan Civic Centre\, Sheung Wan Municipal Services Building\, 345 Queen's Road\, Sheung Wan\, Hong Kong
CATEGORIES:2016,Performing Arts,Theatre
END:VEVENT
BEGIN:VEVENT
DTSTART;TZID=Asia/Hong_Kong:20161105T200000
DTEND;TZID=Asia/Hong_Kong:20161105T200000
DTSTAMP:20260426T094629
CREATED:19160906T175834Z
LAST-MODIFIED:20160907T163324Z
UID:10000796-1478376000-1478376000@www.bcmagazine.net
SUMMARY:A Concise History of Future
DESCRIPTION:A Concise History of Future\nNew Vision Arts Festival\, Reframe Theatre\, Felixism Creation\nDate: 4-6 November\, 2016\nVenue: HK City Hall\, Theatre\nTickets: $280\, $220\, $160 from Urbtix
URL:https://www.bcmagazine.net/event/a-concise-history-of-future-2016/2016-11-05/
LOCATION:HK City Hall\, Theatre\, 5 Edinburgh Place\, Central\, Hong Kong
CATEGORIES:2016,Cultural Festival,Performing Arts,Theatre
GEO:22.2822646;114.1615275
X-APPLE-STRUCTURED-LOCATION;VALUE=URI;X-ADDRESS=HK City Hall Theatre 5 Edinburgh Place Central Hong Kong;X-APPLE-RADIUS=500;X-TITLE=5 Edinburgh Place:geo:114.1615275,22.2822646
END:VEVENT
BEGIN:VEVENT
DTSTART;TZID=Asia/Hong_Kong:20161105T200000
DTEND;TZID=Asia/Hong_Kong:20161105T200000
DTSTAMP:20260426T094629
CREATED:19160912T024139Z
LAST-MODIFIED:20160912T024636Z
UID:10002110-1478376000-1478376000@www.bcmagazine.net
SUMMARY:Hollywood East
DESCRIPTION:Hollywood East\nGazebo\, Johnny Hates Jazz\, Snap\, Joy\, Jamaster A (Alex Baboo)\nDate: 8pm\, 5 November\, 2016\nVenue: AsiaWorld-Expo\, Hall 8 & 10\nTickets: $25\,000\, $15\,000\, $8\,000\, $5\,000\, $880\, $580 from HKTicketing
URL:https://www.bcmagazine.net/event/hollywood-east-2016/
LOCATION:AsiaWorld-Expo\, Hall 10\, Cheong Wing Road\, Chek Lap Kok\, Lantau\, Hong Kong
CATEGORIES:2016,Concert,Music
GEO:22.3217383;113.9402012
X-APPLE-STRUCTURED-LOCATION;VALUE=URI;X-ADDRESS=AsiaWorld-Expo Hall 10 Cheong Wing Road Chek Lap Kok Lantau Hong Kong;X-APPLE-RADIUS=500;X-TITLE=Cheong Wing Road\, Chek Lap Kok:geo:113.9402012,22.3217383
END:VEVENT
BEGIN:VEVENT
DTSTART;TZID=Asia/Hong_Kong:20161105T200000
DTEND;TZID=Asia/Hong_Kong:20161105T200000
DTSTAMP:20260426T094629
CREATED:19161017T165123Z
LAST-MODIFIED:20161017T165341Z
UID:10000895-1478376000-1478376000@www.bcmagazine.net
SUMMARY:Jin Akanishi
DESCRIPTION:Jin Akanishi – Audio Fashion\nDate: 8pm\, 5 November\, 2016\nVenue: CotaiArena\nTickets: $1\,680\, $1\,280\, $880\, $480 from CotaiTicketing
URL:https://www.bcmagazine.net/event/jin-akanishi-macau-2016/
LOCATION:CotaiArena\, Venetian Macao\, Taipa\, Macau
CATEGORIES:2016,Concert,Macau,Music
GEO:22.1483528;113.5602019
X-APPLE-STRUCTURED-LOCATION;VALUE=URI;X-ADDRESS=CotaiArena Venetian Macao Taipa Macau;X-APPLE-RADIUS=500;X-TITLE=Venetian Macao:geo:113.5602019,22.1483528
END:VEVENT
BEGIN:VEVENT
DTSTART;TZID=Asia/Hong_Kong:20161105T200000
DTEND;TZID=Asia/Hong_Kong:20161105T200000
DTSTAMP:20260426T094629
CREATED:19161023T085133Z
LAST-MODIFIED:20161023T085426Z
UID:10002302-1478376000-1478376000@www.bcmagazine.net
SUMMARY:Rick Lau
DESCRIPTION:Rick Lau’s Lonely Hearts Club Hour\nDate: 8pm\, 3-5 November\, 2016\nVenue: Fringe Club\, Fringe Dairy\nTickets: $220 from HKTicketing
URL:https://www.bcmagazine.net/event/rick-laus-lonely-hearts-club-hour-2016/2016-11-05/
LOCATION:Fringe Club\, Fringe Dairy\, Central\, Hong Kong
CATEGORIES:2016,Performing Arts,Theatre
END:VEVENT
BEGIN:VEVENT
DTSTART;TZID=Asia/Hong_Kong:20161105T201500
DTEND;TZID=Asia/Hong_Kong:20161105T201500
DTSTAMP:20260426T094629
CREATED:19161008T052130Z
LAST-MODIFIED:20161008T052501Z
UID:10002154-1478376900-1478376900@www.bcmagazine.net
SUMMARY:w-inds
DESCRIPTION:w-inds – 15th Anniversary – Forever Memories\nDate: 8:15pm\, 5 November\, 2016\nVenue: KITEC\, Star Hall\nTickets: $1\,280\, $880 from HKTicketing
URL:https://www.bcmagazine.net/event/w-inds-forever-memories-2016/
LOCATION:KITEC\, Star Hall\, KITEC\, 1 Trademart Drive\, Kowloon Bay\, Hong Kong
CATEGORIES:2016,Concert,Music
GEO:22.3239575;114.2037608
X-APPLE-STRUCTURED-LOCATION;VALUE=URI;X-ADDRESS=KITEC Star Hall KITEC 1 Trademart Drive Kowloon Bay Hong Kong;X-APPLE-RADIUS=500;X-TITLE=KITEC\, 1 Trademart Drive:geo:114.2037608,22.3239575
END:VEVENT
BEGIN:VEVENT
DTSTART;TZID=Asia/Hong_Kong:20161105T201500
DTEND;TZID=Asia/Hong_Kong:20161105T201500
DTSTAMP:20260426T094629
CREATED:19161011T002329Z
LAST-MODIFIED:20161011T002628Z
UID:10002197-1478376900-1478376900@www.bcmagazine.net
SUMMARY:Infinite vs HaHa & Park Myeong Su
DESCRIPTION:Infinite vs HaHa & Park Myeong Su\nDate: 8:15pm\, 5 November\, 2016\nVenue: HK Coliseum\nTickets: $1\,380\, $980\, $680 from Urbtix
URL:https://www.bcmagazine.net/event/infinite-vs-haha-park-myeong-su-2016/
LOCATION:HK Coliseum\, 9 Cheong Wan Road\, Hung Hom\, Hong Kong
CATEGORIES:2016,Concert,Music
GEO:22.3014169;114.1820305
X-APPLE-STRUCTURED-LOCATION;VALUE=URI;X-ADDRESS=HK Coliseum 9 Cheong Wan Road Hung Hom Hong Kong;X-APPLE-RADIUS=500;X-TITLE=9 Cheong Wan Road:geo:114.1820305,22.3014169
END:VEVENT
BEGIN:VEVENT
DTSTART;TZID=Asia/Hong_Kong:20161105T210000
DTEND;TZID=Asia/Hong_Kong:20161105T210000
DTSTAMP:20260426T094629
CREATED:19161030T023152Z
LAST-MODIFIED:20161030T023938Z
UID:10000933-1478379600-1478379600@www.bcmagazine.net
SUMMARY:Off the Record
DESCRIPTION:Off the Record\nDate: 9pm\, 3-6 November\, 2016\nVenue: W Hotel\nTickets: $400
URL:https://www.bcmagazine.net/event/off-the-record-2016/2016-11-05/
CATEGORIES:2016,Concert,DJ,Music,Nightlife
END:VEVENT
BEGIN:VEVENT
DTSTART;VALUE=DATE:20161106
DTEND;VALUE=DATE:20161107
DTSTAMP:20260426T094629
CREATED:19160823T133308Z
LAST-MODIFIED:20161016T074450Z
UID:10001947-1478390400-1478476799@www.bcmagazine.net
SUMMARY:ODI: Hong Kong v Papua New Guinea
DESCRIPTION:One Day International: Hong Kong v Papua New Guinea\nDate: 6 November\, 2016\nVenue: Tin Kwong Road Recreation Ground\nTickets: $500\, $60 from Ticketflap
URL:https://www.bcmagazine.net/event/odi-hk-v-png-6-nov-2016/
LOCATION:Tin Kwong Road Recreation Ground\, Tin Kwong Road\, Mong Kok\, Hong Kong
CATEGORIES:2016,Cricket,Sport
GEO:22.3219997;114.1847986
X-APPLE-STRUCTURED-LOCATION;VALUE=URI;X-ADDRESS=Tin Kwong Road Recreation Ground Tin Kwong Road Mong Kok Hong Kong;X-APPLE-RADIUS=500;X-TITLE=Tin Kwong Road:geo:114.1847986,22.3219997
END:VEVENT
END:VCALENDAR