BEGIN:VCALENDAR
VERSION:2.0
PRODID:-//bc magazine - ECPv6.15.20//NONSGML v1.0//EN
CALSCALE:GREGORIAN
METHOD:PUBLISH
X-WR-CALNAME:bc magazine
X-ORIGINAL-URL:https://www.bcmagazine.net
X-WR-CALDESC:Events for bc magazine
REFRESH-INTERVAL;VALUE=DURATION:PT1H
X-Robots-Tag:noindex
X-PUBLISHED-TTL:PT1H
BEGIN:VTIMEZONE
TZID:Asia/Hong_Kong
BEGIN:STANDARD
TZOFFSETFROM:+0800
TZOFFSETTO:+0800
TZNAME:HKT
DTSTART:20150101T000000
END:STANDARD
END:VTIMEZONE
BEGIN:VEVENT
DTSTART;VALUE=DATE:20161216
DTEND;VALUE=DATE:20170213
DTSTAMP:20260425T021946
CREATED:19161024T072433Z
LAST-MODIFIED:20161024T074210Z
UID:10002313-1481846400-1486943999@www.bcmagazine.net
SUMMARY:The Great European Carnival
DESCRIPTION:The Great European Carnival\nDate: 16 December\, 2016 – 12 February\, 2017\nVenue: Central Harbourfront\nTickets: $125
URL:https://www.bcmagazine.net/event/the-great-european-carnival-2016-17/
LOCATION:Central Harbourfront\,  9 Lung Wo Road\, Central\, Hong Kong
CATEGORIES:2016,2017,Nightlife
GEO:22.2826223;114.164346
X-APPLE-STRUCTURED-LOCATION;VALUE=URI;X-ADDRESS=Central Harbourfront  9 Lung Wo Road Central Hong Kong;X-APPLE-RADIUS=500;X-TITLE=9 Lung Wo Road:geo:114.164346,22.2826223
END:VEVENT
BEGIN:VEVENT
DTSTART;TZID=Asia/Hong_Kong:20170112T194500
DTEND;TZID=Asia/Hong_Kong:20170112T194500
DTSTAMP:20260425T021946
CREATED:20230114T080801Z
LAST-MODIFIED:20230114T080801Z
UID:10001435-1484250300-1484250300@www.bcmagazine.net
SUMMARY:Field of Dreams － A Musical
DESCRIPTION:Field of Dreams － A Musical\nHong Kong Repertory Theatre\nDate: 7-15 January\, 2017\nVenue: HK Cultural Centre\, Grand Theatre\nTickets: $480\, $380\, $280\, $220\, $180 from Urbtix\nMore info:\n 7\, 8\, 10-14 January – 7:45pm\n15 January – 2:45pm\nIn Cantonese with English surtitles 
URL:https://www.bcmagazine.net/event/field-of-dreams-%ef%bc%8d-a-musical/2017-01-12/
LOCATION:HK Cultural Centre\, Grand Theatre\,\, 10 Salisbury Road\, Tsim Sha Tsui\, Hong Kong
CATEGORIES:2017,Musical,Performing Arts
GEO:22.294318;114.171708
X-APPLE-STRUCTURED-LOCATION;VALUE=URI;X-ADDRESS=HK Cultural Centre Grand Theatre 10 Salisbury Road Tsim Sha Tsui Hong Kong;X-APPLE-RADIUS=500;X-TITLE=10 Salisbury Road:geo:114.171708,22.294318
END:VEVENT
BEGIN:VEVENT
DTSTART;TZID=Asia/Hong_Kong:20170112T194500
DTEND;TZID=Asia/Hong_Kong:20170112T214500
DTSTAMP:20260425T021946
CREATED:19160829T050936Z
LAST-MODIFIED:20161215T010710Z
UID:10002052-1484250300-1484257500@www.bcmagazine.net
SUMMARY:Wicked
DESCRIPTION:Wicked\nDate: 8 December\, 2016 – 22 January\, 2017\nVenue: HKAPA\, Lyric Theatre\nTickets: $1\,095\, $895\, $595\, $445 from HKTicketing\nMore info:\nTue-Sat 2pm\, 7:45pm\nSun: 1pm\, 6pm
URL:https://www.bcmagazine.net/event/wicked-2016/2017-01-12/
LOCATION:HKAPA: Lyric Theatre\, 1 Gloucester Road\, Wanchai\, Hong Kong
CATEGORIES:2016,Musical,Performing Arts
GEO:22.2801854;114.1695054
X-APPLE-STRUCTURED-LOCATION;VALUE=URI;X-ADDRESS=HKAPA: Lyric Theatre 1 Gloucester Road Wanchai Hong Kong;X-APPLE-RADIUS=500;X-TITLE=1 Gloucester Road:geo:114.1695054,22.2801854
END:VEVENT
BEGIN:VEVENT
DTSTART;TZID=Asia/Hong_Kong:20170112T201500
DTEND;TZID=Asia/Hong_Kong:20170112T201500
DTSTAMP:20260425T021946
CREATED:20160312T064352Z
LAST-MODIFIED:20161011T001054Z
UID:10006096-1484252100-1484252100@www.bcmagazine.net
SUMMARY:Jay Chou
DESCRIPTION:Jay Chou – The Invincible Concert Tour \nDate: 8:15pm\, 8-11\, 13-14 January\, 2017\nVenue: HK Coliseum\nTickets: $1\,080\, $680\, $480 from Urbtix
URL:https://www.bcmagazine.net/event/jay-chou-invincible-2017/2017-01-12/
LOCATION:HK Coliseum\, 9 Cheong Wan Road\, Hung Hom\, Hong Kong
CATEGORIES:2017,Concert,Music
GEO:22.3014169;114.1820305
X-APPLE-STRUCTURED-LOCATION;VALUE=URI;X-ADDRESS=HK Coliseum 9 Cheong Wan Road Hung Hom Hong Kong;X-APPLE-RADIUS=500;X-TITLE=9 Cheong Wan Road:geo:114.1820305,22.3014169
END:VEVENT
BEGIN:VEVENT
DTSTART;TZID=Asia/Hong_Kong:20170113T080000
DTEND;TZID=Asia/Hong_Kong:20170113T170000
DTSTAMP:20260425T021946
CREATED:20170112T002155Z
LAST-MODIFIED:20170112T002155Z
UID:10006361-1484294400-1484326800@www.bcmagazine.net
SUMMARY:La Brass Banda
DESCRIPTION:Ten Years of La Brass Banda World Tour\nDate: 8pm\, 13 January\, 2017\nVenue: Hidden Agenda\nTickets: $250\, $220
URL:https://www.bcmagazine.net/event/la-brass-banda-2017/2017-01-13/1/
LOCATION:Hidden Agenda (Livehouse)\, 80 Hung To Road\, Kwun Tong\, Hong Kong
CATEGORIES:2017,Concert,Music
GEO:22.308171;114.223939
X-APPLE-STRUCTURED-LOCATION;VALUE=URI;X-ADDRESS=Hidden Agenda (Livehouse) 80 Hung To Road Kwun Tong Hong Kong;X-APPLE-RADIUS=500;X-TITLE=80 Hung To Road:geo:114.223939,22.308171
END:VEVENT
BEGIN:VEVENT
DTSTART;TZID=Asia/Hong_Kong:20170113T193000
DTEND;TZID=Asia/Hong_Kong:20170113T193000
DTSTAMP:20260425T021946
CREATED:19161228T132322Z
LAST-MODIFIED:20161228T132935Z
UID:10002419-1484335800-1484335800@www.bcmagazine.net
SUMMARY:Hong Kong Ballet
DESCRIPTION:The Nutcracker\nHong Kong Ballet\nDate: 13-15 January\, 2017\nVenue: Macau Cultural Centre\, Grand Auditorium\nTickets: $300\, $250\, $200\, $150 from MacauTicket
URL:https://www.bcmagazine.net/event/hk-ballet-the-nutcracker-macau-2017/2017-01-13/
LOCATION:Macao Cultural Centre\, Grand Auditorium\, Avenida Xian Xing Hai\, Macau\, Macau
CATEGORIES:2017,Dance,Macau,Performing Arts
END:VEVENT
BEGIN:VEVENT
DTSTART;TZID=Asia/Hong_Kong:20170113T193000
DTEND;TZID=Asia/Hong_Kong:20170113T193000
DTSTAMP:20260425T021946
CREATED:20161230T013234Z
LAST-MODIFIED:20161230T013234Z
UID:10006358-1484335800-1484335800@www.bcmagazine.net
SUMMARY:Call Back ASAP\, Andy is Typing\, Dr Eggs\, Muffy\, Nasty Dudes
DESCRIPTION:Friday’s Pick Party\nCall Back ASAP\, Andy is Typing\, Dr Eggs\, Muffy\, Nasty Dudes\nDate: 7:30pm\, 13 January\, 2017\nVenue: MOM Livehouse\nTickets: $150\, $120 from Ticketflap
URL:https://www.bcmagazine.net/event/call-back-asap-andy-is-typing-dr-eggs-muffy-nasty-dudes/
LOCATION:MOM Livehouse\, B39 Seven Seas Shopping Centre\, 117-121 Kings Road\, North Point\, Hong Kong
CATEGORIES:2017,Concert,Music
GEO:22.2884683;114.192803
X-APPLE-STRUCTURED-LOCATION;VALUE=URI;X-ADDRESS=MOM Livehouse B39 Seven Seas Shopping Centre 117-121 Kings Road North Point Hong Kong;X-APPLE-RADIUS=500;X-TITLE=B39 Seven Seas Shopping Centre\, 117-121 Kings Road:geo:114.192803,22.2884683
END:VEVENT
BEGIN:VEVENT
DTSTART;TZID=Asia/Hong_Kong:20170113T194500
DTEND;TZID=Asia/Hong_Kong:20170113T194500
DTSTAMP:20260425T021946
CREATED:20230114T080801Z
LAST-MODIFIED:20230114T080801Z
UID:10001436-1484336700-1484336700@www.bcmagazine.net
SUMMARY:Field of Dreams － A Musical
DESCRIPTION:Field of Dreams － A Musical\nHong Kong Repertory Theatre\nDate: 7-15 January\, 2017\nVenue: HK Cultural Centre\, Grand Theatre\nTickets: $480\, $380\, $280\, $220\, $180 from Urbtix\nMore info:\n 7\, 8\, 10-14 January – 7:45pm\n15 January – 2:45pm\nIn Cantonese with English surtitles 
URL:https://www.bcmagazine.net/event/field-of-dreams-%ef%bc%8d-a-musical/2017-01-13/
LOCATION:HK Cultural Centre\, Grand Theatre\,\, 10 Salisbury Road\, Tsim Sha Tsui\, Hong Kong
CATEGORIES:2017,Musical,Performing Arts
GEO:22.294318;114.171708
X-APPLE-STRUCTURED-LOCATION;VALUE=URI;X-ADDRESS=HK Cultural Centre Grand Theatre 10 Salisbury Road Tsim Sha Tsui Hong Kong;X-APPLE-RADIUS=500;X-TITLE=10 Salisbury Road:geo:114.171708,22.294318
END:VEVENT
BEGIN:VEVENT
DTSTART;TZID=Asia/Hong_Kong:20170113T194500
DTEND;TZID=Asia/Hong_Kong:20170113T214500
DTSTAMP:20260425T021946
CREATED:19160829T050936Z
LAST-MODIFIED:20161215T010710Z
UID:10002053-1484336700-1484343900@www.bcmagazine.net
SUMMARY:Wicked
DESCRIPTION:Wicked\nDate: 8 December\, 2016 – 22 January\, 2017\nVenue: HKAPA\, Lyric Theatre\nTickets: $1\,095\, $895\, $595\, $445 from HKTicketing\nMore info:\nTue-Sat 2pm\, 7:45pm\nSun: 1pm\, 6pm
URL:https://www.bcmagazine.net/event/wicked-2016/2017-01-13/
LOCATION:HKAPA: Lyric Theatre\, 1 Gloucester Road\, Wanchai\, Hong Kong
CATEGORIES:2016,Musical,Performing Arts
GEO:22.2801854;114.1695054
X-APPLE-STRUCTURED-LOCATION;VALUE=URI;X-ADDRESS=HKAPA: Lyric Theatre 1 Gloucester Road Wanchai Hong Kong;X-APPLE-RADIUS=500;X-TITLE=1 Gloucester Road:geo:114.1695054,22.2801854
END:VEVENT
BEGIN:VEVENT
DTSTART;TZID=Asia/Hong_Kong:20170113T200000
DTEND;TZID=Asia/Hong_Kong:20170113T200000
DTSTAMP:20260425T021946
CREATED:20170112T002155Z
LAST-MODIFIED:20170112T002155Z
UID:10006362-1484337600-1484337600@www.bcmagazine.net
SUMMARY:La Brass Banda
DESCRIPTION:Ten Years of La Brass Banda World Tour\nDate: 8pm\, 13 January\, 2017\nVenue: Hidden Agenda\nTickets: $250\, $220
URL:https://www.bcmagazine.net/event/la-brass-banda-2017/2017-01-13/2/
LOCATION:Hidden Agenda (Livehouse)\, 80 Hung To Road\, Kwun Tong\, Hong Kong
CATEGORIES:2017,Concert,Music
GEO:22.308171;114.223939
X-APPLE-STRUCTURED-LOCATION;VALUE=URI;X-ADDRESS=Hidden Agenda (Livehouse) 80 Hung To Road Kwun Tong Hong Kong;X-APPLE-RADIUS=500;X-TITLE=80 Hung To Road:geo:114.223939,22.308171
END:VEVENT
BEGIN:VEVENT
DTSTART;TZID=Asia/Hong_Kong:20170113T201500
DTEND;TZID=Asia/Hong_Kong:20170113T201500
DTSTAMP:20260425T021946
CREATED:20160312T064352Z
LAST-MODIFIED:20161011T001054Z
UID:10006097-1484338500-1484338500@www.bcmagazine.net
SUMMARY:Jay Chou
DESCRIPTION:Jay Chou – The Invincible Concert Tour \nDate: 8:15pm\, 8-11\, 13-14 January\, 2017\nVenue: HK Coliseum\nTickets: $1\,080\, $680\, $480 from Urbtix
URL:https://www.bcmagazine.net/event/jay-chou-invincible-2017/2017-01-13/
LOCATION:HK Coliseum\, 9 Cheong Wan Road\, Hung Hom\, Hong Kong
CATEGORIES:2017,Concert,Music
GEO:22.3014169;114.1820305
X-APPLE-STRUCTURED-LOCATION;VALUE=URI;X-ADDRESS=HK Coliseum 9 Cheong Wan Road Hung Hom Hong Kong;X-APPLE-RADIUS=500;X-TITLE=9 Cheong Wan Road:geo:114.1820305,22.3014169
END:VEVENT
BEGIN:VEVENT
DTSTART;TZID=Asia/Hong_Kong:20170114T123000
DTEND;TZID=Asia/Hong_Kong:20170114T123000
DTSTAMP:20260425T021946
CREATED:20160919T104236Z
LAST-MODIFIED:20160919T104236Z
UID:10006168-1484397000-1484397000@www.bcmagazine.net
SUMMARY:KCC Saracens v CCC Jing Sun
DESCRIPTION:Championship League A: KCC Saracens v CCC Jing Sun
URL:https://www.bcmagazine.net/event/kcc-saracens-v-ccc-jing-sun/
LOCATION:Po Kong Village Road Park\, 140 Po Kong Village Road\, Diamond Hill\, Hong Kong
CATEGORIES:2017,Cricket,Free,Sport
GEO:22.3435827;114.2044989
X-APPLE-STRUCTURED-LOCATION;VALUE=URI;X-ADDRESS=Po Kong Village Road Park 140 Po Kong Village Road Diamond Hill Hong Kong;X-APPLE-RADIUS=500;X-TITLE=140 Po Kong Village Road:geo:114.2044989,22.3435827
END:VEVENT
BEGIN:VEVENT
DTSTART;TZID=Asia/Hong_Kong:20170114T130000
DTEND;TZID=Asia/Hong_Kong:20170114T130000
DTSTAMP:20260425T021946
CREATED:20160919T104235Z
LAST-MODIFIED:20160919T104235Z
UID:10006159-1484398800-1484398800@www.bcmagazine.net
SUMMARY:HKCC Witherers v HKCC Gap Ramblers
DESCRIPTION:Championship League A: HKCC Witherers v HKCC Gap Ramblers
URL:https://www.bcmagazine.net/event/hkcc-witherers-v-hkcc-gap-ramblers/
LOCATION:Hong Kong Cricket Club\, 137 Wong Ngai Chung Gap Road\, Hong Kong
CATEGORIES:2017,Cricket,Free,Sport
GEO:22.258574;114.1934009
X-APPLE-STRUCTURED-LOCATION;VALUE=URI;X-ADDRESS=Hong Kong Cricket Club 137 Wong Ngai Chung Gap Road Hong Kong;X-APPLE-RADIUS=500;X-TITLE=137 Wong Ngai Chung Gap Road:geo:114.1934009,22.258574
END:VEVENT
BEGIN:VEVENT
DTSTART;TZID=Asia/Hong_Kong:20170114T130000
DTEND;TZID=Asia/Hong_Kong:20170114T130000
DTSTAMP:20260425T021946
CREATED:20160919T104235Z
LAST-MODIFIED:20160919T104235Z
UID:10006160-1484398800-1484398800@www.bcmagazine.net
SUMMARY:KCC Crusaders v Pakistan Association
DESCRIPTION:Championship League A: KCC Crusaders v Pakistan Association
URL:https://www.bcmagazine.net/event/kcc-crusaders-v-pakistan-association/
LOCATION:Kowloon Cricket Club\, 10 Cox's Road\, Jordan\, Hong Kong
CATEGORIES:2017,Cricket,Free,Sport
GEO:22.3048927;114.1737401
X-APPLE-STRUCTURED-LOCATION;VALUE=URI;X-ADDRESS=Kowloon Cricket Club 10 Cox's Road Jordan Hong Kong;X-APPLE-RADIUS=500;X-TITLE=10 Cox's Road:geo:114.1737401,22.3048927
END:VEVENT
BEGIN:VEVENT
DTSTART;TZID=Asia/Hong_Kong:20170114T130000
DTEND;TZID=Asia/Hong_Kong:20170114T130000
DTSTAMP:20260425T021946
CREATED:20160919T104235Z
LAST-MODIFIED:20160919T104235Z
UID:10006161-1484398800-1484398800@www.bcmagazine.net
SUMMARY:CCC Hung See v Lamma
DESCRIPTION:Championship League B: CCC Hung See v Lamma
URL:https://www.bcmagazine.net/event/ccc-hung-see-v-lamma/
LOCATION:Tin Kwong Road Recreation Ground\, Tin Kwong Road\, Mong Kok\, Hong Kong
CATEGORIES:2017,Cricket,Free,Sport
GEO:22.3219997;114.1847986
X-APPLE-STRUCTURED-LOCATION;VALUE=URI;X-ADDRESS=Tin Kwong Road Recreation Ground Tin Kwong Road Mong Kok Hong Kong;X-APPLE-RADIUS=500;X-TITLE=Tin Kwong Road:geo:114.1847986,22.3219997
END:VEVENT
BEGIN:VEVENT
DTSTART;TZID=Asia/Hong_Kong:20170114T130000
DTEND;TZID=Asia/Hong_Kong:20170114T130000
DTSTAMP:20260425T021946
CREATED:20160919T104236Z
LAST-MODIFIED:20160919T104236Z
UID:10006169-1484398800-1484398800@www.bcmagazine.net
SUMMARY:CCC Fung Wong v HKCC Willow Wielders
DESCRIPTION:Women’s League A: CCC Fung Wong v HKCC Willow Wielders
URL:https://www.bcmagazine.net/event/ccc-fung-wong-v-hkcc-willow-wielders/
LOCATION:Po Kong Village Road Reservoir Ground\, Po Kong Village Road\, Tsz Wan Shan\, Hong Kong
CATEGORIES:2017,Cricket,Free,Sport
GEO:22.346522;114.204203
X-APPLE-STRUCTURED-LOCATION;VALUE=URI;X-ADDRESS=Po Kong Village Road Reservoir Ground Po Kong Village Road Tsz Wan Shan Hong Kong;X-APPLE-RADIUS=500;X-TITLE=Po Kong Village Road:geo:114.204203,22.346522
END:VEVENT
BEGIN:VEVENT
DTSTART;TZID=Asia/Hong_Kong:20170114T194500
DTEND;TZID=Asia/Hong_Kong:20170114T194500
DTSTAMP:20260425T021946
CREATED:20230114T080801Z
LAST-MODIFIED:20230114T080801Z
UID:10001437-1484423100-1484423100@www.bcmagazine.net
SUMMARY:Field of Dreams － A Musical
DESCRIPTION:Field of Dreams － A Musical\nHong Kong Repertory Theatre\nDate: 7-15 January\, 2017\nVenue: HK Cultural Centre\, Grand Theatre\nTickets: $480\, $380\, $280\, $220\, $180 from Urbtix\nMore info:\n 7\, 8\, 10-14 January – 7:45pm\n15 January – 2:45pm\nIn Cantonese with English surtitles 
URL:https://www.bcmagazine.net/event/field-of-dreams-%ef%bc%8d-a-musical/2017-01-14/
LOCATION:HK Cultural Centre\, Grand Theatre\,\, 10 Salisbury Road\, Tsim Sha Tsui\, Hong Kong
CATEGORIES:2017,Musical,Performing Arts
GEO:22.294318;114.171708
X-APPLE-STRUCTURED-LOCATION;VALUE=URI;X-ADDRESS=HK Cultural Centre Grand Theatre 10 Salisbury Road Tsim Sha Tsui Hong Kong;X-APPLE-RADIUS=500;X-TITLE=10 Salisbury Road:geo:114.171708,22.294318
END:VEVENT
BEGIN:VEVENT
DTSTART;TZID=Asia/Hong_Kong:20170114T194500
DTEND;TZID=Asia/Hong_Kong:20170114T214500
DTSTAMP:20260425T021946
CREATED:19160829T050936Z
LAST-MODIFIED:20161215T010710Z
UID:10002054-1484423100-1484430300@www.bcmagazine.net
SUMMARY:Wicked
DESCRIPTION:Wicked\nDate: 8 December\, 2016 – 22 January\, 2017\nVenue: HKAPA\, Lyric Theatre\nTickets: $1\,095\, $895\, $595\, $445 from HKTicketing\nMore info:\nTue-Sat 2pm\, 7:45pm\nSun: 1pm\, 6pm
URL:https://www.bcmagazine.net/event/wicked-2016/2017-01-14/
LOCATION:HKAPA: Lyric Theatre\, 1 Gloucester Road\, Wanchai\, Hong Kong
CATEGORIES:2016,Musical,Performing Arts
GEO:22.2801854;114.1695054
X-APPLE-STRUCTURED-LOCATION;VALUE=URI;X-ADDRESS=HKAPA: Lyric Theatre 1 Gloucester Road Wanchai Hong Kong;X-APPLE-RADIUS=500;X-TITLE=1 Gloucester Road:geo:114.1695054,22.2801854
END:VEVENT
BEGIN:VEVENT
DTSTART;TZID=Asia/Hong_Kong:20170114T200000
DTEND;TZID=Asia/Hong_Kong:20170114T200000
DTSTAMP:20260425T021946
CREATED:19160307T121834Z
LAST-MODIFIED:20160327T160306Z
UID:10001452-1484424000-1484424000@www.bcmagazine.net
SUMMARY:Roads to Chicken Pie
DESCRIPTION:Roads to Chicken Pie\nHong Kong Repertory Theatre\, New – Writing Series\nDate: 14-23 January\, 2017\nVenue: HKRep Black Box Theatre\nTickets: $180 from Urbtix\nMore info:\n 14\, 17-21\, 23 January – 8pm\n15\, 21-22 January – 3pm\nIn Cantonese 
URL:https://www.bcmagazine.net/event/roads-to-chicken-pie-2017/2017-01-14/
LOCATION:HKREP Black Box Theatre\, 8/F\, Sheung Wan Civic Centre\, Sheung Wan Municipal Services Building\, 345 Queen's Road\, Sheung Wan\, Hong Kong
CATEGORIES:2017,Performing Arts,Theatre
END:VEVENT
BEGIN:VEVENT
DTSTART;TZID=Asia/Hong_Kong:20170114T200000
DTEND;TZID=Asia/Hong_Kong:20170114T200000
DTSTAMP:20260425T021946
CREATED:19161225T160231Z
LAST-MODIFIED:20161225T160420Z
UID:10001028-1484424000-1484424000@www.bcmagazine.net
SUMMARY:Kenneth Weiner
DESCRIPTION:Kenneth Weiner -Flute Recital\nDate: 8pm\, 14 January\, 2017\nVenue: HK City Hall\, Recital Hall\nTickets: $80 from Urbtix
URL:https://www.bcmagazine.net/event/kenneth-weiner-14-01-2017/
LOCATION:HK City Hall\, Recital Hall\, 5 Edinburgh Place\, Central\, Hong Kong
CATEGORIES:2017,Concert,Music,Performing Arts
GEO:22.2822646;114.1615275
X-APPLE-STRUCTURED-LOCATION;VALUE=URI;X-ADDRESS=HK City Hall Recital Hall 5 Edinburgh Place Central Hong Kong;X-APPLE-RADIUS=500;X-TITLE=5 Edinburgh Place:geo:114.1615275,22.2822646
END:VEVENT
BEGIN:VEVENT
DTSTART;TZID=Asia/Hong_Kong:20170114T200000
DTEND;TZID=Asia/Hong_Kong:20170114T200000
DTSTAMP:20260425T021946
CREATED:20161121T060518Z
LAST-MODIFIED:20161121T060518Z
UID:10006348-1484424000-1484424000@www.bcmagazine.net
SUMMARY:Bryan Adams
DESCRIPTION:Bryan Adams – Get Up Tour\nWhen: 8pm\, 14 January\, 2017\nWhere: Asia WorldExpo\, Hall 10\nHow much: $980\, $780\, $580\, $480 from HKTicketing
URL:https://www.bcmagazine.net/event/bryan-adams-2017/
LOCATION:AsiaWorld-Expo\, Hall 10\, Cheong Wing Road\, Chek Lap Kok\, Lantau\, Hong Kong
CATEGORIES:2016,Concert,Music
GEO:22.3217383;113.9402012
X-APPLE-STRUCTURED-LOCATION;VALUE=URI;X-ADDRESS=AsiaWorld-Expo Hall 10 Cheong Wing Road Chek Lap Kok Lantau Hong Kong;X-APPLE-RADIUS=500;X-TITLE=Cheong Wing Road\, Chek Lap Kok:geo:113.9402012,22.3217383
END:VEVENT
BEGIN:VEVENT
DTSTART;TZID=Asia/Hong_Kong:20170114T201500
DTEND;TZID=Asia/Hong_Kong:20170114T201500
DTSTAMP:20260425T021946
CREATED:20160312T064352Z
LAST-MODIFIED:20161011T001054Z
UID:10006098-1484424900-1484424900@www.bcmagazine.net
SUMMARY:Jay Chou
DESCRIPTION:Jay Chou – The Invincible Concert Tour \nDate: 8:15pm\, 8-11\, 13-14 January\, 2017\nVenue: HK Coliseum\nTickets: $1\,080\, $680\, $480 from Urbtix
URL:https://www.bcmagazine.net/event/jay-chou-invincible-2017/2017-01-14/
LOCATION:HK Coliseum\, 9 Cheong Wan Road\, Hung Hom\, Hong Kong
CATEGORIES:2017,Concert,Music
GEO:22.3014169;114.1820305
X-APPLE-STRUCTURED-LOCATION;VALUE=URI;X-ADDRESS=HK Coliseum 9 Cheong Wan Road Hung Hom Hong Kong;X-APPLE-RADIUS=500;X-TITLE=9 Cheong Wan Road:geo:114.1820305,22.3014169
END:VEVENT
BEGIN:VEVENT
DTSTART;TZID=Asia/Hong_Kong:20170115T080000
DTEND;TZID=Asia/Hong_Kong:20170115T080000
DTSTAMP:20260425T021946
CREATED:20160919T104235Z
LAST-MODIFIED:20160919T104235Z
UID:10006163-1484467200-1484467200@www.bcmagazine.net
SUMMARY:CHK XI v Sky Warriors
DESCRIPTION:Women’s Development League B: CHK XI v Sky Warriors
URL:https://www.bcmagazine.net/event/chk-xi-v-sky-warriors/
LOCATION:Po Kong Village Road Reservoir Ground\, Po Kong Village Road\, Tsz Wan Shan\, Hong Kong
CATEGORIES:2017,Cricket,Free,Sport
GEO:22.346522;114.204203
X-APPLE-STRUCTURED-LOCATION;VALUE=URI;X-ADDRESS=Po Kong Village Road Reservoir Ground Po Kong Village Road Tsz Wan Shan Hong Kong;X-APPLE-RADIUS=500;X-TITLE=Po Kong Village Road:geo:114.204203,22.346522
END:VEVENT
BEGIN:VEVENT
DTSTART;TZID=Asia/Hong_Kong:20170115T093000
DTEND;TZID=Asia/Hong_Kong:20170115T093000
DTSTAMP:20260425T021946
CREATED:20160919T104235Z
LAST-MODIFIED:20160919T104235Z
UID:10006162-1484472600-1484472600@www.bcmagazine.net
SUMMARY:DLSWCC v CHK XI
DESCRIPTION:Premier League 1-Day A: DLSWCC v CHK XI
URL:https://www.bcmagazine.net/event/dlswcc-v-chk-xi/
LOCATION:Tin Kwong Road Recreation Ground\, Tin Kwong Road\, Mong Kok\, Hong Kong
CATEGORIES:2017,Cricket,Free,Sport
GEO:22.3219997;114.1847986
X-APPLE-STRUCTURED-LOCATION;VALUE=URI;X-ADDRESS=Tin Kwong Road Recreation Ground Tin Kwong Road Mong Kok Hong Kong;X-APPLE-RADIUS=500;X-TITLE=Tin Kwong Road:geo:114.1847986,22.3219997
END:VEVENT
BEGIN:VEVENT
DTSTART;TZID=Asia/Hong_Kong:20170115T100000
DTEND;TZID=Asia/Hong_Kong:20170115T100000
DTSTAMP:20260425T021946
CREATED:20160919T104234Z
LAST-MODIFIED:20160919T104234Z
UID:10006154-1484474400-1484474400@www.bcmagazine.net
SUMMARY:PACC v KCC
DESCRIPTION:Premier League 1-Day A: PACC v KCC
URL:https://www.bcmagazine.net/event/pacc-v-kcc/
LOCATION:Kowloon Cricket Club\, 10 Cox's Road\, Jordan\, Hong Kong
CATEGORIES:2017,Cricket,Free,Sport
GEO:22.3048927;114.1737401
X-APPLE-STRUCTURED-LOCATION;VALUE=URI;X-ADDRESS=Kowloon Cricket Club 10 Cox's Road Jordan Hong Kong;X-APPLE-RADIUS=500;X-TITLE=10 Cox's Road:geo:114.1737401,22.3048927
END:VEVENT
BEGIN:VEVENT
DTSTART;TZID=Asia/Hong_Kong:20170115T103000
DTEND;TZID=Asia/Hong_Kong:20170115T103000
DTSTAMP:20260425T021946
CREATED:20160919T104234Z
LAST-MODIFIED:20160919T104234Z
UID:10006155-1484476200-1484476200@www.bcmagazine.net
SUMMARY:USRC v HKCC XI
DESCRIPTION:Women’s Development League B: USRC v HKCC XI
URL:https://www.bcmagazine.net/event/usrc-v-hkcc-xi/
LOCATION:Po Kong Village Road Reservoir Ground\, Po Kong Village Road\, Tsz Wan Shan\, Hong Kong
CATEGORIES:2017,Cricket,Free,Sport
GEO:22.346522;114.204203
X-APPLE-STRUCTURED-LOCATION;VALUE=URI;X-ADDRESS=Po Kong Village Road Reservoir Ground Po Kong Village Road Tsz Wan Shan Hong Kong;X-APPLE-RADIUS=500;X-TITLE=Po Kong Village Road:geo:114.204203,22.346522
END:VEVENT
BEGIN:VEVENT
DTSTART;TZID=Asia/Hong_Kong:20170115T130000
DTEND;TZID=Asia/Hong_Kong:20170115T130000
DTSTAMP:20260425T021946
CREATED:20160919T104234Z
LAST-MODIFIED:20160919T104234Z
UID:10006156-1484485200-1484485200@www.bcmagazine.net
SUMMARY:United CC v PACC
DESCRIPTION:Women’s Development League B: United CC v PACC
URL:https://www.bcmagazine.net/event/united-cc-v-pacc/
LOCATION:Po Kong Village Road Reservoir Ground\, Po Kong Village Road\, Tsz Wan Shan\, Hong Kong
CATEGORIES:2017,Cricket,Free,Sport
GEO:22.346522;114.204203
X-APPLE-STRUCTURED-LOCATION;VALUE=URI;X-ADDRESS=Po Kong Village Road Reservoir Ground Po Kong Village Road Tsz Wan Shan Hong Kong;X-APPLE-RADIUS=500;X-TITLE=Po Kong Village Road:geo:114.204203,22.346522
END:VEVENT
BEGIN:VEVENT
DTSTART;TZID=Asia/Hong_Kong:20170115T153000
DTEND;TZID=Asia/Hong_Kong:20170115T153000
DTSTAMP:20260425T021947
CREATED:20160919T104234Z
LAST-MODIFIED:20160919T104234Z
UID:10006157-1484494200-1484494200@www.bcmagazine.net
SUMMARY:PACC v CCC XI
DESCRIPTION:Women’s Development League B: PACC v CCC XI
URL:https://www.bcmagazine.net/event/pacc-v-ccc-xi/
LOCATION:Po Kong Village Road Reservoir Ground\, Po Kong Village Road\, Tsz Wan Shan\, Hong Kong
CATEGORIES:2017,Cricket,Free,Sport
GEO:22.346522;114.204203
X-APPLE-STRUCTURED-LOCATION;VALUE=URI;X-ADDRESS=Po Kong Village Road Reservoir Ground Po Kong Village Road Tsz Wan Shan Hong Kong;X-APPLE-RADIUS=500;X-TITLE=Po Kong Village Road:geo:114.204203,22.346522
END:VEVENT
BEGIN:VEVENT
DTSTART;TZID=Asia/Hong_Kong:20170115T193000
DTEND;TZID=Asia/Hong_Kong:20170115T193000
DTSTAMP:20260425T021947
CREATED:19161228T132322Z
LAST-MODIFIED:20161228T132935Z
UID:10002420-1484508600-1484508600@www.bcmagazine.net
SUMMARY:Hong Kong Ballet
DESCRIPTION:The Nutcracker\nHong Kong Ballet\nDate: 13-15 January\, 2017\nVenue: Macau Cultural Centre\, Grand Auditorium\nTickets: $300\, $250\, $200\, $150 from MacauTicket
URL:https://www.bcmagazine.net/event/hk-ballet-the-nutcracker-macau-2017/2017-01-15/
LOCATION:Macao Cultural Centre\, Grand Auditorium\, Avenida Xian Xing Hai\, Macau\, Macau
CATEGORIES:2017,Dance,Macau,Performing Arts
END:VEVENT
BEGIN:VEVENT
DTSTART;TZID=Asia/Hong_Kong:20170115T194500
DTEND;TZID=Asia/Hong_Kong:20170115T214500
DTSTAMP:20260425T021947
CREATED:20230114T103423Z
LAST-MODIFIED:20230114T103423Z
UID:10002065-1484509500-1484516700@www.bcmagazine.net
SUMMARY:Wicked
DESCRIPTION:Wicked\nDate: 8 December\, 2016 – 22 January\, 2017\nVenue: HKAPA\, Lyric Theatre\nTickets: $1\,095\, $895\, $595\, $445 from HKTicketing\nMore info:\nTue-Sat 2pm\, 7:45pm\nSun: 1pm\, 6pm
URL:https://www.bcmagazine.net/event/wicked-2016/2017-01-15/
LOCATION:HKAPA: Lyric Theatre\, 1 Gloucester Road\, Wanchai\, Hong Kong
CATEGORIES:2016,Musical,Performing Arts
GEO:22.2801854;114.1695054
X-APPLE-STRUCTURED-LOCATION;VALUE=URI;X-ADDRESS=HKAPA: Lyric Theatre 1 Gloucester Road Wanchai Hong Kong;X-APPLE-RADIUS=500;X-TITLE=1 Gloucester Road:geo:114.1695054,22.2801854
END:VEVENT
END:VCALENDAR