BEGIN:VCALENDAR
VERSION:2.0
PRODID:-//bc magazine - ECPv6.15.20//NONSGML v1.0//EN
CALSCALE:GREGORIAN
METHOD:PUBLISH
X-WR-CALNAME:bc magazine
X-ORIGINAL-URL:https://www.bcmagazine.net
X-WR-CALDESC:Events for bc magazine
REFRESH-INTERVAL;VALUE=DURATION:PT1H
X-Robots-Tag:noindex
X-PUBLISHED-TTL:PT1H
BEGIN:VTIMEZONE
TZID:Asia/Hong_Kong
BEGIN:STANDARD
TZOFFSETFROM:+0800
TZOFFSETTO:+0800
TZNAME:HKT
DTSTART:20150101T000000
END:STANDARD
END:VTIMEZONE
BEGIN:VEVENT
DTSTART;VALUE=DATE:20161216
DTEND;VALUE=DATE:20170213
DTSTAMP:20260425T093600
CREATED:19161024T072433Z
LAST-MODIFIED:20161024T074210Z
UID:10002313-1481846400-1486943999@www.bcmagazine.net
SUMMARY:The Great European Carnival
DESCRIPTION:The Great European Carnival\nDate: 16 December\, 2016 – 12 February\, 2017\nVenue: Central Harbourfront\nTickets: $125
URL:https://www.bcmagazine.net/event/the-great-european-carnival-2016-17/
LOCATION:Central Harbourfront\,  9 Lung Wo Road\, Central\, Hong Kong
CATEGORIES:2016,2017,Nightlife
GEO:22.2826223;114.164346
X-APPLE-STRUCTURED-LOCATION;VALUE=URI;X-ADDRESS=Central Harbourfront  9 Lung Wo Road Central Hong Kong;X-APPLE-RADIUS=500;X-TITLE=9 Lung Wo Road:geo:114.164346,22.2826223
END:VEVENT
BEGIN:VEVENT
DTSTART;VALUE=DATE:20170121
DTEND;VALUE=DATE:20170123
DTSTAMP:20260425T093600
CREATED:20170104T022929Z
LAST-MODIFIED:20170104T041913Z
UID:10006359-1484956800-1485129599@www.bcmagazine.net
SUMMARY:DB Pirates All Girls Beach Festival
DESCRIPTION:Beach Festival Rugby and Netball\nDate: 21-22 January\, 2017\nVenue: Tai Pak Beach\nTickets: Free\nMore info: www.facebook.com/events/1040810012713717/
URL:https://www.bcmagazine.net/event/db-pirates-all-girls-beach-festival-2017/
LOCATION:Tai Pak Beach\, Discovery Bay\, Hong Kong
CATEGORIES:2017,Rugby,Sport
GEO:22.396428;114.109497
END:VEVENT
BEGIN:VEVENT
DTSTART;VALUE=DATE:20170122
DTEND;VALUE=DATE:20170129
DTSTAMP:20260425T093600
CREATED:20170121T155512Z
LAST-MODIFIED:20170121T155512Z
UID:10006366-1485043200-1485647999@www.bcmagazine.net
SUMMARY:Lunar New Year Fair
DESCRIPTION:The opening of Lunar New Year flower markets across Hong Kong announces the start of Chinese New Year. While the fairs started as exclusively flower markets\, today as well as flowers you can buy a wide range of Chinese New Year themed goods including decorations\, red packets\, stuffed animals\, toys…. \nFlowers are an important part of Chinese New Year as everyone hopes to improve the feng shui of their homes and offices for the year ahead. Broadly the benefits of the main flowers you’ll find at the markets are as follows: \nKumquat plants: financially prosperous year\nChrysanthemum: long life\nLettuce: wealth generation\nPeach blossoms: romance and longevity\nPeonies: prosperity\nTangerine trees: fruitful marriages\, goodwill\, prosperity and good luck \n \nThe market in Victoria Park has also become an important fund raising hub for local political parties and charities of all persuasions. This year however the FEHD who run the fairs and are supposed\, as part of the government\, to be politically neutral\, decided to ban two parties who oppose Beijing’s Sinafication of Hong Kong and the erosion of freedom of speech and the politicisation of the police and judiciary. \nLunar New Year Fair Locations\nHong Kong\nCauseway Bay – Victoria Park \nKowloon\nKwun Tong – Kwun Tong Recreation Ground\nSai Kung – Man Yee Playground\nSham Shui Po – Cheung Sha Wan Playground\nSham Shui Po – Fai Hui Park\nTseung Kwan O – Po Hong Park\nTung Chung – Tat Tung Road Garden\nWong Tai Sin – Morse Park \nNew Territories\nKwai Tsing – Kwai Chung Sports Ground\nNorth District – Shek Wu Hui Playground\nSha Tin – Yuen Wo Playground\nTai Po – Tin Hau Temple Fung Shui Square\nTsuen Wan – Sha Tsui Road Playground\nTuen Mun – Tin Hau Temple Plaza\nYuen Long – Tung Tau Industrial Area Playground \n \nLunar New Year Fairs\nDate: Noon – midnight\, 22–27 January\nMidnight – 6am\, 28 January\nVenue: 15 parks and playgrounds including Victoria Park and Fa Hui Park in Mong Kok\nTickets: Free
URL:https://www.bcmagazine.net/event/lunar-new-year-fair-2017/
LOCATION:Victoria Park\, Causeway Bay\, Hong Kong
CATEGORIES:2017,Cultural Festival,Food,Market,Other
END:VEVENT
BEGIN:VEVENT
DTSTART;TZID=Asia/Hong_Kong:20170122T080000
DTEND;TZID=Asia/Hong_Kong:20170122T080000
DTSTAMP:20260425T093600
CREATED:20160919T104233Z
LAST-MODIFIED:20160919T104233Z
UID:10006153-1485072000-1485072000@www.bcmagazine.net
SUMMARY:Sky Warriors v HKCC XI
DESCRIPTION:Women’s Development League B: Sky Warriors v HKCC XI
URL:https://www.bcmagazine.net/event/sky-warriors-v-hkcc-xi/
LOCATION:Po Kong Village Road Reservoir Ground\, Po Kong Village Road\, Tsz Wan Shan\, Hong Kong
CATEGORIES:2017,Cricket,Free,Sport
GEO:22.346522;114.204203
X-APPLE-STRUCTURED-LOCATION;VALUE=URI;X-ADDRESS=Po Kong Village Road Reservoir Ground Po Kong Village Road Tsz Wan Shan Hong Kong;X-APPLE-RADIUS=500;X-TITLE=Po Kong Village Road:geo:114.204203,22.346522
END:VEVENT
BEGIN:VEVENT
DTSTART;TZID=Asia/Hong_Kong:20170122T090000
DTEND;TZID=Asia/Hong_Kong:20170122T130000
DTSTAMP:20260425T093600
CREATED:19161101T125335Z
LAST-MODIFIED:20161101T130252Z
UID:10000934-1485075600-1485090000@www.bcmagazine.net
SUMMARY:Resolution Run
DESCRIPTION:Resolution Run\nDate: 9am\, 22 January\, 2017\nVenue: Hong Kong Science Park\, Pak Shek Kok\, Shatin\, N.T.\nTickets: free\nMore info: \n10km\, 5km\, 3km kid’s race\, 1km family race\nregister here 
URL:https://www.bcmagazine.net/event/resolution-run-2017/
LOCATION:Hong Kong Science Park\, Pak Shek Kok\, Hong Kong
CATEGORIES:2017,Sport
GEO:22.396428;114.109497
END:VEVENT
BEGIN:VEVENT
DTSTART;TZID=Asia/Hong_Kong:20170122T100000
DTEND;TZID=Asia/Hong_Kong:20170122T100000
DTSTAMP:20260425T093600
CREATED:20160919T104233Z
LAST-MODIFIED:20160919T104233Z
UID:10006151-1485079200-1485079200@www.bcmagazine.net
SUMMARY:CHK XI v HKCC
DESCRIPTION:Premier League 1-Day A: CHK XI v HKCC
URL:https://www.bcmagazine.net/event/chk-xi-v-hkcc/
LOCATION:Hong Kong Cricket Club\, 137 Wong Ngai Chung Gap Road\, Hong Kong
CATEGORIES:2017,Cricket,Free,Sport
GEO:22.258574;114.1934009
X-APPLE-STRUCTURED-LOCATION;VALUE=URI;X-ADDRESS=Hong Kong Cricket Club 137 Wong Ngai Chung Gap Road Hong Kong;X-APPLE-RADIUS=500;X-TITLE=137 Wong Ngai Chung Gap Road:geo:114.1934009,22.258574
END:VEVENT
BEGIN:VEVENT
DTSTART;TZID=Asia/Hong_Kong:20170122T100000
DTEND;TZID=Asia/Hong_Kong:20170122T100000
DTSTAMP:20260425T093600
CREATED:20160919T104233Z
LAST-MODIFIED:20160919T104233Z
UID:10006152-1485079200-1485079200@www.bcmagazine.net
SUMMARY:KCC v DLSWCC
DESCRIPTION:Premier League 1-Day A: KCC v DLSWCC
URL:https://www.bcmagazine.net/event/kcc-v-dlswcc/
LOCATION:Kowloon Cricket Club\, 10 Cox's Road\, Jordan\, Hong Kong
CATEGORIES:2017,Cricket,Free,Sport
GEO:22.3048927;114.1737401
X-APPLE-STRUCTURED-LOCATION;VALUE=URI;X-ADDRESS=Kowloon Cricket Club 10 Cox's Road Jordan Hong Kong;X-APPLE-RADIUS=500;X-TITLE=10 Cox's Road:geo:114.1737401,22.3048927
END:VEVENT
BEGIN:VEVENT
DTSTART;TZID=Asia/Hong_Kong:20170122T103000
DTEND;TZID=Asia/Hong_Kong:20170122T103000
DTSTAMP:20260425T093600
CREATED:20160919T104232Z
LAST-MODIFIED:20160919T104232Z
UID:10006145-1485081000-1485081000@www.bcmagazine.net
SUMMARY:CCC XI v USRC
DESCRIPTION:Women’s Development League B: CCC XI v USRC
URL:https://www.bcmagazine.net/event/ccc-xi-v-usrc/
LOCATION:Po Kong Village Road Reservoir Ground\, Po Kong Village Road\, Tsz Wan Shan\, Hong Kong
CATEGORIES:2017,Cricket,Free,Sport
GEO:22.346522;114.204203
X-APPLE-STRUCTURED-LOCATION;VALUE=URI;X-ADDRESS=Po Kong Village Road Reservoir Ground Po Kong Village Road Tsz Wan Shan Hong Kong;X-APPLE-RADIUS=500;X-TITLE=Po Kong Village Road:geo:114.204203,22.346522
END:VEVENT
BEGIN:VEVENT
DTSTART;TZID=Asia/Hong_Kong:20170122T130000
DTEND;TZID=Asia/Hong_Kong:20170122T130000
DTSTAMP:20260425T093600
CREATED:20160919T104232Z
LAST-MODIFIED:20160919T104232Z
UID:10006146-1485090000-1485090000@www.bcmagazine.net
SUMMARY:CHK XI v PACC
DESCRIPTION:Women’s Development League B: CHK XI v PACC
URL:https://www.bcmagazine.net/event/chk-xi-v-pacc/
LOCATION:Po Kong Village Road Reservoir Ground\, Po Kong Village Road\, Tsz Wan Shan\, Hong Kong
CATEGORIES:2017,Cricket,Free,Sport
GEO:22.346522;114.204203
X-APPLE-STRUCTURED-LOCATION;VALUE=URI;X-ADDRESS=Po Kong Village Road Reservoir Ground Po Kong Village Road Tsz Wan Shan Hong Kong;X-APPLE-RADIUS=500;X-TITLE=Po Kong Village Road:geo:114.204203,22.346522
END:VEVENT
BEGIN:VEVENT
DTSTART;TZID=Asia/Hong_Kong:20170122T130000
DTEND;TZID=Asia/Hong_Kong:20170122T130000
DTSTAMP:20260425T093600
CREATED:20160919T104232Z
LAST-MODIFIED:20160919T104232Z
UID:10006144-1485090000-1485090000@www.bcmagazine.net
SUMMARY:Lamma v Centaurs
DESCRIPTION:Championship League B: Lamma v Centaurs
URL:https://www.bcmagazine.net/event/lamma-v-centaurs/
LOCATION:Tin Kwong Road Recreation Ground\, Tin Kwong Road\, Mong Kok\, Hong Kong
CATEGORIES:2017,Cricket,Free,Sport
GEO:22.3219997;114.1847986
X-APPLE-STRUCTURED-LOCATION;VALUE=URI;X-ADDRESS=Tin Kwong Road Recreation Ground Tin Kwong Road Mong Kok Hong Kong;X-APPLE-RADIUS=500;X-TITLE=Tin Kwong Road:geo:114.1847986,22.3219997
END:VEVENT
BEGIN:VEVENT
DTSTART;TZID=Asia/Hong_Kong:20170122T153000
DTEND;TZID=Asia/Hong_Kong:20170122T153000
DTSTAMP:20260425T093600
CREATED:20160919T104232Z
LAST-MODIFIED:20160919T104232Z
UID:10006147-1485099000-1485099000@www.bcmagazine.net
SUMMARY:United CC v CHK XI
DESCRIPTION:Women’s Development League B: United CC v CHK XI
URL:https://www.bcmagazine.net/event/united-cc-v-chk-xi/
LOCATION:Po Kong Village Road Reservoir Ground\, Po Kong Village Road\, Tsz Wan Shan\, Hong Kong
CATEGORIES:2017,Cricket,Free,Sport
GEO:22.346522;114.204203
X-APPLE-STRUCTURED-LOCATION;VALUE=URI;X-ADDRESS=Po Kong Village Road Reservoir Ground Po Kong Village Road Tsz Wan Shan Hong Kong;X-APPLE-RADIUS=500;X-TITLE=Po Kong Village Road:geo:114.204203,22.346522
END:VEVENT
BEGIN:VEVENT
DTSTART;TZID=Asia/Hong_Kong:20170122T160000
DTEND;TZID=Asia/Hong_Kong:20170122T160000
DTSTAMP:20260425T093600
CREATED:19161204T001100Z
LAST-MODIFIED:20161204T004117Z
UID:10002383-1485100800-1485100800@www.bcmagazine.net
SUMMARY:Emperor's New Clothes
DESCRIPTION:Emperor’s New Clothes\nHKICMF2017\, Hong Kong International Chamber Music Festival 2017\n\nDate: 4pm\, 22 January\, 2017\n\nVenue: HK City Hall\, Theatre\nTickets: $380\, $260\, $180\, $100 from Urbtix
URL:https://www.bcmagazine.net/event/hkicmf2017-emperors-new-clothes/
LOCATION:HK City Hall\, Theatre\, 5 Edinburgh Place\, Central\, Hong Kong
CATEGORIES:2017,Concert,Music,Performing Arts
GEO:22.2822646;114.1615275
X-APPLE-STRUCTURED-LOCATION;VALUE=URI;X-ADDRESS=HK City Hall Theatre 5 Edinburgh Place Central Hong Kong;X-APPLE-RADIUS=500;X-TITLE=5 Edinburgh Place:geo:114.1615275,22.2822646
END:VEVENT
BEGIN:VEVENT
DTSTART;TZID=Asia/Hong_Kong:20170122T193000
DTEND;TZID=Asia/Hong_Kong:20170122T193000
DTSTAMP:20260425T093600
CREATED:20230114T111520Z
LAST-MODIFIED:20230114T111520Z
UID:10002229-1485113400-1485113400@www.bcmagazine.net
SUMMARY:Cinderella
DESCRIPTION:Cinderella\nHK Ballet\, Repetto\nDate: 20-22 January\, 2017\nVenue: HK Cultural Centre\, Studio Theatre\nTickets: $280\, $180 from Urbtix
URL:https://www.bcmagazine.net/event/cinderella-2017/2017-01-22/
LOCATION:HK Cultural Centre\, Studio Theatre\, 10 Salisbury Road\, Tsim Sha Tsui\, Hong Kong
CATEGORIES:2017,Dance,Performing Arts
END:VEVENT
BEGIN:VEVENT
DTSTART;TZID=Asia/Hong_Kong:20170122T194500
DTEND;TZID=Asia/Hong_Kong:20170122T214500
DTSTAMP:20260425T093600
CREATED:20230114T103423Z
LAST-MODIFIED:20230114T103423Z
UID:10002066-1485114300-1485121500@www.bcmagazine.net
SUMMARY:Wicked
DESCRIPTION:Wicked\nDate: 8 December\, 2016 – 22 January\, 2017\nVenue: HKAPA\, Lyric Theatre\nTickets: $1\,095\, $895\, $595\, $445 from HKTicketing\nMore info:\nTue-Sat 2pm\, 7:45pm\nSun: 1pm\, 6pm
URL:https://www.bcmagazine.net/event/wicked-2016/2017-01-22/
LOCATION:HKAPA: Lyric Theatre\, 1 Gloucester Road\, Wanchai\, Hong Kong
CATEGORIES:2016,Musical,Performing Arts
GEO:22.2801854;114.1695054
X-APPLE-STRUCTURED-LOCATION;VALUE=URI;X-ADDRESS=HKAPA: Lyric Theatre 1 Gloucester Road Wanchai Hong Kong;X-APPLE-RADIUS=500;X-TITLE=1 Gloucester Road:geo:114.1695054,22.2801854
END:VEVENT
BEGIN:VEVENT
DTSTART;TZID=Asia/Hong_Kong:20170122T200000
DTEND;TZID=Asia/Hong_Kong:20170122T200000
DTSTAMP:20260425T093600
CREATED:20230114T080827Z
LAST-MODIFIED:20230114T080827Z
UID:10001459-1485115200-1485115200@www.bcmagazine.net
SUMMARY:Roads to Chicken Pie
DESCRIPTION:Roads to Chicken Pie\nHong Kong Repertory Theatre\, New – Writing Series\nDate: 14-23 January\, 2017\nVenue: HKRep Black Box Theatre\nTickets: $180 from Urbtix\nMore info:\n 14\, 17-21\, 23 January – 8pm\n15\, 21-22 January – 3pm\nIn Cantonese 
URL:https://www.bcmagazine.net/event/roads-to-chicken-pie-2017/2017-01-22/
LOCATION:HKREP Black Box Theatre\, 8/F\, Sheung Wan Civic Centre\, Sheung Wan Municipal Services Building\, 345 Queen's Road\, Sheung Wan\, Hong Kong
CATEGORIES:2017,Performing Arts,Theatre
END:VEVENT
BEGIN:VEVENT
DTSTART;TZID=Asia/Hong_Kong:20170122T201500
DTEND;TZID=Asia/Hong_Kong:20170122T201500
DTSTAMP:20260425T093600
CREATED:19161108T050120Z
LAST-MODIFIED:20161108T050625Z
UID:10002338-1485116100-1485116100@www.bcmagazine.net
SUMMARY:Della
DESCRIPTION:Della – The First Day To Say I Love You\nWhen: 8:15pm\, 1 January\, 2017\nWhere: HK Coliseum\nHow much: $680\, $480\, $280 from URBTIX
URL:https://www.bcmagazine.net/event/della-2017/
LOCATION:HK Coliseum\, 9 Cheong Wan Road\, Hung Hom\, Hong Kong
CATEGORIES:2017,Concert,Music
GEO:22.3014169;114.1820305
X-APPLE-STRUCTURED-LOCATION;VALUE=URI;X-ADDRESS=HK Coliseum 9 Cheong Wan Road Hung Hom Hong Kong;X-APPLE-RADIUS=500;X-TITLE=9 Cheong Wan Road:geo:114.1820305,22.3014169
END:VEVENT
BEGIN:VEVENT
DTSTART;TZID=Asia/Hong_Kong:20170123T200000
DTEND;TZID=Asia/Hong_Kong:20170123T200000
DTSTAMP:20260425T093600
CREATED:19161204T002742Z
LAST-MODIFIED:20161204T003229Z
UID:10002386-1485201600-1485201600@www.bcmagazine.net
SUMMARY:Beethoven\, Brahms & Brett
DESCRIPTION:Beethoven\, Brahms & Brett – from Classical to Contemporary\nHKICMF2017\, Hong Kong International Chamber Music Festival 2017\n\nDate: 8pm\, 23 January\, 2017\n\nVenue: Tsuen Wan Town Hall\, Auditorium\nTickets: $340\, $240\, $180\, $100 from Urbtix
URL:https://www.bcmagazine.net/event/hkicmf2017-beethoven-brahms-brett/
LOCATION:Tsuen Wan Town Hall\, Auditorium\, 72 Tai Ho Road\, Tsuen Wan\, Hong Kong
CATEGORIES:2017,Concert,Music,Performing Arts
GEO:22.3708519;114.112733
X-APPLE-STRUCTURED-LOCATION;VALUE=URI;X-ADDRESS=Tsuen Wan Town Hall Auditorium 72 Tai Ho Road Tsuen Wan Hong Kong;X-APPLE-RADIUS=500;X-TITLE=72 Tai Ho Road:geo:114.112733,22.3708519
END:VEVENT
BEGIN:VEVENT
DTSTART;TZID=Asia/Hong_Kong:20170123T200000
DTEND;TZID=Asia/Hong_Kong:20170123T200000
DTSTAMP:20260425T093600
CREATED:19161225T160450Z
LAST-MODIFIED:20161225T160729Z
UID:10001029-1485201600-1485201600@www.bcmagazine.net
SUMMARY:Chamber Garden
DESCRIPTION:Chamber Garden\nDate: 8pm\, 23 January\, 2017\nVenue: HK City Hall\, Recital Hall\nTickets: $100 from Urbtix
URL:https://www.bcmagazine.net/event/chamber-garden-01-2017/
LOCATION:HK City Hall\, Recital Hall\, 5 Edinburgh Place\, Central\, Hong Kong
CATEGORIES:2017,Concert,Music
GEO:22.2822646;114.1615275
X-APPLE-STRUCTURED-LOCATION;VALUE=URI;X-ADDRESS=HK City Hall Recital Hall 5 Edinburgh Place Central Hong Kong;X-APPLE-RADIUS=500;X-TITLE=5 Edinburgh Place:geo:114.1615275,22.2822646
END:VEVENT
BEGIN:VEVENT
DTSTART;TZID=Asia/Hong_Kong:20170124T193000
DTEND;TZID=Asia/Hong_Kong:20170124T193000
DTSTAMP:20260425T093600
CREATED:19161225T152927Z
LAST-MODIFIED:20161225T153111Z
UID:10001023-1485286200-1485286200@www.bcmagazine.net
SUMMARY:Creative Arts & Culture Association
DESCRIPTION:Creative Arts & Culture Association (HK)\nDate: 7:30pm\, 24 January\, 2017\nVenue: HK City Hall\, Theatre\nTickets: $70 from Urbtix
URL:https://www.bcmagazine.net/event/creative-arts-culture-association-01-2017/
LOCATION:HK City Hall\, Theatre\, 5 Edinburgh Place\, Central\, Hong Kong
CATEGORIES:2017,Concert,Music,Performing Arts
GEO:22.2822646;114.1615275
X-APPLE-STRUCTURED-LOCATION;VALUE=URI;X-ADDRESS=HK City Hall Theatre 5 Edinburgh Place Central Hong Kong;X-APPLE-RADIUS=500;X-TITLE=5 Edinburgh Place:geo:114.1615275,22.2822646
END:VEVENT
BEGIN:VEVENT
DTSTART;TZID=Asia/Hong_Kong:20170124T200000
DTEND;TZID=Asia/Hong_Kong:20170124T200000
DTSTAMP:20260425T093600
CREATED:19161119T134825Z
LAST-MODIFIED:20161119T140027Z
UID:10000972-1485288000-1485288000@www.bcmagazine.net
SUMMARY:Riverdance – The 20th Anniversary World Tour
DESCRIPTION:Riverdance – The 20th Anniversary World Tour\nWhen: 24 January – 5 February\, 2017\nWhere: The Venetian Theatre\nHow much: $888\, $688\, $488\, $288 from HKTicketing\nMore info:\nTuesday – Friday: 8pm\nSaturday 2pm & 8pm\nSunday 2pm & 6pm
URL:https://www.bcmagazine.net/event/riverdance-the-20th-anniversary-world-tour/2017-01-24/
LOCATION:The Venetian Theatre\, Venetian Macao\, Taipa\, Macau
CATEGORIES:2017,Dance,Macau,Performing Arts
GEO:22.1483528;113.5602019
X-APPLE-STRUCTURED-LOCATION;VALUE=URI;X-ADDRESS=The Venetian Theatre Venetian Macao Taipa Macau;X-APPLE-RADIUS=500;X-TITLE=Venetian Macao:geo:113.5602019,22.1483528
END:VEVENT
BEGIN:VEVENT
DTSTART;TZID=Asia/Hong_Kong:20170125T200000
DTEND;TZID=Asia/Hong_Kong:20170125T200000
DTSTAMP:20260425T093600
CREATED:19161119T134825Z
LAST-MODIFIED:20161119T140027Z
UID:10000973-1485374400-1485374400@www.bcmagazine.net
SUMMARY:Riverdance – The 20th Anniversary World Tour
DESCRIPTION:Riverdance – The 20th Anniversary World Tour\nWhen: 24 January – 5 February\, 2017\nWhere: The Venetian Theatre\nHow much: $888\, $688\, $488\, $288 from HKTicketing\nMore info:\nTuesday – Friday: 8pm\nSaturday 2pm & 8pm\nSunday 2pm & 6pm
URL:https://www.bcmagazine.net/event/riverdance-the-20th-anniversary-world-tour/2017-01-25/
LOCATION:The Venetian Theatre\, Venetian Macao\, Taipa\, Macau
CATEGORIES:2017,Dance,Macau,Performing Arts
GEO:22.1483528;113.5602019
X-APPLE-STRUCTURED-LOCATION;VALUE=URI;X-ADDRESS=The Venetian Theatre Venetian Macao Taipa Macau;X-APPLE-RADIUS=500;X-TITLE=Venetian Macao:geo:113.5602019,22.1483528
END:VEVENT
BEGIN:VEVENT
DTSTART;TZID=Asia/Hong_Kong:20170125T200000
DTEND;TZID=Asia/Hong_Kong:20170125T200000
DTSTAMP:20260425T093600
CREATED:19161204T003248Z
LAST-MODIFIED:20161204T003622Z
UID:10002387-1485374400-1485374400@www.bcmagazine.net
SUMMARY:HKICMF2017: Festival Finale
DESCRIPTION:Festival Finale\nHKICMF2017\, Hong Kong International Chamber Music Festival 2017\n\nDate: 8pm\, 25 January\, 2017\n\nVenue: Shatin Town Hall\, Auditorium\nTickets: $340\, $240\, $180\, $100 from Urbtix
URL:https://www.bcmagazine.net/event/hkicmf2017-festival-finale/
LOCATION:Shatin Town Hall\, Auditorium\, Shatin\, Hong Kong
CATEGORIES:2017,Concert,Music,Performing Arts
END:VEVENT
BEGIN:VEVENT
DTSTART;TZID=Asia/Hong_Kong:20170126T200000
DTEND;TZID=Asia/Hong_Kong:20170126T200000
DTSTAMP:20260425T093600
CREATED:19161119T134825Z
LAST-MODIFIED:20161119T140027Z
UID:10000974-1485460800-1485460800@www.bcmagazine.net
SUMMARY:Riverdance – The 20th Anniversary World Tour
DESCRIPTION:Riverdance – The 20th Anniversary World Tour\nWhen: 24 January – 5 February\, 2017\nWhere: The Venetian Theatre\nHow much: $888\, $688\, $488\, $288 from HKTicketing\nMore info:\nTuesday – Friday: 8pm\nSaturday 2pm & 8pm\nSunday 2pm & 6pm
URL:https://www.bcmagazine.net/event/riverdance-the-20th-anniversary-world-tour/2017-01-26/
LOCATION:The Venetian Theatre\, Venetian Macao\, Taipa\, Macau
CATEGORIES:2017,Dance,Macau,Performing Arts
GEO:22.1483528;113.5602019
X-APPLE-STRUCTURED-LOCATION;VALUE=URI;X-ADDRESS=The Venetian Theatre Venetian Macao Taipa Macau;X-APPLE-RADIUS=500;X-TITLE=Venetian Macao:geo:113.5602019,22.1483528
END:VEVENT
BEGIN:VEVENT
DTSTART;TZID=Asia/Hong_Kong:20170127T200000
DTEND;TZID=Asia/Hong_Kong:20170127T200000
DTSTAMP:20260425T093600
CREATED:19161119T134825Z
LAST-MODIFIED:20161119T140027Z
UID:10000975-1485547200-1485547200@www.bcmagazine.net
SUMMARY:Riverdance – The 20th Anniversary World Tour
DESCRIPTION:Riverdance – The 20th Anniversary World Tour\nWhen: 24 January – 5 February\, 2017\nWhere: The Venetian Theatre\nHow much: $888\, $688\, $488\, $288 from HKTicketing\nMore info:\nTuesday – Friday: 8pm\nSaturday 2pm & 8pm\nSunday 2pm & 6pm
URL:https://www.bcmagazine.net/event/riverdance-the-20th-anniversary-world-tour/2017-01-27/
LOCATION:The Venetian Theatre\, Venetian Macao\, Taipa\, Macau
CATEGORIES:2017,Dance,Macau,Performing Arts
GEO:22.1483528;113.5602019
X-APPLE-STRUCTURED-LOCATION;VALUE=URI;X-ADDRESS=The Venetian Theatre Venetian Macao Taipa Macau;X-APPLE-RADIUS=500;X-TITLE=Venetian Macao:geo:113.5602019,22.1483528
END:VEVENT
BEGIN:VEVENT
DTSTART;TZID=Asia/Hong_Kong:20170127T213000
DTEND;TZID=Asia/Hong_Kong:20170127T213000
DTSTAMP:20260425T093600
CREATED:19161122T021633Z
LAST-MODIFIED:20161122T022051Z
UID:10002361-1485552600-1485552600@www.bcmagazine.net
SUMMARY:Ronald Cheng
DESCRIPTION:Ronald Cheng\nWhen: 27-29 January\, 2017\nWhere: HK Coliseum\nHow much: $780\, $480\, $280 from Urbtix
URL:https://www.bcmagazine.net/event/ronald-cheng-2017/2017-01-27/
LOCATION:HK Coliseum\, 9 Cheong Wan Road\, Hung Hom\, Hong Kong
CATEGORIES:2017,Concert,Music
GEO:22.3014169;114.1820305
X-APPLE-STRUCTURED-LOCATION;VALUE=URI;X-ADDRESS=HK Coliseum 9 Cheong Wan Road Hung Hom Hong Kong;X-APPLE-RADIUS=500;X-TITLE=9 Cheong Wan Road:geo:114.1820305,22.3014169
END:VEVENT
BEGIN:VEVENT
DTSTART;TZID=Asia/Hong_Kong:20170128T150000
DTEND;TZID=Asia/Hong_Kong:20170128T150000
DTSTAMP:20260425T093600
CREATED:19170121T160848Z
LAST-MODIFIED:20170121T162609Z
UID:10002435-1485615600-1485615600@www.bcmagazine.net
SUMMARY:Lunar New Year Cup
DESCRIPTION:Lunar New Year Cup\nKitchee\, Auckland City\, FC Seoul\, Muangthong United\nDate: 28 & 31 January\, 2017\nVenue: HK Stadium\nTickets: $380\, $280\, $180\, $100
URL:https://www.bcmagazine.net/event/lunar-new-year-cup-2017/2017-01-28/
LOCATION:HK Stadium\, 55 Eastern Hospital Road\, So Kon Po\, Hong Kong
CATEGORIES:2017,Football,Sport
GEO:22.2730073;114.1885121
X-APPLE-STRUCTURED-LOCATION;VALUE=URI;X-ADDRESS=HK Stadium 55 Eastern Hospital Road So Kon Po Hong Kong;X-APPLE-RADIUS=500;X-TITLE=55 Eastern Hospital Road:geo:114.1885121,22.2730073
END:VEVENT
BEGIN:VEVENT
DTSTART;TZID=Asia/Hong_Kong:20170128T200000
DTEND;TZID=Asia/Hong_Kong:20170128T200000
DTSTAMP:20260425T093600
CREATED:19161119T134825Z
LAST-MODIFIED:20161119T140027Z
UID:10000976-1485633600-1485633600@www.bcmagazine.net
SUMMARY:Riverdance – The 20th Anniversary World Tour
DESCRIPTION:Riverdance – The 20th Anniversary World Tour\nWhen: 24 January – 5 February\, 2017\nWhere: The Venetian Theatre\nHow much: $888\, $688\, $488\, $288 from HKTicketing\nMore info:\nTuesday – Friday: 8pm\nSaturday 2pm & 8pm\nSunday 2pm & 6pm
URL:https://www.bcmagazine.net/event/riverdance-the-20th-anniversary-world-tour/2017-01-28/
LOCATION:The Venetian Theatre\, Venetian Macao\, Taipa\, Macau
CATEGORIES:2017,Dance,Macau,Performing Arts
GEO:22.1483528;113.5602019
X-APPLE-STRUCTURED-LOCATION;VALUE=URI;X-ADDRESS=The Venetian Theatre Venetian Macao Taipa Macau;X-APPLE-RADIUS=500;X-TITLE=Venetian Macao:geo:113.5602019,22.1483528
END:VEVENT
BEGIN:VEVENT
DTSTART;TZID=Asia/Hong_Kong:20170128T200000
DTEND;TZID=Asia/Hong_Kong:20170128T200000
DTSTAMP:20260425T093600
CREATED:20170121T090919Z
LAST-MODIFIED:20170121T091105Z
UID:10006365-1485633600-1485633600@www.bcmagazine.net
SUMMARY:Chinese New Year Night Parade
DESCRIPTION:The Chinese New Year Night Parade will be held on the first day of the Year of the Rooster (Saturday\, 28 January)\, with a line-up of 10 floats\, and 26 international and local performing groups. \nOrganised by the HK Tourism Board the parade route starts at the HK Cultural Centre\, proceeds along Canton Road then Haiphong Road\, turns right on Nathan Road\, and ends just past Chungking Mansions. \nChinese New Year Night Parade\nDate: 8pm\, 28 January\, 2017\nVenue: Tsim Sha Tsui\nTickets: Free
URL:https://www.bcmagazine.net/event/chinese-new-year-night-parade-2017/
LOCATION:Tsim Sha Tsui Promenade\, Clock Tower\, Tsim Sha Tsui\, Hong Kong
CATEGORIES:2017,Cultural Festival,Free,Performing Arts
END:VEVENT
BEGIN:VEVENT
DTSTART;TZID=Asia/Hong_Kong:20170128T213000
DTEND;TZID=Asia/Hong_Kong:20170128T213000
DTSTAMP:20260425T093600
CREATED:19161122T021633Z
LAST-MODIFIED:20161122T022051Z
UID:10002362-1485639000-1485639000@www.bcmagazine.net
SUMMARY:Ronald Cheng
DESCRIPTION:Ronald Cheng\nWhen: 27-29 January\, 2017\nWhere: HK Coliseum\nHow much: $780\, $480\, $280 from Urbtix
URL:https://www.bcmagazine.net/event/ronald-cheng-2017/2017-01-28/
LOCATION:HK Coliseum\, 9 Cheong Wan Road\, Hung Hom\, Hong Kong
CATEGORIES:2017,Concert,Music
GEO:22.3014169;114.1820305
X-APPLE-STRUCTURED-LOCATION;VALUE=URI;X-ADDRESS=HK Coliseum 9 Cheong Wan Road Hung Hom Hong Kong;X-APPLE-RADIUS=500;X-TITLE=9 Cheong Wan Road:geo:114.1820305,22.3014169
END:VEVENT
BEGIN:VEVENT
DTSTART;TZID=Asia/Hong_Kong:20170129T200000
DTEND;TZID=Asia/Hong_Kong:20170129T200000
DTSTAMP:20260425T093600
CREATED:19170121T163005Z
LAST-MODIFIED:20170121T163313Z
UID:10002436-1485720000-1485720000@www.bcmagazine.net
SUMMARY:Lunar New Year Fireworks
DESCRIPTION:Lunar New Year Fireworks\nDate: 8pm\, 29 January\, 2017\nVenue: Victoria Harbour\nTickets: Free
URL:https://www.bcmagazine.net/event/lunar-new-year-fireworks-2017/
LOCATION:Victoria Harbour\, Hong Kong
CATEGORIES:2017,Cultural Festival,Free,Other
END:VEVENT
END:VCALENDAR