BEGIN:VCALENDAR
VERSION:2.0
PRODID:-//bc magazine - ECPv6.15.20//NONSGML v1.0//EN
CALSCALE:GREGORIAN
METHOD:PUBLISH
X-WR-CALNAME:bc magazine
X-ORIGINAL-URL:https://www.bcmagazine.net
X-WR-CALDESC:Events for bc magazine
REFRESH-INTERVAL;VALUE=DURATION:PT1H
X-Robots-Tag:noindex
X-PUBLISHED-TTL:PT1H
BEGIN:VTIMEZONE
TZID:Asia/Hong_Kong
BEGIN:STANDARD
TZOFFSETFROM:+0800
TZOFFSETTO:+0800
TZNAME:HKT
DTSTART:20150101T000000
END:STANDARD
END:VTIMEZONE
BEGIN:VEVENT
DTSTART;VALUE=DATE:20161216
DTEND;VALUE=DATE:20170213
DTSTAMP:20260424T235044
CREATED:19161024T072433Z
LAST-MODIFIED:20161024T074210Z
UID:10002313-1481846400-1486943999@www.bcmagazine.net
SUMMARY:The Great European Carnival
DESCRIPTION:The Great European Carnival\nDate: 16 December\, 2016 – 12 February\, 2017\nVenue: Central Harbourfront\nTickets: $125
URL:https://www.bcmagazine.net/event/the-great-european-carnival-2016-17/
LOCATION:Central Harbourfront\,  9 Lung Wo Road\, Central\, Hong Kong
CATEGORIES:2016,2017,Nightlife
GEO:22.2826223;114.164346
X-APPLE-STRUCTURED-LOCATION;VALUE=URI;X-ADDRESS=Central Harbourfront  9 Lung Wo Road Central Hong Kong;X-APPLE-RADIUS=500;X-TITLE=9 Lung Wo Road:geo:114.164346,22.2826223
END:VEVENT
BEGIN:VEVENT
DTSTART;VALUE=DATE:20170212
DTEND;VALUE=DATE:20170213
DTSTAMP:20260424T235044
CREATED:19160622T045356Z
LAST-MODIFIED:20160913T002857Z
UID:10000632-1486857600-1486943999@www.bcmagazine.net
SUMMARY:Masters of Hong Kong
DESCRIPTION:Masters of Hong Kong\nDate: 10-12 February\, 2017\nVenue: AsiaWorld-Expo\nTickets: $980\, $850\, $720\, $590\, $330 $200 from Cityline
URL:https://www.bcmagazine.net/event/masters-of-hong-kong-2017/2017-02-12/
LOCATION:AsiaWorld-Expo\, Cheong Wing Road\, Chek Lap Kok\, Lantau\, Hong Kong
CATEGORIES:2017,Sport
GEO:22.3217383;113.9402012
X-APPLE-STRUCTURED-LOCATION;VALUE=URI;X-ADDRESS=AsiaWorld-Expo Cheong Wing Road Chek Lap Kok Lantau Hong Kong;X-APPLE-RADIUS=500;X-TITLE=Cheong Wing Road\, Chek Lap Kok:geo:113.9402012,22.3217383
END:VEVENT
BEGIN:VEVENT
DTSTART;TZID=Asia/Hong_Kong:20170212T184500
DTEND;TZID=Asia/Hong_Kong:20170212T184500
DTSTAMP:20260424T235044
CREATED:19170120T101750Z
LAST-MODIFIED:20170120T102315Z
UID:10002434-1486925100-1486925100@www.bcmagazine.net
SUMMARY:Rachel Cheung\, Gian Paolo Peloso
DESCRIPTION:Rachel Cheung\, Gian Paolo Peloso\nDate: 6:45pm\, 12 February\, 2017\nVenue: Ladies Recreation Club\nTickets: $690 (concert+dinner)\, $320 (concert)
URL:https://www.bcmagazine.net/event/rachel-cheung-gian-paolo-peloso/
LOCATION:Ladies Recreation Club\, 10 Old Peak Road\, Hong Kong
CATEGORIES:2017,Concert,Music,Performing Arts
GEO:22.2754021;114.1538264
X-APPLE-STRUCTURED-LOCATION;VALUE=URI;X-ADDRESS=Ladies Recreation Club 10 Old Peak Road Hong Kong;X-APPLE-RADIUS=500;X-TITLE=10 Old Peak Road:geo:114.1538264,22.2754021
END:VEVENT
BEGIN:VEVENT
DTSTART;TZID=Asia/Hong_Kong:20170212T194500
DTEND;TZID=Asia/Hong_Kong:20170212T194500
DTSTAMP:20260424T235044
CREATED:19160414T145123Z
LAST-MODIFIED:20160414T145858Z
UID:10001577-1486928700-1486928700@www.bcmagazine.net
SUMMARY:Kaleidoscope of Dance from Yunan
DESCRIPTION:Kaleidoscope of Dance from Yunan\nHK Dance Company\nDate: 10-12 February\, 2017\nVenue: Kwai Tsing Theatre\, Auditorium\nTickets: $300\, $240\, $180\, $100 from Urbtix (on sale 9 December)\nMore info:\n10-11 February – 7:45pm\n11-12 February – 3pm
URL:https://www.bcmagazine.net/event/kaleidoscope-of-dance-from-yunan-2017/2017-02-12/
LOCATION:Kwai Tsing Theatre\, Auditorium\, 12 Hing Ning Road\, Kwai Chung\, Hong Kong
CATEGORIES:2017,Dance,Performing Arts
GEO:22.3568224;114.126199
X-APPLE-STRUCTURED-LOCATION;VALUE=URI;X-ADDRESS=Kwai Tsing Theatre Auditorium 12 Hing Ning Road Kwai Chung Hong Kong;X-APPLE-RADIUS=500;X-TITLE=12 Hing Ning Road:geo:114.126199,22.3568224
END:VEVENT
BEGIN:VEVENT
DTSTART;TZID=Asia/Hong_Kong:20170213T200000
DTEND;TZID=Asia/Hong_Kong:20170213T200000
DTSTAMP:20260424T235044
CREATED:19161101T143905Z
LAST-MODIFIED:20161101T144304Z
UID:10000939-1487016000-1487016000@www.bcmagazine.net
SUMMARY:Journey
DESCRIPTION:Journey\nDate: 8pm\, 13 February\, 2017\nVenue: HKCEC\, Hall 5G\nTickets: $1\,288\, $988 from HKTicketing
URL:https://www.bcmagazine.net/event/journey-2017/
LOCATION:HK Convention and Exhibition Centre\, 1 Expo Drive\, Wanchai\, Hong Kong
CATEGORIES:2017,Concert,Music
END:VEVENT
BEGIN:VEVENT
DTSTART;TZID=Asia/Hong_Kong:20170213T200000
DTEND;TZID=Asia/Hong_Kong:20170213T200000
DTSTAMP:20260424T235044
CREATED:19161225T152234Z
LAST-MODIFIED:20161225T152554Z
UID:10002411-1487016000-1487016000@www.bcmagazine.net
SUMMARY:Yao Gong-bai
DESCRIPTION:Yao Gong-bai – Guqin Recital\nDate: 8pm\, 13 February\, 2017\nVenue: HK City Hall\, Theatre\nTickets: $250 from Urbtix
URL:https://www.bcmagazine.net/event/yao-gong-bai-02-2017/
LOCATION:HK City Hall\, Theatre\, 5 Edinburgh Place\, Central\, Hong Kong
CATEGORIES:2017,Concert,Music,Performing Arts
GEO:22.2822646;114.1615275
X-APPLE-STRUCTURED-LOCATION;VALUE=URI;X-ADDRESS=HK City Hall Theatre 5 Edinburgh Place Central Hong Kong;X-APPLE-RADIUS=500;X-TITLE=5 Edinburgh Place:geo:114.1615275,22.2822646
END:VEVENT
BEGIN:VEVENT
DTSTART;TZID=Asia/Hong_Kong:20170216T201500
DTEND;TZID=Asia/Hong_Kong:20170216T201500
DTSTAMP:20260424T235044
CREATED:19161011T001148Z
LAST-MODIFIED:20161011T001811Z
UID:10002167-1487276100-1487276100@www.bcmagazine.net
SUMMARY:Hins & Ivana
DESCRIPTION:The Magical Teeter Totter Hins & Ivana\nDate: 8:15pm\, 16-19 February\, 2017\nVenue: HK Coliseum\nTickets: $680\, $480\, $300 from Urbtix
URL:https://www.bcmagazine.net/event/hins-ivana-2017/2017-02-16/
LOCATION:HK Coliseum\, 9 Cheong Wan Road\, Hung Hom\, Hong Kong
CATEGORIES:2017,Concert,Music
GEO:22.3014169;114.1820305
X-APPLE-STRUCTURED-LOCATION;VALUE=URI;X-ADDRESS=HK Coliseum 9 Cheong Wan Road Hung Hom Hong Kong;X-APPLE-RADIUS=500;X-TITLE=9 Cheong Wan Road:geo:114.1820305,22.3014169
END:VEVENT
BEGIN:VEVENT
DTSTART;TZID=Asia/Hong_Kong:20170217T201500
DTEND;TZID=Asia/Hong_Kong:20170217T201500
DTSTAMP:20260424T235044
CREATED:19161011T001148Z
LAST-MODIFIED:20161011T001811Z
UID:10002168-1487362500-1487362500@www.bcmagazine.net
SUMMARY:Hins & Ivana
DESCRIPTION:The Magical Teeter Totter Hins & Ivana\nDate: 8:15pm\, 16-19 February\, 2017\nVenue: HK Coliseum\nTickets: $680\, $480\, $300 from Urbtix
URL:https://www.bcmagazine.net/event/hins-ivana-2017/2017-02-17/
LOCATION:HK Coliseum\, 9 Cheong Wan Road\, Hung Hom\, Hong Kong
CATEGORIES:2017,Concert,Music
GEO:22.3014169;114.1820305
X-APPLE-STRUCTURED-LOCATION;VALUE=URI;X-ADDRESS=HK Coliseum 9 Cheong Wan Road Hung Hom Hong Kong;X-APPLE-RADIUS=500;X-TITLE=9 Cheong Wan Road:geo:114.1820305,22.3014169
END:VEVENT
BEGIN:VEVENT
DTSTART;TZID=Asia/Hong_Kong:20170217T203000
DTEND;TZID=Asia/Hong_Kong:20170217T203000
DTSTAMP:20260424T235044
CREATED:20170130T033926Z
LAST-MODIFIED:20170130T033926Z
UID:10006369-1487363400-1487363400@www.bcmagazine.net
SUMMARY:Cafe Lanai
DESCRIPTION:Cafe Lanai\nDate: 8:30pm\, 17 February\, 2017\nVenue: MOM Livehouse\nTickets: $120 from Ticketflap
URL:https://www.bcmagazine.net/event/cafe-lanai-2017/
LOCATION:MOM Livehouse\, B39 Seven Seas Shopping Centre\, 117-121 Kings Road\, North Point\, Hong Kong
CATEGORIES:2017,Concert,Music
GEO:22.2884683;114.192803
X-APPLE-STRUCTURED-LOCATION;VALUE=URI;X-ADDRESS=MOM Livehouse B39 Seven Seas Shopping Centre 117-121 Kings Road North Point Hong Kong;X-APPLE-RADIUS=500;X-TITLE=B39 Seven Seas Shopping Centre\, 117-121 Kings Road:geo:114.192803,22.2884683
END:VEVENT
BEGIN:VEVENT
DTSTART;TZID=Asia/Hong_Kong:20170217T210000
DTEND;TZID=Asia/Hong_Kong:20170217T210000
DTSTAMP:20260424T235044
CREATED:19161228T133142Z
LAST-MODIFIED:20161228T134704Z
UID:10002423-1487365200-1487365200@www.bcmagazine.net
SUMMARY:Butterflies in the Spring Breeze
DESCRIPTION:Butterflies in the Spring Breeze\nOpen Box 2017\, Harry Ng\nDate: 9pm\, 17-18 February\, 2017\nVenue: .Art\nTickets: $120 from MacauTicket
URL:https://www.bcmagazine.net/event/butterflies-in-the-spring-breeze-open-box-2017/2017-02-17/
LOCATION:.Art\, Macau
CATEGORIES:2017,Cultural Festival,Macau,Performing Arts
GEO:22.198745;113.543873
END:VEVENT
BEGIN:VEVENT
DTSTART;TZID=Asia/Hong_Kong:20170218T110000
DTEND;TZID=Asia/Hong_Kong:20170218T110000
DTSTAMP:20260424T235044
CREATED:19170117T233742Z
LAST-MODIFIED:20170117T234014Z
UID:10002433-1487415600-1487415600@www.bcmagazine.net
SUMMARY:The Ramayana and Miniature Painting Talk
DESCRIPTION:Mahaveer Swami: The Ramayana and Miniature Painting Talk\nIndia by the Bay 2017\nDate: 11am\, 18 February\, 2017\nVenue: Asia Society Hong Kong Center\nTickets: $250
URL:https://www.bcmagazine.net/event/the-ramayana-and-miniature-painting-talk/
LOCATION:Asia Society Hong Kong Center\, 9 Justice Drive\, Admiralty\, Hong Kong
CATEGORIES:2017,Other
END:VEVENT
BEGIN:VEVENT
DTSTART;TZID=Asia/Hong_Kong:20170218T130000
DTEND;TZID=Asia/Hong_Kong:20170218T170000
DTSTAMP:20260424T235044
CREATED:20160915T073500Z
LAST-MODIFIED:20160917T074142Z
UID:10006134-1487422800-1487437200@www.bcmagazine.net
SUMMARY:TEDx Lingnan University - Unbelievable
DESCRIPTION:TEDx Lingnan University – Unbelievable\nDate: 1pm\, 18 February\, 2017\nVenue: Lingnan University\nTickets: tbc\nMore info:\nwww.facebook.com/TEDxLingnanUniversity
URL:https://www.bcmagazine.net/event/tedxlingnanuniversity-unbelievable-2017/
LOCATION:Lingnan University\, 8 Castle Peak Road\, Tuen Mun\, Hong Kong
CATEGORIES:2017,Other
GEO:22.3555787;114.027274
X-APPLE-STRUCTURED-LOCATION;VALUE=URI;X-ADDRESS=Lingnan University 8 Castle Peak Road Tuen Mun Hong Kong;X-APPLE-RADIUS=500;X-TITLE=8 Castle Peak Road:geo:114.027274,22.3555787
END:VEVENT
BEGIN:VEVENT
DTSTART;TZID=Asia/Hong_Kong:20170218T190000
DTEND;TZID=Asia/Hong_Kong:20170218T190000
DTSTAMP:20260424T235044
CREATED:19170117T231224Z
LAST-MODIFIED:20170117T232011Z
UID:10002427-1487444400-1487444400@www.bcmagazine.net
SUMMARY:In Conversation with Rishi Kapoor
DESCRIPTION:In Conversation with Rishi Kapoor\nIndia by the Bay 2017\nDate: 7pm\, 18 February\, 2017\nVenue: Asia Society Hong Kong Center\nTickets: $350
URL:https://www.bcmagazine.net/event/in-conversation-with-rishi-kapoor-2017/
LOCATION:Asia Society Hong Kong Center\, 9 Justice Drive\, Admiralty\, Hong Kong
CATEGORIES:2017,Film,Other
END:VEVENT
BEGIN:VEVENT
DTSTART;TZID=Asia/Hong_Kong:20170218T200000
DTEND;TZID=Asia/Hong_Kong:20170218T200000
DTSTAMP:20260424T235044
CREATED:19161228T133142Z
LAST-MODIFIED:20161228T133652Z
UID:10002421-1487448000-1487448000@www.bcmagazine.net
SUMMARY:Echoes of Our Times
DESCRIPTION:Echoes of Our Times\nOpen Box 2017\, Chan Si Kei\, Chan Chi Cheng\, Chi Po Hao\nDate: 8pm\, 18-19 February\, 2017\nVenue: Macau Cultural Centre\, Small Auditorium\nTickets: $120 from MacauTicket
URL:https://www.bcmagazine.net/event/echoes-of-our-times-open-box-2017/2017-02-18/
LOCATION:Macao Cultural Centre\, Small Auditorium\, Macau
CATEGORIES:2017,Cultural Festival,Macau,Performing Arts
END:VEVENT
BEGIN:VEVENT
DTSTART;TZID=Asia/Hong_Kong:20170218T200000
DTEND;TZID=Asia/Hong_Kong:20170218T200000
DTSTAMP:20260424T235044
CREATED:19170124T001435Z
LAST-MODIFIED:20170124T002616Z
UID:10001068-1487448000-1487448000@www.bcmagazine.net
SUMMARY:芒初露
DESCRIPTION:芒初露\nDate: 8pm\, 18 February\, 2017\nVenue: KITEC\, Music Zone@E-Max\nTickets: $380\, $180 from Cityline
URL:https://www.bcmagazine.net/event/18feb2017/
LOCATION:KITEC\, Music Zone@E-Max\, KITEC\,‎ 1 Trademart Drive\, Kowloon Bay\, Hong Kong
CATEGORIES:2017,Concert,Music
GEO:22.3239575;114.2037608
X-APPLE-STRUCTURED-LOCATION;VALUE=URI;X-ADDRESS=KITEC Music Zone@E-Max KITEC‎ 1 Trademart Drive Kowloon Bay Hong Kong;X-APPLE-RADIUS=500;X-TITLE=KITEC\,‎ 1 Trademart Drive:geo:114.2037608,22.3239575
END:VEVENT
BEGIN:VEVENT
DTSTART;TZID=Asia/Hong_Kong:20170218T200000
DTEND;TZID=Asia/Hong_Kong:20170218T200000
DTSTAMP:20260424T235044
CREATED:19170128T135001Z
LAST-MODIFIED:20170128T135556Z
UID:10001074-1487448000-1487448000@www.bcmagazine.net
SUMMARY:Fei
DESCRIPTION:Fei\nDate: 8pm\, 18 February\, 2017\nVenue: MacPherson stadium\nTickets: $180 from Cityline
URL:https://www.bcmagazine.net/event/fei-2017/
LOCATION:MacPherson Stadium\, 38 Nelson Street\, Mongkok\, Hong Kong
CATEGORIES:2017,Concert,Music
GEO:22.3188457;114.1728403
X-APPLE-STRUCTURED-LOCATION;VALUE=URI;X-ADDRESS=MacPherson Stadium 38 Nelson Street Mongkok Hong Kong;X-APPLE-RADIUS=500;X-TITLE=38 Nelson Street:geo:114.1728403,22.3188457
END:VEVENT
BEGIN:VEVENT
DTSTART;TZID=Asia/Hong_Kong:20170218T200000
DTEND;TZID=Asia/Hong_Kong:20170218T200000
DTSTAMP:20260424T235044
CREATED:19170210T111646Z
LAST-MODIFIED:20170210T111942Z
UID:10001091-1487448000-1487448000@www.bcmagazine.net
SUMMARY:Hong Kong Youth Choir Association
DESCRIPTION:Hong Kong Youth Choir Association\nDate: 8pm\, 18 February\, 2017\nVenue: Jockey Club Auditorium\, The Hong Kong Polytechnic University\nTickets: $150\, $120 from Urbtix
URL:https://www.bcmagazine.net/event/hong-kong-youth-choir-association/
LOCATION:Hong Kong Polytechnic University\, Jockey Club Auditorium\, Hong Kong
CATEGORIES:2017,Concert,Music,Performing Arts
GEO:22.396428;114.109497
END:VEVENT
BEGIN:VEVENT
DTSTART;TZID=Asia/Hong_Kong:20170218T200000
DTEND;TZID=Asia/Hong_Kong:20170218T200000
DTSTAMP:20260424T235044
CREATED:20161205T093057Z
LAST-MODIFIED:20161205T093057Z
UID:10006352-1487448000-1487448000@www.bcmagazine.net
SUMMARY:VIXX
DESCRIPTION:VIXX – The Underworld\nDate: 8pm\, 18 February\, 2017\n\n\nVenue: AsiaWorld-Expo\, Hall 10\nTickets: $1\,780\, $1\,380\, $880\, $580 from HKTicketing
URL:https://www.bcmagazine.net/event/vixx-the-underworld-2017/
LOCATION:AsiaWorld-Expo\, Hall 10\, Cheong Wing Road\, Chek Lap Kok\, Lantau\, Hong Kong
CATEGORIES:2017,Concert,Music
GEO:22.3217383;113.9402012
X-APPLE-STRUCTURED-LOCATION;VALUE=URI;X-ADDRESS=AsiaWorld-Expo Hall 10 Cheong Wing Road Chek Lap Kok Lantau Hong Kong;X-APPLE-RADIUS=500;X-TITLE=Cheong Wing Road\, Chek Lap Kok:geo:113.9402012,22.3217383
END:VEVENT
BEGIN:VEVENT
DTSTART;TZID=Asia/Hong_Kong:20170218T200000
DTEND;TZID=Asia/Hong_Kong:20170218T200000
DTSTAMP:20260424T235044
CREATED:20170201T034516Z
LAST-MODIFIED:20170201T034516Z
UID:10006370-1487448000-1487448000@www.bcmagazine.net
SUMMARY:Running Man
DESCRIPTION:South Korean reality TV show live in Macau starring Song Ji-hyo\, Lee Kwang-soo\, Kim Jong-kook\, Ji Suk-jin\, Haha \nRunning Man\nDate: 8pm\, 18 February\, 2017\nVenue: CotaiArena\nTickets: $1\,480\, $1\,280\, $980\, $680\, $480 from HKTicketing
URL:https://www.bcmagazine.net/event/running-man-macau-2017/
LOCATION:CotaiArena\, Venetian Macao\, Taipa\, Macau
CATEGORIES:2017,Macau,Performing Arts
GEO:22.1483528;113.5602019
X-APPLE-STRUCTURED-LOCATION;VALUE=URI;X-ADDRESS=CotaiArena Venetian Macao Taipa Macau;X-APPLE-RADIUS=500;X-TITLE=Venetian Macao:geo:113.5602019,22.1483528
END:VEVENT
BEGIN:VEVENT
DTSTART;TZID=Asia/Hong_Kong:20170218T201500
DTEND;TZID=Asia/Hong_Kong:20170218T201500
DTSTAMP:20260424T235044
CREATED:19161011T001148Z
LAST-MODIFIED:20161011T001811Z
UID:10002169-1487448900-1487448900@www.bcmagazine.net
SUMMARY:Hins & Ivana
DESCRIPTION:The Magical Teeter Totter Hins & Ivana\nDate: 8:15pm\, 16-19 February\, 2017\nVenue: HK Coliseum\nTickets: $680\, $480\, $300 from Urbtix
URL:https://www.bcmagazine.net/event/hins-ivana-2017/2017-02-18/
LOCATION:HK Coliseum\, 9 Cheong Wan Road\, Hung Hom\, Hong Kong
CATEGORIES:2017,Concert,Music
GEO:22.3014169;114.1820305
X-APPLE-STRUCTURED-LOCATION;VALUE=URI;X-ADDRESS=HK Coliseum 9 Cheong Wan Road Hung Hom Hong Kong;X-APPLE-RADIUS=500;X-TITLE=9 Cheong Wan Road:geo:114.1820305,22.3014169
END:VEVENT
BEGIN:VEVENT
DTSTART;TZID=Asia/Hong_Kong:20170219T110000
DTEND;TZID=Asia/Hong_Kong:20170219T160000
DTSTAMP:20260424T235044
CREATED:19170117T230908Z
LAST-MODIFIED:20170117T232127Z
UID:10002426-1487502000-1487520000@www.bcmagazine.net
SUMMARY:India by the Bay Family Day
DESCRIPTION:India by the Bay Family Day\nDate: 11am-4pm\, 19 February\, 2017\nVenue: Asia Society Hong Kong Center\nTickets: $200
URL:https://www.bcmagazine.net/event/india-by-the-bay-family-day-2017/
LOCATION:Asia Society Hong Kong Center\, 9 Justice Drive\, Admiralty\, Hong Kong
CATEGORIES:2017,Other
END:VEVENT
BEGIN:VEVENT
DTSTART;TZID=Asia/Hong_Kong:20170219T190000
DTEND;TZID=Asia/Hong_Kong:20170219T190000
DTSTAMP:20260424T235044
CREATED:19161008T060710Z
LAST-MODIFIED:20161008T062221Z
UID:10000853-1487530800-1487530800@www.bcmagazine.net
SUMMARY:Saura
DESCRIPTION:Saura\nDate: 7pm\, 19 February\, 2017\nVenue: KITEC\, Music Zone@E-Max\nTickets: $680\, $480\, $380
URL:https://www.bcmagazine.net/event/saura-2017/
LOCATION:KITEC\, Music Zone@E-Max\, KITEC\,‎ 1 Trademart Drive\, Kowloon Bay\, Hong Kong
CATEGORIES:2017,Concert,Music
GEO:22.3239575;114.2037608
X-APPLE-STRUCTURED-LOCATION;VALUE=URI;X-ADDRESS=KITEC Music Zone@E-Max KITEC‎ 1 Trademart Drive Kowloon Bay Hong Kong;X-APPLE-RADIUS=500;X-TITLE=KITEC\,‎ 1 Trademart Drive:geo:114.2037608,22.3239575
END:VEVENT
BEGIN:VEVENT
DTSTART;TZID=Asia/Hong_Kong:20170219T200000
DTEND;TZID=Asia/Hong_Kong:20170219T200000
DTSTAMP:20260424T235044
CREATED:19161228T122722Z
LAST-MODIFIED:20161228T123052Z
UID:10002416-1487534400-1487534400@www.bcmagazine.net
SUMMARY:Ning Feng
DESCRIPTION:Ning Feng Interprets Elgar\nMacao Orchestra\nDate: 8pm\, 19 February\, 2017\nVenue: St Dominic’s Church\nTickets: Free
URL:https://www.bcmagazine.net/event/ning-feng-macao-orchestra-2017/
LOCATION:St. Dominic’s Church\, Macau
CATEGORIES:2017,Concert,Free,Macau,Music,Performing Arts
END:VEVENT
BEGIN:VEVENT
DTSTART;TZID=Asia/Hong_Kong:20170219T201500
DTEND;TZID=Asia/Hong_Kong:20170219T201500
DTSTAMP:20260424T235044
CREATED:19161011T001148Z
LAST-MODIFIED:20161011T001811Z
UID:10002170-1487535300-1487535300@www.bcmagazine.net
SUMMARY:Hins & Ivana
DESCRIPTION:The Magical Teeter Totter Hins & Ivana\nDate: 8:15pm\, 16-19 February\, 2017\nVenue: HK Coliseum\nTickets: $680\, $480\, $300 from Urbtix
URL:https://www.bcmagazine.net/event/hins-ivana-2017/2017-02-19/
LOCATION:HK Coliseum\, 9 Cheong Wan Road\, Hung Hom\, Hong Kong
CATEGORIES:2017,Concert,Music
GEO:22.3014169;114.1820305
X-APPLE-STRUCTURED-LOCATION;VALUE=URI;X-ADDRESS=HK Coliseum 9 Cheong Wan Road Hung Hom Hong Kong;X-APPLE-RADIUS=500;X-TITLE=9 Cheong Wan Road:geo:114.1820305,22.3014169
END:VEVENT
BEGIN:VEVENT
DTSTART;TZID=Asia/Hong_Kong:20170221T190000
DTEND;TZID=Asia/Hong_Kong:20170221T190000
DTSTAMP:20260424T235044
CREATED:19170117T224248Z
LAST-MODIFIED:20170117T232310Z
UID:10001066-1487703600-1487703600@www.bcmagazine.net
SUMMARY:Dance like a Man
DESCRIPTION:Dance like a Man\nMahesh Dattani\, India by the Bay 2017\nDate: 7pm\, 21 February\, 2017\nVenue: Asia Society Hong Kong Center\nTickets: $300\, $200
URL:https://www.bcmagazine.net/event/dance-like-a-man-2017/
LOCATION:Asia Society Hong Kong Center\, 9 Justice Drive\, Admiralty\, Hong Kong
CATEGORIES:2017,Performing Arts
END:VEVENT
BEGIN:VEVENT
DTSTART;TZID=Asia/Hong_Kong:20170222T150000
DTEND;TZID=Asia/Hong_Kong:20170222T150000
DTSTAMP:20260424T235044
CREATED:19170117T232618Z
LAST-MODIFIED:20170118T022855Z
UID:10002429-1487775600-1487775600@www.bcmagazine.net
SUMMARY:Laila Tyabji
DESCRIPTION:Textile Talk by Laila Tyabji\nIndia by the Bay 2017\nDate: 3pm\, 22 February\, 2017\nVenue: Asia Society Hong Kong Center\nTickets: $250
URL:https://www.bcmagazine.net/event/laila-tyabji-2017/
LOCATION:Asia Society Hong Kong Center\, 9 Justice Drive\, Admiralty\, Hong Kong
CATEGORIES:2017,Other,Performing Arts
END:VEVENT
BEGIN:VEVENT
DTSTART;TZID=Asia/Hong_Kong:20170222T183000
DTEND;TZID=Asia/Hong_Kong:20170222T183000
DTSTAMP:20260424T235044
CREATED:19170117T233140Z
LAST-MODIFIED:20170117T233530Z
UID:10002432-1487788200-1487788200@www.bcmagazine.net
SUMMARY:Gilles Chuyen
DESCRIPTION:Bollywood Dance Workshop by Gilles Chuyen\nIndia by the Bay 2017\nDate: 6:30pm\, 22 February\, 2017\nVenue: Ovolo Southside Hotel\nTickets: $200
URL:https://www.bcmagazine.net/event/gilles-chuyen-2017/
LOCATION:Ovolo Southside Hotel\, 64 Wong Chuk Hang Road\, Hong Kong
CATEGORIES:2017,Workshop
GEO:22.249579;114.1690321
X-APPLE-STRUCTURED-LOCATION;VALUE=URI;X-ADDRESS=Ovolo Southside Hotel 64 Wong Chuk Hang Road Hong Kong;X-APPLE-RADIUS=500;X-TITLE=64 Wong Chuk Hang Road:geo:114.1690321,22.249579
END:VEVENT
BEGIN:VEVENT
DTSTART;TZID=Asia/Hong_Kong:20170223T190000
DTEND;TZID=Asia/Hong_Kong:20170223T190000
DTSTAMP:20260424T235044
CREATED:19170117T232646Z
LAST-MODIFIED:20170117T232839Z
UID:10002430-1487876400-1487876400@www.bcmagazine.net
SUMMARY:Lakshminarayana Subramaniam
DESCRIPTION:Lakshminarayana Subramaniam\nIndia by the Bay 2017\nDate: 7pm\, 23 February\, 2017\nVenue: Asia Society Hong Kong Center\nTickets: $350
URL:https://www.bcmagazine.net/event/lakshminarayana-subramaniam/
LOCATION:Asia Society Hong Kong Center\, 9 Justice Drive\, Admiralty\, Hong Kong
CATEGORIES:2017,Concert,Music
END:VEVENT
BEGIN:VEVENT
DTSTART;TZID=Asia/Hong_Kong:20170223T200000
DTEND;TZID=Asia/Hong_Kong:20170223T200000
DTSTAMP:20260424T235044
CREATED:19161023T081932Z
LAST-MODIFIED:20161023T092614Z
UID:10000914-1487880000-1487880000@www.bcmagazine.net
SUMMARY:James Taylor
DESCRIPTION:James Taylor\nDate: 8pm\, 23 February\, 2017\nVenue: HKCEC\, Hall 5BC\nTickets: $1088\, $888\, $688\, $488 from HKTicketing
URL:https://www.bcmagazine.net/event/james-taylor-2017/
LOCATION:HK Convention and Exhibition Centre\, 1 Expo Drive\, Wanchai\, Hong Kong
CATEGORIES:2017,Concert,Music
END:VEVENT
BEGIN:VEVENT
DTSTART;TZID=Asia/Hong_Kong:20170223T200000
DTEND;TZID=Asia/Hong_Kong:20170223T200000
DTSTAMP:20260424T235044
CREATED:20161228T041929Z
LAST-MODIFIED:20161228T041929Z
UID:10006357-1487880000-1487880000@www.bcmagazine.net
SUMMARY:Eddie Izzard
DESCRIPTION:Eddie Izzard\nDate: 23 February\, 2017\nVenue: AC Baptist Hall\nTickets: $988\, $788\, $688\, $588\, $488 from HKTicketing
URL:https://www.bcmagazine.net/event/eddie-izzard/
LOCATION:HKBU Academic Community Hall\, 224 Waterloo Road\, Kowloon Tong\, Hong Kong
CATEGORIES:2017,Comedy,Performing Arts
GEO:22.340854;114.1799456
X-APPLE-STRUCTURED-LOCATION;VALUE=URI;X-ADDRESS=HKBU Academic Community Hall 224 Waterloo Road Kowloon Tong Hong Kong;X-APPLE-RADIUS=500;X-TITLE=224 Waterloo Road:geo:114.1799456,22.340854
END:VEVENT
END:VCALENDAR