BEGIN:VCALENDAR
VERSION:2.0
PRODID:-//bc magazine - ECPv6.15.20//NONSGML v1.0//EN
CALSCALE:GREGORIAN
METHOD:PUBLISH
X-WR-CALNAME:bc magazine
X-ORIGINAL-URL:https://www.bcmagazine.net
X-WR-CALDESC:Events for bc magazine
REFRESH-INTERVAL;VALUE=DURATION:PT1H
X-Robots-Tag:noindex
X-PUBLISHED-TTL:PT1H
BEGIN:VTIMEZONE
TZID:Asia/Hong_Kong
BEGIN:STANDARD
TZOFFSETFROM:+0800
TZOFFSETTO:+0800
TZNAME:HKT
DTSTART:20160101T000000
END:STANDARD
END:VTIMEZONE
BEGIN:VEVENT
DTSTART;VALUE=DATE:20170407
DTEND;VALUE=DATE:20170424
DTSTAMP:20260424T181141
CREATED:19170320T170022Z
LAST-MODIFIED:20220927T124431Z
UID:10002505-1491523200-1492991999@www.bcmagazine.net
SUMMARY:Bibap
DESCRIPTION:Bibap\nDate: 7-23 April\, 2017\nVenue: The Parisian Theatre\nTickets: $480\, $280\, $180 from HKTicketing
URL:https://www.bcmagazine.net/event/bibap-macau-2017/
LOCATION:The Parisian Theatre\, The Parisian Macao\, Macau
CATEGORIES:2017,Macau,Performing Arts,Theatre
GEO:22.1905958;113.5518856
X-APPLE-STRUCTURED-LOCATION;VALUE=URI;X-ADDRESS=The Parisian Theatre The Parisian Macao Macau;X-APPLE-RADIUS=500;X-TITLE=The Parisian Macao:geo:113.5518856,22.1905958
END:VEVENT
BEGIN:VEVENT
DTSTART;VALUE=DATE:20170412
DTEND;VALUE=DATE:20170417
DTSTAMP:20260424T181141
CREATED:19161016T074702Z
LAST-MODIFIED:20161016T080449Z
UID:10002270-1491955200-1492387199@www.bcmagazine.net
SUMMARY:UCI Track Cycling World Championships
DESCRIPTION:The UCI Track Cycling World Championships features the various disciplines and distances in track cycling. This is just the second time in track cycling’s history that Asia has hosted the event following Maebashi\, Japan in 1990. \n\n\nWednesday\, 12 April 2017\nSession 1- 15:00\nW- Team Pursuit- Qualifying\nM- Team Pursuit- Qualifying\nEstimated finish time- 17:35 \nSession 2- Starts 19:00 (Opening ceremony 18:40)\nW- Team Sprint- Qualifying\, 1st round\, Finals & Ceremony *\nM- Team Sprint- Qualifying\, 1st round\, Finals & Ceremony *\nW- Scratch- Final & Ceremony\nM- Team Pursuit- 1st round\nEstimated finish time- 21:30 \nThursday\, 13 April 2017\nSession 3- Starts 15:00\nW- Sprint- Qualifying\, 1/16 & 1/8\nM- Keirin- 1st round & Repechages\nEstimated finish time- 17:15 \nSession 4- Starts 19:00\nW- Team Pursuit- 1st round\, Finals & Ceremony\nW- Sprint- 1/4\nM- Keirin- 2nd round\, Finals & Ceremony\nM- Team Pursuit- Final & Ceremony\nM- Scratch- Final & Ceremony\nEstimated finish time- 21:50 \nFriday\, 14 April 2017\nSession 5- Starts 13:30\nM- Sprint- Qualifying\, 1/16 & 1/8\nW- Omnium- 1/2\nM- Individual Pursuit- Qualifying\nEstimated finish time- 17:00 \nSession 6- Starts 19:00\nM- Points Race- Final & Ceremony\nW- Sprint- Semi-Finals\, 3-4 Places\, Finals & Ceremony\nW- Omnium- 2/2 & Ceremony\nM- Individual Pursuit- 3-4 Places\, Finals & Ceremony\nEstimated finish time- 22:10 \nSaturday\, 15 April 2017\nSession 7- Starts 12:30\nW- 500m TT- Qualifying *\nM- Sprint- Quarter-Finals\nM- Omnium- 1/2\nW- Individual Pursuit- Qualifying\nEstimated finish time- 15:20 \nSession 8- Starts 19:00\nW- 500m TT- Final & Ceremony\nM- Omnium- 2/2 & Ceremony\nM- Sprint- Semi-Finals\, 3-4 Places\, Finals & Ceremony\nW- Madison- Final & Ceremony *\nW- Individual Pursuit- 3-4 Places\, Finals & Ceremony\nEstimated finish time- 22:25 \nSunday\, 16 April 2017\nSession 9- Starts 10:00\nW- Keirin- 1st round & Repechages\nM- Kilo TT- Qualifying *\nEstimated finish time- 11:10 \nSession 10- Starts 14:00\nW- Keirin- 2nd round\, 7-12 Places\, Final & Ceremony\nW- Points Race- Final & Ceremony\nM- Kilo TT- Final & Ceremony\nM- Madison- Final & Ceremony\nEstimated finish time- 17:00 \nUCI Track Cycling World Championships\nDate: 12-16 April\, 2017\nVenue: HK Veledrome\nTickets: $400\, $300\, $270\, $200\, $160\, $120 from Ticketflap
URL:https://www.bcmagazine.net/event/uci-track-cycling-world-championships-2017/
LOCATION:Hong Kong
CATEGORIES:2017,Cycling,Sport
END:VEVENT
BEGIN:VEVENT
DTSTART;TZID=Asia/Hong_Kong:20170416T160000
DTEND;TZID=Asia/Hong_Kong:20170416T200000
DTSTAMP:20260424T181141
CREATED:20170412T014227Z
LAST-MODIFIED:20170412T015734Z
UID:10006389-1492358400-1492372800@www.bcmagazine.net
SUMMARY:Da Bang
DESCRIPTION:Da Bang HK Tour 2017\nDate: 4pm\, 16 April\, 2017\nVenue: Central Harbourfront\nTickets: $3\,999\, $2\,999\, $1\,499\, $1\,199\, $999\, $799\, $499
URL:https://www.bcmagazine.net/event/da-bang-tour-2017/
LOCATION:Central Harbourfront\,  9 Lung Wo Road\, Central\, Hong Kong
CATEGORIES:2017,Concert,Music
GEO:22.2826223;114.164346
X-APPLE-STRUCTURED-LOCATION;VALUE=URI;X-ADDRESS=Central Harbourfront  9 Lung Wo Road Central Hong Kong;X-APPLE-RADIUS=500;X-TITLE=9 Lung Wo Road:geo:114.164346,22.2826223
END:VEVENT
BEGIN:VEVENT
DTSTART;TZID=Asia/Hong_Kong:20170416T190000
DTEND;TZID=Asia/Hong_Kong:20170416T190000
DTSTAMP:20260424T181141
CREATED:19170320T160817Z
LAST-MODIFIED:20170320T161043Z
UID:10001118-1492369200-1492369200@www.bcmagazine.net
SUMMARY:Songs of Yesteryear
DESCRIPTION:Songs of Yesteryear\nDate: 2pm\, 7pm\, 16 April\, 2017\nVenue: Kitec\, Star Hall\nTickets: $480\, $380\, $280 from HKTicketing
URL:https://www.bcmagazine.net/event/songs-of-yesteryear-2017/
LOCATION:KITEC\, Star Hall\, KITEC\, 1 Trademart Drive\, Kowloon Bay\, Hong Kong
CATEGORIES:2017,Concert,Music
GEO:22.3239575;114.2037608
X-APPLE-STRUCTURED-LOCATION;VALUE=URI;X-ADDRESS=KITEC Star Hall KITEC 1 Trademart Drive Kowloon Bay Hong Kong;X-APPLE-RADIUS=500;X-TITLE=KITEC\, 1 Trademart Drive:geo:114.2037608,22.3239575
END:VEVENT
BEGIN:VEVENT
DTSTART;TZID=Asia/Hong_Kong:20170416T201500
DTEND;TZID=Asia/Hong_Kong:20170416T201500
DTSTAMP:20260424T181141
CREATED:20230114T114741Z
LAST-MODIFIED:20230114T114741Z
UID:10002344-1492373700-1492373700@www.bcmagazine.net
SUMMARY:The Storm Show
DESCRIPTION:The Storm Show\nWhen: 8:15pm\, 6-9\, 15-16 April\, 2017\nWhere: HK Coliseum\nHow much: $980\, $550\, $350 from URBTIX
URL:https://www.bcmagazine.net/event/the-storm-show-2017/2017-04-16/
LOCATION:HK Coliseum\, 9 Cheong Wan Road\, Hung Hom\, Hong Kong
CATEGORIES:2017,Music,Musical,Performing Arts
GEO:22.3014169;114.1820305
X-APPLE-STRUCTURED-LOCATION;VALUE=URI;X-ADDRESS=HK Coliseum 9 Cheong Wan Road Hung Hom Hong Kong;X-APPLE-RADIUS=500;X-TITLE=9 Cheong Wan Road:geo:114.1820305,22.3014169
END:VEVENT
BEGIN:VEVENT
DTSTART;TZID=Asia/Hong_Kong:20170417T200000
DTEND;TZID=Asia/Hong_Kong:20170417T200000
DTSTAMP:20260424T181141
CREATED:20170320T153210Z
LAST-MODIFIED:20170412T031533Z
UID:10006386-1492459200-1492459200@www.bcmagazine.net
SUMMARY:Colbie Caillat - CANCELLED
DESCRIPTION:Colbie Caillat\nDate: 8pm\, 17 April\, 2017\nVenue: Kitec\, Star Hall\nTickets: $880\, $680\, $480 from HKTicketing
URL:https://www.bcmagazine.net/event/colbie-caillat-2017/
LOCATION:KITEC\, Star Hall\, KITEC\, 1 Trademart Drive\, Kowloon Bay\, Hong Kong
CATEGORIES:2017,Concert,Music
GEO:22.3239575;114.2037608
X-APPLE-STRUCTURED-LOCATION;VALUE=URI;X-ADDRESS=KITEC Star Hall KITEC 1 Trademart Drive Kowloon Bay Hong Kong;X-APPLE-RADIUS=500;X-TITLE=KITEC\, 1 Trademart Drive:geo:114.2037608,22.3239575
END:VEVENT
BEGIN:VEVENT
DTSTART;TZID=Asia/Hong_Kong:20170418T193000
DTEND;TZID=Asia/Hong_Kong:20170418T193000
DTSTAMP:20260424T181142
CREATED:19170320T160528Z
LAST-MODIFIED:20170320T160758Z
UID:10001117-1492543800-1492543800@www.bcmagazine.net
SUMMARY:I-1 World MuayThai Grand Extreme 2017
DESCRIPTION:I-1 World MuayThai Grand Extreme 2017\nDate: 7:30pm\, 18 April\, 2017\nVenue: Kitec\, Star Hall\nTickets: $1\,000\, $600\, $300\, $200 from HKTicketing
URL:https://www.bcmagazine.net/event/i-1-world-muaythai-grand-extreme-2017/
LOCATION:KITEC\, Star Hall\, KITEC\, 1 Trademart Drive\, Kowloon Bay\, Hong Kong
CATEGORIES:2017,Muay Thai,Sport
GEO:22.3239575;114.2037608
X-APPLE-STRUCTURED-LOCATION;VALUE=URI;X-ADDRESS=KITEC Star Hall KITEC 1 Trademart Drive Kowloon Bay Hong Kong;X-APPLE-RADIUS=500;X-TITLE=KITEC\, 1 Trademart Drive:geo:114.2037608,22.3239575
END:VEVENT
BEGIN:VEVENT
DTSTART;VALUE=DATE:20170419
DTEND;VALUE=DATE:20170423
DTSTAMP:20260424T181142
CREATED:19170306T085942Z
LAST-MODIFIED:20220927T034954Z
UID:10002474-1492560000-1492905599@www.bcmagazine.net
SUMMARY:The Oedipus Project
DESCRIPTION:The Oedipus Project\nTheatre du Pif\nDate: 19-22 April\, 2017\nVenue: Unit 12\, Cattle Depot Artist Village\nTickets: $220
URL:https://www.bcmagazine.net/event/the-oedipus-project-2017/
LOCATION:Cattle Depot Artist Village\, 63 Ma Tau Kok Road\, Ma Tau Kok\, Hong Kong
CATEGORIES:2017,Performing Arts,Theatre
GEO:22.3214467;114.1909173
X-APPLE-STRUCTURED-LOCATION;VALUE=URI;X-ADDRESS=Cattle Depot Artist Village 63 Ma Tau Kok Road Ma Tau Kok Hong Kong;X-APPLE-RADIUS=500;X-TITLE=63 Ma Tau Kok Road:geo:114.1909173,22.3214467
END:VEVENT
BEGIN:VEVENT
DTSTART;TZID=Asia/Hong_Kong:20170420T080000
DTEND;TZID=Asia/Hong_Kong:20170420T170000
DTSTAMP:20260424T181142
CREATED:19170420T044420Z
LAST-MODIFIED:20170420T044605Z
UID:10002528-1492675200-1492707600@www.bcmagazine.net
SUMMARY:Lala Hsu
DESCRIPTION:Lala Hsu\nDate: 8:15pm\, 3 June\, 2017\nVenue: HK Coliseum\nTickets: $780\, $580\, $380 from Urbtix
URL:https://www.bcmagazine.net/event/lala-hsu-2017/
LOCATION:HK Coliseum\, 9 Cheong Wan Road\, Hung Hom\, Hong Kong
CATEGORIES:2017,Concert,Music
GEO:22.3014169;114.1820305
X-APPLE-STRUCTURED-LOCATION;VALUE=URI;X-ADDRESS=HK Coliseum 9 Cheong Wan Road Hung Hom Hong Kong;X-APPLE-RADIUS=500;X-TITLE=9 Cheong Wan Road:geo:114.1820305,22.3014169
END:VEVENT
BEGIN:VEVENT
DTSTART;VALUE=DATE:20170421
DTEND;VALUE=DATE:20170423
DTSTAMP:20260424T181142
CREATED:19170306T082207Z
LAST-MODIFIED:20220926T193239Z
UID:10002473-1492732800-1492905599@www.bcmagazine.net
SUMMARY:King Lear
DESCRIPTION:King Lear\nDate: 21-22 April\, 2017\nVenue: Youth Square\, Y Studio\nTickets: $220 from Urbtix
URL:https://www.bcmagazine.net/event/king-lear-faust-2017/
LOCATION:Youth Square\, Y Studio\, 238 Chai Wan Road\, Chaiwan\, Hong Kong
CATEGORIES:2017,Performing Arts,Theatre
GEO:22.26301;114.2366034
X-APPLE-STRUCTURED-LOCATION;VALUE=URI;X-ADDRESS=Youth Square Y Studio 238 Chai Wan Road Chaiwan Hong Kong;X-APPLE-RADIUS=500;X-TITLE=238 Chai Wan Road:geo:114.2366034,22.26301
END:VEVENT
BEGIN:VEVENT
DTSTART;TZID=Asia/Hong_Kong:20170421T200000
DTEND;TZID=Asia/Hong_Kong:20170421T200000
DTSTAMP:20260424T181142
CREATED:19170420T030043Z
LAST-MODIFIED:20170420T030311Z
UID:10001132-1492804800-1492804800@www.bcmagazine.net
SUMMARY:Dreamtale
DESCRIPTION:Dreamtale\nSupport: Synergy HK\, Cursed Eyes\nDate: 8pm\, 21 April\, 2017\nVenue: MOM Livehouse\nTickets: $400\, $330
URL:https://www.bcmagazine.net/event/dreamtale-2017/
LOCATION:MOM Livehouse\, B39 Seven Seas Shopping Centre\, 117-121 Kings Road\, North Point\, Hong Kong
CATEGORIES:2017,Concert,Music
GEO:22.2884683;114.192803
X-APPLE-STRUCTURED-LOCATION;VALUE=URI;X-ADDRESS=MOM Livehouse B39 Seven Seas Shopping Centre 117-121 Kings Road North Point Hong Kong;X-APPLE-RADIUS=500;X-TITLE=B39 Seven Seas Shopping Centre\, 117-121 Kings Road:geo:114.192803,22.2884683
END:VEVENT
BEGIN:VEVENT
DTSTART;VALUE=DATE:20170422
DTEND;VALUE=DATE:20170423
DTSTAMP:20260424T181142
CREATED:19161019T113015Z
LAST-MODIFIED:20161019T113622Z
UID:10002283-1492819200-1492905599@www.bcmagazine.net
SUMMARY:HK Rugby League 9s
DESCRIPTION:HK Rugby League 9s\nDate: 22 April\, 2017\nVenue: Kings Park\nTickets: Free
URL:https://www.bcmagazine.net/event/hk-rugby-league-9s-2017/
LOCATION:King’s Park Sports Ground\, 11 Wylie Path\, Ho Man Tin\, Jordan\, Hong Kong
CATEGORIES:2017,Rugby League,Sport
END:VEVENT
BEGIN:VEVENT
DTSTART;TZID=Asia/Hong_Kong:20170422T200000
DTEND;TZID=Asia/Hong_Kong:20170422T200000
DTSTAMP:20260424T181142
CREATED:19170420T025358Z
LAST-MODIFIED:20170420T025928Z
UID:10001130-1492891200-1492891200@www.bcmagazine.net
SUMMARY:WuTiaoRen
DESCRIPTION:WuTiaoRen – Dreamy Lisa Salon\nDate: 8pm\, 22 April\, 2017\nVenue: MOM Livehouse\nTickets: $520\, $250\, $220 from Ticketflap
URL:https://www.bcmagazine.net/event/wutiaoren-2017/
LOCATION:MOM Livehouse\, B39 Seven Seas Shopping Centre\, 117-121 Kings Road\, North Point\, Hong Kong
CATEGORIES:2017,Concert,Music
GEO:22.2884683;114.192803
X-APPLE-STRUCTURED-LOCATION;VALUE=URI;X-ADDRESS=MOM Livehouse B39 Seven Seas Shopping Centre 117-121 Kings Road North Point Hong Kong;X-APPLE-RADIUS=500;X-TITLE=B39 Seven Seas Shopping Centre\, 117-121 Kings Road:geo:114.192803,22.2884683
END:VEVENT
BEGIN:VEVENT
DTSTART;TZID=Asia/Hong_Kong:20170426T200000
DTEND;TZID=Asia/Hong_Kong:20170426T200000
DTSTAMP:20260424T181142
CREATED:19170422T022702Z
LAST-MODIFIED:20170422T023118Z
UID:10002583-1493236800-1493236800@www.bcmagazine.net
SUMMARY:Amiina
DESCRIPTION:Amiina – Fantômas – Live in Hong Kong 2017\nDate: 8pm\, 26 April\, 2017\nVenue: Hidden Agenda\nTickets: $380 (Door)\, $280 (Advance)
URL:https://www.bcmagazine.net/event/amiina-2017/
LOCATION:Hidden Agenda (Livehouse)\, 80 Hung To Road\, Kwun Tong\, Hong Kong
CATEGORIES:2017,Concert,Music,Performing Arts
GEO:22.308171;114.223939
X-APPLE-STRUCTURED-LOCATION;VALUE=URI;X-ADDRESS=Hidden Agenda (Livehouse) 80 Hung To Road Kwun Tong Hong Kong;X-APPLE-RADIUS=500;X-TITLE=80 Hung To Road:geo:114.223939,22.308171
END:VEVENT
BEGIN:VEVENT
DTSTART;TZID=Asia/Hong_Kong:20170427T200000
DTEND;TZID=Asia/Hong_Kong:20170427T200000
DTSTAMP:20260424T181142
CREATED:19170320T162653Z
LAST-MODIFIED:20170320T162910Z
UID:10002475-1493323200-1493323200@www.bcmagazine.net
SUMMARY:So Ji Sub
DESCRIPTION:So Ji Sub\nDate: 8pm\, 27 April\, 2017\nVenue: Kitec\, Rotunda 3\nTickets: $1\,280\, $780 from Cityline
URL:https://www.bcmagazine.net/event/so-ji-sub-2017/
LOCATION:KITEC\, Rotunda 3\, 1 Trademart Drive\, Kowloon Bay\, Hong Kong
CATEGORIES:2017,Concert,Music
GEO:22.3239575;114.2037608
X-APPLE-STRUCTURED-LOCATION;VALUE=URI;X-ADDRESS=KITEC Rotunda 3 1 Trademart Drive Kowloon Bay Hong Kong;X-APPLE-RADIUS=500;X-TITLE=1 Trademart Drive:geo:114.2037608,22.3239575
END:VEVENT
BEGIN:VEVENT
DTSTART;TZID=Asia/Hong_Kong:20170428T190000
DTEND;TZID=Asia/Hong_Kong:20170428T190000
DTSTAMP:20260424T181142
CREATED:19170420T041909Z
LAST-MODIFIED:20170420T042410Z
UID:10002518-1493406000-1493406000@www.bcmagazine.net
SUMMARY:Guo Gan Jazz Band
DESCRIPTION:Guo Gan Jazz Band\nDate: 7pm\, 28 April\, 2017\nVenue: HMV Kafe\nTickets: $700 from Cityline
URL:https://www.bcmagazine.net/event/guo-gan-jazz-band-2017/
END:VEVENT
BEGIN:VEVENT
DTSTART;TZID=Asia/Hong_Kong:20170428T200000
DTEND;TZID=Asia/Hong_Kong:20170428T200000
DTSTAMP:20260424T181142
CREATED:19170415T023851Z
LAST-MODIFIED:20171128T032751Z
UID:10002515-1493409600-1493409600@www.bcmagazine.net
SUMMARY:Thriller Live
DESCRIPTION:Thriller Live\nDate: 28 April – 3 September\, 2017\nVenue: The Parisian Theatre\nTickets: $480\, $280\, $180 from HKTicketing\nMore info:\nTues-Fri: 8pm\nSat: 2pm & 8pm\nSun: 2pm & 6pm
URL:https://www.bcmagazine.net/event/thriller-live-macau-2017/
LOCATION:The Parisian Theatre\, The Parisian Macao\, Macau
CATEGORIES:2017,Macau,Musical,Performing Arts
GEO:22.1905958;113.5518856
X-APPLE-STRUCTURED-LOCATION;VALUE=URI;X-ADDRESS=The Parisian Theatre The Parisian Macao Macau;X-APPLE-RADIUS=500;X-TITLE=The Parisian Macao:geo:113.5518856,22.1905958
END:VEVENT
BEGIN:VEVENT
DTSTART;TZID=Asia/Hong_Kong:20170428T200000
DTEND;TZID=Asia/Hong_Kong:20170428T200000
DTSTAMP:20260424T181142
CREATED:20170318T000010Z
LAST-MODIFIED:20170320T160429Z
UID:10006383-1493409600-1493409600@www.bcmagazine.net
SUMMARY:Cheer Chen
DESCRIPTION:Cheer Chen 陳綺貞\nDate: 8pm\, 28-30 April\, 2017\nVenue: Kitec\, Star Hall\nTickets: $780\, $580\, $380 from HKTicketing
URL:https://www.bcmagazine.net/event/cheer-chen-2017/2017-04-28/
LOCATION:KITEC\, Star Hall\, KITEC\, 1 Trademart Drive\, Kowloon Bay\, Hong Kong
CATEGORIES:2017,Concert,Music
GEO:22.3239575;114.2037608
X-APPLE-STRUCTURED-LOCATION;VALUE=URI;X-ADDRESS=KITEC Star Hall KITEC 1 Trademart Drive Kowloon Bay Hong Kong;X-APPLE-RADIUS=500;X-TITLE=KITEC\, 1 Trademart Drive:geo:114.2037608,22.3239575
END:VEVENT
BEGIN:VEVENT
DTSTART;TZID=Asia/Hong_Kong:20170428T201500
DTEND;TZID=Asia/Hong_Kong:20170428T201500
DTSTAMP:20260424T181142
CREATED:19170210T100839Z
LAST-MODIFIED:20170210T101547Z
UID:10002446-1493410500-1493410500@www.bcmagazine.net
SUMMARY:Pakho
DESCRIPTION:Pakho – One Step Closer\nDate: 8:15pm\, 28-30 April\, 2017\nVenue: HK Coliseum\nTickets: $780\, $480\, $300 from Urbtix
URL:https://www.bcmagazine.net/event/pakho-2017/2017-04-28/
LOCATION:HK Coliseum\, 9 Cheong Wan Road\, Hung Hom\, Hong Kong
CATEGORIES:2017,Concert,Music
GEO:22.3014169;114.1820305
X-APPLE-STRUCTURED-LOCATION;VALUE=URI;X-ADDRESS=HK Coliseum 9 Cheong Wan Road Hung Hom Hong Kong;X-APPLE-RADIUS=500;X-TITLE=9 Cheong Wan Road:geo:114.1820305,22.3014169
END:VEVENT
BEGIN:VEVENT
DTSTART;VALUE=DATE:20170429
DTEND;VALUE=DATE:20170501
DTSTAMP:20260424T181142
CREATED:20170424T123830Z
LAST-MODIFIED:20170425T045147Z
UID:10006392-1493424000-1493596799@www.bcmagazine.net
SUMMARY:Lan Kwai Fong Street Food Festival 2017
DESCRIPTION:Spicy delights at this year’s LKF Street Food Festival with over 60 booths offering a wide range of spicy food and drinks. \nLan Kwai Fong Street Food Festival 2017 – Spice Market\nDate: 29-30 April\, 2017\nVenue: Lan Kwai Fong\nTickets: Free\nMore info:\n29 April – 1pm – 12am\n30 April – 1pm – 10pm
URL:https://www.bcmagazine.net/event/lan-kwai-fong-street-food-festival-2017/
LOCATION:Lan Kwai Fong\, Lan Kwai Fong\, Central\, Hong Kong
CATEGORIES:2017,Food,Free
GEO:22.2806468;114.1555095
X-APPLE-STRUCTURED-LOCATION;VALUE=URI;X-ADDRESS=Lan Kwai Fong Lan Kwai Fong Central Hong Kong;X-APPLE-RADIUS=500;X-TITLE=Lan Kwai Fong:geo:114.1555095,22.2806468
END:VEVENT
BEGIN:VEVENT
DTSTART;TZID=Asia/Hong_Kong:20170429T140000
DTEND;TZID=Asia/Hong_Kong:20170429T230000
DTSTAMP:20260424T181142
CREATED:19170420T030758Z
LAST-MODIFIED:20170420T031227Z
UID:10001133-1493474400-1493506800@www.bcmagazine.net
SUMMARY:Papay Gyro Nights
DESCRIPTION:Papay Gyro Nights\nDate: 2-11pm\, 29 April\, 2017\nVenue: Videotage\nTickets: $200
URL:https://www.bcmagazine.net/event/papay-gyro-nights-2017/
LOCATION:Videotage\, Unit 13\, Cattle Depot Artist Village\, 63 Ma Tau Kok\, To Kwa Wan\, Hong Kong
CATEGORIES:2017,Art Gallery,Exhibition,Performing Arts
GEO:22.320838;114.191563
X-APPLE-STRUCTURED-LOCATION;VALUE=URI;X-ADDRESS=Videotage Unit 13 Cattle Depot Artist Village 63 Ma Tau Kok To Kwa Wan Hong Kong;X-APPLE-RADIUS=500;X-TITLE=Unit 13\, Cattle Depot Artist Village\, 63 Ma Tau Kok:geo:114.191563,22.320838
END:VEVENT
BEGIN:VEVENT
DTSTART;TZID=Asia/Hong_Kong:20170429T153000
DTEND;TZID=Asia/Hong_Kong:20170429T153000
DTSTAMP:20260424T181142
CREATED:19170421T030220Z
LAST-MODIFIED:20170422T174818Z
UID:10002556-1493479800-1493479800@www.bcmagazine.net
SUMMARY:Beauty and the Beast
DESCRIPTION:Beauty and the Beast\nDate: 3:30pm\, 29 April -1 May\, 2017\nVenue: Youth Square\, Y Theatre\nTickets: $250\, $200 from Urbtix
URL:https://www.bcmagazine.net/event/beauty-and-the-beast-2017/2017-04-29/
LOCATION:Youth Square\, Y Theatre\, 238 Chai Wan Road\, Chai Wan\, Hong Kong
CATEGORIES:2017,Dance,Music,Performing Arts
GEO:22.26301;114.2366034
X-APPLE-STRUCTURED-LOCATION;VALUE=URI;X-ADDRESS=Youth Square Y Theatre 238 Chai Wan Road Chai Wan Hong Kong;X-APPLE-RADIUS=500;X-TITLE=238 Chai Wan Road:geo:114.2366034,22.26301
END:VEVENT
BEGIN:VEVENT
DTSTART;TZID=Asia/Hong_Kong:20170429T200000
DTEND;TZID=Asia/Hong_Kong:20170429T200000
DTSTAMP:20260424T181142
CREATED:19170422T133500Z
LAST-MODIFIED:20170422T133933Z
UID:10002587-1493496000-1493496000@www.bcmagazine.net
SUMMARY:Gary Chaw A____Friend
DESCRIPTION:Gary Chaw A____Friend\nDate: 8pm\, 29 April\, 2017\nVenue: Venetian Theatre\nTickets: $580 from HKTicketing
URL:https://www.bcmagazine.net/event/gary-chaw-a____friend-macau-2017/
LOCATION:The Venetian Theatre\, Venetian Macao\, Taipa\, Macau
CATEGORIES:2017,Concert,Macau,Music
GEO:22.1483528;113.5602019
X-APPLE-STRUCTURED-LOCATION;VALUE=URI;X-ADDRESS=The Venetian Theatre Venetian Macao Taipa Macau;X-APPLE-RADIUS=500;X-TITLE=Venetian Macao:geo:113.5602019,22.1483528
END:VEVENT
BEGIN:VEVENT
DTSTART;TZID=Asia/Hong_Kong:20170429T200000
DTEND;TZID=Asia/Hong_Kong:20170429T200000
DTSTAMP:20260424T181142
CREATED:20170318T000010Z
LAST-MODIFIED:20170320T160429Z
UID:10006384-1493496000-1493496000@www.bcmagazine.net
SUMMARY:Cheer Chen
DESCRIPTION:Cheer Chen 陳綺貞\nDate: 8pm\, 28-30 April\, 2017\nVenue: Kitec\, Star Hall\nTickets: $780\, $580\, $380 from HKTicketing
URL:https://www.bcmagazine.net/event/cheer-chen-2017/2017-04-29/
LOCATION:KITEC\, Star Hall\, KITEC\, 1 Trademart Drive\, Kowloon Bay\, Hong Kong
CATEGORIES:2017,Concert,Music
GEO:22.3239575;114.2037608
X-APPLE-STRUCTURED-LOCATION;VALUE=URI;X-ADDRESS=KITEC Star Hall KITEC 1 Trademart Drive Kowloon Bay Hong Kong;X-APPLE-RADIUS=500;X-TITLE=KITEC\, 1 Trademart Drive:geo:114.2037608,22.3239575
END:VEVENT
BEGIN:VEVENT
DTSTART;TZID=Asia/Hong_Kong:20170429T201500
DTEND;TZID=Asia/Hong_Kong:20170429T201500
DTSTAMP:20260424T181142
CREATED:19170210T100839Z
LAST-MODIFIED:20170210T101547Z
UID:10002447-1493496900-1493496900@www.bcmagazine.net
SUMMARY:Pakho
DESCRIPTION:Pakho – One Step Closer\nDate: 8:15pm\, 28-30 April\, 2017\nVenue: HK Coliseum\nTickets: $780\, $480\, $300 from Urbtix
URL:https://www.bcmagazine.net/event/pakho-2017/2017-04-29/
LOCATION:HK Coliseum\, 9 Cheong Wan Road\, Hung Hom\, Hong Kong
CATEGORIES:2017,Concert,Music
GEO:22.3014169;114.1820305
X-APPLE-STRUCTURED-LOCATION;VALUE=URI;X-ADDRESS=HK Coliseum 9 Cheong Wan Road Hung Hom Hong Kong;X-APPLE-RADIUS=500;X-TITLE=9 Cheong Wan Road:geo:114.1820305,22.3014169
END:VEVENT
BEGIN:VEVENT
DTSTART;TZID=Asia/Hong_Kong:20170430T153000
DTEND;TZID=Asia/Hong_Kong:20170430T153000
DTSTAMP:20260424T181142
CREATED:19170421T030220Z
LAST-MODIFIED:20170422T174818Z
UID:10002557-1493566200-1493566200@www.bcmagazine.net
SUMMARY:Beauty and the Beast
DESCRIPTION:Beauty and the Beast\nDate: 3:30pm\, 29 April -1 May\, 2017\nVenue: Youth Square\, Y Theatre\nTickets: $250\, $200 from Urbtix
URL:https://www.bcmagazine.net/event/beauty-and-the-beast-2017/2017-04-30/
LOCATION:Youth Square\, Y Theatre\, 238 Chai Wan Road\, Chai Wan\, Hong Kong
CATEGORIES:2017,Dance,Music,Performing Arts
GEO:22.26301;114.2366034
X-APPLE-STRUCTURED-LOCATION;VALUE=URI;X-ADDRESS=Youth Square Y Theatre 238 Chai Wan Road Chai Wan Hong Kong;X-APPLE-RADIUS=500;X-TITLE=238 Chai Wan Road:geo:114.2366034,22.26301
END:VEVENT
BEGIN:VEVENT
DTSTART;TZID=Asia/Hong_Kong:20170430T170000
DTEND;TZID=Asia/Hong_Kong:20170430T170000
DTSTAMP:20260424T181142
CREATED:19170422T132420Z
LAST-MODIFIED:20221004T233953Z
UID:10001186-1493571600-1493571600@www.bcmagazine.net
SUMMARY:Peter and the Wolf
DESCRIPTION:Peter and the Wolf\nMy Orchestra Society\nDate: 30 April\, 2017\nVenue: HK Cultural Centre\, Concert Hall\nTickets: $350\, $250\, $150 from Urbtix
URL:https://www.bcmagazine.net/event/peter-and-the-wolf-my-orchestra-society-2017/
LOCATION:HK Cultural Centre\, Concert Hall\, 10 Salisbury Road\, Tsim Sha Tsui\, Hong Kong
CATEGORIES:2017,Concert,Music,Performing Arts
GEO:22.294318;114.171708
X-APPLE-STRUCTURED-LOCATION;VALUE=URI;X-ADDRESS=HK Cultural Centre Concert Hall 10 Salisbury Road Tsim Sha Tsui Hong Kong;X-APPLE-RADIUS=500;X-TITLE=10 Salisbury Road:geo:114.171708,22.294318
END:VEVENT
BEGIN:VEVENT
DTSTART;TZID=Asia/Hong_Kong:20170430T200000
DTEND;TZID=Asia/Hong_Kong:20170430T200000
DTSTAMP:20260424T181142
CREATED:19170314T064050Z
LAST-MODIFIED:20170314T064216Z
UID:10001107-1493582400-1493582400@www.bcmagazine.net
SUMMARY:Da Zhang Wei
DESCRIPTION:Da Zhang Wei\nDate: 8pm\, 30 April\, 2017\nVenue: Cotai Arena\nTickets: $1\,280\, $980\, $680\, $480\, $280 from HKTicketing
URL:https://www.bcmagazine.net/event/da-zhang-wei-macau-2017/
LOCATION:CotaiArena\, Venetian Macao\, Taipa\, Macau
CATEGORIES:2017,Concert,Macau,Music
GEO:22.1483528;113.5602019
X-APPLE-STRUCTURED-LOCATION;VALUE=URI;X-ADDRESS=CotaiArena Venetian Macao Taipa Macau;X-APPLE-RADIUS=500;X-TITLE=Venetian Macao:geo:113.5602019,22.1483528
END:VEVENT
BEGIN:VEVENT
DTSTART;TZID=Asia/Hong_Kong:20170430T200000
DTEND;TZID=Asia/Hong_Kong:20170430T200000
DTSTAMP:20260424T181142
CREATED:20170318T000010Z
LAST-MODIFIED:20170320T160429Z
UID:10006385-1493582400-1493582400@www.bcmagazine.net
SUMMARY:Cheer Chen
DESCRIPTION:Cheer Chen 陳綺貞\nDate: 8pm\, 28-30 April\, 2017\nVenue: Kitec\, Star Hall\nTickets: $780\, $580\, $380 from HKTicketing
URL:https://www.bcmagazine.net/event/cheer-chen-2017/2017-04-30/
LOCATION:KITEC\, Star Hall\, KITEC\, 1 Trademart Drive\, Kowloon Bay\, Hong Kong
CATEGORIES:2017,Concert,Music
GEO:22.3239575;114.2037608
X-APPLE-STRUCTURED-LOCATION;VALUE=URI;X-ADDRESS=KITEC Star Hall KITEC 1 Trademart Drive Kowloon Bay Hong Kong;X-APPLE-RADIUS=500;X-TITLE=KITEC\, 1 Trademart Drive:geo:114.2037608,22.3239575
END:VEVENT
BEGIN:VEVENT
DTSTART;TZID=Asia/Hong_Kong:20170430T201500
DTEND;TZID=Asia/Hong_Kong:20170430T201500
DTSTAMP:20260424T181142
CREATED:19170210T100839Z
LAST-MODIFIED:20170210T101547Z
UID:10002448-1493583300-1493583300@www.bcmagazine.net
SUMMARY:Pakho
DESCRIPTION:Pakho – One Step Closer\nDate: 8:15pm\, 28-30 April\, 2017\nVenue: HK Coliseum\nTickets: $780\, $480\, $300 from Urbtix
URL:https://www.bcmagazine.net/event/pakho-2017/2017-04-30/
LOCATION:HK Coliseum\, 9 Cheong Wan Road\, Hung Hom\, Hong Kong
CATEGORIES:2017,Concert,Music
GEO:22.3014169;114.1820305
X-APPLE-STRUCTURED-LOCATION;VALUE=URI;X-ADDRESS=HK Coliseum 9 Cheong Wan Road Hung Hom Hong Kong;X-APPLE-RADIUS=500;X-TITLE=9 Cheong Wan Road:geo:114.1820305,22.3014169
END:VEVENT
END:VCALENDAR