BEGIN:VCALENDAR
VERSION:2.0
PRODID:-//bc magazine - ECPv6.15.20//NONSGML v1.0//EN
CALSCALE:GREGORIAN
METHOD:PUBLISH
X-WR-CALNAME:bc magazine
X-ORIGINAL-URL:https://www.bcmagazine.net
X-WR-CALDESC:Events for bc magazine
REFRESH-INTERVAL;VALUE=DURATION:PT1H
X-Robots-Tag:noindex
X-PUBLISHED-TTL:PT1H
BEGIN:VTIMEZONE
TZID:Asia/Hong_Kong
BEGIN:STANDARD
TZOFFSETFROM:+0800
TZOFFSETTO:+0800
TZNAME:HKT
DTSTART:20160101T000000
END:STANDARD
END:VTIMEZONE
BEGIN:VEVENT
DTSTART;VALUE=DATE:20170602
DTEND;VALUE=DATE:20170605
DTSTAMP:20260424T234751
CREATED:19170530T034649Z
LAST-MODIFIED:20170530T035037Z
UID:10002762-1496361600-1496620799@www.bcmagazine.net
SUMMARY:Hong Kong International Dragon Boat Races
DESCRIPTION:Hong Kong International Dragon Boat Races\nDate: 2-4 June\, 2017\nVenue: Central Harbourfront\nTickets: Free
URL:https://www.bcmagazine.net/event/hong-kong-international-dragon-boat-races-2017/
LOCATION:Central Harbourfront\,  9 Lung Wo Road\, Central\, Hong Kong
CATEGORIES:2017,Cultural Festival,Free,Sport
GEO:22.2826223;114.164346
X-APPLE-STRUCTURED-LOCATION;VALUE=URI;X-ADDRESS=Central Harbourfront  9 Lung Wo Road Central Hong Kong;X-APPLE-RADIUS=500;X-TITLE=9 Lung Wo Road:geo:114.164346,22.2826223
END:VEVENT
BEGIN:VEVENT
DTSTART;VALUE=DATE:20170603
DTEND;VALUE=DATE:20170605
DTSTAMP:20260424T234751
CREATED:19170421T035345Z
LAST-MODIFIED:20221003T122304Z
UID:10001170-1496448000-1496620799@www.bcmagazine.net
SUMMARY:Giselle
DESCRIPTION:Giselle\nThe National Ballet of China\nDate: 3-4 June\, 2017\nVenue: HK Cultural Centre\, Grand Theatre\nTickets: $680\, $580\, $480\, $380\, $280\, $180 from Urbtix
URL:https://www.bcmagazine.net/event/giselle-the-national-ballet-of-china-2017/
LOCATION:HK Cultural Centre\, Grand Theatre\,\, 10 Salisbury Road\, Tsim Sha Tsui\, Hong Kong
CATEGORIES:2017,Ballet,Dance,Performing Arts
GEO:22.294318;114.171708
X-APPLE-STRUCTURED-LOCATION;VALUE=URI;X-ADDRESS=HK Cultural Centre Grand Theatre 10 Salisbury Road Tsim Sha Tsui Hong Kong;X-APPLE-RADIUS=500;X-TITLE=10 Salisbury Road:geo:114.171708,22.294318
END:VEVENT
BEGIN:VEVENT
DTSTART;TZID=Asia/Hong_Kong:20170603T144500
DTEND;TZID=Asia/Hong_Kong:20170603T144500
DTSTAMP:20260424T234751
CREATED:20230114T134421Z
LAST-MODIFIED:20230114T134421Z
UID:10002669-1496501100-1496501100@www.bcmagazine.net
SUMMARY:Forever Silence
DESCRIPTION:Forever Silence\nHong Kong Repertory Theatre\nDate: 20 May – 4 June\, 2017\nVenue: HK City Hall\, Theatre\nTickets: $360\, $280\, $200 from Urbtix\nMore info:\nDrama in Cantonese with Chinese and English surtitles\n20\, 23–26\, 27\, 30–31 May\, 1-3 June – 7:45pm\n21\, 27-28 May\, 3-4 June – 2:45pm
URL:https://www.bcmagazine.net/event/forever-silence-hkrep-2017/2017-06-03/
LOCATION:HK City Hall\, Theatre\, 5 Edinburgh Place\, Central\, Hong Kong
CATEGORIES:2017,Performing Arts,Theatre
GEO:22.2822646;114.1615275
X-APPLE-STRUCTURED-LOCATION;VALUE=URI;X-ADDRESS=HK City Hall Theatre 5 Edinburgh Place Central Hong Kong;X-APPLE-RADIUS=500;X-TITLE=5 Edinburgh Place:geo:114.1615275,22.2822646
END:VEVENT
BEGIN:VEVENT
DTSTART;TZID=Asia/Hong_Kong:20170603T160000
DTEND;TZID=Asia/Hong_Kong:20170603T170000
DTSTAMP:20260424T234751
CREATED:19170427T093827Z
LAST-MODIFIED:20180508T132420Z
UID:10002591-1496505600-1496509200@www.bcmagazine.net
SUMMARY:Hong Kong v South Korea
DESCRIPTION:Hong Kong v South Korea\nAsian Rugby Championship 2017\nDate: 4pm\, 3 June\, 2017\nVenue: HK Football Club\nTickets: Free
URL:https://www.bcmagazine.net/event/hong-kong-v-korea-arc-2017/
LOCATION:Hong Kong Football Club\, 3 Sports Road\, Causeway Bay\, Hong Kong
CATEGORIES:2017,Rugby,Sport
GEO:22.275374;114.1822239
X-APPLE-STRUCTURED-LOCATION;VALUE=URI;X-ADDRESS=Hong Kong Football Club 3 Sports Road Causeway Bay Hong Kong;X-APPLE-RADIUS=500;X-TITLE=3 Sports Road:geo:114.1822239,22.275374
END:VEVENT
BEGIN:VEVENT
DTSTART;TZID=Asia/Hong_Kong:20170603T191500
DTEND;TZID=Asia/Hong_Kong:20170603T191500
DTSTAMP:20260424T234751
CREATED:19170508T103714Z
LAST-MODIFIED:20170516T102935Z
UID:10001218-1496517300-1496517300@www.bcmagazine.net
SUMMARY:The Wizard of Oz
DESCRIPTION:The Wizard of Oz\nKids’ Gallery\nDate: 3-4 June\, 2017\nVenue: HKAPA\, Jockey Club Amphitheatre\nTickets: $420\, $360\, $280 from HKTicketing\nMore info:\n3- 4 June – 11am\, 3pm\, 7:15pm
URL:https://www.bcmagazine.net/event/the-wizard-of-oz-kids-gallery-2017/2017-06-03/
LOCATION:HKAPA: Jockey Club Amphitheatre\, 1 Gloucester Road\, Wanchai\, Hong Kong
CATEGORIES:2017,Musical,Performing Arts,Theatre
GEO:22.2801854;114.1695054
X-APPLE-STRUCTURED-LOCATION;VALUE=URI;X-ADDRESS=HKAPA: Jockey Club Amphitheatre 1 Gloucester Road Wanchai Hong Kong;X-APPLE-RADIUS=500;X-TITLE=1 Gloucester Road:geo:114.1695054,22.2801854
END:VEVENT
BEGIN:VEVENT
DTSTART;TZID=Asia/Hong_Kong:20170603T194500
DTEND;TZID=Asia/Hong_Kong:20170603T194500
DTSTAMP:20260424T234751
CREATED:19170520T100528Z
LAST-MODIFIED:20170520T102455Z
UID:10002665-1496519100-1496519100@www.bcmagazine.net
SUMMARY:Forever Silence
DESCRIPTION:Forever Silence\nHong Kong Repertory Theatre\nDate: 20 May – 4 June\, 2017\nVenue: HK City Hall\, Theatre\nTickets: $360\, $280\, $200 from Urbtix\nMore info:\nDrama in Cantonese with Chinese and English surtitles\n20\, 23–26\, 27\, 30–31 May\, 1-3 June – 7:45pm\n21\, 27-28 May\, 3-4 June – 2:45pm
URL:https://www.bcmagazine.net/event/forever-silence-hkrep-2017/2017-06-03/
LOCATION:HK City Hall\, Theatre\, 5 Edinburgh Place\, Central\, Hong Kong
CATEGORIES:2017,Performing Arts,Theatre
GEO:22.2822646;114.1615275
X-APPLE-STRUCTURED-LOCATION;VALUE=URI;X-ADDRESS=HK City Hall Theatre 5 Edinburgh Place Central Hong Kong;X-APPLE-RADIUS=500;X-TITLE=5 Edinburgh Place:geo:114.1615275,22.2822646
END:VEVENT
BEGIN:VEVENT
DTSTART;TZID=Asia/Hong_Kong:20170603T200000
DTEND;TZID=Asia/Hong_Kong:20170603T200000
DTSTAMP:20260424T234751
CREATED:19170421T030220Z
LAST-MODIFIED:20170422T170409Z
UID:10001158-1496520000-1496520000@www.bcmagazine.net
SUMMARY:Albert Au
DESCRIPTION:Albert Au Thanks! 40th Anniversary Concert\nDate: 8pm\, 1-4 June\, 2017\nVenue: QE Stadium\nTickets: $1\,000\, $680\, $480\, $380\, $180 from Urbtix
URL:https://www.bcmagazine.net/event/albert-au-2017/2017-06-03/
LOCATION:Queen Elizabeth Stadium\, 18 Oi Kwan Road\, Wanchai\, Hong Kong
CATEGORIES:2017,Concert,Music,Performing Arts
GEO:22.2751271;114.1789682
X-APPLE-STRUCTURED-LOCATION;VALUE=URI;X-ADDRESS=Queen Elizabeth Stadium 18 Oi Kwan Road Wanchai Hong Kong;X-APPLE-RADIUS=500;X-TITLE=18 Oi Kwan Road:geo:114.1789682,22.2751271
END:VEVENT
BEGIN:VEVENT
DTSTART;TZID=Asia/Hong_Kong:20170603T200000
DTEND;TZID=Asia/Hong_Kong:20170603T200000
DTSTAMP:20260424T234751
CREATED:19170503T075608Z
LAST-MODIFIED:20170503T081245Z
UID:10002592-1496520000-1496520000@www.bcmagazine.net
SUMMARY:Joyce Jonathan
DESCRIPTION:Joyce Jonathan\nDate: 8pm\, 3 June\, 2017\nVenue: Music Zone@E-Max\,\nTickets: $480\, $380 (Advance) from Ticketflap
URL:https://www.bcmagazine.net/event/joyce-jonathan-2017/
LOCATION:KITEC\, Music Zone@E-Max\, KITEC\,‎ 1 Trademart Drive\, Kowloon Bay\, Hong Kong
CATEGORIES:2017,Concert,Music
GEO:22.3239575;114.2037608
X-APPLE-STRUCTURED-LOCATION;VALUE=URI;X-ADDRESS=KITEC Music Zone@E-Max KITEC‎ 1 Trademart Drive Kowloon Bay Hong Kong;X-APPLE-RADIUS=500;X-TITLE=KITEC\,‎ 1 Trademart Drive:geo:114.2037608,22.3239575
END:VEVENT
BEGIN:VEVENT
DTSTART;TZID=Asia/Hong_Kong:20170603T200000
DTEND;TZID=Asia/Hong_Kong:20170603T200000
DTSTAMP:20260424T234751
CREATED:19170508T093526Z
LAST-MODIFIED:20170516T052531Z
UID:10001212-1496520000-1496520000@www.bcmagazine.net
SUMMARY:Smash "Homage to Modern Classics"
DESCRIPTION:Smash “Homage to Modern Classics”\nDate: 8pm\, 3 June\, 2017\nVenue: HKBU\, AC Hall\nTickets: $380\, $280\, $180 from Cityline
URL:https://www.bcmagazine.net/event/smash-homage-to-modern-classics-2017/
LOCATION:HKBU Academic Community Hall\, 224 Waterloo Road\, Kowloon Tong\, Hong Kong
CATEGORIES:2017,Concert,Music,Performing Arts
GEO:22.340854;114.1799456
X-APPLE-STRUCTURED-LOCATION;VALUE=URI;X-ADDRESS=HKBU Academic Community Hall 224 Waterloo Road Kowloon Tong Hong Kong;X-APPLE-RADIUS=500;X-TITLE=224 Waterloo Road:geo:114.1799456,22.340854
END:VEVENT
BEGIN:VEVENT
DTSTART;TZID=Asia/Hong_Kong:20170603T200000
DTEND;TZID=Asia/Hong_Kong:20170603T200000
DTSTAMP:20260424T234751
CREATED:19170508T093526Z
LAST-MODIFIED:20170516T051810Z
UID:10001213-1496520000-1496520000@www.bcmagazine.net
SUMMARY:The Red Shoe Show 2017
DESCRIPTION:The Red Shoe Show 2017\nDate: 7:30pm\, 17-18 June\, 2017\nVenue: HK Polytechnic University\nTickets: $250\, $200 from Cityline
URL:https://www.bcmagazine.net/event/the-red-shoe-show-2017/
LOCATION:HKBU Academic Community Hall\, 224 Waterloo Road\, Kowloon Tong\, Hong Kong
CATEGORIES:2017,Concert,Music,Performing Arts
GEO:22.340854;114.1799456
X-APPLE-STRUCTURED-LOCATION;VALUE=URI;X-ADDRESS=HKBU Academic Community Hall 224 Waterloo Road Kowloon Tong Hong Kong;X-APPLE-RADIUS=500;X-TITLE=224 Waterloo Road:geo:114.1799456,22.340854
END:VEVENT
BEGIN:VEVENT
DTSTART;TZID=Asia/Hong_Kong:20170603T200000
DTEND;TZID=Asia/Hong_Kong:20170603T200000
DTSTAMP:20260424T234751
CREATED:20170105T030924Z
LAST-MODIFIED:20170105T031526Z
UID:10006360-1496520000-1496520000@www.bcmagazine.net
SUMMARY:Sting
DESCRIPTION:Sting – 57th & 9th Tour\nDate: 8pm\, 3 June\, 2017\nVenues: HKCEC\, Hall 5BC\nTickets: $1\,280\, $1\,088\, $788\, $588 from HKTicketing
URL:https://www.bcmagazine.net/event/sting-2017/
LOCATION:HK Convention and Exhibition Centre\, 1 Expo Drive\, Wanchai\, Hong Kong
CATEGORIES:2017,Concert,Music
END:VEVENT
BEGIN:VEVENT
DTSTART;TZID=Asia/Hong_Kong:20170603T201500
DTEND;TZID=Asia/Hong_Kong:20170603T201500
DTSTAMP:20260424T234751
CREATED:19170505T081942Z
LAST-MODIFIED:20170516T044709Z
UID:10002610-1496520900-1496520900@www.bcmagazine.net
SUMMARY:Lala Hsu
DESCRIPTION:Lala Hsu\nDate: 8pm\, 3 June\, 2017\nVenue: HK Coliseum\nTickets: $780\, $580\, $380 from Urbtix
URL:https://www.bcmagazine.net/event/lala-hsu-2017-2/
LOCATION:HK Coliseum\, 9 Cheong Wan Road\, Hung Hom\, Hong Kong
CATEGORIES:2017,Concert,Music,Performing Arts
GEO:22.3014169;114.1820305
X-APPLE-STRUCTURED-LOCATION;VALUE=URI;X-ADDRESS=HK Coliseum 9 Cheong Wan Road Hung Hom Hong Kong;X-APPLE-RADIUS=500;X-TITLE=9 Cheong Wan Road:geo:114.1820305,22.3014169
END:VEVENT
BEGIN:VEVENT
DTSTART;TZID=Asia/Hong_Kong:20170604T144500
DTEND;TZID=Asia/Hong_Kong:20170604T144500
DTSTAMP:20260424T234751
CREATED:20230114T134421Z
LAST-MODIFIED:20230114T134421Z
UID:10002670-1496587500-1496587500@www.bcmagazine.net
SUMMARY:Forever Silence
DESCRIPTION:Forever Silence\nHong Kong Repertory Theatre\nDate: 20 May – 4 June\, 2017\nVenue: HK City Hall\, Theatre\nTickets: $360\, $280\, $200 from Urbtix\nMore info:\nDrama in Cantonese with Chinese and English surtitles\n20\, 23–26\, 27\, 30–31 May\, 1-3 June – 7:45pm\n21\, 27-28 May\, 3-4 June – 2:45pm
URL:https://www.bcmagazine.net/event/forever-silence-hkrep-2017/2017-06-04/
LOCATION:HK City Hall\, Theatre\, 5 Edinburgh Place\, Central\, Hong Kong
CATEGORIES:2017,Performing Arts,Theatre
GEO:22.2822646;114.1615275
X-APPLE-STRUCTURED-LOCATION;VALUE=URI;X-ADDRESS=HK City Hall Theatre 5 Edinburgh Place Central Hong Kong;X-APPLE-RADIUS=500;X-TITLE=5 Edinburgh Place:geo:114.1615275,22.2822646
END:VEVENT
BEGIN:VEVENT
DTSTART;TZID=Asia/Hong_Kong:20170604T191500
DTEND;TZID=Asia/Hong_Kong:20170604T191500
DTSTAMP:20260424T234751
CREATED:19170508T103714Z
LAST-MODIFIED:20170516T102935Z
UID:10001219-1496603700-1496603700@www.bcmagazine.net
SUMMARY:The Wizard of Oz
DESCRIPTION:The Wizard of Oz\nKids’ Gallery\nDate: 3-4 June\, 2017\nVenue: HKAPA\, Jockey Club Amphitheatre\nTickets: $420\, $360\, $280 from HKTicketing\nMore info:\n3- 4 June – 11am\, 3pm\, 7:15pm
URL:https://www.bcmagazine.net/event/the-wizard-of-oz-kids-gallery-2017/2017-06-04/
LOCATION:HKAPA: Jockey Club Amphitheatre\, 1 Gloucester Road\, Wanchai\, Hong Kong
CATEGORIES:2017,Musical,Performing Arts,Theatre
GEO:22.2801854;114.1695054
X-APPLE-STRUCTURED-LOCATION;VALUE=URI;X-ADDRESS=HKAPA: Jockey Club Amphitheatre 1 Gloucester Road Wanchai Hong Kong;X-APPLE-RADIUS=500;X-TITLE=1 Gloucester Road:geo:114.1695054,22.2801854
END:VEVENT
BEGIN:VEVENT
DTSTART;TZID=Asia/Hong_Kong:20170604T194500
DTEND;TZID=Asia/Hong_Kong:20170604T194500
DTSTAMP:20260424T234751
CREATED:19160909T015349Z
LAST-MODIFIED:20160909T020238Z
UID:10002084-1496605500-1496605500@www.bcmagazine.net
SUMMARY:Poetry OutLoud
DESCRIPTION:On the first Wednesday of every month\, Poetry OutLoud present a mixed bag of original poetry\, classics\, lesser-known works and music. The format generally consists of a number of featured readers\, plus an open mike section in which audience-members are welcomed and encouraged to read. \nPoetry OutLoud\nDate: 1st Wednesday of the month\nVenue: Fringe Club\, Colette’s\nTickets: Free\nMore info: www.facebook.com/PoetryOutLoudHK
URL:https://www.bcmagazine.net/event/poetry-outloud-2017/2017-06-04/
LOCATION:Fringe Club\, Colette’s\, 2 Lower Albert Road\, Central\, Hong Kong
CATEGORIES:2017,Free,Other,Performing Arts,Poetry
GEO:22.2803491;114.156067
X-APPLE-STRUCTURED-LOCATION;VALUE=URI;X-ADDRESS=Fringe Club Colette’s 2 Lower Albert Road Central Hong Kong;X-APPLE-RADIUS=500;X-TITLE=2 Lower Albert Road:geo:114.156067,22.2803491
END:VEVENT
BEGIN:VEVENT
DTSTART;TZID=Asia/Hong_Kong:20170604T200000
DTEND;TZID=Asia/Hong_Kong:20170604T200000
DTSTAMP:20260424T234751
CREATED:19170421T030220Z
LAST-MODIFIED:20170422T170409Z
UID:10001159-1496606400-1496606400@www.bcmagazine.net
SUMMARY:Albert Au
DESCRIPTION:Albert Au Thanks! 40th Anniversary Concert\nDate: 8pm\, 1-4 June\, 2017\nVenue: QE Stadium\nTickets: $1\,000\, $680\, $480\, $380\, $180 from Urbtix
URL:https://www.bcmagazine.net/event/albert-au-2017/2017-06-04/
LOCATION:Queen Elizabeth Stadium\, 18 Oi Kwan Road\, Wanchai\, Hong Kong
CATEGORIES:2017,Concert,Music,Performing Arts
GEO:22.2751271;114.1789682
X-APPLE-STRUCTURED-LOCATION;VALUE=URI;X-ADDRESS=Queen Elizabeth Stadium 18 Oi Kwan Road Wanchai Hong Kong;X-APPLE-RADIUS=500;X-TITLE=18 Oi Kwan Road:geo:114.1789682,22.2751271
END:VEVENT
BEGIN:VEVENT
DTSTART;TZID=Asia/Hong_Kong:20170605T200000
DTEND;TZID=Asia/Hong_Kong:20170605T200000
DTSTAMP:20260424T234751
CREATED:19170422T130116Z
LAST-MODIFIED:20170422T130508Z
UID:10001177-1496692800-1496692800@www.bcmagazine.net
SUMMARY:Art and Culture Motivation
DESCRIPTION:Art And Culture Motivation\nDate: 8pm\, 5-6 June\, 2017\nVenue: HK Cultural Centre\, Concert Hall\nTickets: $680\, $480\, $280\, $130 from Urbtix
URL:https://www.bcmagazine.net/event/art-and-culture-motivation-06-2017/2017-06-05/
LOCATION:HK Cultural Centre\, Concert Hall\, 10 Salisbury Road\, Tsim Sha Tsui\, Hong Kong
CATEGORIES:2017,Concert,Music,Performing Arts
GEO:22.294318;114.171708
X-APPLE-STRUCTURED-LOCATION;VALUE=URI;X-ADDRESS=HK Cultural Centre Concert Hall 10 Salisbury Road Tsim Sha Tsui Hong Kong;X-APPLE-RADIUS=500;X-TITLE=10 Salisbury Road:geo:114.171708,22.294318
END:VEVENT
BEGIN:VEVENT
DTSTART;TZID=Asia/Hong_Kong:20170606T200000
DTEND;TZID=Asia/Hong_Kong:20170606T200000
DTSTAMP:20260424T234751
CREATED:19170422T130116Z
LAST-MODIFIED:20170422T130508Z
UID:10001178-1496779200-1496779200@www.bcmagazine.net
SUMMARY:Art and Culture Motivation
DESCRIPTION:Art And Culture Motivation\nDate: 8pm\, 5-6 June\, 2017\nVenue: HK Cultural Centre\, Concert Hall\nTickets: $680\, $480\, $280\, $130 from Urbtix
URL:https://www.bcmagazine.net/event/art-and-culture-motivation-06-2017/2017-06-06/
LOCATION:HK Cultural Centre\, Concert Hall\, 10 Salisbury Road\, Tsim Sha Tsui\, Hong Kong
CATEGORIES:2017,Concert,Music,Performing Arts
GEO:22.294318;114.171708
X-APPLE-STRUCTURED-LOCATION;VALUE=URI;X-ADDRESS=HK Cultural Centre Concert Hall 10 Salisbury Road Tsim Sha Tsui Hong Kong;X-APPLE-RADIUS=500;X-TITLE=10 Salisbury Road:geo:114.171708,22.294318
END:VEVENT
BEGIN:VEVENT
DTSTART;TZID=Asia/Hong_Kong:20170607T200000
DTEND;TZID=Asia/Hong_Kong:20170607T200000
DTSTAMP:20260424T234751
CREATED:19170530T034649Z
LAST-MODIFIED:20170530T041304Z
UID:10002763-1496865600-1496865600@www.bcmagazine.net
SUMMARY:Hong Kong v Japan
DESCRIPTION:Hong Kong v Japan\nDate: 8pm\, 7 June\, 2017\nVenue: Mongkok Stadium\nTickets: $150 from Cityline
URL:https://www.bcmagazine.net/event/hong-kong-v-japan-2017/
LOCATION:Mongkok Stadium\, 37 Flower Street\, Yau Ma Tai\, Prince Edward (Exit A)\, United States
CATEGORIES:2017,Football,Sport
END:VEVENT
BEGIN:VEVENT
DTSTART;TZID=Asia/Hong_Kong:20170607T230000
DTEND;TZID=Asia/Hong_Kong:20170607T230000
DTSTAMP:20260424T234751
CREATED:19170507T062450Z
LAST-MODIFIED:20170507T063251Z
UID:10002613-1496876400-1496876400@www.bcmagazine.net
SUMMARY:Nicky Romero
DESCRIPTION:Nicky Romero\nDate: 7 June\, 2017\nVenue: Zing\, 38 Yiu Wa Street\, Causeway Bay\nTickets: www.facebook.com/ZINGHongKong/
URL:https://www.bcmagazine.net/event/nicky-romero-zing-2017/
LOCATION:Zing\, 38 Yiu Wa Street\, Causeway Bay\, Causeway Bay\, Hong Kong
CATEGORIES:2017,DJ,Music,Nightlife
GEO:22.2772574;114.1814769
X-APPLE-STRUCTURED-LOCATION;VALUE=URI;X-ADDRESS=Zing 38 Yiu Wa Street Causeway Bay Causeway Bay Hong Kong;X-APPLE-RADIUS=500;X-TITLE=38 Yiu Wa Street\, Causeway Bay:geo:114.1814769,22.2772574
END:VEVENT
BEGIN:VEVENT
DTSTART;TZID=Asia/Hong_Kong:20170609T193000
DTEND;TZID=Asia/Hong_Kong:20170609T193000
DTSTAMP:20260424T234752
CREATED:19170505T081942Z
LAST-MODIFIED:20170516T024207Z
UID:10001203-1497036600-1497036600@www.bcmagazine.net
SUMMARY:Jason Kui
DESCRIPTION:Jason Kui < Absence of Words> featuring Anup Sastry & Chan Siu Kei\nDate: 7:30pm\, 9 June\, 2017\nVenue: Kitec Music Zone@E-Max\nTickets: $260\, $180
URL:https://www.bcmagazine.net/event/jason-kui-2017/
LOCATION:KITEC\, Music Zone@E-Max\, KITEC\,‎ 1 Trademart Drive\, Kowloon Bay\, Hong Kong
CATEGORIES:2017,Concert,Music
GEO:22.3239575;114.2037608
X-APPLE-STRUCTURED-LOCATION;VALUE=URI;X-ADDRESS=KITEC Music Zone@E-Max KITEC‎ 1 Trademart Drive Kowloon Bay Hong Kong;X-APPLE-RADIUS=500;X-TITLE=KITEC\,‎ 1 Trademart Drive:geo:114.2037608,22.3239575
END:VEVENT
BEGIN:VEVENT
DTSTART;TZID=Asia/Hong_Kong:20170609T194500
DTEND;TZID=Asia/Hong_Kong:20170609T194500
DTSTAMP:20260424T234752
CREATED:19170421T034737Z
LAST-MODIFIED:20220929T205752Z
UID:10002567-1497037500-1497037500@www.bcmagazine.net
SUMMARY:L'Amour Immortel
DESCRIPTION:L’Amour Immortel\nHong Kong Dance Company\nDate: 9-11 June\, 2017\nVenue: HK Cultural Centre\, Grand Theatre\nTickets: $330\, $260\, $200\, $140 from Urbtix\nMore info:\n9-11 June – 7:45pm\, $330\, $260\, $200\, $140\n10-11 June – 3pm\, $300\, $240\, $180\, $120
URL:https://www.bcmagazine.net/event/lamour-immortel-hk-dance-company-2017/
LOCATION:HK Cultural Centre\, Grand Theatre\,\, 10 Salisbury Road\, Tsim Sha Tsui\, Hong Kong
CATEGORIES:2017,Dance,Performing Arts
GEO:22.294318;114.171708
X-APPLE-STRUCTURED-LOCATION;VALUE=URI;X-ADDRESS=HK Cultural Centre Grand Theatre 10 Salisbury Road Tsim Sha Tsui Hong Kong;X-APPLE-RADIUS=500;X-TITLE=10 Salisbury Road:geo:114.171708,22.294318
END:VEVENT
BEGIN:VEVENT
DTSTART;TZID=Asia/Hong_Kong:20170609T200000
DTEND;TZID=Asia/Hong_Kong:20170609T200000
DTSTAMP:20260424T234752
CREATED:19170508T103714Z
LAST-MODIFIED:20170516T104529Z
UID:10001220-1497038400-1497038400@www.bcmagazine.net
SUMMARY:My Fair Lady
DESCRIPTION:My Fair Lady\nFace Productions\nDate: 9-11 June\, 2017\nVenue: HKAPA\, Drama Theatre\nTickets: $395\, $250 from HKTicketing\nMore info:\n9 Jun – 8pm\n10-11 Jun – 3pm\, 7:30pm
URL:https://www.bcmagazine.net/event/my-fair-lady-face-productions-2017/2017-06-09/
LOCATION:HKAPA: Drama Theatre\, 1 Gloucester Road\, Wanchai\, Hong Kong
CATEGORIES:2017,Musical,Performing Arts,Theatre
GEO:22.2801854;114.1695054
X-APPLE-STRUCTURED-LOCATION;VALUE=URI;X-ADDRESS=HKAPA: Drama Theatre 1 Gloucester Road Wanchai Hong Kong;X-APPLE-RADIUS=500;X-TITLE=1 Gloucester Road:geo:114.1695054,22.2801854
END:VEVENT
BEGIN:VEVENT
DTSTART;TZID=Asia/Hong_Kong:20170609T201500
DTEND;TZID=Asia/Hong_Kong:20170609T201500
DTSTAMP:20260424T234752
CREATED:19170420T043942Z
LAST-MODIFIED:20170420T044352Z
UID:10002526-1497039300-1497039300@www.bcmagazine.net
SUMMARY:Andrew Lam Man Chung
DESCRIPTION:Andrew Lam Man Chung\nDate: 8:15pm\, 9-10 June\, 2017\nVenue: HK Coliseum\nTickets: $680\, $480\, $280 from Urbtix
URL:https://www.bcmagazine.net/event/andrew-lam-man-chung-2017/2017-06-09/
LOCATION:HK Coliseum\, 9 Cheong Wan Road\, Hung Hom\, Hong Kong
CATEGORIES:2017,Concert,Music
GEO:22.3014169;114.1820305
X-APPLE-STRUCTURED-LOCATION;VALUE=URI;X-ADDRESS=HK Coliseum 9 Cheong Wan Road Hung Hom Hong Kong;X-APPLE-RADIUS=500;X-TITLE=9 Cheong Wan Road:geo:114.1820305,22.3014169
END:VEVENT
BEGIN:VEVENT
DTSTART;TZID=Asia/Hong_Kong:20170609T201500
DTEND;TZID=Asia/Hong_Kong:20170609T201500
DTSTAMP:20260424T234752
CREATED:19170503T075608Z
LAST-MODIFIED:20170503T083635Z
UID:10001189-1497039300-1497039300@www.bcmagazine.net
SUMMARY:RubberBand x Yellow!
DESCRIPTION:RubberBand\, Yellow!\nDate: 8:15pm\, 9 June\, 2017\nVenue: Star Hall\nTickets: $580\, $380 from HKTicketing
URL:https://www.bcmagazine.net/event/rubberband-yellow-2017/
LOCATION:KITEC\, Star Hall\, KITEC\, 1 Trademart Drive\, Kowloon Bay\, Hong Kong
CATEGORIES:2017,Concert,Music
GEO:22.3239575;114.2037608
X-APPLE-STRUCTURED-LOCATION;VALUE=URI;X-ADDRESS=KITEC Star Hall KITEC 1 Trademart Drive Kowloon Bay Hong Kong;X-APPLE-RADIUS=500;X-TITLE=KITEC\, 1 Trademart Drive:geo:114.2037608,22.3239575
END:VEVENT
BEGIN:VEVENT
DTSTART;TZID=Asia/Hong_Kong:20170609T210000
DTEND;TZID=Asia/Hong_Kong:20170609T210000
DTSTAMP:20260424T234752
CREATED:19170530T034649Z
LAST-MODIFIED:20170530T042035Z
UID:10002764-1497042000-1497042000@www.bcmagazine.net
SUMMARY:Lloyd Langford
DESCRIPTION:Lloyd Langford\nDate: 9pm\, 9-10 June\, 2017\nVenue: Tamarind Restaurant & Bar\nTickets: $290 from Cityline
URL:https://www.bcmagazine.net/event/lloyd-langford-2017/2017-06-09/
LOCATION:Tamarind Restaurant\, Hong Kong
CATEGORIES:2017,Comedy,Performing Arts
GEO:22.396428;114.109497
END:VEVENT
BEGIN:VEVENT
DTSTART;VALUE=DATE:20170610
DTEND;VALUE=DATE:20170611
DTSTAMP:20260424T234752
CREATED:19170505T081942Z
LAST-MODIFIED:20170516T025733Z
UID:10002601-1497052800-1497139199@www.bcmagazine.net
SUMMARY:Dragon Boat Carnival
DESCRIPTION:Dragon Boat Carnival\nDate: 2-4 June\, 2017\nVenue: Central Harbourfront\nTickets: Free
URL:https://www.bcmagazine.net/event/dragon-boat-carnival-2017/
LOCATION:Central Harbourfront\,  9 Lung Wo Road\, Central\, Hong Kong
CATEGORIES:2017,Cultural Festival,Free,Sport
GEO:22.2826223;114.164346
X-APPLE-STRUCTURED-LOCATION;VALUE=URI;X-ADDRESS=Central Harbourfront  9 Lung Wo Road Central Hong Kong;X-APPLE-RADIUS=500;X-TITLE=9 Lung Wo Road:geo:114.164346,22.2826223
END:VEVENT
BEGIN:VEVENT
DTSTART;TZID=Asia/Hong_Kong:20170610T150000
DTEND;TZID=Asia/Hong_Kong:20170610T150000
DTSTAMP:20260424T234752
CREATED:20230114T075908Z
LAST-MODIFIED:20230114T075908Z
UID:10001223-1497106800-1497106800@www.bcmagazine.net
SUMMARY:My Fair Lady
DESCRIPTION:My Fair Lady\nFace Productions\nDate: 9-11 June\, 2017\nVenue: HKAPA\, Drama Theatre\nTickets: $395\, $250 from HKTicketing\nMore info:\n9 Jun – 8pm\n10-11 Jun – 3pm\, 7:30pm
URL:https://www.bcmagazine.net/event/my-fair-lady-face-productions-2017/2017-06-10/
LOCATION:HKAPA: Drama Theatre\, 1 Gloucester Road\, Wanchai\, Hong Kong
CATEGORIES:2017,Musical,Performing Arts,Theatre
GEO:22.2801854;114.1695054
X-APPLE-STRUCTURED-LOCATION;VALUE=URI;X-ADDRESS=HKAPA: Drama Theatre 1 Gloucester Road Wanchai Hong Kong;X-APPLE-RADIUS=500;X-TITLE=1 Gloucester Road:geo:114.1695054,22.2801854
END:VEVENT
BEGIN:VEVENT
DTSTART;TZID=Asia/Hong_Kong:20170610T190000
DTEND;TZID=Asia/Hong_Kong:20170610T190000
DTSTAMP:20260424T234752
CREATED:19170520T053805Z
LAST-MODIFIED:20170520T064912Z
UID:10002630-1497121200-1497121200@www.bcmagazine.net
SUMMARY:Taeyeon
DESCRIPTION:Taeyeon\nDate: 10-11 June\, 2017\nVenue: AsiaWorld Expo\, Hall 10\nTickets: $1\,480\, $980\, $680 from HKTicketing
URL:https://www.bcmagazine.net/event/taeyeon-2017/2017-06-10/
LOCATION:AsiaWorld-Expo\, Hall 10\, Cheong Wing Road\, Chek Lap Kok\, Lantau\, Hong Kong
CATEGORIES:2017,Concert,Music,Performing Arts
GEO:22.3217383;113.9402012
X-APPLE-STRUCTURED-LOCATION;VALUE=URI;X-ADDRESS=AsiaWorld-Expo Hall 10 Cheong Wing Road Chek Lap Kok Lantau Hong Kong;X-APPLE-RADIUS=500;X-TITLE=Cheong Wing Road\, Chek Lap Kok:geo:113.9402012,22.3217383
END:VEVENT
BEGIN:VEVENT
DTSTART;TZID=Asia/Hong_Kong:20170610T193000
DTEND;TZID=Asia/Hong_Kong:20170610T193000
DTSTAMP:20260424T234752
CREATED:19170515T064143Z
LAST-MODIFIED:20170515T064638Z
UID:10002628-1497123000-1497123000@www.bcmagazine.net
SUMMARY:Young Masters Violin\, Cello and Piano Trio
DESCRIPTION:Young Masters Violin\, Cello and Piano Trio\nYezu Elizabeth Woo\, Carlos Avila\, Mihai Marica\nDate: 7:30pm\, 10 June\, 2017\nVenue: HK City Hall\, Theatre\nTickets: $220\, $180 from Urbtix
URL:https://www.bcmagazine.net/event/young-masters-violin-cello-and-piano-trio-2017/
LOCATION:HK City Hall\, Theatre\, 5 Edinburgh Place\, Central\, Hong Kong
CATEGORIES:2017,Concert,Music,Performing Arts
GEO:22.2822646;114.1615275
X-APPLE-STRUCTURED-LOCATION;VALUE=URI;X-ADDRESS=HK City Hall Theatre 5 Edinburgh Place Central Hong Kong;X-APPLE-RADIUS=500;X-TITLE=5 Edinburgh Place:geo:114.1615275,22.2822646
END:VEVENT
END:VCALENDAR