BEGIN:VCALENDAR
VERSION:2.0
PRODID:-//bc magazine - ECPv6.15.20//NONSGML v1.0//EN
CALSCALE:GREGORIAN
METHOD:PUBLISH
X-WR-CALNAME:bc magazine
X-ORIGINAL-URL:https://www.bcmagazine.net
X-WR-CALDESC:Events for bc magazine
REFRESH-INTERVAL;VALUE=DURATION:PT1H
X-Robots-Tag:noindex
X-PUBLISHED-TTL:PT1H
BEGIN:VTIMEZONE
TZID:Asia/Hong_Kong
BEGIN:STANDARD
TZOFFSETFROM:+0800
TZOFFSETTO:+0800
TZNAME:HKT
DTSTART:20160101T000000
END:STANDARD
END:VTIMEZONE
BEGIN:VEVENT
DTSTART;VALUE=DATE:20170610
DTEND;VALUE=DATE:20170611
DTSTAMP:20260424T184036
CREATED:19170505T081942Z
LAST-MODIFIED:20170516T025733Z
UID:10002601-1497052800-1497139199@www.bcmagazine.net
SUMMARY:Dragon Boat Carnival
DESCRIPTION:Dragon Boat Carnival\nDate: 2-4 June\, 2017\nVenue: Central Harbourfront\nTickets: Free
URL:https://www.bcmagazine.net/event/dragon-boat-carnival-2017/
LOCATION:Central Harbourfront\,  9 Lung Wo Road\, Central\, Hong Kong
CATEGORIES:2017,Cultural Festival,Free,Sport
GEO:22.2826223;114.164346
X-APPLE-STRUCTURED-LOCATION;VALUE=URI;X-ADDRESS=Central Harbourfront  9 Lung Wo Road Central Hong Kong;X-APPLE-RADIUS=500;X-TITLE=9 Lung Wo Road:geo:114.164346,22.2826223
END:VEVENT
BEGIN:VEVENT
DTSTART;TZID=Asia/Hong_Kong:20170610T150000
DTEND;TZID=Asia/Hong_Kong:20170610T150000
DTSTAMP:20260424T184036
CREATED:20230114T075908Z
LAST-MODIFIED:20230114T075908Z
UID:10001223-1497106800-1497106800@www.bcmagazine.net
SUMMARY:My Fair Lady
DESCRIPTION:My Fair Lady\nFace Productions\nDate: 9-11 June\, 2017\nVenue: HKAPA\, Drama Theatre\nTickets: $395\, $250 from HKTicketing\nMore info:\n9 Jun – 8pm\n10-11 Jun – 3pm\, 7:30pm
URL:https://www.bcmagazine.net/event/my-fair-lady-face-productions-2017/2017-06-10/
LOCATION:HKAPA: Drama Theatre\, 1 Gloucester Road\, Wanchai\, Hong Kong
CATEGORIES:2017,Musical,Performing Arts,Theatre
GEO:22.2801854;114.1695054
X-APPLE-STRUCTURED-LOCATION;VALUE=URI;X-ADDRESS=HKAPA: Drama Theatre 1 Gloucester Road Wanchai Hong Kong;X-APPLE-RADIUS=500;X-TITLE=1 Gloucester Road:geo:114.1695054,22.2801854
END:VEVENT
BEGIN:VEVENT
DTSTART;TZID=Asia/Hong_Kong:20170610T190000
DTEND;TZID=Asia/Hong_Kong:20170610T190000
DTSTAMP:20260424T184036
CREATED:19170520T053805Z
LAST-MODIFIED:20170520T064912Z
UID:10002630-1497121200-1497121200@www.bcmagazine.net
SUMMARY:Taeyeon
DESCRIPTION:Taeyeon\nDate: 10-11 June\, 2017\nVenue: AsiaWorld Expo\, Hall 10\nTickets: $1\,480\, $980\, $680 from HKTicketing
URL:https://www.bcmagazine.net/event/taeyeon-2017/2017-06-10/
LOCATION:AsiaWorld-Expo\, Hall 10\, Cheong Wing Road\, Chek Lap Kok\, Lantau\, Hong Kong
CATEGORIES:2017,Concert,Music,Performing Arts
GEO:22.3217383;113.9402012
X-APPLE-STRUCTURED-LOCATION;VALUE=URI;X-ADDRESS=AsiaWorld-Expo Hall 10 Cheong Wing Road Chek Lap Kok Lantau Hong Kong;X-APPLE-RADIUS=500;X-TITLE=Cheong Wing Road\, Chek Lap Kok:geo:113.9402012,22.3217383
END:VEVENT
BEGIN:VEVENT
DTSTART;TZID=Asia/Hong_Kong:20170610T193000
DTEND;TZID=Asia/Hong_Kong:20170610T193000
DTSTAMP:20260424T184036
CREATED:19170515T064143Z
LAST-MODIFIED:20170515T064638Z
UID:10002628-1497123000-1497123000@www.bcmagazine.net
SUMMARY:Young Masters Violin\, Cello and Piano Trio
DESCRIPTION:Young Masters Violin\, Cello and Piano Trio\nYezu Elizabeth Woo\, Carlos Avila\, Mihai Marica\nDate: 7:30pm\, 10 June\, 2017\nVenue: HK City Hall\, Theatre\nTickets: $220\, $180 from Urbtix
URL:https://www.bcmagazine.net/event/young-masters-violin-cello-and-piano-trio-2017/
LOCATION:HK City Hall\, Theatre\, 5 Edinburgh Place\, Central\, Hong Kong
CATEGORIES:2017,Concert,Music,Performing Arts
GEO:22.2822646;114.1615275
X-APPLE-STRUCTURED-LOCATION;VALUE=URI;X-ADDRESS=HK City Hall Theatre 5 Edinburgh Place Central Hong Kong;X-APPLE-RADIUS=500;X-TITLE=5 Edinburgh Place:geo:114.1615275,22.2822646
END:VEVENT
BEGIN:VEVENT
DTSTART;TZID=Asia/Hong_Kong:20170610T193000
DTEND;TZID=Asia/Hong_Kong:20170610T193000
DTSTAMP:20260424T184036
CREATED:19170909T031637Z
LAST-MODIFIED:20160909T032138Z
UID:10003454-1497123000-1497123000@www.bcmagazine.net
SUMMARY:Philosophy Cafe
DESCRIPTION:Philosophy Cafe\nDate: 7:30pm\, 2nd Tuesday of the month\nVenue: Fringe Club\, Colette’s\nTickets: free\nMore info:\nwww.facebook.com/HKPhilosophyCafe
URL:https://www.bcmagazine.net/event/philosophy-cafe-2017/2017-06-10/
LOCATION:Fringe Club\, Colette’s\, 2 Lower Albert Road\, Central\, Hong Kong
CATEGORIES:2017,Free,Other
GEO:22.2803491;114.156067
X-APPLE-STRUCTURED-LOCATION;VALUE=URI;X-ADDRESS=Fringe Club Colette’s 2 Lower Albert Road Central Hong Kong;X-APPLE-RADIUS=500;X-TITLE=2 Lower Albert Road:geo:114.156067,22.2803491
END:VEVENT
BEGIN:VEVENT
DTSTART;TZID=Asia/Hong_Kong:20170610T200000
DTEND;TZID=Asia/Hong_Kong:20170610T200000
DTSTAMP:20260424T184036
CREATED:19170421T043251Z
LAST-MODIFIED:20170421T051634Z
UID:10002575-1497124800-1497124800@www.bcmagazine.net
SUMMARY:I\, Wu Song - A One-man Chinese Opera
DESCRIPTION:Chinese opera has often been seen as an art form that tells historical tales\, and that of Wu Song’s is one of the classics. Yet in this new production by The Gong Strikes One\, Wu is no longer the protagonist\, nor does Chinese opera take up the task to tell his story. \nInstead\, Wu’s story is transformed into a medium for Chinese opera to explore itself as a theatrical form of body movements and musical gestures. All utterances have been removed and Wu now becomes no more than an anonymous man on stage\, called “I”. \nI\, Wu Song – A One-man Chinese Opera\nThe Gong Strikes One\nDate: 8pm\, 10-11 June\, 2017\nVenue: HK Cultural Centre\, Studio Theatre\nTickets: $180\, $160 from Urbtix
URL:https://www.bcmagazine.net/event/i-wu-song-a-one-man-chinese-opera-the-gong-strikes-one-2017/2017-06-10/
LOCATION:HK Cultural Centre\, Studio Theatre\, 10 Salisbury Road\, Tsim Sha Tsui\, Hong Kong
CATEGORIES:2017,Chinese opera,Music,Performing Arts
END:VEVENT
BEGIN:VEVENT
DTSTART;TZID=Asia/Hong_Kong:20170610T200000
DTEND;TZID=Asia/Hong_Kong:20170610T200000
DTSTAMP:20260424T184036
CREATED:19170505T081942Z
LAST-MODIFIED:20170516T025048Z
UID:10002600-1497124800-1497124800@www.bcmagazine.net
SUMMARY:Park Shin Hye
DESCRIPTION:Park Shin Hye – Flower of Angel Tour\nDate: 8pm\, 10 June\, 2017\nVenue: Kitec Rotunda 3\nTickets: $880\, $580 from Cityline
URL:https://www.bcmagazine.net/event/park-shin-hye-2017/
LOCATION:KITEC\, Rotunda 3\, 1 Trademart Drive\, Kowloon Bay\, Hong Kong
CATEGORIES:2017,Concert,Music
GEO:22.3239575;114.2037608
X-APPLE-STRUCTURED-LOCATION;VALUE=URI;X-ADDRESS=KITEC Rotunda 3 1 Trademart Drive Kowloon Bay Hong Kong;X-APPLE-RADIUS=500;X-TITLE=1 Trademart Drive:geo:114.2037608,22.3239575
END:VEVENT
BEGIN:VEVENT
DTSTART;TZID=Asia/Hong_Kong:20170610T200000
DTEND;TZID=Asia/Hong_Kong:20170610T200000
DTSTAMP:20260424T184036
CREATED:19170508T103714Z
LAST-MODIFIED:20170516T104529Z
UID:10001221-1497124800-1497124800@www.bcmagazine.net
SUMMARY:My Fair Lady
DESCRIPTION:My Fair Lady\nFace Productions\nDate: 9-11 June\, 2017\nVenue: HKAPA\, Drama Theatre\nTickets: $395\, $250 from HKTicketing\nMore info:\n9 Jun – 8pm\n10-11 Jun – 3pm\, 7:30pm
URL:https://www.bcmagazine.net/event/my-fair-lady-face-productions-2017/2017-06-10/
LOCATION:HKAPA: Drama Theatre\, 1 Gloucester Road\, Wanchai\, Hong Kong
CATEGORIES:2017,Musical,Performing Arts,Theatre
GEO:22.2801854;114.1695054
X-APPLE-STRUCTURED-LOCATION;VALUE=URI;X-ADDRESS=HKAPA: Drama Theatre 1 Gloucester Road Wanchai Hong Kong;X-APPLE-RADIUS=500;X-TITLE=1 Gloucester Road:geo:114.1695054,22.2801854
END:VEVENT
BEGIN:VEVENT
DTSTART;TZID=Asia/Hong_Kong:20170610T200000
DTEND;TZID=Asia/Hong_Kong:20170610T200000
DTSTAMP:20260424T184036
CREATED:19170508T103714Z
LAST-MODIFIED:20170508T105839Z
UID:10001217-1497124800-1497124800@www.bcmagazine.net
SUMMARY:Chyi Yu\, Michelle Pan\, Wan Fang and Shino Lin
DESCRIPTION:Chyi Yu\, Michelle Pan\, Wan Fang and Shino Lin\nDate: 8pm\, 10 June\, 2017\nVenue: CotaiArena\nTickets: $1\,280\, $880\, $680\, $380 from HKTicketing
URL:https://www.bcmagazine.net/event/power-woman-concert-macau-2017/
LOCATION:CotaiArena\, Venetian Macao\, Taipa\, Macau
CATEGORIES:2017,Concert,Macau,Music
GEO:22.1483528;113.5602019
X-APPLE-STRUCTURED-LOCATION;VALUE=URI;X-ADDRESS=CotaiArena Venetian Macao Taipa Macau;X-APPLE-RADIUS=500;X-TITLE=Venetian Macao:geo:113.5602019,22.1483528
END:VEVENT
BEGIN:VEVENT
DTSTART;TZID=Asia/Hong_Kong:20170610T201500
DTEND;TZID=Asia/Hong_Kong:20170610T201500
DTSTAMP:20260424T184036
CREATED:19170420T043942Z
LAST-MODIFIED:20170420T044352Z
UID:10002527-1497125700-1497125700@www.bcmagazine.net
SUMMARY:Andrew Lam Man Chung
DESCRIPTION:Andrew Lam Man Chung\nDate: 8:15pm\, 9-10 June\, 2017\nVenue: HK Coliseum\nTickets: $680\, $480\, $280 from Urbtix
URL:https://www.bcmagazine.net/event/andrew-lam-man-chung-2017/2017-06-10/
LOCATION:HK Coliseum\, 9 Cheong Wan Road\, Hung Hom\, Hong Kong
CATEGORIES:2017,Concert,Music
GEO:22.3014169;114.1820305
X-APPLE-STRUCTURED-LOCATION;VALUE=URI;X-ADDRESS=HK Coliseum 9 Cheong Wan Road Hung Hom Hong Kong;X-APPLE-RADIUS=500;X-TITLE=9 Cheong Wan Road:geo:114.1820305,22.3014169
END:VEVENT
BEGIN:VEVENT
DTSTART;TZID=Asia/Hong_Kong:20170610T210000
DTEND;TZID=Asia/Hong_Kong:20170610T210000
DTSTAMP:20260424T184036
CREATED:19170530T034649Z
LAST-MODIFIED:20170530T042035Z
UID:10002765-1497128400-1497128400@www.bcmagazine.net
SUMMARY:Lloyd Langford
DESCRIPTION:Lloyd Langford\nDate: 9pm\, 9-10 June\, 2017\nVenue: Tamarind Restaurant & Bar\nTickets: $290 from Cityline
URL:https://www.bcmagazine.net/event/lloyd-langford-2017/2017-06-10/
LOCATION:Tamarind Restaurant\, Hong Kong
CATEGORIES:2017,Comedy,Performing Arts
GEO:22.396428;114.109497
END:VEVENT
BEGIN:VEVENT
DTSTART;TZID=Asia/Hong_Kong:20170611T150000
DTEND;TZID=Asia/Hong_Kong:20170611T150000
DTSTAMP:20260424T184036
CREATED:20230114T075908Z
LAST-MODIFIED:20230114T075908Z
UID:10001224-1497193200-1497193200@www.bcmagazine.net
SUMMARY:My Fair Lady
DESCRIPTION:My Fair Lady\nFace Productions\nDate: 9-11 June\, 2017\nVenue: HKAPA\, Drama Theatre\nTickets: $395\, $250 from HKTicketing\nMore info:\n9 Jun – 8pm\n10-11 Jun – 3pm\, 7:30pm
URL:https://www.bcmagazine.net/event/my-fair-lady-face-productions-2017/2017-06-11/
LOCATION:HKAPA: Drama Theatre\, 1 Gloucester Road\, Wanchai\, Hong Kong
CATEGORIES:2017,Musical,Performing Arts,Theatre
GEO:22.2801854;114.1695054
X-APPLE-STRUCTURED-LOCATION;VALUE=URI;X-ADDRESS=HKAPA: Drama Theatre 1 Gloucester Road Wanchai Hong Kong;X-APPLE-RADIUS=500;X-TITLE=1 Gloucester Road:geo:114.1695054,22.2801854
END:VEVENT
BEGIN:VEVENT
DTSTART;TZID=Asia/Hong_Kong:20170611T170000
DTEND;TZID=Asia/Hong_Kong:20170611T170000
DTSTAMP:20260424T184036
CREATED:19170520T053805Z
LAST-MODIFIED:20170520T064912Z
UID:10002631-1497200400-1497200400@www.bcmagazine.net
SUMMARY:Taeyeon
DESCRIPTION:Taeyeon\nDate: 10-11 June\, 2017\nVenue: AsiaWorld Expo\, Hall 10\nTickets: $1\,480\, $980\, $680 from HKTicketing
URL:https://www.bcmagazine.net/event/taeyeon-2017/2017-06-11/
LOCATION:AsiaWorld-Expo\, Hall 10\, Cheong Wing Road\, Chek Lap Kok\, Lantau\, Hong Kong
CATEGORIES:2017,Concert,Music,Performing Arts
GEO:22.3217383;113.9402012
X-APPLE-STRUCTURED-LOCATION;VALUE=URI;X-ADDRESS=AsiaWorld-Expo Hall 10 Cheong Wing Road Chek Lap Kok Lantau Hong Kong;X-APPLE-RADIUS=500;X-TITLE=Cheong Wing Road\, Chek Lap Kok:geo:113.9402012,22.3217383
END:VEVENT
BEGIN:VEVENT
DTSTART;TZID=Asia/Hong_Kong:20170611T200000
DTEND;TZID=Asia/Hong_Kong:20170611T200000
DTSTAMP:20260424T184036
CREATED:19170211T132808Z
LAST-MODIFIED:20170422T025556Z
UID:10002462-1497211200-1497211200@www.bcmagazine.net
SUMMARY:Born of Osiris
DESCRIPTION:Born of Osiris\nSupport: Shepherds the Weak\nDate: 8pm\, 11 June\, 2017\nVenue: Hidden Agenda\nTickets: $420 (Door)\, $320 (Advance) \n 
URL:https://www.bcmagazine.net/event/born-of-osiris-2017/
LOCATION:Hidden Agenda (Livehouse)\, 80 Hung To Road\, Kwun Tong\, Hong Kong
CATEGORIES:2017,Concert,Music,Performing Arts
GEO:22.308171;114.223939
X-APPLE-STRUCTURED-LOCATION;VALUE=URI;X-ADDRESS=Hidden Agenda (Livehouse) 80 Hung To Road Kwun Tong Hong Kong;X-APPLE-RADIUS=500;X-TITLE=80 Hung To Road:geo:114.223939,22.308171
END:VEVENT
BEGIN:VEVENT
DTSTART;TZID=Asia/Hong_Kong:20170611T200000
DTEND;TZID=Asia/Hong_Kong:20170611T200000
DTSTAMP:20260424T184036
CREATED:19170421T043251Z
LAST-MODIFIED:20170421T051634Z
UID:10002576-1497211200-1497211200@www.bcmagazine.net
SUMMARY:I\, Wu Song - A One-man Chinese Opera
DESCRIPTION:Chinese opera has often been seen as an art form that tells historical tales\, and that of Wu Song’s is one of the classics. Yet in this new production by The Gong Strikes One\, Wu is no longer the protagonist\, nor does Chinese opera take up the task to tell his story. \nInstead\, Wu’s story is transformed into a medium for Chinese opera to explore itself as a theatrical form of body movements and musical gestures. All utterances have been removed and Wu now becomes no more than an anonymous man on stage\, called “I”. \nI\, Wu Song – A One-man Chinese Opera\nThe Gong Strikes One\nDate: 8pm\, 10-11 June\, 2017\nVenue: HK Cultural Centre\, Studio Theatre\nTickets: $180\, $160 from Urbtix
URL:https://www.bcmagazine.net/event/i-wu-song-a-one-man-chinese-opera-the-gong-strikes-one-2017/2017-06-11/
LOCATION:HK Cultural Centre\, Studio Theatre\, 10 Salisbury Road\, Tsim Sha Tsui\, Hong Kong
CATEGORIES:2017,Chinese opera,Music,Performing Arts
END:VEVENT
BEGIN:VEVENT
DTSTART;TZID=Asia/Hong_Kong:20170611T200000
DTEND;TZID=Asia/Hong_Kong:20170611T200000
DTSTAMP:20260424T184036
CREATED:19170508T103714Z
LAST-MODIFIED:20170516T104529Z
UID:10001222-1497211200-1497211200@www.bcmagazine.net
SUMMARY:My Fair Lady
DESCRIPTION:My Fair Lady\nFace Productions\nDate: 9-11 June\, 2017\nVenue: HKAPA\, Drama Theatre\nTickets: $395\, $250 from HKTicketing\nMore info:\n9 Jun – 8pm\n10-11 Jun – 3pm\, 7:30pm
URL:https://www.bcmagazine.net/event/my-fair-lady-face-productions-2017/2017-06-11/
LOCATION:HKAPA: Drama Theatre\, 1 Gloucester Road\, Wanchai\, Hong Kong
CATEGORIES:2017,Musical,Performing Arts,Theatre
GEO:22.2801854;114.1695054
X-APPLE-STRUCTURED-LOCATION;VALUE=URI;X-ADDRESS=HKAPA: Drama Theatre 1 Gloucester Road Wanchai Hong Kong;X-APPLE-RADIUS=500;X-TITLE=1 Gloucester Road:geo:114.1695054,22.2801854
END:VEVENT
BEGIN:VEVENT
DTSTART;TZID=Asia/Hong_Kong:20170611T200000
DTEND;TZID=Asia/Hong_Kong:20170611T200000
DTSTAMP:20260424T184036
CREATED:19170909T021037Z
LAST-MODIFIED:20160916T163911Z
UID:10003394-1497211200-1497211200@www.bcmagazine.net
SUMMARY:Peel Street Poetry
DESCRIPTION:Peel Street Poetry is an open mic poetry night at Orange Peel. It runs every Wednesdays of the month except the first. The environment is friendly and they love new performers\, so come share your poetry or just listen along to some of Hong Kong’s sharpest poetic talents. \nPeel Street Poetry Open Mic\nDate: 2nd\, 3rd\, 4th (and 5th) Wednesdays of the month\nVenue: Orange Peel\nTickets: Free\nMore info:\nwww.peelstreetpoetry.com
URL:https://www.bcmagazine.net/event/peel-street-poetry-2017/2017-06-11/
LOCATION:Orange Peel\, 2/F\, 38-44 D'Aguilar Street\, Central\, Hong Kong\, Hong Kong
CATEGORIES:2017,Free,Performing Arts,Poetry
GEO:22.2807864;114.1553675
X-APPLE-STRUCTURED-LOCATION;VALUE=URI;X-ADDRESS=Orange Peel 2/F 38-44 D'Aguilar Street Central Hong Kong Hong Kong;X-APPLE-RADIUS=500;X-TITLE=2/F\, 38-44 D'Aguilar Street\, Central:geo:114.1553675,22.2807864
END:VEVENT
BEGIN:VEVENT
DTSTART;TZID=Asia/Hong_Kong:20170612T200000
DTEND;TZID=Asia/Hong_Kong:20170612T200000
DTSTAMP:20260424T184036
CREATED:19170505T081942Z
LAST-MODIFIED:20170516T031546Z
UID:10002604-1497297600-1497297600@www.bcmagazine.net
SUMMARY:Evan Dando
DESCRIPTION:Evan Dando\nDate: 8pm\, 12 June\, 2017\nVenue: MOM Livehouse\nTickets: $330\, $280
URL:https://www.bcmagazine.net/event/evan-dando-2017/
LOCATION:MOM Livehouse\, B39 Seven Seas Shopping Centre\, 117-121 Kings Road\, North Point\, Hong Kong
CATEGORIES:2017,Concert,Music,Performing Arts
GEO:22.2884683;114.192803
X-APPLE-STRUCTURED-LOCATION;VALUE=URI;X-ADDRESS=MOM Livehouse B39 Seven Seas Shopping Centre 117-121 Kings Road North Point Hong Kong;X-APPLE-RADIUS=500;X-TITLE=B39 Seven Seas Shopping Centre\, 117-121 Kings Road:geo:114.192803,22.2884683
END:VEVENT
BEGIN:VEVENT
DTSTART;TZID=Asia/Hong_Kong:20170613T193000
DTEND;TZID=Asia/Hong_Kong:20170613T193000
DTSTAMP:20260424T184036
CREATED:19170421T031812Z
LAST-MODIFIED:20170421T032520Z
UID:10002560-1497382200-1497382200@www.bcmagazine.net
SUMMARY:A Right Royal Match
DESCRIPTION:A Right Royal Match\nChinese Opera Festival 2017\, Peking Opera Gala\, Peking Opera Theatre of Beijing\nDate: 7:30pm\, 13 June\, 2017\nVenue: HK Cultural Centre\, Grand Theatre\nTickets: $450\, $350\, $250\, $150 from Urbtix\nMore info\nIn Chinese with English and Chinese surtitles
URL:https://www.bcmagazine.net/event/peking-opera-gala-chinese-opera-festival-2017/
LOCATION:HK Cultural Centre\, Grand Theatre\,\, 10 Salisbury Road\, Tsim Sha Tsui\, Hong Kong
CATEGORIES:2017,Chinese opera,Cultural Festival,Music,Performing Arts
GEO:22.294318;114.171708
X-APPLE-STRUCTURED-LOCATION;VALUE=URI;X-ADDRESS=HK Cultural Centre Grand Theatre 10 Salisbury Road Tsim Sha Tsui Hong Kong;X-APPLE-RADIUS=500;X-TITLE=10 Salisbury Road:geo:114.171708,22.294318
END:VEVENT
BEGIN:VEVENT
DTSTART;TZID=Asia/Hong_Kong:20170613T200000
DTEND;TZID=Asia/Hong_Kong:20170613T200000
DTSTAMP:20260424T184036
CREATED:20170420T034110Z
LAST-MODIFIED:20170420T034110Z
UID:10006391-1497384000-1497384000@www.bcmagazine.net
SUMMARY:Radwimps
DESCRIPTION:Radwimps\nDate: 8pm\, 13 June\, 2017\nVenue: MacPherson Stadium\nTickets: $890\, $690\, $490 from Cityline
URL:https://www.bcmagazine.net/event/radwimps-2017/
LOCATION:MacPherson Stadium\, 38 Nelson Street\, Mongkok\, Hong Kong
CATEGORIES:2017,Concert,Music
GEO:22.3188457;114.1728403
X-APPLE-STRUCTURED-LOCATION;VALUE=URI;X-ADDRESS=MacPherson Stadium 38 Nelson Street Mongkok Hong Kong;X-APPLE-RADIUS=500;X-TITLE=38 Nelson Street:geo:114.1728403,22.3188457
END:VEVENT
BEGIN:VEVENT
DTSTART;TZID=Asia/Hong_Kong:20170613T200000
DTEND;TZID=Asia/Hong_Kong:20170613T220000
DTSTAMP:20260424T184037
CREATED:19170530T034649Z
LAST-MODIFIED:20170530T042705Z
UID:10002766-1497384000-1497391200@www.bcmagazine.net
SUMMARY:Hong Kong v North Korea
DESCRIPTION:Hong Kong v North Korea\nAFC Asian Cup 2019\nDate: 8pm\, 13 June\, 2017\nVenue: HK Stadium\nTickets: $200 from Cityline
URL:https://www.bcmagazine.net/event/hong-kong-v-north-korea-afc-asian-cup-2019/
LOCATION:HK Stadium\, 55 Eastern Hospital Road\, So Kon Po\, Hong Kong
CATEGORIES:2017,Football,Sport
GEO:22.2730073;114.1885121
X-APPLE-STRUCTURED-LOCATION;VALUE=URI;X-ADDRESS=HK Stadium 55 Eastern Hospital Road So Kon Po Hong Kong;X-APPLE-RADIUS=500;X-TITLE=55 Eastern Hospital Road:geo:114.1885121,22.2730073
END:VEVENT
BEGIN:VEVENT
DTSTART;TZID=Asia/Hong_Kong:20170614T193000
DTEND;TZID=Asia/Hong_Kong:20170614T193000
DTSTAMP:20260424T184037
CREATED:19170421T031812Z
LAST-MODIFIED:20170421T033031Z
UID:10002561-1497468600-1497468600@www.bcmagazine.net
SUMMARY:A Meeting of Heroes
DESCRIPTION:A Meeting of Heroes\, Invoking the East Wind\, The Huarong Pass\nChinese Opera Festival 2017\, Peking Opera Gala\, Peking Opera Theatre of Beijing\nDate: 7:30pm\, 14 June\, 2017\nVenue: HK Cultural Centre\, Grand Theatre\nTickets: $450\, $350\, $250\, $150 from Urbtix\nMore info\nIn Chinese with English and Chinese surtitles
URL:https://www.bcmagazine.net/event/a-meeting-of-heroes-chinese-opera-festival-2017/
LOCATION:HK Cultural Centre\, Grand Theatre\,\, 10 Salisbury Road\, Tsim Sha Tsui\, Hong Kong
CATEGORIES:2017,Chinese opera,Cultural Festival,Music,Performing Arts
GEO:22.294318;114.171708
X-APPLE-STRUCTURED-LOCATION;VALUE=URI;X-ADDRESS=HK Cultural Centre Grand Theatre 10 Salisbury Road Tsim Sha Tsui Hong Kong;X-APPLE-RADIUS=500;X-TITLE=10 Salisbury Road:geo:114.171708,22.294318
END:VEVENT
BEGIN:VEVENT
DTSTART;TZID=Asia/Hong_Kong:20170615T193000
DTEND;TZID=Asia/Hong_Kong:20170615T193000
DTSTAMP:20260424T184037
CREATED:19170421T031812Z
LAST-MODIFIED:20170421T033056Z
UID:10002562-1497555000-1497555000@www.bcmagazine.net
SUMMARY:The Fourth Son Visits his Mother
DESCRIPTION:The Fourth Son Visits his Mother\nChinese Opera Festival 2017\, Peking Opera Gala\, Peking Opera Theatre of Beijing\nDate: 7:30pm\, 15 June\, 2017\nVenue: HK Cultural Centre\, Grand Theatre\nTickets: $450\, $350\, $250\, $150 from Urbtix\nMore info\nIn Chinese with English and Chinese surtitles
URL:https://www.bcmagazine.net/event/the-fourth-son-visits-his-mother-chinese-opera-festival-2017/
LOCATION:HK Cultural Centre\, Grand Theatre\,\, 10 Salisbury Road\, Tsim Sha Tsui\, Hong Kong
CATEGORIES:2017,Chinese opera,Cultural Festival,Music,Performing Arts
GEO:22.294318;114.171708
X-APPLE-STRUCTURED-LOCATION;VALUE=URI;X-ADDRESS=HK Cultural Centre Grand Theatre 10 Salisbury Road Tsim Sha Tsui Hong Kong;X-APPLE-RADIUS=500;X-TITLE=10 Salisbury Road:geo:114.171708,22.294318
END:VEVENT
BEGIN:VEVENT
DTSTART;TZID=Asia/Hong_Kong:20170616T193000
DTEND;TZID=Asia/Hong_Kong:20170616T193000
DTSTAMP:20260424T184037
CREATED:19170421T031812Z
LAST-MODIFIED:20170421T033409Z
UID:10002563-1497641400-1497641400@www.bcmagazine.net
SUMMARY:Subduing the Leopard Monster
DESCRIPTION:Subduing the Leopard Monster\, Pillars of the Dynasty\, Visiting the Mausoleum\, The Two Faithful Courtiers\nChinese Opera Festival 2017\, Peking Opera Gala\, First Troupe of the China National Peking Opera Company\nDate: 7:30pm\, 16 June\, 2017\nVenue: HK Cultural Centre\, Grand Theatre\nTickets: $450\, $350\, $250\, $150 from Urbtix\nMore info\nIn Chinese with English and Chinese surtitles
URL:https://www.bcmagazine.net/event/subduing-the-leopard-monster-chinese-opera-festival-2017/
LOCATION:HK Cultural Centre\, Grand Theatre\,\, 10 Salisbury Road\, Tsim Sha Tsui\, Hong Kong
CATEGORIES:2017,Chinese opera,Cultural Festival,Music,Performing Arts
GEO:22.294318;114.171708
X-APPLE-STRUCTURED-LOCATION;VALUE=URI;X-ADDRESS=HK Cultural Centre Grand Theatre 10 Salisbury Road Tsim Sha Tsui Hong Kong;X-APPLE-RADIUS=500;X-TITLE=10 Salisbury Road:geo:114.171708,22.294318
END:VEVENT
BEGIN:VEVENT
DTSTART;TZID=Asia/Hong_Kong:20170616T200000
DTEND;TZID=Asia/Hong_Kong:20170616T200000
DTSTAMP:20260424T184037
CREATED:19170505T081942Z
LAST-MODIFIED:20170516T034741Z
UID:10002609-1497643200-1497643200@www.bcmagazine.net
SUMMARY:Sete Star Sept
DESCRIPTION:Sete Star Sept\nDate: 8pm\, 16 June\, 2017\nVenue: Big Wave Music\nTickets: $250\, $180
URL:https://www.bcmagazine.net/event/sete-star-sept-2017/
LOCATION:Big Wave Music\, Unit F\, B/F\, Phase 2\, Kwun Tong Industrial Building\, 460-470 Kwun Tong Road\, Kowloon\, Hong Kong
CATEGORIES:2017,Concert,Music,Performing Arts
GEO:22.310724;114.227626
X-APPLE-STRUCTURED-LOCATION;VALUE=URI;X-ADDRESS=Big Wave Music Unit F B/F Phase 2 Kwun Tong Industrial Building 460-470 Kwun Tong Road Kowloon Hong Kong;X-APPLE-RADIUS=500;X-TITLE=Unit F\, B/F\, Phase 2\, Kwun Tong Industrial Building\, 460-470 Kwun Tong Road:geo:114.227626,22.310724
END:VEVENT
BEGIN:VEVENT
DTSTART;TZID=Asia/Hong_Kong:20170616T200000
DTEND;TZID=Asia/Hong_Kong:20170616T200000
DTSTAMP:20260424T184037
CREATED:19170613T025351Z
LAST-MODIFIED:20170613T031218Z
UID:10002852-1497643200-1497643200@www.bcmagazine.net
SUMMARY:Best Before
DESCRIPTION:Best Before\nTheatre Formula\nDate: 16-18 June\, 2017\nVenue: Jockey Club Creative Arts Centre\, Black Box Theatre\nTickets: $150 from Urbtix
URL:https://www.bcmagazine.net/event/best-before-2017/2017-06-16/
LOCATION:Jockey Club Creative Arts Centre\, Black Box Theatre\, 30 Pak Tin Street\, Shek Kip Mei\, Hong Kong
CATEGORIES:2017,Musical,Performing Arts,Theatre
GEO:22.3346654;114.1657188
X-APPLE-STRUCTURED-LOCATION;VALUE=URI;X-ADDRESS=Jockey Club Creative Arts Centre Black Box Theatre 30 Pak Tin Street Shek Kip Mei Hong Kong;X-APPLE-RADIUS=500;X-TITLE=30 Pak Tin Street:geo:114.1657188,22.3346654
END:VEVENT
BEGIN:VEVENT
DTSTART;TZID=Asia/Hong_Kong:20170616T201500
DTEND;TZID=Asia/Hong_Kong:20170616T201500
DTSTAMP:20260424T184037
CREATED:19170420T043631Z
LAST-MODIFIED:20170420T043913Z
UID:10002524-1497644100-1497644100@www.bcmagazine.net
SUMMARY:The Great Yoga
DESCRIPTION:The Great Yoga\nDate: 8:15pm\, 16-17 June\, 2017\nVenue: HK Coliseum\nTickets: $980\, $500\, $300 from Urbtix
URL:https://www.bcmagazine.net/event/the-great-yoga-2017/2017-06-16/
LOCATION:HK Coliseum\, 9 Cheong Wan Road\, Hung Hom\, Hong Kong
CATEGORIES:2017,Sport
GEO:22.3014169;114.1820305
X-APPLE-STRUCTURED-LOCATION;VALUE=URI;X-ADDRESS=HK Coliseum 9 Cheong Wan Road Hung Hom Hong Kong;X-APPLE-RADIUS=500;X-TITLE=9 Cheong Wan Road:geo:114.1820305,22.3014169
END:VEVENT
BEGIN:VEVENT
DTSTART;TZID=Asia/Hong_Kong:20170616T201500
DTEND;TZID=Asia/Hong_Kong:20170616T201500
DTSTAMP:20260424T184037
CREATED:19170611T091808Z
LAST-MODIFIED:20170611T093059Z
UID:10002782-1497644100-1497644100@www.bcmagazine.net
SUMMARY:ToNick
DESCRIPTION:ToNick – Keep Rolling\nDate: 8:15pm\, 16 June\, 2017\nVenue: Music Zone@E-Max\nTickets: tbc
URL:https://www.bcmagazine.net/event/tonick-2017/
LOCATION:KITEC\, Music Zone@E-Max\, KITEC\,‎ 1 Trademart Drive\, Kowloon Bay\, Hong Kong
CATEGORIES:2017,Concert,Music
GEO:22.3239575;114.2037608
X-APPLE-STRUCTURED-LOCATION;VALUE=URI;X-ADDRESS=KITEC Music Zone@E-Max KITEC‎ 1 Trademart Drive Kowloon Bay Hong Kong;X-APPLE-RADIUS=500;X-TITLE=KITEC\,‎ 1 Trademart Drive:geo:114.2037608,22.3239575
END:VEVENT
BEGIN:VEVENT
DTSTART;TZID=Asia/Hong_Kong:20170617T190000
DTEND;TZID=Asia/Hong_Kong:20170617T201500
DTSTAMP:20260424T184037
CREATED:19170505T081942Z
LAST-MODIFIED:20170516T023828Z
UID:10001201-1497726000-1497730500@www.bcmagazine.net
SUMMARY:Sugizo vs Inoran
DESCRIPTION:Sugizo vs Inoran Best Bout 2017 ~L2/5~ Asia Leg\nDate: 7pm\, 17-18 June\, 2017\nVenue: Kitec Music Zone@E-Max\nTickets: $880\, $680
URL:https://www.bcmagazine.net/event/sugizo-vs-inoran-2017/
LOCATION:KITEC\, Music Zone@E-Max\, KITEC\,‎ 1 Trademart Drive\, Kowloon Bay\, Hong Kong
CATEGORIES:2017,Concert,Music
GEO:22.3239575;114.2037608
X-APPLE-STRUCTURED-LOCATION;VALUE=URI;X-ADDRESS=KITEC Music Zone@E-Max KITEC‎ 1 Trademart Drive Kowloon Bay Hong Kong;X-APPLE-RADIUS=500;X-TITLE=KITEC\,‎ 1 Trademart Drive:geo:114.2037608,22.3239575
END:VEVENT
BEGIN:VEVENT
DTSTART;TZID=Asia/Hong_Kong:20170617T193000
DTEND;TZID=Asia/Hong_Kong:20170617T193000
DTSTAMP:20260424T184037
CREATED:19170421T031812Z
LAST-MODIFIED:20170421T033644Z
UID:10002564-1497727800-1497727800@www.bcmagazine.net
SUMMARY:The Nymph of Luo River
DESCRIPTION:The Nymph of Luo River\, The Loss of Jieting\, Empty City Stratagem\, Executing Ma Su\nChinese Opera Festival 2017\, Peking Opera Gala\, First Troupe of the China National Peking Opera Company\nDate: 7:30pm\, 17 June\, 2017\nVenue: HK Cultural Centre\, Grand Theatre\nTickets: $450\, $350\, $250\, $150 from Urbtix\nMore info\nIn Chinese with English and Chinese surtitles
URL:https://www.bcmagazine.net/event/the-nymph-of-luo-river-chinese-opera-festival-2017/
LOCATION:HK Cultural Centre\, Grand Theatre\,\, 10 Salisbury Road\, Tsim Sha Tsui\, Hong Kong
CATEGORIES:2017,Chinese opera,Cultural Festival,Music,Performing Arts
GEO:22.294318;114.171708
X-APPLE-STRUCTURED-LOCATION;VALUE=URI;X-ADDRESS=HK Cultural Centre Grand Theatre 10 Salisbury Road Tsim Sha Tsui Hong Kong;X-APPLE-RADIUS=500;X-TITLE=10 Salisbury Road:geo:114.171708,22.294318
END:VEVENT
END:VCALENDAR