BEGIN:VCALENDAR
VERSION:2.0
PRODID:-//bc magazine - ECPv6.15.20//NONSGML v1.0//EN
CALSCALE:GREGORIAN
METHOD:PUBLISH
X-WR-CALNAME:bc magazine
X-ORIGINAL-URL:https://www.bcmagazine.net
X-WR-CALDESC:Events for bc magazine
REFRESH-INTERVAL;VALUE=DURATION:PT1H
X-Robots-Tag:noindex
X-PUBLISHED-TTL:PT1H
BEGIN:VTIMEZONE
TZID:Asia/Hong_Kong
BEGIN:STANDARD
TZOFFSETFROM:+0800
TZOFFSETTO:+0800
TZNAME:HKT
DTSTART:20160101T000000
END:STANDARD
END:VTIMEZONE
BEGIN:VEVENT
DTSTART;TZID=Asia/Hong_Kong:20170621T193000
DTEND;TZID=Asia/Hong_Kong:20170621T193000
DTSTAMP:20260424T181441
CREATED:19170505T081942Z
LAST-MODIFIED:20170516T022940Z
UID:10001196-1498073400-1498073400@www.bcmagazine.net
SUMMARY:Hyukoh
DESCRIPTION:Hyukoh\nDate: 7:30pm\, 21-22 June\, 2017\nVenue: Kitec Music Zone@E-Max\nTickets: $490 from Ticketflap
URL:https://www.bcmagazine.net/event/hyukoh-2017/2017-06-21/
LOCATION:KITEC\, Music Zone@E-Max\, KITEC\,‎ 1 Trademart Drive\, Kowloon Bay\, Hong Kong
CATEGORIES:2017,Concert,Music
GEO:22.3239575;114.2037608
X-APPLE-STRUCTURED-LOCATION;VALUE=URI;X-ADDRESS=KITEC Music Zone@E-Max KITEC‎ 1 Trademart Drive Kowloon Bay Hong Kong;X-APPLE-RADIUS=500;X-TITLE=KITEC\,‎ 1 Trademart Drive:geo:114.2037608,22.3239575
END:VEVENT
BEGIN:VEVENT
DTSTART;TZID=Asia/Hong_Kong:20170621T210000
DTEND;TZID=Asia/Hong_Kong:20170621T213000
DTSTAMP:20260424T181441
CREATED:19170523T041401Z
LAST-MODIFIED:20170523T044844Z
UID:10001363-1498078800-1498080600@www.bcmagazine.net
SUMMARY:Gig Week 2017: Punk
DESCRIPTION:Gig Week 2017: Punk\nTwo Finger Salute\, Defiant Scum\, Oi Squad\, The Squawk\nDate: 9pm\, 21 June\, 2017\nVenue: Orange Peel\nTickets: $888\, $220\, $120 from Ticketflap
URL:https://www.bcmagazine.net/event/gig-week-2017-punk/
LOCATION:Orange Peel\, 2/F\, 38-44 D'Aguilar Street\, Central\, Hong Kong\, Hong Kong
CATEGORIES:2017,Concert,Music,Performing Arts
GEO:22.2807864;114.1553675
X-APPLE-STRUCTURED-LOCATION;VALUE=URI;X-ADDRESS=Orange Peel 2/F 38-44 D'Aguilar Street Central Hong Kong Hong Kong;X-APPLE-RADIUS=500;X-TITLE=2/F\, 38-44 D'Aguilar Street\, Central:geo:114.1553675,22.2807864
END:VEVENT
BEGIN:VEVENT
DTSTART;TZID=Asia/Hong_Kong:20170622T193000
DTEND;TZID=Asia/Hong_Kong:20170622T193000
DTSTAMP:20260424T181441
CREATED:19170505T081942Z
LAST-MODIFIED:20170516T022940Z
UID:10001197-1498159800-1498159800@www.bcmagazine.net
SUMMARY:Hyukoh
DESCRIPTION:Hyukoh\nDate: 7:30pm\, 21-22 June\, 2017\nVenue: Kitec Music Zone@E-Max\nTickets: $490 from Ticketflap
URL:https://www.bcmagazine.net/event/hyukoh-2017/2017-06-22/
LOCATION:KITEC\, Music Zone@E-Max\, KITEC\,‎ 1 Trademart Drive\, Kowloon Bay\, Hong Kong
CATEGORIES:2017,Concert,Music
GEO:22.3239575;114.2037608
X-APPLE-STRUCTURED-LOCATION;VALUE=URI;X-ADDRESS=KITEC Music Zone@E-Max KITEC‎ 1 Trademart Drive Kowloon Bay Hong Kong;X-APPLE-RADIUS=500;X-TITLE=KITEC\,‎ 1 Trademart Drive:geo:114.2037608,22.3239575
END:VEVENT
BEGIN:VEVENT
DTSTART;TZID=Asia/Hong_Kong:20170622T200000
DTEND;TZID=Asia/Hong_Kong:20170622T200000
DTSTAMP:20260424T181441
CREATED:19170523T041401Z
LAST-MODIFIED:20170523T044805Z
UID:10001364-1498161600-1498161600@www.bcmagazine.net
SUMMARY:Gig Week 2017: Metal
DESCRIPTION:Gig Week 2017: Metal\nShepherds the Weak\, Parallel Horizons\, Indenial\, Aether\nDate: 8pm\, 22 June\, 2017\nVenue: Hidden Agenda\nTickets: $888\, $220\, $120 from Ticketflap
URL:https://www.bcmagazine.net/event/gig-week-2017-metal/
LOCATION:Hidden Agenda (Livehouse)\, 80 Hung To Road\, Kwun Tong\, Hong Kong
CATEGORIES:2017,Concert,Music,Performing Arts
GEO:22.308171;114.223939
X-APPLE-STRUCTURED-LOCATION;VALUE=URI;X-ADDRESS=Hidden Agenda (Livehouse) 80 Hung To Road Kwun Tong Hong Kong;X-APPLE-RADIUS=500;X-TITLE=80 Hung To Road:geo:114.223939,22.308171
END:VEVENT
BEGIN:VEVENT
DTSTART;VALUE=DATE:20170623
DTEND;VALUE=DATE:20170626
DTSTAMP:20260424T181441
CREATED:20170615T064338Z
LAST-MODIFIED:20170616T075048Z
UID:10006402-1498176000-1498435199@www.bcmagazine.net
SUMMARY:SDK Asia
DESCRIPTION:SDK Asia\nDate: 23-25 June\, 2017\nVenue: West Kowloon\nTickets: tbc
URL:https://www.bcmagazine.net/event/sdk-asia-2017/
LOCATION:West Kowloon Culture District\, West Kowloon Waterfront Promenade\, Hong Kong
CATEGORIES:2018,Dance,Music,Nightlife,Performing Arts
GEO:22.302243;114.155596
X-APPLE-STRUCTURED-LOCATION;VALUE=URI;X-ADDRESS=West Kowloon Culture District West Kowloon Waterfront Promenade Hong Kong;X-APPLE-RADIUS=500;X-TITLE=West Kowloon Waterfront Promenade:geo:114.155596,22.302243
END:VEVENT
BEGIN:VEVENT
DTSTART;TZID=Asia/Hong_Kong:20170623T193000
DTEND;TZID=Asia/Hong_Kong:20170623T193000
DTSTAMP:20260424T181441
CREATED:19170421T030220Z
LAST-MODIFIED:20170422T162834Z
UID:10001149-1498246200-1498246200@www.bcmagazine.net
SUMMARY:Zhejiang Wu Opera Research Centre
DESCRIPTION:Chinese Opera Excerpts\nChinese Opera Festival 2017\, Zhejiang Wu Opera Research Centre\nDate: 7:30pm\, 23\, 25 June\, 2017\nVenue: Shatin Town Hall\, Auditorium\nTickets: $380\, $300\, $220\, $150 from Urbtix
URL:https://www.bcmagazine.net/event/three-maestros-in-peking-opera-and-kunqu-opera-chinese-opera-festival-2017/2017-06-23/
LOCATION:Shatin Town Hall\, Auditorium\, Shatin\, Hong Kong
CATEGORIES:2017,Chinese opera,Cultural Festival,Music,Performing Arts
END:VEVENT
BEGIN:VEVENT
DTSTART;TZID=Asia/Hong_Kong:20170623T193000
DTEND;TZID=Asia/Hong_Kong:20170623T193000
DTSTAMP:20260424T181441
CREATED:19170421T033952Z
LAST-MODIFIED:20220929T094429Z
UID:10002566-1498246200-1498246200@www.bcmagazine.net
SUMMARY:Ninagawa Macbeth
DESCRIPTION:Ninagawa Macbeth\nNinagawa Company\nDate: 23-25 June\, 2017\nVenue: HK Cultural Centre\, Grand Theatre\nTickets: $580\, $480\, $380\, $280\, $160 from Urbtix\nMore info:\n23-24 June – 7:30pm\n25 June – 2:30pm
URL:https://www.bcmagazine.net/event/ninagawa-macbeth-2017/
LOCATION:HK Cultural Centre\, Grand Theatre\,\, 10 Salisbury Road\, Tsim Sha Tsui\, Hong Kong
CATEGORIES:2017,Performing Arts,Theatre
GEO:22.294318;114.171708
X-APPLE-STRUCTURED-LOCATION;VALUE=URI;X-ADDRESS=HK Cultural Centre Grand Theatre 10 Salisbury Road Tsim Sha Tsui Hong Kong;X-APPLE-RADIUS=500;X-TITLE=10 Salisbury Road:geo:114.171708,22.294318
END:VEVENT
BEGIN:VEVENT
DTSTART;TZID=Asia/Hong_Kong:20170623T200000
DTEND;TZID=Asia/Hong_Kong:20170623T200000
DTSTAMP:20260424T181441
CREATED:19170503T075608Z
LAST-MODIFIED:20170503T083219Z
UID:10002597-1498248000-1498248000@www.bcmagazine.net
SUMMARY:Tanya Chua
DESCRIPTION:Tanya Chua – Lemuria\nDate: 8pm\, 23-24 June\, 2017\nVenue: Star Hall\nTickets: $780\, $680\, $480\, $280 from HKTicketing
URL:https://www.bcmagazine.net/event/tanya-chua-2017/2017-06-23/
LOCATION:KITEC\, Star Hall\, KITEC\, 1 Trademart Drive\, Kowloon Bay\, Hong Kong
CATEGORIES:2017,Concert,Music
GEO:22.3239575;114.2037608
X-APPLE-STRUCTURED-LOCATION;VALUE=URI;X-ADDRESS=KITEC Star Hall KITEC 1 Trademart Drive Kowloon Bay Hong Kong;X-APPLE-RADIUS=500;X-TITLE=KITEC\, 1 Trademart Drive:geo:114.2037608,22.3239575
END:VEVENT
BEGIN:VEVENT
DTSTART;TZID=Asia/Hong_Kong:20170623T200000
DTEND;TZID=Asia/Hong_Kong:20170623T200000
DTSTAMP:20260424T181441
CREATED:19170523T041401Z
LAST-MODIFIED:20170523T045154Z
UID:10002757-1498248000-1498248000@www.bcmagazine.net
SUMMARY:Gig Week 2017: Dance Rock
DESCRIPTION:Gig Week 2017: Dance Rock\nThe Sleeves\, Shumking Mansion\, Waterfunk\, Opium\nDate: 8pm\, 23 June\, 2017\nVenue: MOM Livehouse\nTickets: $888\, $220\, $120 from Ticketflap
URL:https://www.bcmagazine.net/event/gig-week-2017-dance-rock/
LOCATION:MOM Livehouse\, B39 Seven Seas Shopping Centre\, 117-121 Kings Road\, North Point\, Hong Kong
CATEGORIES:2017,Concert,Music,Performing Arts
GEO:22.2884683;114.192803
X-APPLE-STRUCTURED-LOCATION;VALUE=URI;X-ADDRESS=MOM Livehouse B39 Seven Seas Shopping Centre 117-121 Kings Road North Point Hong Kong;X-APPLE-RADIUS=500;X-TITLE=B39 Seven Seas Shopping Centre\, 117-121 Kings Road:geo:114.192803,22.2884683
END:VEVENT
BEGIN:VEVENT
DTSTART;TZID=Asia/Hong_Kong:20170624T120000
DTEND;TZID=Asia/Hong_Kong:20170624T210000
DTSTAMP:20260424T181441
CREATED:19170520T042806Z
LAST-MODIFIED:20170620T043109Z
UID:10001234-1498305600-1498338000@www.bcmagazine.net
SUMMARY:HK Spirits & Pairing Festival
DESCRIPTION:HK Spirits & Pairing Festival 2017\nDate: 12pm\, 24 June\, 2017\nVenue: The Park Lane Hotel\, Rooftop\nTickets: $680\, $300
URL:https://www.bcmagazine.net/event/hk-spirits-cigar-pairing-festival-2017/
LOCATION:Park Lane Hotel\, Hong Kong
CATEGORIES:2017,Food,Nightlife
GEO:22.396428;114.109497
END:VEVENT
BEGIN:VEVENT
DTSTART;TZID=Asia/Hong_Kong:20170624T193000
DTEND;TZID=Asia/Hong_Kong:20170624T193000
DTSTAMP:20260424T181441
CREATED:19170421T030220Z
LAST-MODIFIED:20170422T162255Z
UID:10001152-1498332600-1498332600@www.bcmagazine.net
SUMMARY:Mu Guiying
DESCRIPTION:Mu Guiying\nChinese Opera Festival 2017\, Zhejiang Wu Opera Research Centre\nDate: 7:30pm\, 24 June\, 2017\nVenue: Shatin Town Hall\, Auditorium\nTickets: $380\, $300\, $220\, $150 from Urbtix
URL:https://www.bcmagazine.net/event/mu-guiying-chinese-opera-festival-2017/
LOCATION:Shatin Town Hall\, Auditorium\, Shatin\, Hong Kong
CATEGORIES:2017,Chinese opera,Cultural Festival,Music,Performing Arts
END:VEVENT
BEGIN:VEVENT
DTSTART;TZID=Asia/Hong_Kong:20170624T200000
DTEND;TZID=Asia/Hong_Kong:20170624T200000
DTSTAMP:20260424T181441
CREATED:19170503T075608Z
LAST-MODIFIED:20170503T083219Z
UID:10002598-1498334400-1498334400@www.bcmagazine.net
SUMMARY:Tanya Chua
DESCRIPTION:Tanya Chua – Lemuria\nDate: 8pm\, 23-24 June\, 2017\nVenue: Star Hall\nTickets: $780\, $680\, $480\, $280 from HKTicketing
URL:https://www.bcmagazine.net/event/tanya-chua-2017/2017-06-24/
LOCATION:KITEC\, Star Hall\, KITEC\, 1 Trademart Drive\, Kowloon Bay\, Hong Kong
CATEGORIES:2017,Concert,Music
GEO:22.3239575;114.2037608
X-APPLE-STRUCTURED-LOCATION;VALUE=URI;X-ADDRESS=KITEC Star Hall KITEC 1 Trademart Drive Kowloon Bay Hong Kong;X-APPLE-RADIUS=500;X-TITLE=KITEC\, 1 Trademart Drive:geo:114.2037608,22.3239575
END:VEVENT
BEGIN:VEVENT
DTSTART;TZID=Asia/Hong_Kong:20170624T200000
DTEND;TZID=Asia/Hong_Kong:20170624T200000
DTSTAMP:20260424T181441
CREATED:19170508T093526Z
LAST-MODIFIED:20170512T102404Z
UID:10002614-1498334400-1498334400@www.bcmagazine.net
SUMMARY:Tsai Chin
DESCRIPTION:Tsai Chin\nDate: 8pm\, 24 June\, 2017\nVenue: CotaiArena\nTickets: $1\,280\, $880\, $680\, $480\, $380 from HKTicketing
URL:https://www.bcmagazine.net/event/tsai-chin-macau-2017/
LOCATION:CotaiArena\, Venetian Macao\, Taipa\, Macau
CATEGORIES:2017,Concert,Music
GEO:22.1483528;113.5602019
X-APPLE-STRUCTURED-LOCATION;VALUE=URI;X-ADDRESS=CotaiArena Venetian Macao Taipa Macau;X-APPLE-RADIUS=500;X-TITLE=Venetian Macao:geo:113.5602019,22.1483528
END:VEVENT
BEGIN:VEVENT
DTSTART;TZID=Asia/Hong_Kong:20170624T200000
DTEND;TZID=Asia/Hong_Kong:20170624T200000
DTSTAMP:20260424T181441
CREATED:20170513T045607Z
LAST-MODIFIED:20170526T071330Z
UID:10006397-1498334400-1498334400@www.bcmagazine.net
SUMMARY:Park Hae Jin - Cancelled
DESCRIPTION:Park Hae Jin – Jin’s House Party\nDate: 8pm\, 24 June\, 2017\nVenue: AsiaWorld Expo\, Hall 10\nTickets: $1\,380\, $1\,180\, $680 from HKTicketing \nCANCELLED – Likely will be rescheduled to mid-September
URL:https://www.bcmagazine.net/event/park-hae-jin-2017/
LOCATION:AsiaWorld-Expo\, Hall 10\, Cheong Wing Road\, Chek Lap Kok\, Lantau\, Hong Kong
CATEGORIES:2017,Concert,Music
GEO:22.3217383;113.9402012
X-APPLE-STRUCTURED-LOCATION;VALUE=URI;X-ADDRESS=AsiaWorld-Expo Hall 10 Cheong Wing Road Chek Lap Kok Lantau Hong Kong;X-APPLE-RADIUS=500;X-TITLE=Cheong Wing Road\, Chek Lap Kok:geo:113.9402012,22.3217383
END:VEVENT
BEGIN:VEVENT
DTSTART;TZID=Asia/Hong_Kong:20170624T201500
DTEND;TZID=Asia/Hong_Kong:20170624T201500
DTSTAMP:20260424T181441
CREATED:19170503T075608Z
LAST-MODIFIED:20170503T084918Z
UID:10001194-1498335300-1498335300@www.bcmagazine.net
SUMMARY:Ben Sir
DESCRIPTION:Ben Sir\nDate: 8:15pm\, 24 June\, 2017\nVenue: Star Hall\nTickets: $480 from HKTicketing
URL:https://www.bcmagazine.net/event/ben-sir-2017/
LOCATION:KITEC\, Rotunda 3\, 1 Trademart Drive\, Kowloon Bay\, Hong Kong
CATEGORIES:2017,Concert,Music
GEO:22.3239575;114.2037608
X-APPLE-STRUCTURED-LOCATION;VALUE=URI;X-ADDRESS=KITEC Rotunda 3 1 Trademart Drive Kowloon Bay Hong Kong;X-APPLE-RADIUS=500;X-TITLE=1 Trademart Drive:geo:114.2037608,22.3239575
END:VEVENT
BEGIN:VEVENT
DTSTART;TZID=Asia/Hong_Kong:20170624T220000
DTEND;TZID=Asia/Hong_Kong:20170624T220000
DTSTAMP:20260424T181441
CREATED:19170523T041401Z
LAST-MODIFIED:20170523T045632Z
UID:10002758-1498341600-1498341600@www.bcmagazine.net
SUMMARY:Gig Week 2017: Live Electro
DESCRIPTION:Gig Week 2017: Live Electro\nSushi Robot\, Gravity Alterstra\, Biting Eye\, Quadrant Project\nDate: 10pm\, 24 June\, 2017\nVenue: Volar\nTickets: $888\, $220\, $120 from Ticketflap
URL:https://www.bcmagazine.net/event/gig-week-2017-live-electro/
LOCATION:Volar\, B/F 38-44 D’Aguilar Street\, Lan Kwai Fong\, Hong Kong
CATEGORIES:2017,Concert,Music,Performing Arts
GEO:22.2804909;114.155283
X-APPLE-STRUCTURED-LOCATION;VALUE=URI;X-ADDRESS=Volar B/F 38-44 D’Aguilar Street Lan Kwai Fong Hong Kong;X-APPLE-RADIUS=500;X-TITLE=B/F 38-44 D’Aguilar Street:geo:114.155283,22.2804909
END:VEVENT
BEGIN:VEVENT
DTSTART;TZID=Asia/Hong_Kong:20170625T150000
DTEND;TZID=Asia/Hong_Kong:20170625T180000
DTSTAMP:20260424T181441
CREATED:19170505T081942Z
LAST-MODIFIED:20170516T045521Z
UID:10002611-1498402800-1498413600@www.bcmagazine.net
SUMMARY:Bhutan Happiness
DESCRIPTION:Bhutan Happiness\nDate: 3-6pm\, 25 June\, 2017\nVenue: DrawGraphy (Unit A\, 2/F Nan Sang Bldg\, 86 Belcher’s Street\, Kennedy Town)\nTickets: Free
URL:https://www.bcmagazine.net/event/bhutan-happiness-2017/
LOCATION:Drawgraphy\, Unit A\, 2/F Nan Sang Building\, 86 Belcher’s Street \, Kennedy Town\, Hong Kong
CATEGORIES:2017,Exhibition,Fashion
GEO:22.2824386;114.1283984
X-APPLE-STRUCTURED-LOCATION;VALUE=URI;X-ADDRESS=Drawgraphy Unit A 2/F Nan Sang Building 86 Belcher’s Street  Kennedy Town Hong Kong;X-APPLE-RADIUS=500;X-TITLE=Unit A\, 2/F Nan Sang Building\, 86 Belcher’s Street:geo:114.1283984,22.2824386
END:VEVENT
BEGIN:VEVENT
DTSTART;TZID=Asia/Hong_Kong:20170625T170000
DTEND;TZID=Asia/Hong_Kong:20170625T170000
DTSTAMP:20260424T181442
CREATED:19170503T075608Z
LAST-MODIFIED:20170503T082841Z
UID:10002596-1498410000-1498410000@www.bcmagazine.net
SUMMARY:Morning Musume '17
DESCRIPTION:Morning Musume ’17\nDate: 5pm\, 25 June\, 2017\nVenue: Star Hall\nTickets: $980\, $680\, $380 from HKTicketing
URL:https://www.bcmagazine.net/event/morning-musume-17-2017/
LOCATION:KITEC\, Star Hall\, KITEC\, 1 Trademart Drive\, Kowloon Bay\, Hong Kong
CATEGORIES:2017,Concert,Music
GEO:22.3239575;114.2037608
X-APPLE-STRUCTURED-LOCATION;VALUE=URI;X-ADDRESS=KITEC Star Hall KITEC 1 Trademart Drive Kowloon Bay Hong Kong;X-APPLE-RADIUS=500;X-TITLE=KITEC\, 1 Trademart Drive:geo:114.2037608,22.3239575
END:VEVENT
BEGIN:VEVENT
DTSTART;TZID=Asia/Hong_Kong:20170625T193000
DTEND;TZID=Asia/Hong_Kong:20170625T193000
DTSTAMP:20260424T181442
CREATED:19170421T030220Z
LAST-MODIFIED:20170422T162834Z
UID:10001150-1498419000-1498419000@www.bcmagazine.net
SUMMARY:Zhejiang Wu Opera Research Centre
DESCRIPTION:Chinese Opera Excerpts\nChinese Opera Festival 2017\, Zhejiang Wu Opera Research Centre\nDate: 7:30pm\, 23\, 25 June\, 2017\nVenue: Shatin Town Hall\, Auditorium\nTickets: $380\, $300\, $220\, $150 from Urbtix
URL:https://www.bcmagazine.net/event/three-maestros-in-peking-opera-and-kunqu-opera-chinese-opera-festival-2017/2017-06-25/
LOCATION:Shatin Town Hall\, Auditorium\, Shatin\, Hong Kong
CATEGORIES:2017,Chinese opera,Cultural Festival,Music,Performing Arts
END:VEVENT
BEGIN:VEVENT
DTSTART;TZID=Asia/Hong_Kong:20170627T200000
DTEND;TZID=Asia/Hong_Kong:20170627T200000
DTSTAMP:20260424T181442
CREATED:19170412T031555Z
LAST-MODIFIED:20170412T032303Z
UID:10002512-1498593600-1498593600@www.bcmagazine.net
SUMMARY:Britney Spears
DESCRIPTION:Britney Spears\nDate: 8pm\, 27 June\, 2017\nVenue: AsiaWorld Expo\, Arena\nTickets: $2\,088\, $1\,588\, $1\,288\, $988\, $588 from HKTicketing
URL:https://www.bcmagazine.net/event/britney-spears-2017/
LOCATION:AsiaWorld-Expo\, Arena\, Cheong Wing Road\, Chek Lap Kok\, Lantau\, Hong Kong
CATEGORIES:2017,Concert,Music
GEO:22.3217383;113.9402012
X-APPLE-STRUCTURED-LOCATION;VALUE=URI;X-ADDRESS=AsiaWorld-Expo Arena Cheong Wing Road Chek Lap Kok Lantau Hong Kong;X-APPLE-RADIUS=500;X-TITLE=Cheong Wing Road\, Chek Lap Kok:geo:113.9402012,22.3217383
END:VEVENT
BEGIN:VEVENT
DTSTART;VALUE=DATE:20170630
DTEND;VALUE=DATE:20170703
DTSTAMP:20260424T181442
CREATED:19170421T030904Z
LAST-MODIFIED:20220929T094342Z
UID:10002559-1498780800-1499039999@www.bcmagazine.net
SUMMARY:Enlightenment of the Goddess of Mercy
DESCRIPTION:Enlightenment of the Goddess of Mercy\, Grand Birthday Celebration at Mount Heung Fa\nChinese Opera Festival 2017\, The Chinese Artists Association of Hong Kong\nDate: 30 June – 2 July\, 2017\nVenue: HK Cultural Centre\, Grand Theatre\nTickets: $450\, $350\, $250\, $150 from Urbtix\nMore info\n30 June\, 2 July – 7:30pm\n1 July – 2:30pm\nIn Chinese with English and Chinese surtitles
URL:https://www.bcmagazine.net/event/enlightenment-of-the-goddess-of-mercy-chinese-opera-festival-2017/
LOCATION:HK Cultural Centre\, Grand Theatre\,\, 10 Salisbury Road\, Tsim Sha Tsui\, Hong Kong
CATEGORIES:2017,Chinese opera,Cultural Festival,Music,Performing Arts
GEO:22.294318;114.171708
X-APPLE-STRUCTURED-LOCATION;VALUE=URI;X-ADDRESS=HK Cultural Centre Grand Theatre 10 Salisbury Road Tsim Sha Tsui Hong Kong;X-APPLE-RADIUS=500;X-TITLE=10 Salisbury Road:geo:114.171708,22.294318
END:VEVENT
BEGIN:VEVENT
DTSTART;TZID=Asia/Hong_Kong:20170630T194500
DTEND;TZID=Asia/Hong_Kong:20170630T194500
DTSTAMP:20260424T181442
CREATED:19170612T074724Z
LAST-MODIFIED:20221010T192805Z
UID:10002847-1498851900-1498851900@www.bcmagazine.net
SUMMARY:Edwood
DESCRIPTION:Edwood\nFriend and Friend Drama Society\nDate: 30 June – 2 July\, 2017\nVenue: HK Cultural Centre\, Studio Theatre\nTickets: $250 from Urbtix
URL:https://www.bcmagazine.net/event/edwood-2017/
LOCATION:HK Cultural Centre\, Studio Theatre\, 10 Salisbury Road\, Tsim Sha Tsui\, Hong Kong
CATEGORIES:2017,Performing Arts,Theatre
END:VEVENT
BEGIN:VEVENT
DTSTART;TZID=Asia/Hong_Kong:20170630T200000
DTEND;TZID=Asia/Hong_Kong:20170630T200000
DTSTAMP:20260424T181442
CREATED:19170613T025351Z
LAST-MODIFIED:20170613T032349Z
UID:10002855-1498852800-1498852800@www.bcmagazine.net
SUMMARY:Love Song Before 90's
DESCRIPTION:Love Song Before 90’s\n0923 Plus Theatre\nDate: 30 June-2 July\, 2017\nVenue: Jockey Club Creative Arts Centre\, Black Box Theatre\nTickets: $180 from Urbtix
URL:https://www.bcmagazine.net/event/love-song-before-90s-2017/2017-06-30/
LOCATION:Jockey Club Creative Arts Centre\, Black Box Theatre\, 30 Pak Tin Street\, Shek Kip Mei\, Hong Kong
CATEGORIES:2017,Performing Arts,Theatre
GEO:22.3346654;114.1657188
X-APPLE-STRUCTURED-LOCATION;VALUE=URI;X-ADDRESS=Jockey Club Creative Arts Centre Black Box Theatre 30 Pak Tin Street Shek Kip Mei Hong Kong;X-APPLE-RADIUS=500;X-TITLE=30 Pak Tin Street:geo:114.1657188,22.3346654
END:VEVENT
BEGIN:VEVENT
DTSTART;TZID=Asia/Hong_Kong:20170630T200000
DTEND;TZID=Asia/Hong_Kong:20170630T200000
DTSTAMP:20260424T181442
CREATED:19170613T025351Z
LAST-MODIFIED:20170613T035922Z
UID:10002864-1498852800-1498852800@www.bcmagazine.net
SUMMARY:Quai Ouest
DESCRIPTION:Quai Ouest\nOn & On Theatre Workshop Co\nDate: 8pm\, 30 June-3 Jul7\, 5-10 July\, 2017\nVenue: Yau Ma Tei Theatre\, Theatre\nTickets: $240 from Urbtix
URL:https://www.bcmagazine.net/event/quai-ouest-2017/2017-06-30/
LOCATION:Yau Ma Tei Theatre\, 6 Waterloo Road\, Yau Ma Tei\, Hong Kong
CATEGORIES:2017,Cantonese drama,Performing Arts,Theatre
GEO:22.312422;114.1692254
X-APPLE-STRUCTURED-LOCATION;VALUE=URI;X-ADDRESS=Yau Ma Tei Theatre 6 Waterloo Road Yau Ma Tei Hong Kong;X-APPLE-RADIUS=500;X-TITLE=6 Waterloo Road:geo:114.1692254,22.312422
END:VEVENT
BEGIN:VEVENT
DTSTART;VALUE=DATE:20170701
DTEND;VALUE=DATE:20170702
DTSTAMP:20260424T181442
CREATED:19170624T020808Z
LAST-MODIFIED:20170624T021014Z
UID:10002904-1498867200-1498953599@www.bcmagazine.net
SUMMARY:Leisure Facilities Free Use Day
DESCRIPTION:Leisure Facilities Free Use Day For HKSAR’s 20th Anniversary\nDate: 1 July\, 2017\nVenue: LCSD Sports Facilities\nTickets: Free\nMore info: Bookings from 24 June. www.lcsd.gov.hk/en/freeuseday/index.html.
URL:https://www.bcmagazine.net/event/leisure-facilities-free-use-day-2017/
CATEGORIES:2017,Free,Sport
END:VEVENT
BEGIN:VEVENT
DTSTART;TZID=Asia/Hong_Kong:20170701T110000
DTEND;TZID=Asia/Hong_Kong:20170701T180000
DTSTAMP:20260424T181442
CREATED:19170615T081433Z
LAST-MODIFIED:20170615T083940Z
UID:10002901-1498906800-1498932000@www.bcmagazine.net
SUMMARY:My Sweet Home Carnival
DESCRIPTION:My Sweet Home Carnival\nDate: 11am\, 1 July\, 2017\nVenue: Nina Tower Offices\, Tsuen Wan\nTickets: Free
URL:https://www.bcmagazine.net/event/my-sweet-home-carnival-2017/
LOCATION:Nina Tower Offices\, Tsuen Wan\, Hong Kong
CATEGORIES:2017,Free,Other,Sport
GEO:22.396428;114.109497
END:VEVENT
BEGIN:VEVENT
DTSTART;TZID=Asia/Hong_Kong:20170701T190000
DTEND;TZID=Asia/Hong_Kong:20170701T190000
DTSTAMP:20260424T181442
CREATED:19170613T025351Z
LAST-MODIFIED:20170613T040217Z
UID:10002874-1498935600-1498935600@www.bcmagazine.net
SUMMARY:GOT7
DESCRIPTION:GOT7\nDate: 7pm\, 1 July\, 2017\nVenue: Asia World-Expo\, Arena\nTickets: $1\,680\, $1\,380\, $980\, $680 from Urbtix
URL:https://www.bcmagazine.net/event/got7-2017/
LOCATION:AsiaWorld-Expo\, Arena\, Cheong Wing Road\, Chek Lap Kok\, Lantau\, Hong Kong
CATEGORIES:2017,Concert,Music,Performing Arts
GEO:22.3217383;113.9402012
X-APPLE-STRUCTURED-LOCATION;VALUE=URI;X-ADDRESS=AsiaWorld-Expo Arena Cheong Wing Road Chek Lap Kok Lantau Hong Kong;X-APPLE-RADIUS=500;X-TITLE=Cheong Wing Road\, Chek Lap Kok:geo:113.9402012,22.3217383
END:VEVENT
BEGIN:VEVENT
DTSTART;TZID=Asia/Hong_Kong:20170701T194500
DTEND;TZID=Asia/Hong_Kong:20170701T194500
DTSTAMP:20260424T181442
CREATED:19170520T100528Z
LAST-MODIFIED:20170520T103446Z
UID:10002671-1498938300-1498938300@www.bcmagazine.net
SUMMARY:In Times of Turmoil
DESCRIPTION:In Times of Turmoil\nHong Kong Repertory Theatre\nDate: 1-9 July\, 2017\nVenue: HK City Hall\, Theatre\nTickets: $300\, $250\, $180 from Urbtix\nMore info:\nDrama in Cantonese with Chinese and English surtitles\n1-3\, 5–8 July – 7:45pm\n2\, 8-9 July – 2:45pm
URL:https://www.bcmagazine.net/event/in-times-of-turmoil-hkrep-2017/2017-07-01/
LOCATION:HK City Hall\, Theatre\, 5 Edinburgh Place\, Central\, Hong Kong
CATEGORIES:2017,Performing Arts,Theatre
GEO:22.2822646;114.1615275
X-APPLE-STRUCTURED-LOCATION;VALUE=URI;X-ADDRESS=HK City Hall Theatre 5 Edinburgh Place Central Hong Kong;X-APPLE-RADIUS=500;X-TITLE=5 Edinburgh Place:geo:114.1615275,22.2822646
END:VEVENT
BEGIN:VEVENT
DTSTART;TZID=Asia/Hong_Kong:20170701T200000
DTEND;TZID=Asia/Hong_Kong:20170701T200000
DTSTAMP:20260424T181442
CREATED:19170320T164456Z
LAST-MODIFIED:20170320T164741Z
UID:10002478-1498939200-1498939200@www.bcmagazine.net
SUMMARY:Priscilla Chan
DESCRIPTION:Priscilla Chan – Priscilla-ism\nDate: 8pm\, 1 July\, 2017\nVenue: Venetian\, Cotai Arena\nTickets: $1\,080\, $880\, $680\, $480\, $280 from HKTicketing
URL:https://www.bcmagazine.net/event/priscilla-chan-macau-2017/
LOCATION:CotaiArena\, Venetian Macao\, Taipa\, Macau
CATEGORIES:2017,Concert,Macau,Music
GEO:22.1483528;113.5602019
X-APPLE-STRUCTURED-LOCATION;VALUE=URI;X-ADDRESS=CotaiArena Venetian Macao Taipa Macau;X-APPLE-RADIUS=500;X-TITLE=Venetian Macao:geo:113.5602019,22.1483528
END:VEVENT
BEGIN:VEVENT
DTSTART;TZID=Asia/Hong_Kong:20170701T200000
DTEND;TZID=Asia/Hong_Kong:20170701T200000
DTSTAMP:20260424T181442
CREATED:19170520T100528Z
LAST-MODIFIED:20170520T115648Z
UID:10001261-1498939200-1498939200@www.bcmagazine.net
SUMMARY:Principle
DESCRIPTION:Principle\nHKRep Black Box Productions\nDate: 1-9 July\, 2017\nVenue: HKRep Black Box\nTickets: $200\, $190\nMore info:\nDrama in Cantonese\n1\, 4–9 July – 8pm\n1–2\, 8–9 July – 3pm
URL:https://www.bcmagazine.net/event/principle-hkrep-black-box-2017/2017-07-01/
LOCATION:HKREP Black Box Theatre\, 8/F\, Sheung Wan Civic Centre\, Sheung Wan Municipal Services Building\, 345 Queen's Road\, Sheung Wan\, Hong Kong
CATEGORIES:2017,Performing Arts,Theatre
END:VEVENT
END:VCALENDAR