BEGIN:VCALENDAR
VERSION:2.0
PRODID:-//bc magazine - ECPv6.15.20//NONSGML v1.0//EN
CALSCALE:GREGORIAN
METHOD:PUBLISH
X-WR-CALNAME:bc magazine
X-ORIGINAL-URL:https://www.bcmagazine.net
X-WR-CALDESC:Events for bc magazine
REFRESH-INTERVAL;VALUE=DURATION:PT1H
X-Robots-Tag:noindex
X-PUBLISHED-TTL:PT1H
BEGIN:VTIMEZONE
TZID:Asia/Hong_Kong
BEGIN:STANDARD
TZOFFSETFROM:+0800
TZOFFSETTO:+0800
TZNAME:HKT
DTSTART:20160101T000000
END:STANDARD
END:VTIMEZONE
BEGIN:VEVENT
DTSTART;VALUE=DATE:20170714
DTEND;VALUE=DATE:20170723
DTSTAMP:20260425T022113
CREATED:19170722T041457Z
LAST-MODIFIED:20170722T052055Z
UID:10003057-1499990400-1500767999@www.bcmagazine.net
SUMMARY:Summerfest
DESCRIPTION:Summerfest\nDate: 14-22 July\, 12-20\, 25-27 August\, 2017\nVenue: Central Harbourfront\nTickets: Free
URL:https://www.bcmagazine.net/event/summerfest-july-2017/
LOCATION:Central Harbourfront\,  9 Lung Wo Road\, Central\, Hong Kong
CATEGORIES:2017,Lifestyle,Other,Sport
GEO:22.2826223;114.164346
X-APPLE-STRUCTURED-LOCATION;VALUE=URI;X-ADDRESS=Central Harbourfront  9 Lung Wo Road Central Hong Kong;X-APPLE-RADIUS=500;X-TITLE=9 Lung Wo Road:geo:114.164346,22.2826223
END:VEVENT
BEGIN:VEVENT
DTSTART;TZID=Asia/Hong_Kong:20170716T143000
DTEND;TZID=Asia/Hong_Kong:20170716T143000
DTSTAMP:20260425T022113
CREATED:19170421T030220Z
LAST-MODIFIED:20170422T160707Z
UID:10001146-1500215400-1500215400@www.bcmagazine.net
SUMMARY:Chongqing Chuan Theatre
DESCRIPTION:Chinese Opera Excerpts\nChinese Opera Festival 2017\, Chongqing Chuan Theatre\nDate: 2:30pm\, 16 July\, 2017\nVenue: Hong Kong City Hall\, Concert Hall\nTickets: $380\, $300\, $220\, $150 from Urbtix
URL:https://www.bcmagazine.net/event/chongqing-chuan-theatre-chinese-opera-festival-2017/
LOCATION:HK City Hall\, Concert Hall\,  5 Edinburgh Place\, Central\, Hong Kong
CATEGORIES:2017,Chinese opera,Cultural Festival,Music,Performing Arts
END:VEVENT
BEGIN:VEVENT
DTSTART;TZID=Asia/Hong_Kong:20170716T144500
DTEND;TZID=Asia/Hong_Kong:20170716T144500
DTSTAMP:20260425T022113
CREATED:20230114T134538Z
LAST-MODIFIED:20230114T134538Z
UID:10002688-1500216300-1500216300@www.bcmagazine.net
SUMMARY:Buried Child
DESCRIPTION:Buried Child\nHong Kong Repertory Theatre\nDate: 15-23 July\, 2017\nVenue: HK City Hall\, Theatre\nTickets: $300\, $250\, $180 from Urbtix\nMore info:\nDrama in Cantonese with Chinese and English surtitles\n15-16\, 18-22 July – 7:45pm\n16\, 22-23 July – 2:45pm
URL:https://www.bcmagazine.net/event/buried-child-hkrep-2017/2017-07-16/
LOCATION:HK City Hall\, Theatre\, 5 Edinburgh Place\, Central\, Hong Kong
CATEGORIES:2017,Performing Arts,Theatre
GEO:22.2822646;114.1615275
X-APPLE-STRUCTURED-LOCATION;VALUE=URI;X-ADDRESS=HK City Hall Theatre 5 Edinburgh Place Central Hong Kong;X-APPLE-RADIUS=500;X-TITLE=5 Edinburgh Place:geo:114.1615275,22.2822646
END:VEVENT
BEGIN:VEVENT
DTSTART;TZID=Asia/Hong_Kong:20170716T150000
DTEND;TZID=Asia/Hong_Kong:20170716T150000
DTSTAMP:20260425T022113
CREATED:20230114T134337Z
LAST-MODIFIED:20230114T134337Z
UID:10002652-1500217200-1500217200@www.bcmagazine.net
SUMMARY:Little Hong Kong Season 6
DESCRIPTION:Little Hong Kong Season 6\nDate: 7-23 July\, 2017\nVenue: HKAPA\, Lyric Theatre\nTickets: $500\, $400\, $350\, $300 from HKTicketing\nMore info:\nTue-Fri: 8pm\nSat & Sun: 3pm & 8pm
URL:https://www.bcmagazine.net/event/little-hong-kong-season-6/2017-07-16/
LOCATION:HKAPA: Lyric Theatre\, 1 Gloucester Road\, Wanchai\, Hong Kong
CATEGORIES:2017,Comedy,Performing Arts,Theatre
GEO:22.2801854;114.1695054
X-APPLE-STRUCTURED-LOCATION;VALUE=URI;X-ADDRESS=HKAPA: Lyric Theatre 1 Gloucester Road Wanchai Hong Kong;X-APPLE-RADIUS=500;X-TITLE=1 Gloucester Road:geo:114.1695054,22.2801854
END:VEVENT
BEGIN:VEVENT
DTSTART;TZID=Asia/Hong_Kong:20170716T150000
DTEND;TZID=Asia/Hong_Kong:20170716T150000
DTSTAMP:20260425T022113
CREATED:20230114T144227Z
LAST-MODIFIED:20230114T144227Z
UID:10003003-1500217200-1500217200@www.bcmagazine.net
SUMMARY:Martin Luther
DESCRIPTION:Martin Luther\nGospel Theatre Network\nDate: 13-16 July\, 2017\nVenue: HK Cultural Centre\, Studio Theatre\nTickets: $260 from Urbtix
URL:https://www.bcmagazine.net/event/martin-luther-2017/2017-07-16/
LOCATION:HK Cultural Centre\, Studio Theatre\, 10 Salisbury Road\, Tsim Sha Tsui\, Hong Kong
CATEGORIES:2017,Cantonese drama,Performing Arts,Theatre
END:VEVENT
BEGIN:VEVENT
DTSTART;TZID=Asia/Hong_Kong:20170716T193000
DTEND;TZID=Asia/Hong_Kong:20170716T193000
DTSTAMP:20260425T022113
CREATED:19170612T074724Z
LAST-MODIFIED:20170612T081010Z
UID:10002811-1500233400-1500233400@www.bcmagazine.net
SUMMARY:Butterfly and Red Pear Blossom
DESCRIPTION:Butterfly and Red Pear Blossom\nDate: 7:30pm\, 13-19\, 21-30 July\, 2017\nVenue: HK Cultural Centre\, Grand Theatre\nTickets: $1\,000\, $800\, $680\, $480\, $200 from Urbtix
URL:https://www.bcmagazine.net/event/butterfly-and-red-pear-blossom-2017/2017-07-16/
LOCATION:HK Cultural Centre\, Grand Theatre\,\, 10 Salisbury Road\, Tsim Sha Tsui\, Hong Kong
CATEGORIES:2017,Cantonese Opera,Music,Performing Arts
GEO:22.294318;114.171708
X-APPLE-STRUCTURED-LOCATION;VALUE=URI;X-ADDRESS=HK Cultural Centre Grand Theatre 10 Salisbury Road Tsim Sha Tsui Hong Kong;X-APPLE-RADIUS=500;X-TITLE=10 Salisbury Road:geo:114.171708,22.294318
END:VEVENT
BEGIN:VEVENT
DTSTART;TZID=Asia/Hong_Kong:20170716T193000
DTEND;TZID=Asia/Hong_Kong:20170716T193000
DTSTAMP:20260425T022113
CREATED:19170612T074724Z
LAST-MODIFIED:20170612T084304Z
UID:10002836-1500233400-1500233400@www.bcmagazine.net
SUMMARY:Fung Cheung Hung Troupe
DESCRIPTION:Fung Cheung Hung Troupe\nDate: 7:30pm\, 15-17 July\, 2017\nVenue: HK Cultural Centre\, Grand Theatre\nTickets: $580\, $460\, $380\, $300\, $200 from Urbtix
URL:https://www.bcmagazine.net/event/fung-cheung-hung-troupe-2017/2017-07-16/
LOCATION:HK Cultural Centre\, Grand Theatre\,\, 10 Salisbury Road\, Tsim Sha Tsui\, Hong Kong
CATEGORIES:2017,Cantonese Opera,Music,Performing Arts
GEO:22.294318;114.171708
X-APPLE-STRUCTURED-LOCATION;VALUE=URI;X-ADDRESS=HK Cultural Centre Grand Theatre 10 Salisbury Road Tsim Sha Tsui Hong Kong;X-APPLE-RADIUS=500;X-TITLE=10 Salisbury Road:geo:114.171708,22.294318
END:VEVENT
BEGIN:VEVENT
DTSTART;TZID=Asia/Hong_Kong:20170716T193000
DTEND;TZID=Asia/Hong_Kong:20170716T193000
DTSTAMP:20260425T022113
CREATED:19170702T035650Z
LAST-MODIFIED:20170702T044355Z
UID:10002927-1500233400-1500233400@www.bcmagazine.net
SUMMARY:GFriend
DESCRIPTION:GFriend\nDate: 7:30pm\, 16 July\, 2017\nVenue: AsiaWorld Expo\, Hall 10\nTickets: $1\,480\, $1080\, $680 from HKTicketing
URL:https://www.bcmagazine.net/event/gfriend-2017/
LOCATION:AsiaWorld-Expo\, Hall 10\, Cheong Wing Road\, Chek Lap Kok\, Lantau\, Hong Kong
CATEGORIES:2017,Concert,Music,Performing Arts,Sport
GEO:22.3217383;113.9402012
X-APPLE-STRUCTURED-LOCATION;VALUE=URI;X-ADDRESS=AsiaWorld-Expo Hall 10 Cheong Wing Road Chek Lap Kok Lantau Hong Kong;X-APPLE-RADIUS=500;X-TITLE=Cheong Wing Road\, Chek Lap Kok:geo:113.9402012,22.3217383
END:VEVENT
BEGIN:VEVENT
DTSTART;TZID=Asia/Hong_Kong:20170716T193000
DTEND;TZID=Asia/Hong_Kong:20170716T200000
DTSTAMP:20260425T022113
CREATED:19170612T045903Z
LAST-MODIFIED:20170612T054716Z
UID:10002797-1500233400-1500235200@www.bcmagazine.net
SUMMARY:St. Joseph's College Green & White Concert 2017
DESCRIPTION:St. Joseph’s College Green & White Concert 2017\nDate: 7:30pm\, 16 July\, 2017\nVenue: Hong Kong Polytechnic University\, Jockey Club Auditorium\nTickets: $250\, $200\, $150 from Cityline
URL:https://www.bcmagazine.net/event/st-josephs-college-green-white-concert-2017/
LOCATION:Hong Kong Polytechnic University\, Jockey Club Auditorium\, Hong Kong
CATEGORIES:2017,Concert,Music,Performing Arts
GEO:22.396428;114.109497
END:VEVENT
BEGIN:VEVENT
DTSTART;TZID=Asia/Hong_Kong:20170716T194500
DTEND;TZID=Asia/Hong_Kong:20170716T194500
DTSTAMP:20260425T022113
CREATED:19170520T100528Z
LAST-MODIFIED:20170520T104204Z
UID:10002682-1500234300-1500234300@www.bcmagazine.net
SUMMARY:Buried Child
DESCRIPTION:Buried Child\nHong Kong Repertory Theatre\nDate: 15-23 July\, 2017\nVenue: HK City Hall\, Theatre\nTickets: $300\, $250\, $180 from Urbtix\nMore info:\nDrama in Cantonese with Chinese and English surtitles\n15-16\, 18-22 July – 7:45pm\n16\, 22-23 July – 2:45pm
URL:https://www.bcmagazine.net/event/buried-child-hkrep-2017/2017-07-16/
LOCATION:HK City Hall\, Theatre\, 5 Edinburgh Place\, Central\, Hong Kong
CATEGORIES:2017,Performing Arts,Theatre
GEO:22.2822646;114.1615275
X-APPLE-STRUCTURED-LOCATION;VALUE=URI;X-ADDRESS=HK City Hall Theatre 5 Edinburgh Place Central Hong Kong;X-APPLE-RADIUS=500;X-TITLE=5 Edinburgh Place:geo:114.1615275,22.2822646
END:VEVENT
BEGIN:VEVENT
DTSTART;TZID=Asia/Hong_Kong:20170716T200000
DTEND;TZID=Asia/Hong_Kong:20170716T200000
DTSTAMP:20260425T022113
CREATED:19170520T053805Z
LAST-MODIFIED:20170520T070627Z
UID:10002642-1500235200-1500235200@www.bcmagazine.net
SUMMARY:Little Hong Kong Season 6
DESCRIPTION:Little Hong Kong Season 6\nDate: 7-23 July\, 2017\nVenue: HKAPA\, Lyric Theatre\nTickets: $500\, $400\, $350\, $300 from HKTicketing\nMore info:\nTue-Fri: 8pm\nSat & Sun: 3pm & 8pm
URL:https://www.bcmagazine.net/event/little-hong-kong-season-6/2017-07-16/
LOCATION:HKAPA: Lyric Theatre\, 1 Gloucester Road\, Wanchai\, Hong Kong
CATEGORIES:2017,Comedy,Performing Arts,Theatre
GEO:22.2801854;114.1695054
X-APPLE-STRUCTURED-LOCATION;VALUE=URI;X-ADDRESS=HKAPA: Lyric Theatre 1 Gloucester Road Wanchai Hong Kong;X-APPLE-RADIUS=500;X-TITLE=1 Gloucester Road:geo:114.1695054,22.2801854
END:VEVENT
BEGIN:VEVENT
DTSTART;TZID=Asia/Hong_Kong:20170716T200000
DTEND;TZID=Asia/Hong_Kong:20170716T200000
DTSTAMP:20260425T022113
CREATED:19170708T025200Z
LAST-MODIFIED:20170708T063722Z
UID:10003001-1500235200-1500235200@www.bcmagazine.net
SUMMARY:Martin Luther
DESCRIPTION:Martin Luther\nGospel Theatre Network\nDate: 13-16 July\, 2017\nVenue: HK Cultural Centre\, Studio Theatre\nTickets: $260 from Urbtix
URL:https://www.bcmagazine.net/event/martin-luther-2017/2017-07-16/
LOCATION:HK Cultural Centre\, Studio Theatre\, 10 Salisbury Road\, Tsim Sha Tsui\, Hong Kong
CATEGORIES:2017,Cantonese drama,Performing Arts,Theatre
END:VEVENT
BEGIN:VEVENT
DTSTART;TZID=Asia/Hong_Kong:20170716T201500
DTEND;TZID=Asia/Hong_Kong:20170716T201500
DTSTAMP:20260425T022113
CREATED:19170530T034649Z
LAST-MODIFIED:20170530T044044Z
UID:10002770-1500236100-1500236100@www.bcmagazine.net
SUMMARY:龍威武
DESCRIPTION:龍威武三個好歌男人演唱會\nDate: 8:15pm\, 15-16 July\, 2017\nVenue: MacPherson Stadium\nTickets: $580\, $480\, $380 from Cityline
URL:https://www.bcmagazine.net/event/%e9%be%8d%e5%a8%81%e6%ad%a6%e4%b8%89%e5%80%8b%e5%a5%bd%e6%ad%8c%e7%94%b7%e4%ba%ba%e6%bc%94%e5%94%b1%e6%9c%83-2017/2017-07-16/
LOCATION:MacPherson Stadium\, 38 Nelson Street\, Mongkok\, Hong Kong
CATEGORIES:2017,Concert,Music,Performing Arts
GEO:22.3188457;114.1728403
X-APPLE-STRUCTURED-LOCATION;VALUE=URI;X-ADDRESS=MacPherson Stadium 38 Nelson Street Mongkok Hong Kong;X-APPLE-RADIUS=500;X-TITLE=38 Nelson Street:geo:114.1728403,22.3188457
END:VEVENT
BEGIN:VEVENT
DTSTART;TZID=Asia/Hong_Kong:20170717T193000
DTEND;TZID=Asia/Hong_Kong:20170717T193000
DTSTAMP:20260425T022113
CREATED:19170612T074724Z
LAST-MODIFIED:20170612T081010Z
UID:10002812-1500319800-1500319800@www.bcmagazine.net
SUMMARY:Butterfly and Red Pear Blossom
DESCRIPTION:Butterfly and Red Pear Blossom\nDate: 7:30pm\, 13-19\, 21-30 July\, 2017\nVenue: HK Cultural Centre\, Grand Theatre\nTickets: $1\,000\, $800\, $680\, $480\, $200 from Urbtix
URL:https://www.bcmagazine.net/event/butterfly-and-red-pear-blossom-2017/2017-07-17/
LOCATION:HK Cultural Centre\, Grand Theatre\,\, 10 Salisbury Road\, Tsim Sha Tsui\, Hong Kong
CATEGORIES:2017,Cantonese Opera,Music,Performing Arts
GEO:22.294318;114.171708
X-APPLE-STRUCTURED-LOCATION;VALUE=URI;X-ADDRESS=HK Cultural Centre Grand Theatre 10 Salisbury Road Tsim Sha Tsui Hong Kong;X-APPLE-RADIUS=500;X-TITLE=10 Salisbury Road:geo:114.171708,22.294318
END:VEVENT
BEGIN:VEVENT
DTSTART;TZID=Asia/Hong_Kong:20170717T193000
DTEND;TZID=Asia/Hong_Kong:20170717T193000
DTSTAMP:20260425T022113
CREATED:19170612T074724Z
LAST-MODIFIED:20170612T084304Z
UID:10002837-1500319800-1500319800@www.bcmagazine.net
SUMMARY:Fung Cheung Hung Troupe
DESCRIPTION:Fung Cheung Hung Troupe\nDate: 7:30pm\, 15-17 July\, 2017\nVenue: HK Cultural Centre\, Grand Theatre\nTickets: $580\, $460\, $380\, $300\, $200 from Urbtix
URL:https://www.bcmagazine.net/event/fung-cheung-hung-troupe-2017/2017-07-17/
LOCATION:HK Cultural Centre\, Grand Theatre\,\, 10 Salisbury Road\, Tsim Sha Tsui\, Hong Kong
CATEGORIES:2017,Cantonese Opera,Music,Performing Arts
GEO:22.294318;114.171708
X-APPLE-STRUCTURED-LOCATION;VALUE=URI;X-ADDRESS=HK Cultural Centre Grand Theatre 10 Salisbury Road Tsim Sha Tsui Hong Kong;X-APPLE-RADIUS=500;X-TITLE=10 Salisbury Road:geo:114.171708,22.294318
END:VEVENT
BEGIN:VEVENT
DTSTART;TZID=Asia/Hong_Kong:20170718T193000
DTEND;TZID=Asia/Hong_Kong:20170718T193000
DTSTAMP:20260425T022113
CREATED:19170612T074724Z
LAST-MODIFIED:20170612T081010Z
UID:10002813-1500406200-1500406200@www.bcmagazine.net
SUMMARY:Butterfly and Red Pear Blossom
DESCRIPTION:Butterfly and Red Pear Blossom\nDate: 7:30pm\, 13-19\, 21-30 July\, 2017\nVenue: HK Cultural Centre\, Grand Theatre\nTickets: $1\,000\, $800\, $680\, $480\, $200 from Urbtix
URL:https://www.bcmagazine.net/event/butterfly-and-red-pear-blossom-2017/2017-07-18/
LOCATION:HK Cultural Centre\, Grand Theatre\,\, 10 Salisbury Road\, Tsim Sha Tsui\, Hong Kong
CATEGORIES:2017,Cantonese Opera,Music,Performing Arts
GEO:22.294318;114.171708
X-APPLE-STRUCTURED-LOCATION;VALUE=URI;X-ADDRESS=HK Cultural Centre Grand Theatre 10 Salisbury Road Tsim Sha Tsui Hong Kong;X-APPLE-RADIUS=500;X-TITLE=10 Salisbury Road:geo:114.171708,22.294318
END:VEVENT
BEGIN:VEVENT
DTSTART;TZID=Asia/Hong_Kong:20170718T194500
DTEND;TZID=Asia/Hong_Kong:20170718T194500
DTSTAMP:20260425T022113
CREATED:19170520T100528Z
LAST-MODIFIED:20170520T104204Z
UID:10002683-1500407100-1500407100@www.bcmagazine.net
SUMMARY:Buried Child
DESCRIPTION:Buried Child\nHong Kong Repertory Theatre\nDate: 15-23 July\, 2017\nVenue: HK City Hall\, Theatre\nTickets: $300\, $250\, $180 from Urbtix\nMore info:\nDrama in Cantonese with Chinese and English surtitles\n15-16\, 18-22 July – 7:45pm\n16\, 22-23 July – 2:45pm
URL:https://www.bcmagazine.net/event/buried-child-hkrep-2017/2017-07-18/
LOCATION:HK City Hall\, Theatre\, 5 Edinburgh Place\, Central\, Hong Kong
CATEGORIES:2017,Performing Arts,Theatre
GEO:22.2822646;114.1615275
X-APPLE-STRUCTURED-LOCATION;VALUE=URI;X-ADDRESS=HK City Hall Theatre 5 Edinburgh Place Central Hong Kong;X-APPLE-RADIUS=500;X-TITLE=5 Edinburgh Place:geo:114.1615275,22.2822646
END:VEVENT
BEGIN:VEVENT
DTSTART;TZID=Asia/Hong_Kong:20170718T200000
DTEND;TZID=Asia/Hong_Kong:20170718T200000
DTSTAMP:20260425T022113
CREATED:19170520T053805Z
LAST-MODIFIED:20170520T070627Z
UID:10002643-1500408000-1500408000@www.bcmagazine.net
SUMMARY:Little Hong Kong Season 6
DESCRIPTION:Little Hong Kong Season 6\nDate: 7-23 July\, 2017\nVenue: HKAPA\, Lyric Theatre\nTickets: $500\, $400\, $350\, $300 from HKTicketing\nMore info:\nTue-Fri: 8pm\nSat & Sun: 3pm & 8pm
URL:https://www.bcmagazine.net/event/little-hong-kong-season-6/2017-07-18/
LOCATION:HKAPA: Lyric Theatre\, 1 Gloucester Road\, Wanchai\, Hong Kong
CATEGORIES:2017,Comedy,Performing Arts,Theatre
GEO:22.2801854;114.1695054
X-APPLE-STRUCTURED-LOCATION;VALUE=URI;X-ADDRESS=HKAPA: Lyric Theatre 1 Gloucester Road Wanchai Hong Kong;X-APPLE-RADIUS=500;X-TITLE=1 Gloucester Road:geo:114.1695054,22.2801854
END:VEVENT
BEGIN:VEVENT
DTSTART;VALUE=DATE:20170719
DTEND;VALUE=DATE:20170726
DTSTAMP:20260425T022114
CREATED:19170626T094608Z
LAST-MODIFIED:20170626T100004Z
UID:10002908-1500422400-1501027199@www.bcmagazine.net
SUMMARY:HK Book Fair
DESCRIPTION:HK Book Fair\nDate: 19-25 July\, 2017\nVenue: HKCEC\nTickets: $25
URL:https://www.bcmagazine.net/event/hk-book-fair-2017/
LOCATION:HK Convention and Exhibition Centre\, 1 Expo Drive\, Wanchai\, Hong Kong
CATEGORIES:2017,Exhibition,Other
END:VEVENT
BEGIN:VEVENT
DTSTART;TZID=Asia/Hong_Kong:20170719T193000
DTEND;TZID=Asia/Hong_Kong:20170719T193000
DTSTAMP:20260425T022114
CREATED:19170612T074724Z
LAST-MODIFIED:20170612T081010Z
UID:10002814-1500492600-1500492600@www.bcmagazine.net
SUMMARY:Butterfly and Red Pear Blossom
DESCRIPTION:Butterfly and Red Pear Blossom\nDate: 7:30pm\, 13-19\, 21-30 July\, 2017\nVenue: HK Cultural Centre\, Grand Theatre\nTickets: $1\,000\, $800\, $680\, $480\, $200 from Urbtix
URL:https://www.bcmagazine.net/event/butterfly-and-red-pear-blossom-2017/2017-07-19/
LOCATION:HK Cultural Centre\, Grand Theatre\,\, 10 Salisbury Road\, Tsim Sha Tsui\, Hong Kong
CATEGORIES:2017,Cantonese Opera,Music,Performing Arts
GEO:22.294318;114.171708
X-APPLE-STRUCTURED-LOCATION;VALUE=URI;X-ADDRESS=HK Cultural Centre Grand Theatre 10 Salisbury Road Tsim Sha Tsui Hong Kong;X-APPLE-RADIUS=500;X-TITLE=10 Salisbury Road:geo:114.171708,22.294318
END:VEVENT
BEGIN:VEVENT
DTSTART;TZID=Asia/Hong_Kong:20170719T194500
DTEND;TZID=Asia/Hong_Kong:20170719T194500
DTSTAMP:20260425T022114
CREATED:19170520T100528Z
LAST-MODIFIED:20170520T104204Z
UID:10002684-1500493500-1500493500@www.bcmagazine.net
SUMMARY:Buried Child
DESCRIPTION:Buried Child\nHong Kong Repertory Theatre\nDate: 15-23 July\, 2017\nVenue: HK City Hall\, Theatre\nTickets: $300\, $250\, $180 from Urbtix\nMore info:\nDrama in Cantonese with Chinese and English surtitles\n15-16\, 18-22 July – 7:45pm\n16\, 22-23 July – 2:45pm
URL:https://www.bcmagazine.net/event/buried-child-hkrep-2017/2017-07-19/
LOCATION:HK City Hall\, Theatre\, 5 Edinburgh Place\, Central\, Hong Kong
CATEGORIES:2017,Performing Arts,Theatre
GEO:22.2822646;114.1615275
X-APPLE-STRUCTURED-LOCATION;VALUE=URI;X-ADDRESS=HK City Hall Theatre 5 Edinburgh Place Central Hong Kong;X-APPLE-RADIUS=500;X-TITLE=5 Edinburgh Place:geo:114.1615275,22.2822646
END:VEVENT
BEGIN:VEVENT
DTSTART;TZID=Asia/Hong_Kong:20170719T200000
DTEND;TZID=Asia/Hong_Kong:20170719T200000
DTSTAMP:20260425T022114
CREATED:19170520T053805Z
LAST-MODIFIED:20170520T070627Z
UID:10002644-1500494400-1500494400@www.bcmagazine.net
SUMMARY:Little Hong Kong Season 6
DESCRIPTION:Little Hong Kong Season 6\nDate: 7-23 July\, 2017\nVenue: HKAPA\, Lyric Theatre\nTickets: $500\, $400\, $350\, $300 from HKTicketing\nMore info:\nTue-Fri: 8pm\nSat & Sun: 3pm & 8pm
URL:https://www.bcmagazine.net/event/little-hong-kong-season-6/2017-07-19/
LOCATION:HKAPA: Lyric Theatre\, 1 Gloucester Road\, Wanchai\, Hong Kong
CATEGORIES:2017,Comedy,Performing Arts,Theatre
GEO:22.2801854;114.1695054
X-APPLE-STRUCTURED-LOCATION;VALUE=URI;X-ADDRESS=HKAPA: Lyric Theatre 1 Gloucester Road Wanchai Hong Kong;X-APPLE-RADIUS=500;X-TITLE=1 Gloucester Road:geo:114.1695054,22.2801854
END:VEVENT
BEGIN:VEVENT
DTSTART;VALUE=DATE:20170720
DTEND;VALUE=DATE:20170724
DTSTAMP:20260425T022114
CREATED:19170615T064338Z
LAST-MODIFIED:20170616T082645Z
UID:10002899-1500508800-1500854399@www.bcmagazine.net
SUMMARY:Hong Kong Masters
DESCRIPTION:Hong Kong Masters\nDate: 20-23 July\, 2017\nVenue: Queen Elizabeth Stadium\nTickets: tbc
URL:https://www.bcmagazine.net/event/hong-kong-masters-2017/
LOCATION:Queen Elizabeth Stadium\, 18 Oi Kwan Road\, Wanchai\, Hong Kong
CATEGORIES:2017,Sport
GEO:22.2751271;114.1789682
X-APPLE-STRUCTURED-LOCATION;VALUE=URI;X-ADDRESS=Queen Elizabeth Stadium 18 Oi Kwan Road Wanchai Hong Kong;X-APPLE-RADIUS=500;X-TITLE=18 Oi Kwan Road:geo:114.1789682,22.2751271
END:VEVENT
BEGIN:VEVENT
DTSTART;TZID=Asia/Hong_Kong:20170720T193000
DTEND;TZID=Asia/Hong_Kong:20170720T193000
DTSTAMP:20260425T022114
CREATED:19170612T074724Z
LAST-MODIFIED:20170612T081010Z
UID:10002815-1500579000-1500579000@www.bcmagazine.net
SUMMARY:Butterfly and Red Pear Blossom
DESCRIPTION:Butterfly and Red Pear Blossom\nDate: 7:30pm\, 13-19\, 21-30 July\, 2017\nVenue: HK Cultural Centre\, Grand Theatre\nTickets: $1\,000\, $800\, $680\, $480\, $200 from Urbtix
URL:https://www.bcmagazine.net/event/butterfly-and-red-pear-blossom-2017/2017-07-20/
LOCATION:HK Cultural Centre\, Grand Theatre\,\, 10 Salisbury Road\, Tsim Sha Tsui\, Hong Kong
CATEGORIES:2017,Cantonese Opera,Music,Performing Arts
GEO:22.294318;114.171708
X-APPLE-STRUCTURED-LOCATION;VALUE=URI;X-ADDRESS=HK Cultural Centre Grand Theatre 10 Salisbury Road Tsim Sha Tsui Hong Kong;X-APPLE-RADIUS=500;X-TITLE=10 Salisbury Road:geo:114.171708,22.294318
END:VEVENT
BEGIN:VEVENT
DTSTART;TZID=Asia/Hong_Kong:20170720T194500
DTEND;TZID=Asia/Hong_Kong:20170720T194500
DTSTAMP:20260425T022114
CREATED:19170520T100528Z
LAST-MODIFIED:20170520T104204Z
UID:10002685-1500579900-1500579900@www.bcmagazine.net
SUMMARY:Buried Child
DESCRIPTION:Buried Child\nHong Kong Repertory Theatre\nDate: 15-23 July\, 2017\nVenue: HK City Hall\, Theatre\nTickets: $300\, $250\, $180 from Urbtix\nMore info:\nDrama in Cantonese with Chinese and English surtitles\n15-16\, 18-22 July – 7:45pm\n16\, 22-23 July – 2:45pm
URL:https://www.bcmagazine.net/event/buried-child-hkrep-2017/2017-07-20/
LOCATION:HK City Hall\, Theatre\, 5 Edinburgh Place\, Central\, Hong Kong
CATEGORIES:2017,Performing Arts,Theatre
GEO:22.2822646;114.1615275
X-APPLE-STRUCTURED-LOCATION;VALUE=URI;X-ADDRESS=HK City Hall Theatre 5 Edinburgh Place Central Hong Kong;X-APPLE-RADIUS=500;X-TITLE=5 Edinburgh Place:geo:114.1615275,22.2822646
END:VEVENT
BEGIN:VEVENT
DTSTART;TZID=Asia/Hong_Kong:20170720T200000
DTEND;TZID=Asia/Hong_Kong:20170720T200000
DTSTAMP:20260425T022114
CREATED:19170520T053805Z
LAST-MODIFIED:20170520T070627Z
UID:10002645-1500580800-1500580800@www.bcmagazine.net
SUMMARY:Little Hong Kong Season 6
DESCRIPTION:Little Hong Kong Season 6\nDate: 7-23 July\, 2017\nVenue: HKAPA\, Lyric Theatre\nTickets: $500\, $400\, $350\, $300 from HKTicketing\nMore info:\nTue-Fri: 8pm\nSat & Sun: 3pm & 8pm
URL:https://www.bcmagazine.net/event/little-hong-kong-season-6/2017-07-20/
LOCATION:HKAPA: Lyric Theatre\, 1 Gloucester Road\, Wanchai\, Hong Kong
CATEGORIES:2017,Comedy,Performing Arts,Theatre
GEO:22.2801854;114.1695054
X-APPLE-STRUCTURED-LOCATION;VALUE=URI;X-ADDRESS=HKAPA: Lyric Theatre 1 Gloucester Road Wanchai Hong Kong;X-APPLE-RADIUS=500;X-TITLE=1 Gloucester Road:geo:114.1695054,22.2801854
END:VEVENT
BEGIN:VEVENT
DTSTART;VALUE=DATE:20170721
DTEND;VALUE=DATE:20170724
DTSTAMP:20260425T022114
CREATED:20170530T051029Z
LAST-MODIFIED:20170530T055504Z
UID:10006398-1500595200-1500854399@www.bcmagazine.net
SUMMARY:FIVB Volleyball World Grand Prix
DESCRIPTION:FIVB Volleyball World Grand Prix – Hong Kong 2017\nDate: 21-23 July\, 2017\nVenue: HK Coliseum\nTickets: tbc
URL:https://www.bcmagazine.net/event/fivb-volleyball-world-grand-prix-2017/
LOCATION:HK Coliseum\, 9 Cheong Wan Road\, Hung Hom\, Hong Kong
CATEGORIES:2017,Sport,Volleyball
GEO:22.3014169;114.1820305
X-APPLE-STRUCTURED-LOCATION;VALUE=URI;X-ADDRESS=HK Coliseum 9 Cheong Wan Road Hung Hom Hong Kong;X-APPLE-RADIUS=500;X-TITLE=9 Cheong Wan Road:geo:114.1820305,22.3014169
END:VEVENT
BEGIN:VEVENT
DTSTART;VALUE=DATE:20170721
DTEND;VALUE=DATE:20170726
DTSTAMP:20260425T022114
CREATED:19170626T094608Z
LAST-MODIFIED:20170626T095952Z
UID:10002909-1500595200-1501027199@www.bcmagazine.net
SUMMARY:Sports and Leisure Expo
DESCRIPTION:Sports and Leisure Expo\nDate: 21-25 July\, 2017\nVenue: HKCEC\nTickets: $25
URL:https://www.bcmagazine.net/event/sports-and-leisure-expo-2017/
LOCATION:HK Convention and Exhibition Centre\, 1 Expo Drive\, Wanchai\, Hong Kong
CATEGORIES:2017,Exhibition,Lifestyle,Other
END:VEVENT
BEGIN:VEVENT
DTSTART;TZID=Asia/Hong_Kong:20170721T193000
DTEND;TZID=Asia/Hong_Kong:20170721T193000
DTSTAMP:20260425T022114
CREATED:19170421T030220Z
LAST-MODIFIED:20170422T154447Z
UID:10001143-1500665400-1500665400@www.bcmagazine.net
SUMMARY:Xi'an Yisu Society
DESCRIPTION:Chinese Opera Excerpts\nChinese Opera Festival 2017\, Xi’an Yisu Society\nDate: 7:30pm\, 21 July\, 2017\nVenue: Ko Shan Theatre New Wing\, Auditorium\nTickets: $340\, $260\, $150 from Urbtix
URL:https://www.bcmagazine.net/event/xian-yisu-society-chinese-opera-festival-2017/
LOCATION:Ko Shan Theatre New Wing Auditorium\, 77 Ko Shan Road\, Hung Hom\, Hong Kong
CATEGORIES:2017,Chinese opera,Cultural Festival,Music,Performing Arts
GEO:22.3145097;114.1868281
X-APPLE-STRUCTURED-LOCATION;VALUE=URI;X-ADDRESS=Ko Shan Theatre New Wing Auditorium 77 Ko Shan Road Hung Hom Hong Kong;X-APPLE-RADIUS=500;X-TITLE=77 Ko Shan Road:geo:114.1868281,22.3145097
END:VEVENT
BEGIN:VEVENT
DTSTART;TZID=Asia/Hong_Kong:20170721T193000
DTEND;TZID=Asia/Hong_Kong:20170721T193000
DTSTAMP:20260425T022114
CREATED:19170612T074724Z
LAST-MODIFIED:20170612T081010Z
UID:10002816-1500665400-1500665400@www.bcmagazine.net
SUMMARY:Butterfly and Red Pear Blossom
DESCRIPTION:Butterfly and Red Pear Blossom\nDate: 7:30pm\, 13-19\, 21-30 July\, 2017\nVenue: HK Cultural Centre\, Grand Theatre\nTickets: $1\,000\, $800\, $680\, $480\, $200 from Urbtix
URL:https://www.bcmagazine.net/event/butterfly-and-red-pear-blossom-2017/2017-07-21/
LOCATION:HK Cultural Centre\, Grand Theatre\,\, 10 Salisbury Road\, Tsim Sha Tsui\, Hong Kong
CATEGORIES:2017,Cantonese Opera,Music,Performing Arts
GEO:22.294318;114.171708
X-APPLE-STRUCTURED-LOCATION;VALUE=URI;X-ADDRESS=HK Cultural Centre Grand Theatre 10 Salisbury Road Tsim Sha Tsui Hong Kong;X-APPLE-RADIUS=500;X-TITLE=10 Salisbury Road:geo:114.171708,22.294318
END:VEVENT
END:VCALENDAR