BEGIN:VCALENDAR
VERSION:2.0
PRODID:-//bc magazine - ECPv6.15.20//NONSGML v1.0//EN
CALSCALE:GREGORIAN
METHOD:PUBLISH
X-WR-CALNAME:bc magazine
X-ORIGINAL-URL:https://www.bcmagazine.net
X-WR-CALDESC:Events for bc magazine
REFRESH-INTERVAL;VALUE=DURATION:PT1H
X-Robots-Tag:noindex
X-PUBLISHED-TTL:PT1H
BEGIN:VTIMEZONE
TZID:Asia/Hong_Kong
BEGIN:STANDARD
TZOFFSETFROM:+0800
TZOFFSETTO:+0800
TZNAME:HKT
DTSTART:20160101T000000
END:STANDARD
END:VTIMEZONE
BEGIN:VEVENT
DTSTART;VALUE=DATE:20170728
DTEND;VALUE=DATE:20170904
DTSTAMP:20260424T235009
CREATED:19170624T033505Z
LAST-MODIFIED:20170624T033846Z
UID:10002906-1501200000-1504483199@www.bcmagazine.net
SUMMARY:Our Sanrio Times
DESCRIPTION:Our Sanrio Times\nDate: 28 July-3 September\, 2017\nVenue: Studio City\, Macau\nTickets: $150
URL:https://www.bcmagazine.net/event/our-sanrio-times-macau-2017/
LOCATION:Studio City\, Estrada do Istmo\, Cotai\, Macau
CATEGORIES:2017,Exhibition,Macau,Other
GEO:22.1397693;113.5632663
X-APPLE-STRUCTURED-LOCATION;VALUE=URI;X-ADDRESS=Studio City Estrada do Istmo Cotai Macau;X-APPLE-RADIUS=500;X-TITLE=Estrada do Istmo:geo:113.5632663,22.1397693
END:VEVENT
BEGIN:VEVENT
DTSTART;TZID=Asia/Hong_Kong:20170729T193000
DTEND;TZID=Asia/Hong_Kong:20170729T193000
DTSTAMP:20260424T235009
CREATED:19170515T064143Z
LAST-MODIFIED:20221007T100032Z
UID:10001226-1501356600-1501356600@www.bcmagazine.net
SUMMARY:The Simon & Garfunkel Story
DESCRIPTION:The Simon & Garfunkel Story\nDate: 29 July – 1 August\, 2017\nVenue: HKAPA\, Lyric Theatre\nTickets: $795\, $595\, $495\, $395 from HKTicketing
URL:https://www.bcmagazine.net/event/the-simon-garfunkel-story-2017/
LOCATION:HKAPA: Lyric Theatre\, 1 Gloucester Road\, Wanchai\, Hong Kong
CATEGORIES:2017,Music,Musical,Performing Arts
GEO:22.2801854;114.1695054
X-APPLE-STRUCTURED-LOCATION;VALUE=URI;X-ADDRESS=HKAPA: Lyric Theatre 1 Gloucester Road Wanchai Hong Kong;X-APPLE-RADIUS=500;X-TITLE=1 Gloucester Road:geo:114.1695054,22.2801854
END:VEVENT
BEGIN:VEVENT
DTSTART;TZID=Asia/Hong_Kong:20170729T193000
DTEND;TZID=Asia/Hong_Kong:20170729T193000
DTSTAMP:20260424T235009
CREATED:19170611T091808Z
LAST-MODIFIED:20170611T101957Z
UID:10002794-1501356600-1501356600@www.bcmagazine.net
SUMMARY:Kalafina
DESCRIPTION:Kalafina\nDate: 7:30pm\, 29 July\, 2017\nVenue: Kitec\, Rotunda 3\nTickets: $1\,180\, $980\, $780\, $580 from HKTicketing
URL:https://www.bcmagazine.net/event/kalafina-2017/
LOCATION:KITEC\, Rotunda 3\, 1 Trademart Drive\, Kowloon Bay\, Hong Kong
CATEGORIES:2017,Concert,Music
GEO:22.3239575;114.2037608
X-APPLE-STRUCTURED-LOCATION;VALUE=URI;X-ADDRESS=KITEC Rotunda 3 1 Trademart Drive Kowloon Bay Hong Kong;X-APPLE-RADIUS=500;X-TITLE=1 Trademart Drive:geo:114.2037608,22.3239575
END:VEVENT
BEGIN:VEVENT
DTSTART;TZID=Asia/Hong_Kong:20170729T193000
DTEND;TZID=Asia/Hong_Kong:20170729T193000
DTSTAMP:20260424T235009
CREATED:19170612T074724Z
LAST-MODIFIED:20170612T081010Z
UID:10002824-1501356600-1501356600@www.bcmagazine.net
SUMMARY:Butterfly and Red Pear Blossom
DESCRIPTION:Butterfly and Red Pear Blossom\nDate: 7:30pm\, 13-19\, 21-30 July\, 2017\nVenue: HK Cultural Centre\, Grand Theatre\nTickets: $1\,000\, $800\, $680\, $480\, $200 from Urbtix
URL:https://www.bcmagazine.net/event/butterfly-and-red-pear-blossom-2017/2017-07-29/
LOCATION:HK Cultural Centre\, Grand Theatre\,\, 10 Salisbury Road\, Tsim Sha Tsui\, Hong Kong
CATEGORIES:2017,Cantonese Opera,Music,Performing Arts
GEO:22.294318;114.171708
X-APPLE-STRUCTURED-LOCATION;VALUE=URI;X-ADDRESS=HK Cultural Centre Grand Theatre 10 Salisbury Road Tsim Sha Tsui Hong Kong;X-APPLE-RADIUS=500;X-TITLE=10 Salisbury Road:geo:114.171708,22.294318
END:VEVENT
BEGIN:VEVENT
DTSTART;TZID=Asia/Hong_Kong:20170729T194500
DTEND;TZID=Asia/Hong_Kong:20170729T194500
DTSTAMP:20260424T235009
CREATED:19170708T025200Z
LAST-MODIFIED:20230114T015420Z
UID:10003008-1501357500-1501357500@www.bcmagazine.net
SUMMARY:Lion Rock
DESCRIPTION:Lion Rock ~ Musical (Re-run)\nAugustine Drama Group\nDate: 28-30 July\, 2017\nVenue: HK Cultural Centre\, Studio Theatre\nTickets: $260\, $160 from Urbtix
URL:https://www.bcmagazine.net/event/lion-rock-re-run-2017/2017-07-29/
LOCATION:HK Cultural Centre\, Studio Theatre\, 10 Salisbury Road\, Tsim Sha Tsui\, Hong Kong
CATEGORIES:2017,Cantonese drama,Musical,Performing Arts,Theatre
END:VEVENT
BEGIN:VEVENT
DTSTART;TZID=Asia/Hong_Kong:20170729T200000
DTEND;TZID=Asia/Hong_Kong:20170729T200000
DTSTAMP:20260424T235009
CREATED:19170611T091808Z
LAST-MODIFIED:20170611T093407Z
UID:10002783-1501358400-1501358400@www.bcmagazine.net
SUMMARY:Root Five
DESCRIPTION:Root Five\nDate: 8pm\, 29 July\, 2017\nVenue: Music Zone@E-Max\nTickets: $480\, $350 from Cityline
URL:https://www.bcmagazine.net/event/root-five-2017/
LOCATION:KITEC\, Music Zone@E-Max\, KITEC\,‎ 1 Trademart Drive\, Kowloon Bay\, Hong Kong
CATEGORIES:2017,Concert,Music
GEO:22.3239575;114.2037608
X-APPLE-STRUCTURED-LOCATION;VALUE=URI;X-ADDRESS=KITEC Music Zone@E-Max KITEC‎ 1 Trademart Drive Kowloon Bay Hong Kong;X-APPLE-RADIUS=500;X-TITLE=KITEC\,‎ 1 Trademart Drive:geo:114.2037608,22.3239575
END:VEVENT
BEGIN:VEVENT
DTSTART;TZID=Asia/Hong_Kong:20170730T173000
DTEND;TZID=Asia/Hong_Kong:20170730T173000
DTSTAMP:20260424T235009
CREATED:19170708T025200Z
LAST-MODIFIED:20170708T033815Z
UID:10002940-1501435800-1501435800@www.bcmagazine.net
SUMMARY:NBA Nike Stars vs CBA Stars
DESCRIPTION:NBA Nike Stars vs CBA Stars\nDate: 5:30pm\, 30 July\, 2017\nVenue: HK Colliseum\nTickets: $7\,800\, $1\,980\, $1\,380\, $680\, $380 from Urbtix
URL:https://www.bcmagazine.net/event/nba-nike-stars-vs-cba-stars-2017/
LOCATION:HK Coliseum\, 9 Cheong Wan Road\, Hung Hom\, Hong Kong
CATEGORIES:2017,Basketball,Sport
GEO:22.3014169;114.1820305
X-APPLE-STRUCTURED-LOCATION;VALUE=URI;X-ADDRESS=HK Coliseum 9 Cheong Wan Road Hung Hom Hong Kong;X-APPLE-RADIUS=500;X-TITLE=9 Cheong Wan Road:geo:114.1820305,22.3014169
END:VEVENT
BEGIN:VEVENT
DTSTART;TZID=Asia/Hong_Kong:20170730T193000
DTEND;TZID=Asia/Hong_Kong:20170730T193000
DTSTAMP:20260424T235009
CREATED:19170612T074724Z
LAST-MODIFIED:20170612T081010Z
UID:10002825-1501443000-1501443000@www.bcmagazine.net
SUMMARY:Butterfly and Red Pear Blossom
DESCRIPTION:Butterfly and Red Pear Blossom\nDate: 7:30pm\, 13-19\, 21-30 July\, 2017\nVenue: HK Cultural Centre\, Grand Theatre\nTickets: $1\,000\, $800\, $680\, $480\, $200 from Urbtix
URL:https://www.bcmagazine.net/event/butterfly-and-red-pear-blossom-2017/2017-07-30/
LOCATION:HK Cultural Centre\, Grand Theatre\,\, 10 Salisbury Road\, Tsim Sha Tsui\, Hong Kong
CATEGORIES:2017,Cantonese Opera,Music,Performing Arts
GEO:22.294318;114.171708
X-APPLE-STRUCTURED-LOCATION;VALUE=URI;X-ADDRESS=HK Cultural Centre Grand Theatre 10 Salisbury Road Tsim Sha Tsui Hong Kong;X-APPLE-RADIUS=500;X-TITLE=10 Salisbury Road:geo:114.171708,22.294318
END:VEVENT
BEGIN:VEVENT
DTSTART;TZID=Asia/Hong_Kong:20170730T194500
DTEND;TZID=Asia/Hong_Kong:20170730T194500
DTSTAMP:20260424T235009
CREATED:19170708T025200Z
LAST-MODIFIED:20230114T015420Z
UID:10003009-1501443900-1501443900@www.bcmagazine.net
SUMMARY:Lion Rock
DESCRIPTION:Lion Rock ~ Musical (Re-run)\nAugustine Drama Group\nDate: 28-30 July\, 2017\nVenue: HK Cultural Centre\, Studio Theatre\nTickets: $260\, $160 from Urbtix
URL:https://www.bcmagazine.net/event/lion-rock-re-run-2017/2017-07-30/
LOCATION:HK Cultural Centre\, Studio Theatre\, 10 Salisbury Road\, Tsim Sha Tsui\, Hong Kong
CATEGORIES:2017,Cantonese drama,Musical,Performing Arts,Theatre
END:VEVENT
BEGIN:VEVENT
DTSTART;TZID=Asia/Hong_Kong:20170801T200000
DTEND;TZID=Asia/Hong_Kong:20170801T200000
DTSTAMP:20260424T235010
CREATED:19170520T053805Z
LAST-MODIFIED:20170520T054239Z
UID:10001236-1501617600-1501617600@www.bcmagazine.net
SUMMARY:Slava's Snowshow
DESCRIPTION:Slava’s Snowshow\nDate: 1-6 August\, 2017\nVenue: HKAPA\, Lyric Theatre\nTickets: $880\, $680\, $480 from HKTicketing
URL:https://www.bcmagazine.net/event/slavas-snowshow-2017/2017-08-01/
LOCATION:HKAPA: Lyric Theatre\, 1 Gloucester Road\, Wanchai\, Hong Kong
CATEGORIES:2017,Performing Arts
GEO:22.2801854;114.1695054
X-APPLE-STRUCTURED-LOCATION;VALUE=URI;X-ADDRESS=HKAPA: Lyric Theatre 1 Gloucester Road Wanchai Hong Kong;X-APPLE-RADIUS=500;X-TITLE=1 Gloucester Road:geo:114.1695054,22.2801854
END:VEVENT
BEGIN:VEVENT
DTSTART;TZID=Asia/Hong_Kong:20170802T200000
DTEND;TZID=Asia/Hong_Kong:20170802T200000
DTSTAMP:20260424T235010
CREATED:19170520T053805Z
LAST-MODIFIED:20170520T054239Z
UID:10001237-1501704000-1501704000@www.bcmagazine.net
SUMMARY:Slava's Snowshow
DESCRIPTION:Slava’s Snowshow\nDate: 1-6 August\, 2017\nVenue: HKAPA\, Lyric Theatre\nTickets: $880\, $680\, $480 from HKTicketing
URL:https://www.bcmagazine.net/event/slavas-snowshow-2017/2017-08-02/
LOCATION:HKAPA: Lyric Theatre\, 1 Gloucester Road\, Wanchai\, Hong Kong
CATEGORIES:2017,Performing Arts
GEO:22.2801854;114.1695054
X-APPLE-STRUCTURED-LOCATION;VALUE=URI;X-ADDRESS=HKAPA: Lyric Theatre 1 Gloucester Road Wanchai Hong Kong;X-APPLE-RADIUS=500;X-TITLE=1 Gloucester Road:geo:114.1695054,22.2801854
END:VEVENT
BEGIN:VEVENT
DTSTART;TZID=Asia/Hong_Kong:20170803T193000
DTEND;TZID=Asia/Hong_Kong:20170803T193000
DTSTAMP:20260424T235010
CREATED:19170421T024753Z
LAST-MODIFIED:20170421T030211Z
UID:10002543-1501788600-1501788600@www.bcmagazine.net
SUMMARY:The Dream of the Red Chamber
DESCRIPTION:The Dream of the Red Chamber\nChinese Opera Festival 2017\, Shanghai Shaoxing Opera Group\nDate: 7:30pm\, 3 August\, 2017\nVenue: HK Cultural Centre\, Grand Theatre\nTickets: $450\, $350\, $250\, $150 from Urbtix
URL:https://www.bcmagazine.net/event/the-dream-of-the-red-chamber-chinese-opera-festival-2017/
LOCATION:HK Cultural Centre\, Grand Theatre\,\, 10 Salisbury Road\, Tsim Sha Tsui\, Hong Kong
CATEGORIES:2017,Chinese opera,Cultural Festival,Music,Performing Arts
GEO:22.294318;114.171708
X-APPLE-STRUCTURED-LOCATION;VALUE=URI;X-ADDRESS=HK Cultural Centre Grand Theatre 10 Salisbury Road Tsim Sha Tsui Hong Kong;X-APPLE-RADIUS=500;X-TITLE=10 Salisbury Road:geo:114.171708,22.294318
END:VEVENT
BEGIN:VEVENT
DTSTART;TZID=Asia/Hong_Kong:20170803T193000
DTEND;TZID=Asia/Hong_Kong:20170803T193000
DTSTAMP:20260424T235010
CREATED:19170708T025200Z
LAST-MODIFIED:20170708T072125Z
UID:10003010-1501788600-1501788600@www.bcmagazine.net
SUMMARY:The Polar Bears Go Up
DESCRIPTION:The Polar Bears Go Up\nInternational Arts Carnival 2017\, Fish and Game\nDate: 3-4 August\, 2017\nVenue: HK Cultural Centre\, Studio Theatre\nTickets: $260\, $200 from Urbtix
URL:https://www.bcmagazine.net/event/the-polar-bears-go-up-2017/2017-08-03/
LOCATION:HK Cultural Centre\, Studio Theatre\, 10 Salisbury Road\, Tsim Sha Tsui\, Hong Kong
CATEGORIES:2017,Cantonese drama,Musical,Performing Arts,Theatre
END:VEVENT
BEGIN:VEVENT
DTSTART;TZID=Asia/Hong_Kong:20170803T200000
DTEND;TZID=Asia/Hong_Kong:20170803T200000
DTSTAMP:20260424T235010
CREATED:19170520T053805Z
LAST-MODIFIED:20170520T054239Z
UID:10001238-1501790400-1501790400@www.bcmagazine.net
SUMMARY:Slava's Snowshow
DESCRIPTION:Slava’s Snowshow\nDate: 1-6 August\, 2017\nVenue: HKAPA\, Lyric Theatre\nTickets: $880\, $680\, $480 from HKTicketing
URL:https://www.bcmagazine.net/event/slavas-snowshow-2017/2017-08-03/
LOCATION:HKAPA: Lyric Theatre\, 1 Gloucester Road\, Wanchai\, Hong Kong
CATEGORIES:2017,Performing Arts
GEO:22.2801854;114.1695054
X-APPLE-STRUCTURED-LOCATION;VALUE=URI;X-ADDRESS=HKAPA: Lyric Theatre 1 Gloucester Road Wanchai Hong Kong;X-APPLE-RADIUS=500;X-TITLE=1 Gloucester Road:geo:114.1695054,22.2801854
END:VEVENT
BEGIN:VEVENT
DTSTART;VALUE=DATE:20170804
DTEND;VALUE=DATE:20170807
DTSTAMP:20260424T235010
CREATED:19170619T080432Z
LAST-MODIFIED:20170619T093103Z
UID:10002902-1501804800-1502063999@www.bcmagazine.net
SUMMARY:e-Sports & Music Festival Hong Kong
DESCRIPTION:e-Sports & Music Festival Hong Kong\nDate: 4-6 August\, 2017\nVenue: Central Harbourfront\nTickets: $10
URL:https://www.bcmagazine.net/event/e-sports-music-festival-hong-kong-2017/
LOCATION:Central Harbourfront\,  9 Lung Wo Road\, Central\, Hong Kong
CATEGORIES:2017,Concert,Food,Music,Nightlife,Performing Arts,Sport
GEO:22.2826223;114.164346
X-APPLE-STRUCTURED-LOCATION;VALUE=URI;X-ADDRESS=Central Harbourfront  9 Lung Wo Road Central Hong Kong;X-APPLE-RADIUS=500;X-TITLE=9 Lung Wo Road:geo:114.164346,22.2826223
END:VEVENT
BEGIN:VEVENT
DTSTART;VALUE=DATE:20170804
DTEND;VALUE=DATE:20170807
DTSTAMP:20260424T235010
CREATED:20170707T081335Z
LAST-MODIFIED:20170707T082527Z
UID:10006406-1501804800-1502063999@www.bcmagazine.net
SUMMARY:e-Sports & Music Festival
DESCRIPTION:e-Sports & Music Festival: Return of the Legends\, SMTown\nDate: 4-6 August\, 2017\nVenue: HK Coliseum\nTickets: $1\,880\, $1\,380\, $880\, $680\, $480\, $280\, $150\, $80\, $10 from Urbtix\nMore info:\n4 Aug – 10am – e-Sports: Return of the Legends\n5 Aug – 8pm – SMTown: Super Junior\, D&E\, Yesung\, Shinee\, f(x) Luna\, Exo\, Red Velvet\, NCT127\, NCT Dream\n6 Aug – Carnival/e-Sports Final
URL:https://www.bcmagazine.net/event/e-sports-music-festival-2017/
LOCATION:HK Coliseum\, 9 Cheong Wan Road\, Hung Hom\, Hong Kong
CATEGORIES:2017,Concert,Music,Performing Arts,Sport
GEO:22.3014169;114.1820305
X-APPLE-STRUCTURED-LOCATION;VALUE=URI;X-ADDRESS=HK Coliseum 9 Cheong Wan Road Hung Hom Hong Kong;X-APPLE-RADIUS=500;X-TITLE=9 Cheong Wan Road:geo:114.1820305,22.3014169
END:VEVENT
BEGIN:VEVENT
DTSTART;TZID=Asia/Hong_Kong:20170804T170000
DTEND;TZID=Asia/Hong_Kong:20170804T170000
DTSTAMP:20260424T235010
CREATED:19170708T025200Z
LAST-MODIFIED:20170708T072125Z
UID:10003011-1501866000-1501866000@www.bcmagazine.net
SUMMARY:The Polar Bears Go Up
DESCRIPTION:The Polar Bears Go Up\nInternational Arts Carnival 2017\, Fish and Game\nDate: 3-4 August\, 2017\nVenue: HK Cultural Centre\, Studio Theatre\nTickets: $260\, $200 from Urbtix
URL:https://www.bcmagazine.net/event/the-polar-bears-go-up-2017/2017-08-04/
LOCATION:HK Cultural Centre\, Studio Theatre\, 10 Salisbury Road\, Tsim Sha Tsui\, Hong Kong
CATEGORIES:2017,Cantonese drama,Musical,Performing Arts,Theatre
END:VEVENT
BEGIN:VEVENT
DTSTART;TZID=Asia/Hong_Kong:20170804T193000
DTEND;TZID=Asia/Hong_Kong:20170804T193000
DTSTAMP:20260424T235010
CREATED:19170421T025429Z
LAST-MODIFIED:20170421T025818Z
UID:10002544-1501875000-1501875000@www.bcmagazine.net
SUMMARY:The Double-pearl Phoenix Hairpin
DESCRIPTION:The Double-pearl Phoenix Hairpin\nChinese Opera Festival 2017\, Shanghai Shaoxing Opera Group\nDate: 7:30pm\, 4 August\, 2017\nVenue: HK Cultural Centre\, Grand Theatre\nTickets: $450\, $350\, $250\, $150 from Urbtix
URL:https://www.bcmagazine.net/event/the-double-pearl-phoenix-hairpin-chinese-opera-festival-2017/
LOCATION:HK Cultural Centre\, Grand Theatre\,\, 10 Salisbury Road\, Tsim Sha Tsui\, Hong Kong
CATEGORIES:2017,Chinese opera,Cultural Festival,Music,Performing Arts
GEO:22.294318;114.171708
X-APPLE-STRUCTURED-LOCATION;VALUE=URI;X-ADDRESS=HK Cultural Centre Grand Theatre 10 Salisbury Road Tsim Sha Tsui Hong Kong;X-APPLE-RADIUS=500;X-TITLE=10 Salisbury Road:geo:114.171708,22.294318
END:VEVENT
BEGIN:VEVENT
DTSTART;TZID=Asia/Hong_Kong:20170804T193000
DTEND;TZID=Asia/Hong_Kong:20170804T193000
DTSTAMP:20260424T235010
CREATED:19170421T030220Z
LAST-MODIFIED:20170422T153401Z
UID:10002550-1501875000-1501875000@www.bcmagazine.net
SUMMARY:Battle of the Throne
DESCRIPTION:Battle of the Throne\nChinese Opera Festival 2017\nDate: 7:30pm\, 4-5 August\, 2017\nVenue: Ko Shan Theatre\nTickets: $380\, $280\, $200\, $150 from Urbtix
URL:https://www.bcmagazine.net/event/battle-of-the-throne-chinese-opera-festival-2017/2017-08-04/
LOCATION:Ko Shan Theatre\, 77 Ko Shan Road\, Hung Hom\, Hong Kong
CATEGORIES:2017,Chinese opera,Cultural Festival,Music,Performing Arts
GEO:22.3145097;114.1868281
X-APPLE-STRUCTURED-LOCATION;VALUE=URI;X-ADDRESS=Ko Shan Theatre 77 Ko Shan Road Hung Hom Hong Kong;X-APPLE-RADIUS=500;X-TITLE=77 Ko Shan Road:geo:114.1868281,22.3145097
END:VEVENT
BEGIN:VEVENT
DTSTART;TZID=Asia/Hong_Kong:20170804T193000
DTEND;TZID=Asia/Hong_Kong:20170804T193000
DTSTAMP:20260424T235010
CREATED:20170619T033714Z
LAST-MODIFIED:20170619T050056Z
UID:10006404-1501875000-1501875000@www.bcmagazine.net
SUMMARY:Oh Wonder
DESCRIPTION:Oh Wonder\nDate: 7:30pm\, 4 August\, 2017\nVenue: Kitec\, Music Zone@E-Max\nTickets: $420 from Ticketflap
URL:https://www.bcmagazine.net/event/oh-wonder-2017/
LOCATION:KITEC\, Music Zone@E-Max\, KITEC\,‎ 1 Trademart Drive\, Kowloon Bay\, Hong Kong
CATEGORIES:2017,Concert,Music,Performing Arts
GEO:22.3239575;114.2037608
X-APPLE-STRUCTURED-LOCATION;VALUE=URI;X-ADDRESS=KITEC Music Zone@E-Max KITEC‎ 1 Trademart Drive Kowloon Bay Hong Kong;X-APPLE-RADIUS=500;X-TITLE=KITEC\,‎ 1 Trademart Drive:geo:114.2037608,22.3239575
END:VEVENT
BEGIN:VEVENT
DTSTART;TZID=Asia/Hong_Kong:20170804T194500
DTEND;TZID=Asia/Hong_Kong:20170804T194500
DTSTAMP:20260424T235010
CREATED:19160909T015349Z
LAST-MODIFIED:20160909T020238Z
UID:10002086-1501875900-1501875900@www.bcmagazine.net
SUMMARY:Poetry OutLoud
DESCRIPTION:On the first Wednesday of every month\, Poetry OutLoud present a mixed bag of original poetry\, classics\, lesser-known works and music. The format generally consists of a number of featured readers\, plus an open mike section in which audience-members are welcomed and encouraged to read. \nPoetry OutLoud\nDate: 1st Wednesday of the month\nVenue: Fringe Club\, Colette’s\nTickets: Free\nMore info: www.facebook.com/PoetryOutLoudHK
URL:https://www.bcmagazine.net/event/poetry-outloud-2017/2017-08-04/
LOCATION:Fringe Club\, Colette’s\, 2 Lower Albert Road\, Central\, Hong Kong
CATEGORIES:2017,Free,Other,Performing Arts,Poetry
GEO:22.2803491;114.156067
X-APPLE-STRUCTURED-LOCATION;VALUE=URI;X-ADDRESS=Fringe Club Colette’s 2 Lower Albert Road Central Hong Kong;X-APPLE-RADIUS=500;X-TITLE=2 Lower Albert Road:geo:114.156067,22.2803491
END:VEVENT
BEGIN:VEVENT
DTSTART;TZID=Asia/Hong_Kong:20170804T194500
DTEND;TZID=Asia/Hong_Kong:20170804T194500
DTSTAMP:20260424T235010
CREATED:19170421T034737Z
LAST-MODIFIED:20220930T181252Z
UID:10002569-1501875900-1501875900@www.bcmagazine.net
SUMMARY:Dim Sum Adventures @ Lung Fung Teahouse 2.0
DESCRIPTION:Dim Sum Adventures @ Lung Fung Teahouse 2.0\nHong Kong Dance Company\, International Arts Carnival 2017\nDate: 4-6 August\, 2017\nVenue: Shatin Town Hall\, Auditorium\nTickets: $280\, $220\, $160\, $100 from Urbtix\nMore info:\nYuen Long Theatre\, Auditorium\n28-29 July – 7:45pm\, $240\, $180\, $120\, $80\n30 July – 3pm\nShatin Town Hall\, Auditorium\n4-5 August – 7:45pm\, $280\, $220\, $160\, $100\n6 August – 3pm
URL:https://www.bcmagazine.net/event/dim-sum-adventures-lung-fung-teahouse-hkdc-shatin/
LOCATION:Shatin Town Hall\, Auditorium\, Shatin\, Hong Kong
CATEGORIES:2017,Dance,Performing Arts
END:VEVENT
BEGIN:VEVENT
DTSTART;TZID=Asia/Hong_Kong:20170804T200000
DTEND;TZID=Asia/Hong_Kong:20170804T200000
DTSTAMP:20260424T235010
CREATED:19170505T081942Z
LAST-MODIFIED:20170516T032557Z
UID:10002606-1501876800-1501876800@www.bcmagazine.net
SUMMARY:Angelcorpse
DESCRIPTION:Angelcorpse\nDate: 8pm\, 4 August\, 2017\nVenue: MOM Livehouse\nTickets: $330
URL:https://www.bcmagazine.net/event/angelcorpse-2017/
LOCATION:MOM Livehouse\, B39 Seven Seas Shopping Centre\, 117-121 Kings Road\, North Point\, Hong Kong
CATEGORIES:2017,Concert,Music,Performing Arts
GEO:22.2884683;114.192803
X-APPLE-STRUCTURED-LOCATION;VALUE=URI;X-ADDRESS=MOM Livehouse B39 Seven Seas Shopping Centre 117-121 Kings Road North Point Hong Kong;X-APPLE-RADIUS=500;X-TITLE=B39 Seven Seas Shopping Centre\, 117-121 Kings Road:geo:114.192803,22.2884683
END:VEVENT
BEGIN:VEVENT
DTSTART;TZID=Asia/Hong_Kong:20170804T200000
DTEND;TZID=Asia/Hong_Kong:20170804T200000
DTSTAMP:20260424T235010
CREATED:19170520T053805Z
LAST-MODIFIED:20170520T054239Z
UID:10001239-1501876800-1501876800@www.bcmagazine.net
SUMMARY:Slava's Snowshow
DESCRIPTION:Slava’s Snowshow\nDate: 1-6 August\, 2017\nVenue: HKAPA\, Lyric Theatre\nTickets: $880\, $680\, $480 from HKTicketing
URL:https://www.bcmagazine.net/event/slavas-snowshow-2017/2017-08-04/
LOCATION:HKAPA: Lyric Theatre\, 1 Gloucester Road\, Wanchai\, Hong Kong
CATEGORIES:2017,Performing Arts
GEO:22.2801854;114.1695054
X-APPLE-STRUCTURED-LOCATION;VALUE=URI;X-ADDRESS=HKAPA: Lyric Theatre 1 Gloucester Road Wanchai Hong Kong;X-APPLE-RADIUS=500;X-TITLE=1 Gloucester Road:geo:114.1695054,22.2801854
END:VEVENT
BEGIN:VEVENT
DTSTART;TZID=Asia/Hong_Kong:20170805T020000
DTEND;TZID=Asia/Hong_Kong:20170805T140000
DTSTAMP:20260424T235010
CREATED:20230114T080032Z
LAST-MODIFIED:20230114T080032Z
UID:10001242-1501898400-1501941600@www.bcmagazine.net
SUMMARY:Slava's Snowshow
DESCRIPTION:Slava’s Snowshow\nDate: 1-6 August\, 2017\nVenue: HKAPA\, Lyric Theatre\nTickets: $880\, $680\, $480 from HKTicketing
URL:https://www.bcmagazine.net/event/slavas-snowshow-2017/2017-08-05/
LOCATION:HKAPA: Lyric Theatre\, 1 Gloucester Road\, Wanchai\, Hong Kong
CATEGORIES:2017,Performing Arts
GEO:22.2801854;114.1695054
X-APPLE-STRUCTURED-LOCATION;VALUE=URI;X-ADDRESS=HKAPA: Lyric Theatre 1 Gloucester Road Wanchai Hong Kong;X-APPLE-RADIUS=500;X-TITLE=1 Gloucester Road:geo:114.1695054,22.2801854
END:VEVENT
BEGIN:VEVENT
DTSTART;TZID=Asia/Hong_Kong:20170805T143000
DTEND;TZID=Asia/Hong_Kong:20170805T170000
DTSTAMP:20260424T235010
CREATED:19170421T030220Z
LAST-MODIFIED:20170421T030450Z
UID:10002546-1501943400-1501952400@www.bcmagazine.net
SUMMARY:Chinese Opera Excerpts
DESCRIPTION:Chinese Opera Excerpts\nChinese Opera Festival 2017\, Shanghai Shaoxing Opera Group\nDate: 2:30pm\, 5 August\, 2017\nVenue: HK Cultural Centre\, Grand Theatre\nTickets: $450\, $350\, $250\, $150 from Urbtix
URL:https://www.bcmagazine.net/event/chinese-opera-excerpts-chinese-opera-festival-2017/
LOCATION:HK Cultural Centre\, Grand Theatre\,\, 10 Salisbury Road\, Tsim Sha Tsui\, Hong Kong
CATEGORIES:2017,Chinese opera,Cultural Festival,Music,Performing Arts
GEO:22.294318;114.171708
X-APPLE-STRUCTURED-LOCATION;VALUE=URI;X-ADDRESS=HK Cultural Centre Grand Theatre 10 Salisbury Road Tsim Sha Tsui Hong Kong;X-APPLE-RADIUS=500;X-TITLE=10 Salisbury Road:geo:114.171708,22.294318
END:VEVENT
BEGIN:VEVENT
DTSTART;TZID=Asia/Hong_Kong:20170805T190000
DTEND;TZID=Asia/Hong_Kong:20170805T190000
DTSTAMP:20260424T235010
CREATED:19170627T055246Z
LAST-MODIFIED:20170627T060631Z
UID:10002913-1501959600-1501959600@www.bcmagazine.net
SUMMARY:One: Kings & Conquerors
DESCRIPTION:One: Kings & Conquerors\nBibiano Fernandes v Andrew Leone\nDate: 7pm\, 5 August\, 2017\nVenue: Cotai Arena\nTickets: tbc
URL:https://www.bcmagazine.net/event/one-kings-conquerors-macau-2017/
LOCATION:CotaiArena\, Venetian Macao\, Taipa\, Macau
CATEGORIES:2017,Sport
GEO:22.1483528;113.5602019
X-APPLE-STRUCTURED-LOCATION;VALUE=URI;X-ADDRESS=CotaiArena Venetian Macao Taipa Macau;X-APPLE-RADIUS=500;X-TITLE=Venetian Macao:geo:113.5602019,22.1483528
END:VEVENT
BEGIN:VEVENT
DTSTART;TZID=Asia/Hong_Kong:20170805T193000
DTEND;TZID=Asia/Hong_Kong:20170805T193000
DTSTAMP:20260424T235010
CREATED:19170421T025854Z
LAST-MODIFIED:20170421T030141Z
UID:10002545-1501961400-1501961400@www.bcmagazine.net
SUMMARY:Bronze Bird Terrace
DESCRIPTION:Bronze Bird Terrace\nChinese Opera Festival 2017\, Shanghai Shaoxing Opera Group\nDate: 7:30pm\, 5 August\, 2017\nVenue: HK Cultural Centre\, Grand Theatre\nTickets: $450\, $350\, $250\, $150 from Urbtix
URL:https://www.bcmagazine.net/event/bronze-bird-terrace-chinese-opera-festival-2017/
LOCATION:HK Cultural Centre\, Grand Theatre\,\, 10 Salisbury Road\, Tsim Sha Tsui\, Hong Kong
CATEGORIES:2017,Chinese opera,Cultural Festival,Music,Performing Arts
GEO:22.294318;114.171708
X-APPLE-STRUCTURED-LOCATION;VALUE=URI;X-ADDRESS=HK Cultural Centre Grand Theatre 10 Salisbury Road Tsim Sha Tsui Hong Kong;X-APPLE-RADIUS=500;X-TITLE=10 Salisbury Road:geo:114.171708,22.294318
END:VEVENT
BEGIN:VEVENT
DTSTART;TZID=Asia/Hong_Kong:20170805T193000
DTEND;TZID=Asia/Hong_Kong:20170805T193000
DTSTAMP:20260424T235010
CREATED:19170421T030220Z
LAST-MODIFIED:20170422T153401Z
UID:10002551-1501961400-1501961400@www.bcmagazine.net
SUMMARY:Battle of the Throne
DESCRIPTION:Battle of the Throne\nChinese Opera Festival 2017\nDate: 7:30pm\, 4-5 August\, 2017\nVenue: Ko Shan Theatre\nTickets: $380\, $280\, $200\, $150 from Urbtix
URL:https://www.bcmagazine.net/event/battle-of-the-throne-chinese-opera-festival-2017/2017-08-05/
LOCATION:Ko Shan Theatre\, 77 Ko Shan Road\, Hung Hom\, Hong Kong
CATEGORIES:2017,Chinese opera,Cultural Festival,Music,Performing Arts
GEO:22.3145097;114.1868281
X-APPLE-STRUCTURED-LOCATION;VALUE=URI;X-ADDRESS=Ko Shan Theatre 77 Ko Shan Road Hung Hom Hong Kong;X-APPLE-RADIUS=500;X-TITLE=77 Ko Shan Road:geo:114.1868281,22.3145097
END:VEVENT
BEGIN:VEVENT
DTSTART;TZID=Asia/Hong_Kong:20170805T193000
DTEND;TZID=Asia/Hong_Kong:20170805T193000
DTSTAMP:20260424T235010
CREATED:19170725T035817Z
LAST-MODIFIED:20170725T045928Z
UID:10003087-1501961400-1501961400@www.bcmagazine.net
SUMMARY:Blaster\, Water Funk\, Another Kitchen
DESCRIPTION:Blaster\, Water Funk\, Another Kitchen\nDate: 7:30pm\, 5 August\, 2017\nVenue: MOM Livehouse\nTickets: $150\, $120 (Advance)
URL:https://www.bcmagazine.net/event/blaster-water-funk-another-kitchen-2017/
LOCATION:MOM Livehouse\, B39 Seven Seas Shopping Centre\, 117-121 Kings Road\, North Point\, Hong Kong
CATEGORIES:2017,Concert,Music,Performing Arts
GEO:22.2884683;114.192803
X-APPLE-STRUCTURED-LOCATION;VALUE=URI;X-ADDRESS=MOM Livehouse B39 Seven Seas Shopping Centre 117-121 Kings Road North Point Hong Kong;X-APPLE-RADIUS=500;X-TITLE=B39 Seven Seas Shopping Centre\, 117-121 Kings Road:geo:114.192803,22.2884683
END:VEVENT
END:VCALENDAR