BEGIN:VCALENDAR
VERSION:2.0
PRODID:-//bc magazine - ECPv6.15.20//NONSGML v1.0//EN
CALSCALE:GREGORIAN
METHOD:PUBLISH
X-WR-CALNAME:bc magazine
X-ORIGINAL-URL:https://www.bcmagazine.net
X-WR-CALDESC:Events for bc magazine
REFRESH-INTERVAL;VALUE=DURATION:PT1H
X-Robots-Tag:noindex
X-PUBLISHED-TTL:PT1H
BEGIN:VTIMEZONE
TZID:Asia/Hong_Kong
BEGIN:STANDARD
TZOFFSETFROM:+0800
TZOFFSETTO:+0800
TZNAME:HKT
DTSTART:20160101T000000
END:STANDARD
END:VTIMEZONE
BEGIN:VEVENT
DTSTART;VALUE=DATE:20170812
DTEND;VALUE=DATE:20170921
DTSTAMP:20260425T094234
CREATED:19170722T041457Z
LAST-MODIFIED:20170722T052228Z
UID:10003058-1502496000-1505951999@www.bcmagazine.net
SUMMARY:Summerfest
DESCRIPTION:Summerfest\nDate: 14-22 July\, 12-20\, 25-27 August\, 2017\nVenue: Central Harbourfront\nTickets: Free
URL:https://www.bcmagazine.net/event/summerfest-august-2017/2017-08-12/
LOCATION:Central Harbourfront\,  9 Lung Wo Road\, Central\, Hong Kong
CATEGORIES:2017,Lifestyle,Other,Sport
GEO:22.2826223;114.164346
X-APPLE-STRUCTURED-LOCATION;VALUE=URI;X-ADDRESS=Central Harbourfront  9 Lung Wo Road Central Hong Kong;X-APPLE-RADIUS=500;X-TITLE=9 Lung Wo Road:geo:114.164346,22.2826223
END:VEVENT
BEGIN:VEVENT
DTSTART;VALUE=DATE:20170813
DTEND;VALUE=DATE:20170922
DTSTAMP:20260425T094234
CREATED:19170722T041457Z
LAST-MODIFIED:20170722T052228Z
UID:10003059-1502582400-1506038399@www.bcmagazine.net
SUMMARY:Summerfest
DESCRIPTION:Summerfest\nDate: 14-22 July\, 12-20\, 25-27 August\, 2017\nVenue: Central Harbourfront\nTickets: Free
URL:https://www.bcmagazine.net/event/summerfest-august-2017/2017-08-13/
LOCATION:Central Harbourfront\,  9 Lung Wo Road\, Central\, Hong Kong
CATEGORIES:2017,Lifestyle,Other,Sport
GEO:22.2826223;114.164346
X-APPLE-STRUCTURED-LOCATION;VALUE=URI;X-ADDRESS=Central Harbourfront  9 Lung Wo Road Central Hong Kong;X-APPLE-RADIUS=500;X-TITLE=9 Lung Wo Road:geo:114.164346,22.2826223
END:VEVENT
BEGIN:VEVENT
DTSTART;VALUE=DATE:20170818
DTEND;VALUE=DATE:20170927
DTSTAMP:20260425T094234
CREATED:19170722T041457Z
LAST-MODIFIED:20170722T052228Z
UID:10003060-1503014400-1506470399@www.bcmagazine.net
SUMMARY:Summerfest
DESCRIPTION:Summerfest\nDate: 14-22 July\, 12-20\, 25-27 August\, 2017\nVenue: Central Harbourfront\nTickets: Free
URL:https://www.bcmagazine.net/event/summerfest-august-2017/2017-08-18/
LOCATION:Central Harbourfront\,  9 Lung Wo Road\, Central\, Hong Kong
CATEGORIES:2017,Lifestyle,Other,Sport
GEO:22.2826223;114.164346
X-APPLE-STRUCTURED-LOCATION;VALUE=URI;X-ADDRESS=Central Harbourfront  9 Lung Wo Road Central Hong Kong;X-APPLE-RADIUS=500;X-TITLE=9 Lung Wo Road:geo:114.164346,22.2826223
END:VEVENT
BEGIN:VEVENT
DTSTART;VALUE=DATE:20170819
DTEND;VALUE=DATE:20170928
DTSTAMP:20260425T094234
CREATED:19170722T041457Z
LAST-MODIFIED:20170722T052228Z
UID:10003061-1503100800-1506556799@www.bcmagazine.net
SUMMARY:Summerfest
DESCRIPTION:Summerfest\nDate: 14-22 July\, 12-20\, 25-27 August\, 2017\nVenue: Central Harbourfront\nTickets: Free
URL:https://www.bcmagazine.net/event/summerfest-august-2017/2017-08-19/
LOCATION:Central Harbourfront\,  9 Lung Wo Road\, Central\, Hong Kong
CATEGORIES:2017,Lifestyle,Other,Sport
GEO:22.2826223;114.164346
X-APPLE-STRUCTURED-LOCATION;VALUE=URI;X-ADDRESS=Central Harbourfront  9 Lung Wo Road Central Hong Kong;X-APPLE-RADIUS=500;X-TITLE=9 Lung Wo Road:geo:114.164346,22.2826223
END:VEVENT
BEGIN:VEVENT
DTSTART;VALUE=DATE:20170820
DTEND;VALUE=DATE:20170929
DTSTAMP:20260425T094234
CREATED:19170722T041457Z
LAST-MODIFIED:20170722T052228Z
UID:10003062-1503187200-1506643199@www.bcmagazine.net
SUMMARY:Summerfest
DESCRIPTION:Summerfest\nDate: 14-22 July\, 12-20\, 25-27 August\, 2017\nVenue: Central Harbourfront\nTickets: Free
URL:https://www.bcmagazine.net/event/summerfest-august-2017/2017-08-20/
LOCATION:Central Harbourfront\,  9 Lung Wo Road\, Central\, Hong Kong
CATEGORIES:2017,Lifestyle,Other,Sport
GEO:22.2826223;114.164346
X-APPLE-STRUCTURED-LOCATION;VALUE=URI;X-ADDRESS=Central Harbourfront  9 Lung Wo Road Central Hong Kong;X-APPLE-RADIUS=500;X-TITLE=9 Lung Wo Road:geo:114.164346,22.2826223
END:VEVENT
BEGIN:VEVENT
DTSTART;VALUE=DATE:20170825
DTEND;VALUE=DATE:20171004
DTSTAMP:20260425T094234
CREATED:19170722T041457Z
LAST-MODIFIED:20170722T052228Z
UID:10003063-1503619200-1507075199@www.bcmagazine.net
SUMMARY:Summerfest
DESCRIPTION:Summerfest\nDate: 14-22 July\, 12-20\, 25-27 August\, 2017\nVenue: Central Harbourfront\nTickets: Free
URL:https://www.bcmagazine.net/event/summerfest-august-2017/2017-08-25/
LOCATION:Central Harbourfront\,  9 Lung Wo Road\, Central\, Hong Kong
CATEGORIES:2017,Lifestyle,Other,Sport
GEO:22.2826223;114.164346
X-APPLE-STRUCTURED-LOCATION;VALUE=URI;X-ADDRESS=Central Harbourfront  9 Lung Wo Road Central Hong Kong;X-APPLE-RADIUS=500;X-TITLE=9 Lung Wo Road:geo:114.164346,22.2826223
END:VEVENT
BEGIN:VEVENT
DTSTART;VALUE=DATE:20170826
DTEND;VALUE=DATE:20171005
DTSTAMP:20260425T094234
CREATED:19170722T041457Z
LAST-MODIFIED:20170722T052228Z
UID:10003064-1503705600-1507161599@www.bcmagazine.net
SUMMARY:Summerfest
DESCRIPTION:Summerfest\nDate: 14-22 July\, 12-20\, 25-27 August\, 2017\nVenue: Central Harbourfront\nTickets: Free
URL:https://www.bcmagazine.net/event/summerfest-august-2017/2017-08-26/
LOCATION:Central Harbourfront\,  9 Lung Wo Road\, Central\, Hong Kong
CATEGORIES:2017,Lifestyle,Other,Sport
GEO:22.2826223;114.164346
X-APPLE-STRUCTURED-LOCATION;VALUE=URI;X-ADDRESS=Central Harbourfront  9 Lung Wo Road Central Hong Kong;X-APPLE-RADIUS=500;X-TITLE=9 Lung Wo Road:geo:114.164346,22.2826223
END:VEVENT
BEGIN:VEVENT
DTSTART;VALUE=DATE:20170827
DTEND;VALUE=DATE:20171006
DTSTAMP:20260425T094234
CREATED:19170722T041457Z
LAST-MODIFIED:20170722T052228Z
UID:10003065-1503792000-1507247999@www.bcmagazine.net
SUMMARY:Summerfest
DESCRIPTION:Summerfest\nDate: 14-22 July\, 12-20\, 25-27 August\, 2017\nVenue: Central Harbourfront\nTickets: Free
URL:https://www.bcmagazine.net/event/summerfest-august-2017/2017-08-27/
LOCATION:Central Harbourfront\,  9 Lung Wo Road\, Central\, Hong Kong
CATEGORIES:2017,Lifestyle,Other,Sport
GEO:22.2826223;114.164346
X-APPLE-STRUCTURED-LOCATION;VALUE=URI;X-ADDRESS=Central Harbourfront  9 Lung Wo Road Central Hong Kong;X-APPLE-RADIUS=500;X-TITLE=9 Lung Wo Road:geo:114.164346,22.2826223
END:VEVENT
BEGIN:VEVENT
DTSTART;TZID=Asia/Hong_Kong:20170910T143000
DTEND;TZID=Asia/Hong_Kong:20170910T143000
DTSTAMP:20260425T094234
CREATED:19170810T093057Z
LAST-MODIFIED:20170810T093247Z
UID:10003159-1505053800-1505053800@www.bcmagazine.net
SUMMARY:Romeo and Juliet
DESCRIPTION:Romeo and Juliet\nShakespeare4All\nDate: 9-10 September\, 2017\nVenue: Sai Wan Ho Civic Centre\, Theatre\nTickets: $220\, $130 from Urbtix
URL:https://www.bcmagazine.net/event/romeo-and-juliet-shakespeare4all-10-09-2017/
LOCATION:Sai Wan Ho Civic Centre\, Theatre\, 111 Shau Kei Wan Road\, Sai Wan Ho\, Hong Kong
CATEGORIES:2017,Performing Arts,Theatre
GEO:22.282055;114.222378
X-APPLE-STRUCTURED-LOCATION;VALUE=URI;X-ADDRESS=Sai Wan Ho Civic Centre Theatre 111 Shau Kei Wan Road Sai Wan Ho Hong Kong;X-APPLE-RADIUS=500;X-TITLE=111 Shau Kei Wan Road:geo:114.222378,22.282055
END:VEVENT
BEGIN:VEVENT
DTSTART;TZID=Asia/Hong_Kong:20170910T150000
DTEND;TZID=Asia/Hong_Kong:20170910T150000
DTSTAMP:20260425T094234
CREATED:19170810T093057Z
LAST-MODIFIED:20170810T113216Z
UID:10003194-1505055600-1505055600@www.bcmagazine.net
SUMMARY:Hallo
DESCRIPTION:Hallo\nZimmermann & de Perrot\nDate: 8-10 September\, 2017\nVenue: HK City Hall\, Theatre\nTickets: $280\, $220 from Urbtix
URL:https://www.bcmagazine.net/event/hallo-10-10-2017/
LOCATION:HK City Hall\, Theatre\, 5 Edinburgh Place\, Central\, Hong Kong
CATEGORIES:2017,Music,Performing Arts,Theatre
GEO:22.2822646;114.1615275
X-APPLE-STRUCTURED-LOCATION;VALUE=URI;X-ADDRESS=HK City Hall Theatre 5 Edinburgh Place Central Hong Kong;X-APPLE-RADIUS=500;X-TITLE=5 Edinburgh Place:geo:114.1615275,22.2822646
END:VEVENT
BEGIN:VEVENT
DTSTART;TZID=Asia/Hong_Kong:20170910T193000
DTEND;TZID=Asia/Hong_Kong:20170910T193000
DTSTAMP:20260425T094234
CREATED:19170722T041457Z
LAST-MODIFIED:20170722T043056Z
UID:10003054-1505071800-1505071800@www.bcmagazine.net
SUMMARY:Kisida Kyodan & The Akebosi Rockets
DESCRIPTION:Kisida Kyodan & The Akebosi Rockets\nDate: 7:30pm\, 10 September\, 2017\nVenue: Kitec\, Music Zone@E-Max\nTickets: $780\, $580\, $480 from Cityline
URL:https://www.bcmagazine.net/event/kisida-kyodan-the-akebosi-rockets/
LOCATION:KITEC\, Music Zone@E-Max\, KITEC\,‎ 1 Trademart Drive\, Kowloon Bay\, Hong Kong
CATEGORIES:2017,Concert,Music,Performing Arts
GEO:22.3239575;114.2037608
X-APPLE-STRUCTURED-LOCATION;VALUE=URI;X-ADDRESS=KITEC Music Zone@E-Max KITEC‎ 1 Trademart Drive Kowloon Bay Hong Kong;X-APPLE-RADIUS=500;X-TITLE=KITEC\,‎ 1 Trademart Drive:geo:114.2037608,22.3239575
END:VEVENT
BEGIN:VEVENT
DTSTART;TZID=Asia/Hong_Kong:20170910T193000
DTEND;TZID=Asia/Hong_Kong:20170910T193000
DTSTAMP:20260425T094234
CREATED:19170909T031637Z
LAST-MODIFIED:20160909T032138Z
UID:10003457-1505071800-1505071800@www.bcmagazine.net
SUMMARY:Philosophy Cafe
DESCRIPTION:Philosophy Cafe\nDate: 7:30pm\, 2nd Tuesday of the month\nVenue: Fringe Club\, Colette’s\nTickets: free\nMore info:\nwww.facebook.com/HKPhilosophyCafe
URL:https://www.bcmagazine.net/event/philosophy-cafe-2017/2017-09-10/
LOCATION:Fringe Club\, Colette’s\, 2 Lower Albert Road\, Central\, Hong Kong
CATEGORIES:2017,Free,Other
GEO:22.2803491;114.156067
X-APPLE-STRUCTURED-LOCATION;VALUE=URI;X-ADDRESS=Fringe Club Colette’s 2 Lower Albert Road Central Hong Kong;X-APPLE-RADIUS=500;X-TITLE=2 Lower Albert Road:geo:114.156067,22.2803491
END:VEVENT
BEGIN:VEVENT
DTSTART;TZID=Asia/Hong_Kong:20170910T194500
DTEND;TZID=Asia/Hong_Kong:20170910T194500
DTSTAMP:20260425T094234
CREATED:19170804T064513Z
LAST-MODIFIED:20170804T070632Z
UID:10003102-1505072700-1505072700@www.bcmagazine.net
SUMMARY:Kong Yiji
DESCRIPTION:Kong Yiji\nExperimental Cantonese Opera\, Shanghai Huaiju Troupe\nDate: 7:45pm\, 10 September\, 2017\nVenue: HKRep Black Box Theatre\nTickets: $180 from Urbtix
URL:https://www.bcmagazine.net/event/kong-yiji-2017/
LOCATION:HKREP Black Box Theatre\, 8/F\, Sheung Wan Civic Centre\, Sheung Wan Municipal Services Building\, 345 Queen's Road\, Sheung Wan\, Hong Kong
CATEGORIES:2017,Cantonese drama,Cantonese Opera,Performing Arts,Theatre
END:VEVENT
BEGIN:VEVENT
DTSTART;TZID=Asia/Hong_Kong:20170910T200000
DTEND;TZID=Asia/Hong_Kong:20170910T200000
DTSTAMP:20260425T094234
CREATED:19170807T083751Z
LAST-MODIFIED:20170807T122541Z
UID:10003148-1505073600-1505073600@www.bcmagazine.net
SUMMARY:Who's Calling?
DESCRIPTION:Who’s Calling?\nDate: 9-10 September\, 2017\nVenue: Ngau Chi Wan Civic Centre\, CA Hall\nTickets: $60 from Urbtix
URL:https://www.bcmagazine.net/event/whos-calling-10-09-2017/
LOCATION:Ngau Chi Wan Civic Centre\, CA Hall\, 11 Clear Water Bay Road\, Kowloon\, Hong Kong
CATEGORIES:2017,Cantonese drama,Performing Arts,Theatre
GEO:22.3345745;114.2088179
X-APPLE-STRUCTURED-LOCATION;VALUE=URI;X-ADDRESS=Ngau Chi Wan Civic Centre CA Hall 11 Clear Water Bay Road Kowloon Hong Kong;X-APPLE-RADIUS=500;X-TITLE=11 Clear Water Bay Road:geo:114.2088179,22.3345745
END:VEVENT
BEGIN:VEVENT
DTSTART;TZID=Asia/Hong_Kong:20170910T201500
DTEND;TZID=Asia/Hong_Kong:20170910T201500
DTSTAMP:20260425T094234
CREATED:19170708T025200Z
LAST-MODIFIED:20170806T061334Z
UID:10002948-1505074500-1505074500@www.bcmagazine.net
SUMMARY:Hacken Lee
DESCRIPTION:Hacken Lee\nDate: 8:15pm\, 3-10 September\, 2017\nVenue: HK Colliseum\nTickets: $780\, $480\, $280 from Urbtix
URL:https://www.bcmagazine.net/event/hacken-lee-2017/2017-09-10/
LOCATION:HK Coliseum\, 9 Cheong Wan Road\, Hung Hom\, Hong Kong
CATEGORIES:2017,Concert,Music
GEO:22.3014169;114.1820305
X-APPLE-STRUCTURED-LOCATION;VALUE=URI;X-ADDRESS=HK Coliseum 9 Cheong Wan Road Hung Hom Hong Kong;X-APPLE-RADIUS=500;X-TITLE=9 Cheong Wan Road:geo:114.1820305,22.3014169
END:VEVENT
BEGIN:VEVENT
DTSTART;TZID=Asia/Hong_Kong:20170910T201500
DTEND;TZID=Asia/Hong_Kong:20170910T201500
DTSTAMP:20260425T094234
CREATED:19170807T083751Z
LAST-MODIFIED:20170807T111604Z
UID:10003124-1505074500-1505074500@www.bcmagazine.net
SUMMARY:Stephanie & Shiga
DESCRIPTION:Stephanie & Shiga\nDate: 8:15pm\, 10 September\, 2017\nVenue: MacPherson Stadium\nTickets: $580\, $380 from Cityline
URL:https://www.bcmagazine.net/event/stephanie-shiga-10-09-2017/
LOCATION:MacPherson Stadium\, 38 Nelson Street\, Mongkok\, Hong Kong
CATEGORIES:2017,Concert,Music
GEO:22.3188457;114.1728403
X-APPLE-STRUCTURED-LOCATION;VALUE=URI;X-ADDRESS=MacPherson Stadium 38 Nelson Street Mongkok Hong Kong;X-APPLE-RADIUS=500;X-TITLE=38 Nelson Street:geo:114.1728403,22.3188457
END:VEVENT
BEGIN:VEVENT
DTSTART;TZID=Asia/Hong_Kong:20170910T201500
DTEND;TZID=Asia/Hong_Kong:20170910T201500
DTSTAMP:20260425T094234
CREATED:19170807T083751Z
LAST-MODIFIED:20170807T112551Z
UID:10003127-1505074500-1505074500@www.bcmagazine.net
SUMMARY:Elanne Kwong
DESCRIPTION:Elanne Kwong\nDate: 8:15pm\, 9-10 September\, 2017\nVenue: Kitec\, Music Zone@E-Max\nTickets: $580\, $480\, $280 from Cityline
URL:https://www.bcmagazine.net/event/elanne-kwong-10-09-2017/
LOCATION:KITEC\, Music Zone@E-Max\, KITEC\,‎ 1 Trademart Drive\, Kowloon Bay\, Hong Kong
CATEGORIES:2017,Concert,Music
GEO:22.3239575;114.2037608
X-APPLE-STRUCTURED-LOCATION;VALUE=URI;X-ADDRESS=KITEC Music Zone@E-Max KITEC‎ 1 Trademart Drive Kowloon Bay Hong Kong;X-APPLE-RADIUS=500;X-TITLE=KITEC\,‎ 1 Trademart Drive:geo:114.2037608,22.3239575
END:VEVENT
BEGIN:VEVENT
DTSTART;TZID=Asia/Hong_Kong:20170911T200000
DTEND;TZID=Asia/Hong_Kong:20170911T200000
DTSTAMP:20260425T094234
CREATED:19170909T021037Z
LAST-MODIFIED:20160916T163911Z
UID:10003397-1505160000-1505160000@www.bcmagazine.net
SUMMARY:Peel Street Poetry
DESCRIPTION:Peel Street Poetry is an open mic poetry night at Orange Peel. It runs every Wednesdays of the month except the first. The environment is friendly and they love new performers\, so come share your poetry or just listen along to some of Hong Kong’s sharpest poetic talents. \nPeel Street Poetry Open Mic\nDate: 2nd\, 3rd\, 4th (and 5th) Wednesdays of the month\nVenue: Orange Peel\nTickets: Free\nMore info:\nwww.peelstreetpoetry.com
URL:https://www.bcmagazine.net/event/peel-street-poetry-2017/2017-09-11/
LOCATION:Orange Peel\, 2/F\, 38-44 D'Aguilar Street\, Central\, Hong Kong\, Hong Kong
CATEGORIES:2017,Free,Performing Arts,Poetry
GEO:22.2807864;114.1553675
X-APPLE-STRUCTURED-LOCATION;VALUE=URI;X-ADDRESS=Orange Peel 2/F 38-44 D'Aguilar Street Central Hong Kong Hong Kong;X-APPLE-RADIUS=500;X-TITLE=2/F\, 38-44 D'Aguilar Street\, Central:geo:114.1553675,22.2807864
END:VEVENT
BEGIN:VEVENT
DTSTART;TZID=Asia/Hong_Kong:20170911T201500
DTEND;TZID=Asia/Hong_Kong:20170911T201500
DTSTAMP:20260425T094234
CREATED:19170708T025200Z
LAST-MODIFIED:20170806T061334Z
UID:10002949-1505160900-1505160900@www.bcmagazine.net
SUMMARY:Hacken Lee
DESCRIPTION:Hacken Lee\nDate: 8:15pm\, 3-10 September\, 2017\nVenue: HK Colliseum\nTickets: $780\, $480\, $280 from Urbtix
URL:https://www.bcmagazine.net/event/hacken-lee-2017/2017-09-11/
LOCATION:HK Coliseum\, 9 Cheong Wan Road\, Hung Hom\, Hong Kong
CATEGORIES:2017,Concert,Music
GEO:22.3014169;114.1820305
X-APPLE-STRUCTURED-LOCATION;VALUE=URI;X-ADDRESS=HK Coliseum 9 Cheong Wan Road Hung Hom Hong Kong;X-APPLE-RADIUS=500;X-TITLE=9 Cheong Wan Road:geo:114.1820305,22.3014169
END:VEVENT
BEGIN:VEVENT
DTSTART;TZID=Asia/Hong_Kong:20170912T191500
DTEND;TZID=Asia/Hong_Kong:20170912T191500
DTSTAMP:20260425T094234
CREATED:19170810T093057Z
LAST-MODIFIED:20170810T094142Z
UID:10003161-1505243700-1505243700@www.bcmagazine.net
SUMMARY:Legendary Cantonese Opera Association
DESCRIPTION:Cantonese Operatic Songs\nLegendary Cantonese Opera Association\nDate: 7:15pm\, 12 September\, 2017\nVenue: Sai Wan Ho Civic Centre\, Theatre\nTickets: $180\, $120\, $60 from Urbtix
URL:https://www.bcmagazine.net/event/legendary-cantonese-opera-association-12-09-2017/
LOCATION:Sai Wan Ho Civic Centre\, Theatre\, 111 Shau Kei Wan Road\, Sai Wan Ho\, Hong Kong
CATEGORIES:2017,Cantonese Opera,Music,Performing Arts,Theatre
GEO:22.282055;114.222378
X-APPLE-STRUCTURED-LOCATION;VALUE=URI;X-ADDRESS=Sai Wan Ho Civic Centre Theatre 111 Shau Kei Wan Road Sai Wan Ho Hong Kong;X-APPLE-RADIUS=500;X-TITLE=111 Shau Kei Wan Road:geo:114.222378,22.282055
END:VEVENT
BEGIN:VEVENT
DTSTART;TZID=Asia/Hong_Kong:20170912T194500
DTEND;TZID=Asia/Hong_Kong:20170912T194500
DTSTAMP:20260425T094234
CREATED:19170804T064513Z
LAST-MODIFIED:20170804T071357Z
UID:10003103-1505245500-1505245500@www.bcmagazine.net
SUMMARY:Chun Shuidu
DESCRIPTION:Chun Shuidu\nExperimental Cantonese Opera\, The Shanghai Center of Chinese Operas\nDate: 7:45pm\, 12-13 September\, 2017\nVenue: HKRep Black Box Theatre\nTickets: $180 from Urbtix
URL:https://www.bcmagazine.net/event/chun-shuidu-12-09-2017/
LOCATION:HKREP Black Box Theatre\, 8/F\, Sheung Wan Civic Centre\, Sheung Wan Municipal Services Building\, 345 Queen's Road\, Sheung Wan\, Hong Kong
CATEGORIES:2017,Cantonese drama,Cantonese Opera,Performing Arts,Theatre
END:VEVENT
BEGIN:VEVENT
DTSTART;TZID=Asia/Hong_Kong:20170913T191500
DTEND;TZID=Asia/Hong_Kong:20170913T191500
DTSTAMP:20260425T094234
CREATED:19170810T093057Z
LAST-MODIFIED:20170810T094102Z
UID:10003162-1505330100-1505330100@www.bcmagazine.net
SUMMARY:Legendary Cantonese Opera Association
DESCRIPTION:Cantonese Operatic Songs\nLegendary Cantonese Opera Association\nDate: 7:15pm\, 12 September\, 2017\nVenue: Sai Wan Ho Civic Centre\, Theatre\nTickets: $180\, $120\, $60 from Urbtix
URL:https://www.bcmagazine.net/event/legendary-cantonese-opera-association-13-09-2017/
LOCATION:Sai Wan Ho Civic Centre\, Theatre\, 111 Shau Kei Wan Road\, Sai Wan Ho\, Hong Kong
CATEGORIES:2017,Cantonese Opera,Music,Performing Arts,Theatre
GEO:22.282055;114.222378
X-APPLE-STRUCTURED-LOCATION;VALUE=URI;X-ADDRESS=Sai Wan Ho Civic Centre Theatre 111 Shau Kei Wan Road Sai Wan Ho Hong Kong;X-APPLE-RADIUS=500;X-TITLE=111 Shau Kei Wan Road:geo:114.222378,22.282055
END:VEVENT
BEGIN:VEVENT
DTSTART;TZID=Asia/Hong_Kong:20170913T194500
DTEND;TZID=Asia/Hong_Kong:20170913T194500
DTSTAMP:20260425T094234
CREATED:19170804T064513Z
LAST-MODIFIED:20170804T071359Z
UID:10003104-1505331900-1505331900@www.bcmagazine.net
SUMMARY:Chun Shuidu
DESCRIPTION:Chun Shuidu\nExperimental Cantonese Opera\, The Shanghai Center of Chinese Operas\nDate: 7:45pm\, 12-13 September\, 2017\nVenue: HKRep Black Box Theatre\nTickets: $180 from Urbtix
URL:https://www.bcmagazine.net/event/chun-shuidu-13-09-2017/
LOCATION:HKREP Black Box Theatre\, 8/F\, Sheung Wan Civic Centre\, Sheung Wan Municipal Services Building\, 345 Queen's Road\, Sheung Wan\, Hong Kong
CATEGORIES:2017,Cantonese drama,Cantonese Opera,Performing Arts,Theatre
END:VEVENT
BEGIN:VEVENT
DTSTART;TZID=Asia/Hong_Kong:20170913T200000
DTEND;TZID=Asia/Hong_Kong:20170913T200000
DTSTAMP:20260425T094234
CREATED:19170810T093057Z
LAST-MODIFIED:20170810T112235Z
UID:10003191-1505332800-1505332800@www.bcmagazine.net
SUMMARY:Celebration of the 150th Anniversary of the Birth of Enrique Granados
DESCRIPTION:Celebration of the 150th Anniversary of the Birth of Enrique Granados\nDate: 8pm\, 13 September\, 2017\nVenue: HK City Hall\, Theatre\nTickets: $200\, $150 from Urbtix
URL:https://www.bcmagazine.net/event/celebration-of-the-150th-anniversary-of-the-birth-of-enrique-granados-2017/
LOCATION:HK City Hall\, Theatre\, 5 Edinburgh Place\, Central\, Hong Kong
CATEGORIES:2017,Concert,Music,Performing Arts
GEO:22.2822646;114.1615275
X-APPLE-STRUCTURED-LOCATION;VALUE=URI;X-ADDRESS=HK City Hall Theatre 5 Edinburgh Place Central Hong Kong;X-APPLE-RADIUS=500;X-TITLE=5 Edinburgh Place:geo:114.1615275,22.2822646
END:VEVENT
BEGIN:VEVENT
DTSTART;TZID=Asia/Hong_Kong:20170914T191500
DTEND;TZID=Asia/Hong_Kong:20170914T191500
DTSTAMP:20260425T094234
CREATED:19170810T093057Z
LAST-MODIFIED:20170810T112034Z
UID:10003190-1505416500-1505416500@www.bcmagazine.net
SUMMARY:Golden Beam Chinese Music & Opera Society
DESCRIPTION:Golden Beam Chinese Music & Opera Society\nDate: 7:15pm\, 14 September\, 2017\nVenue: HK City Hall\, Theatre\nTickets: $160\, $120\, $80 from Urbtix
URL:https://www.bcmagazine.net/event/golden-beam-chinese-music-opera-society-2017/
LOCATION:HK City Hall\, Theatre\, 5 Edinburgh Place\, Central\, Hong Kong
CATEGORIES:2017,Concert,Music,Performing Arts
GEO:22.2822646;114.1615275
X-APPLE-STRUCTURED-LOCATION;VALUE=URI;X-ADDRESS=HK City Hall Theatre 5 Edinburgh Place Central Hong Kong;X-APPLE-RADIUS=500;X-TITLE=5 Edinburgh Place:geo:114.1615275,22.2822646
END:VEVENT
BEGIN:VEVENT
DTSTART;TZID=Asia/Hong_Kong:20170915T200000
DTEND;TZID=Asia/Hong_Kong:20170915T200000
DTSTAMP:20260425T094234
CREATED:19170708T025200Z
LAST-MODIFIED:20170708T043245Z
UID:10002974-1505505600-1505505600@www.bcmagazine.net
SUMMARY:Choreographers' Showcase
DESCRIPTION:Choreographers’ Showcase\nHK Ballet\nDate: 15-17 September\, 2017\nVenue: HK Cultural Centre\, Studio Theatre\nTickets: $300\, $200 from Urbtix\nMore info:\n15-16 September – 8pm\n17 September – 3pm
URL:https://www.bcmagazine.net/event/choreographers-showcase-2017/2017-09-15/
LOCATION:HK Cultural Centre\, Studio Theatre\, 10 Salisbury Road\, Tsim Sha Tsui\, Hong Kong
CATEGORIES:2017,Ballet,Dance,Performing Arts
END:VEVENT
BEGIN:VEVENT
DTSTART;TZID=Asia/Hong_Kong:20170915T200000
DTEND;TZID=Asia/Hong_Kong:20170915T200000
DTSTAMP:20260425T094234
CREATED:19170719T074432Z
LAST-MODIFIED:20230114T062307Z
UID:10003029-1505505600-1505505600@www.bcmagazine.net
SUMMARY:Immortal 32: Lifschitz's Beethoven Cycle
DESCRIPTION:Immortal 32: Lifschitz’s Beethoven Cycle\nKonstantin Lifschitz\nDate: 15-17\, 21-24 Sept 2017\nVenue: Grand Hall\, Lee Shau Kee Lecture Centre\, The University of Hong Kong\nTickets: $220 from Urbtix
URL:https://www.bcmagazine.net/event/immortal-32-konstantin-lifschitzs-beethoven-cycle-2017/2017-09-15/
LOCATION:Grand Hall\, Lee Shau Kee Lecture Centre\, Centennial Campus\, The University of Hong Kong\, The University of Hong Kong\, Pokfulam\, Hong Kong
CATEGORIES:2017,Concert,Music,Performing Arts
GEO:22.2840507;114.1378391
X-APPLE-STRUCTURED-LOCATION;VALUE=URI;X-ADDRESS=Grand Hall Lee Shau Kee Lecture Centre Centennial Campus The University of Hong Kong The University of Hong Kong Pokfulam Hong Kong;X-APPLE-RADIUS=500;X-TITLE=The University of Hong Kong:geo:114.1378391,22.2840507
END:VEVENT
BEGIN:VEVENT
DTSTART;TZID=Asia/Hong_Kong:20170915T200000
DTEND;TZID=Asia/Hong_Kong:20170915T200000
DTSTAMP:20260425T094234
CREATED:19170730T042557Z
LAST-MODIFIED:20170730T043445Z
UID:10003092-1505505600-1505505600@www.bcmagazine.net
SUMMARY:Downy
DESCRIPTION:Downy\nDate: 8pm\, 15 September\, 2017\nVenue: Kitec\, Music Zone@E-Max\nTickets: $400\, $340 (advance)
URL:https://www.bcmagazine.net/event/downy-2017/
LOCATION:KITEC\, Music Zone@E-Max\, KITEC\,‎ 1 Trademart Drive\, Kowloon Bay\, Hong Kong
CATEGORIES:2017,Concert,Music,Performing Arts
GEO:22.3239575;114.2037608
X-APPLE-STRUCTURED-LOCATION;VALUE=URI;X-ADDRESS=KITEC Music Zone@E-Max KITEC‎ 1 Trademart Drive Kowloon Bay Hong Kong;X-APPLE-RADIUS=500;X-TITLE=KITEC\,‎ 1 Trademart Drive:geo:114.2037608,22.3239575
END:VEVENT
BEGIN:VEVENT
DTSTART;TZID=Asia/Hong_Kong:20170915T200000
DTEND;TZID=Asia/Hong_Kong:20170915T200000
DTSTAMP:20260425T094234
CREATED:19170807T083751Z
LAST-MODIFIED:20170807T120602Z
UID:10003133-1505505600-1505505600@www.bcmagazine.net
SUMMARY:The Nether
DESCRIPTION:The Nether\nPaprika Studio\nDate: 15-17 September\, 2017\nVenue: Ngau Chi Wan Civic Centre\, Theatre\nTickets: $280\, $220 from Urbtix\nMore info:\nCantonese Drama
URL:https://www.bcmagazine.net/event/the-nether-paprika-studio-15-09-2017/
LOCATION:Ngau Chi Wan Civic Centre\, Theatre\, 2/F & 3/F\, Ngau Chi Wan Municipal Services Building\, 11 Clear Water Bay Road\, Kowloon\, Hong Kong
CATEGORIES:2017,Cantonese drama,Performing Arts,Theatre
GEO:22.3345215;114.2089915
X-APPLE-STRUCTURED-LOCATION;VALUE=URI;X-ADDRESS=Ngau Chi Wan Civic Centre Theatre 2/F & 3/F Ngau Chi Wan Municipal Services Building 11 Clear Water Bay Road Kowloon Hong Kong;X-APPLE-RADIUS=500;X-TITLE=2/F & 3/F\, Ngau Chi Wan Municipal Services Building\, 11 Clear Water Bay Road:geo:114.2089915,22.3345215
END:VEVENT
BEGIN:VEVENT
DTSTART;TZID=Asia/Hong_Kong:20170915T200000
DTEND;TZID=Asia/Hong_Kong:20170915T200000
DTSTAMP:20260425T094234
CREATED:19170807T083751Z
LAST-MODIFIED:20170807T121921Z
UID:10003144-1505505600-1505505600@www.bcmagazine.net
SUMMARY:Seething On
DESCRIPTION:Seething On\nE-Side Dance Company\nDate: 15-19 September\, 2017\nVenue: Ngau Chi Wan Civic Centre\, CA Hall\nTickets: $120 from Urbtix
URL:https://www.bcmagazine.net/event/seething-on-15-09-2017/
LOCATION:Ngau Chi Wan Civic Centre\, CA Hall\, 11 Clear Water Bay Road\, Kowloon\, Hong Kong
CATEGORIES:2017,Dance,Performing Arts
GEO:22.3345745;114.2088179
X-APPLE-STRUCTURED-LOCATION;VALUE=URI;X-ADDRESS=Ngau Chi Wan Civic Centre CA Hall 11 Clear Water Bay Road Kowloon Hong Kong;X-APPLE-RADIUS=500;X-TITLE=11 Clear Water Bay Road:geo:114.2088179,22.3345745
END:VEVENT
END:VCALENDAR