BEGIN:VCALENDAR
VERSION:2.0
PRODID:-//bc magazine - ECPv6.15.20//NONSGML v1.0//EN
CALSCALE:GREGORIAN
METHOD:PUBLISH
X-WR-CALNAME:bc magazine
X-ORIGINAL-URL:https://www.bcmagazine.net
X-WR-CALDESC:Events for bc magazine
REFRESH-INTERVAL;VALUE=DURATION:PT1H
X-Robots-Tag:noindex
X-PUBLISHED-TTL:PT1H
BEGIN:VTIMEZONE
TZID:Asia/Hong_Kong
BEGIN:STANDARD
TZOFFSETFROM:+0800
TZOFFSETTO:+0800
TZNAME:HKT
DTSTART:20160101T000000
END:STANDARD
END:VTIMEZONE
BEGIN:VEVENT
DTSTART;VALUE=DATE:20170818
DTEND;VALUE=DATE:20170927
DTSTAMP:20260426T031737
CREATED:19170722T041457Z
LAST-MODIFIED:20170722T052228Z
UID:10003060-1503014400-1506470399@www.bcmagazine.net
SUMMARY:Summerfest
DESCRIPTION:Summerfest\nDate: 14-22 July\, 12-20\, 25-27 August\, 2017\nVenue: Central Harbourfront\nTickets: Free
URL:https://www.bcmagazine.net/event/summerfest-august-2017/2017-08-18/
LOCATION:Central Harbourfront\,  9 Lung Wo Road\, Central\, Hong Kong
CATEGORIES:2017,Lifestyle,Other,Sport
GEO:22.2826223;114.164346
X-APPLE-STRUCTURED-LOCATION;VALUE=URI;X-ADDRESS=Central Harbourfront  9 Lung Wo Road Central Hong Kong;X-APPLE-RADIUS=500;X-TITLE=9 Lung Wo Road:geo:114.164346,22.2826223
END:VEVENT
BEGIN:VEVENT
DTSTART;VALUE=DATE:20170819
DTEND;VALUE=DATE:20170928
DTSTAMP:20260426T031737
CREATED:19170722T041457Z
LAST-MODIFIED:20170722T052228Z
UID:10003061-1503100800-1506556799@www.bcmagazine.net
SUMMARY:Summerfest
DESCRIPTION:Summerfest\nDate: 14-22 July\, 12-20\, 25-27 August\, 2017\nVenue: Central Harbourfront\nTickets: Free
URL:https://www.bcmagazine.net/event/summerfest-august-2017/2017-08-19/
LOCATION:Central Harbourfront\,  9 Lung Wo Road\, Central\, Hong Kong
CATEGORIES:2017,Lifestyle,Other,Sport
GEO:22.2826223;114.164346
X-APPLE-STRUCTURED-LOCATION;VALUE=URI;X-ADDRESS=Central Harbourfront  9 Lung Wo Road Central Hong Kong;X-APPLE-RADIUS=500;X-TITLE=9 Lung Wo Road:geo:114.164346,22.2826223
END:VEVENT
BEGIN:VEVENT
DTSTART;VALUE=DATE:20170820
DTEND;VALUE=DATE:20170929
DTSTAMP:20260426T031737
CREATED:19170722T041457Z
LAST-MODIFIED:20170722T052228Z
UID:10003062-1503187200-1506643199@www.bcmagazine.net
SUMMARY:Summerfest
DESCRIPTION:Summerfest\nDate: 14-22 July\, 12-20\, 25-27 August\, 2017\nVenue: Central Harbourfront\nTickets: Free
URL:https://www.bcmagazine.net/event/summerfest-august-2017/2017-08-20/
LOCATION:Central Harbourfront\,  9 Lung Wo Road\, Central\, Hong Kong
CATEGORIES:2017,Lifestyle,Other,Sport
GEO:22.2826223;114.164346
X-APPLE-STRUCTURED-LOCATION;VALUE=URI;X-ADDRESS=Central Harbourfront  9 Lung Wo Road Central Hong Kong;X-APPLE-RADIUS=500;X-TITLE=9 Lung Wo Road:geo:114.164346,22.2826223
END:VEVENT
BEGIN:VEVENT
DTSTART;VALUE=DATE:20170825
DTEND;VALUE=DATE:20171004
DTSTAMP:20260426T031737
CREATED:19170722T041457Z
LAST-MODIFIED:20170722T052228Z
UID:10003063-1503619200-1507075199@www.bcmagazine.net
SUMMARY:Summerfest
DESCRIPTION:Summerfest\nDate: 14-22 July\, 12-20\, 25-27 August\, 2017\nVenue: Central Harbourfront\nTickets: Free
URL:https://www.bcmagazine.net/event/summerfest-august-2017/2017-08-25/
LOCATION:Central Harbourfront\,  9 Lung Wo Road\, Central\, Hong Kong
CATEGORIES:2017,Lifestyle,Other,Sport
GEO:22.2826223;114.164346
X-APPLE-STRUCTURED-LOCATION;VALUE=URI;X-ADDRESS=Central Harbourfront  9 Lung Wo Road Central Hong Kong;X-APPLE-RADIUS=500;X-TITLE=9 Lung Wo Road:geo:114.164346,22.2826223
END:VEVENT
BEGIN:VEVENT
DTSTART;VALUE=DATE:20170826
DTEND;VALUE=DATE:20171005
DTSTAMP:20260426T031737
CREATED:19170722T041457Z
LAST-MODIFIED:20170722T052228Z
UID:10003064-1503705600-1507161599@www.bcmagazine.net
SUMMARY:Summerfest
DESCRIPTION:Summerfest\nDate: 14-22 July\, 12-20\, 25-27 August\, 2017\nVenue: Central Harbourfront\nTickets: Free
URL:https://www.bcmagazine.net/event/summerfest-august-2017/2017-08-26/
LOCATION:Central Harbourfront\,  9 Lung Wo Road\, Central\, Hong Kong
CATEGORIES:2017,Lifestyle,Other,Sport
GEO:22.2826223;114.164346
X-APPLE-STRUCTURED-LOCATION;VALUE=URI;X-ADDRESS=Central Harbourfront  9 Lung Wo Road Central Hong Kong;X-APPLE-RADIUS=500;X-TITLE=9 Lung Wo Road:geo:114.164346,22.2826223
END:VEVENT
BEGIN:VEVENT
DTSTART;VALUE=DATE:20170827
DTEND;VALUE=DATE:20171006
DTSTAMP:20260426T031737
CREATED:19170722T041457Z
LAST-MODIFIED:20170722T052228Z
UID:10003065-1503792000-1507247999@www.bcmagazine.net
SUMMARY:Summerfest
DESCRIPTION:Summerfest\nDate: 14-22 July\, 12-20\, 25-27 August\, 2017\nVenue: Central Harbourfront\nTickets: Free
URL:https://www.bcmagazine.net/event/summerfest-august-2017/2017-08-27/
LOCATION:Central Harbourfront\,  9 Lung Wo Road\, Central\, Hong Kong
CATEGORIES:2017,Lifestyle,Other,Sport
GEO:22.2826223;114.164346
X-APPLE-STRUCTURED-LOCATION;VALUE=URI;X-ADDRESS=Central Harbourfront  9 Lung Wo Road Central Hong Kong;X-APPLE-RADIUS=500;X-TITLE=9 Lung Wo Road:geo:114.164346,22.2826223
END:VEVENT
BEGIN:VEVENT
DTSTART;VALUE=DATE:20170921
DTEND;VALUE=DATE:20170925
DTSTAMP:20260426T031737
CREATED:19170916T091132Z
LAST-MODIFIED:20170916T094613Z
UID:10003477-1505952000-1506297599@www.bcmagazine.net
SUMMARY:Women's East Asia Cup
DESCRIPTION:Women’s East Asia Cup 2017\nDate: 21-24 September\, 2017\nVenue: HKCC\, KCC\, Tin Kwong Road Recreation Ground\nTickets: Free\nMore info:\n21 Sept – HKCC\n22 Sept – KCC\n23-24 Sept – Tin Kwong Road Recreation Ground
URL:https://www.bcmagazine.net/event/womens-east-asia-cup-2017/
CATEGORIES:2017,Cricket,Free,Sport
END:VEVENT
BEGIN:VEVENT
DTSTART;VALUE=DATE:20170922
DTEND;VALUE=DATE:20170924
DTSTAMP:20260426T031737
CREATED:19170720T083647Z
LAST-MODIFIED:20180410T101810Z
UID:10003035-1506038400-1506211199@www.bcmagazine.net
SUMMARY:Beertopia
DESCRIPTION:Beertopia\nDate: 22-23 September\, 2017\nVenue: Central Harbourfront\nTickets: $445\, $355\, $345\, $240\, $230
URL:https://www.bcmagazine.net/event/beertopia-2017/
LOCATION:Central Harbourfront\,  9 Lung Wo Road\, Central\, Hong Kong
CATEGORIES:2017,Nightlife
GEO:22.2826223;114.164346
X-APPLE-STRUCTURED-LOCATION;VALUE=URI;X-ADDRESS=Central Harbourfront  9 Lung Wo Road Central Hong Kong;X-APPLE-RADIUS=500;X-TITLE=9 Lung Wo Road:geo:114.164346,22.2826223
END:VEVENT
BEGIN:VEVENT
DTSTART;VALUE=DATE:20170922
DTEND;VALUE=DATE:20170925
DTSTAMP:20260426T031737
CREATED:19170719T065842Z
LAST-MODIFIED:20170719T081341Z
UID:10003028-1506038400-1506297599@www.bcmagazine.net
SUMMARY:Asia Contemporary Art Show - Fall Edition 2017
DESCRIPTION:Asia Contemporary Art Show – Fall Edition 2017\nDate: 22art\, exhibition-24 Sept 2017\nVenue: Conrad Hong Kong\nTickets: $240
URL:https://www.bcmagazine.net/event/asia-contemporary-art-show-fall-edition-2017/
LOCATION:Grand Hall\, Lee Shau Kee Lecture Centre\, Centennial Campus\, The University of Hong Kong\, The University of Hong Kong\, Pokfulam\, Hong Kong
CATEGORIES:2017,Art Gallery,Exhibition
GEO:22.2840507;114.1378391
X-APPLE-STRUCTURED-LOCATION;VALUE=URI;X-ADDRESS=Grand Hall Lee Shau Kee Lecture Centre Centennial Campus The University of Hong Kong The University of Hong Kong Pokfulam Hong Kong;X-APPLE-RADIUS=500;X-TITLE=The University of Hong Kong:geo:114.1378391,22.2840507
END:VEVENT
BEGIN:VEVENT
DTSTART;VALUE=DATE:20170923
DTEND;VALUE=DATE:20170925
DTSTAMP:20260426T031737
CREATED:20170728T030857Z
LAST-MODIFIED:20170729T043623Z
UID:10006433-1506124800-1506297599@www.bcmagazine.net
SUMMARY:Pinky Fest
DESCRIPTION:Pinky Fest is a carnival targeted at ladies with the theme of giving ideas and inspiration in how to improve their work/life balance and enhance self-esteem. There will be a wide range of workshops\, health and beauty consultations\, free and celebrity ($380) yoga classes. \nOn the evening of Saturday 23 there will be a Pinky Party\, details of which are yet to be announced. \nPinky Fest\nDate: 23-24 September\, 2017\nVenue: Central Harbourfront\nTickets: $90\, $160\, $380 from Cityline
URL:https://www.bcmagazine.net/event/pinky-fest-2017/
LOCATION:Central Harbourfront\,  9 Lung Wo Road\, Central\, Hong Kong
CATEGORIES:2017,Lifestyle,Other,Sport
GEO:22.2826223;114.164346
X-APPLE-STRUCTURED-LOCATION;VALUE=URI;X-ADDRESS=Central Harbourfront  9 Lung Wo Road Central Hong Kong;X-APPLE-RADIUS=500;X-TITLE=9 Lung Wo Road:geo:114.164346,22.2826223
END:VEVENT
BEGIN:VEVENT
DTSTART;TZID=Asia/Hong_Kong:20170923T190000
DTEND;TZID=Asia/Hong_Kong:20170923T190000
DTSTAMP:20260426T031737
CREATED:19170721T063949Z
LAST-MODIFIED:20170721T064248Z
UID:10003047-1506193200-1506193200@www.bcmagazine.net
SUMMARY:APink
DESCRIPTION:APink\nDate: 7pm\, 23 September\, 2017\nVenue: AsiaWorld Expo\, Hall 3\nTickets: tbc from HKTicketing
URL:https://www.bcmagazine.net/event/apink-2017/
LOCATION:AsiaWorld-Expo\, Cheong Wing Road\, Chek Lap Kok\, Lantau\, Hong Kong
CATEGORIES:2017,Concert,Music,Performing Arts
GEO:22.3217383;113.9402012
X-APPLE-STRUCTURED-LOCATION;VALUE=URI;X-ADDRESS=AsiaWorld-Expo Cheong Wing Road Chek Lap Kok Lantau Hong Kong;X-APPLE-RADIUS=500;X-TITLE=Cheong Wing Road\, Chek Lap Kok:geo:113.9402012,22.3217383
END:VEVENT
BEGIN:VEVENT
DTSTART;TZID=Asia/Hong_Kong:20170923T190000
DTEND;TZID=Asia/Hong_Kong:20170923T190000
DTSTAMP:20260426T031737
CREATED:19170722T041457Z
LAST-MODIFIED:20170722T042722Z
UID:10003052-1506193200-1506193200@www.bcmagazine.net
SUMMARY:Silent Siren
DESCRIPTION:Silent Siren – 5th Anniversary World Tour\nDate: 7pm\, 23-24 September\, 2017\nVenue: Kitec\, Music Zone@E-Max\nTickets: $590\, $490 from Cityline
URL:https://www.bcmagazine.net/event/silent-siren-2017/2017-09-23/
LOCATION:KITEC\, Music Zone@E-Max\, KITEC\,‎ 1 Trademart Drive\, Kowloon Bay\, Hong Kong
CATEGORIES:2017,Concert,Music,Performing Arts
GEO:22.3239575;114.2037608
X-APPLE-STRUCTURED-LOCATION;VALUE=URI;X-ADDRESS=KITEC Music Zone@E-Max KITEC‎ 1 Trademart Drive Kowloon Bay Hong Kong;X-APPLE-RADIUS=500;X-TITLE=KITEC\,‎ 1 Trademart Drive:geo:114.2037608,22.3239575
END:VEVENT
BEGIN:VEVENT
DTSTART;TZID=Asia/Hong_Kong:20170923T193000
DTEND;TZID=Asia/Hong_Kong:20170923T193000
DTSTAMP:20260426T031737
CREATED:19170815T073419Z
LAST-MODIFIED:20170815T100706Z
UID:10003262-1506195000-1506195000@www.bcmagazine.net
SUMMARY:Beat me Tap
DESCRIPTION:Beat me Tap\nHong Kong Tap Festival 2017\nDate: 22-23 September\, 2017\nVenue: Shatin Town Hall\, Cultural Activities Hall\nTickets: $200\, $160 from Urbtix
URL:https://www.bcmagazine.net/event/beat-me-tap-23-09-2017/
LOCATION:Shatin Town Hall\, Cultural Activities Hall\, 1 Yuen Wo Road\, Sha Tin\, Hong Kong
CATEGORIES:2017,Dance,Performing Arts
GEO:22.381264;114.189895
X-APPLE-STRUCTURED-LOCATION;VALUE=URI;X-ADDRESS=Shatin Town Hall Cultural Activities Hall 1 Yuen Wo Road Sha Tin Hong Kong;X-APPLE-RADIUS=500;X-TITLE=1 Yuen Wo Road:geo:114.189895,22.381264
END:VEVENT
BEGIN:VEVENT
DTSTART;TZID=Asia/Hong_Kong:20170923T194500
DTEND;TZID=Asia/Hong_Kong:20170923T194500
DTSTAMP:20260426T031737
CREATED:19170421T034737Z
LAST-MODIFIED:20170812T100701Z
UID:10001168-1506195900-1506195900@www.bcmagazine.net
SUMMARY:In an Instant
DESCRIPTION:8/F Platform: In an Instant\nHong Kong Dance Company\nDate: 22-24 September\nVenue: Sheung Wan Civic Centre\, 8/F Platform\nTickets: $200
URL:https://www.bcmagazine.net/event/in-an-instant-hkdc-23-09-2017/
LOCATION:Sheung Wan Civic Centre\, Sheung Wan
CATEGORIES:2017,Dance,Performing Arts
END:VEVENT
BEGIN:VEVENT
DTSTART;TZID=Asia/Hong_Kong:20170923T194500
DTEND;TZID=Asia/Hong_Kong:20170923T194500
DTSTAMP:20260426T031737
CREATED:19170708T025200Z
LAST-MODIFIED:20170708T061721Z
UID:10002991-1506195900-1506195900@www.bcmagazine.net
SUMMARY:Apariencias
DESCRIPTION:Apariencias\nCompañia Eva Yerbabuena\nDate: 23-24 September\, 2017\nVenue: HK Cultural Centre\, Grand Theatre\nTickets: $520\, $400\, $280\, $180 from Urbtix
URL:https://www.bcmagazine.net/event/apariencias/2017-09-23/
LOCATION:HK Cultural Centre\, Grand Theatre\,\, 10 Salisbury Road\, Tsim Sha Tsui\, Hong Kong
CATEGORIES:2017,Dance,Performing Arts
GEO:22.294318;114.171708
X-APPLE-STRUCTURED-LOCATION;VALUE=URI;X-ADDRESS=HK Cultural Centre Grand Theatre 10 Salisbury Road Tsim Sha Tsui Hong Kong;X-APPLE-RADIUS=500;X-TITLE=10 Salisbury Road:geo:114.171708,22.294318
END:VEVENT
BEGIN:VEVENT
DTSTART;TZID=Asia/Hong_Kong:20170923T200000
DTEND;TZID=Asia/Hong_Kong:20170923T200000
DTSTAMP:20260426T031737
CREATED:19170719T074432Z
LAST-MODIFIED:20230114T062307Z
UID:10003033-1506196800-1506196800@www.bcmagazine.net
SUMMARY:Immortal 32: Lifschitz's Beethoven Cycle
DESCRIPTION:Immortal 32: Lifschitz’s Beethoven Cycle\nKonstantin Lifschitz\nDate: 15-17\, 21-24 Sept 2017\nVenue: Grand Hall\, Lee Shau Kee Lecture Centre\, The University of Hong Kong\nTickets: $220 from Urbtix
URL:https://www.bcmagazine.net/event/immortal-32-konstantin-lifschitzs-beethoven-cycle-2017/2017-09-23/
LOCATION:Grand Hall\, Lee Shau Kee Lecture Centre\, Centennial Campus\, The University of Hong Kong\, The University of Hong Kong\, Pokfulam\, Hong Kong
CATEGORIES:2017,Concert,Music,Performing Arts
GEO:22.2840507;114.1378391
X-APPLE-STRUCTURED-LOCATION;VALUE=URI;X-ADDRESS=Grand Hall Lee Shau Kee Lecture Centre Centennial Campus The University of Hong Kong The University of Hong Kong Pokfulam Hong Kong;X-APPLE-RADIUS=500;X-TITLE=The University of Hong Kong:geo:114.1378391,22.2840507
END:VEVENT
BEGIN:VEVENT
DTSTART;TZID=Asia/Hong_Kong:20170923T200000
DTEND;TZID=Asia/Hong_Kong:20170923T200000
DTSTAMP:20260426T031737
CREATED:19170806T053034Z
LAST-MODIFIED:20170806T054817Z
UID:10003109-1506196800-1506196800@www.bcmagazine.net
SUMMARY:Thunderstorm
DESCRIPTION:Thunderstorm\nTang Shu-Wing Theatre Studio\nDate: 22-24 September\, 2017\nVenue: HK City Hall\, Theatre\nTickets: $320\, $260\, $180 from Urbtix
URL:https://www.bcmagazine.net/event/thunderstorm-23-09-2017/
LOCATION:HK City Hall\, Theatre\, 5 Edinburgh Place\, Central\, Hong Kong
CATEGORIES:2017,Dance,Performing Arts,Theatre
GEO:22.2822646;114.1615275
X-APPLE-STRUCTURED-LOCATION;VALUE=URI;X-ADDRESS=HK City Hall Theatre 5 Edinburgh Place Central Hong Kong;X-APPLE-RADIUS=500;X-TITLE=5 Edinburgh Place:geo:114.1615275,22.2822646
END:VEVENT
BEGIN:VEVENT
DTSTART;TZID=Asia/Hong_Kong:20170923T210000
DTEND;TZID=Asia/Hong_Kong:20170923T210000
DTSTAMP:20260426T031737
CREATED:19170903T040056Z
LAST-MODIFIED:20170903T062802Z
UID:10003376-1506200400-1506200400@www.bcmagazine.net
SUMMARY:Claustrophobia
DESCRIPTION:Claustrophobia\nDate: 22-24 September\, 2017\nVenue: HK Cultural Centre\, Studio Theatre\nTickets: $280 from Urbtix\nMore info:\n22 Sept – 8pm\n23 Sept – 2pm\, 5pm\, 9pm\n24 Sept – 2pm\, 5pm
URL:https://www.bcmagazine.net/event/claustrophobia-23-09-2017/
LOCATION:HK Cultural Centre\, Studio Theatre\, 10 Salisbury Road\, Tsim Sha Tsui\, Hong Kong
CATEGORIES:2017,Music,Performing Arts
END:VEVENT
BEGIN:VEVENT
DTSTART;TZID=Asia/Hong_Kong:20170924T073000
DTEND;TZID=Asia/Hong_Kong:20170924T073000
DTSTAMP:20260426T031737
CREATED:20170812T034737Z
LAST-MODIFIED:20170812T103317Z
UID:10006436-1506238200-1506238200@www.bcmagazine.net
SUMMARY:Barbie Run
DESCRIPTION:Barbie Run\nDate: 7:30am\, 24 September\, 2017\nVenue: Central Harbourfront Event Space\nTickets: $920\, $880\, $520\, $420\, $380 from Cityline
URL:https://www.bcmagazine.net/event/barbie-run-2017/
LOCATION:Central Harbourfront\,  9 Lung Wo Road\, Central\, Hong Kong
CATEGORIES:2017,Lifestyle,Sport
GEO:22.2826223;114.164346
X-APPLE-STRUCTURED-LOCATION;VALUE=URI;X-ADDRESS=Central Harbourfront  9 Lung Wo Road Central Hong Kong;X-APPLE-RADIUS=500;X-TITLE=9 Lung Wo Road:geo:114.164346,22.2826223
END:VEVENT
BEGIN:VEVENT
DTSTART;TZID=Asia/Hong_Kong:20170924T144500
DTEND;TZID=Asia/Hong_Kong:20170924T144500
DTSTAMP:20260426T031737
CREATED:19170421T034737Z
LAST-MODIFIED:20170812T100655Z
UID:10001169-1506264300-1506264300@www.bcmagazine.net
SUMMARY:In an Instant
DESCRIPTION:8/F Platform: In an Instant\nHong Kong Dance Company\nDate: 22-24 September\, 2017\nVenue: Sheung Wan Civic Centre\, 8/F Platform\nTickets: $200
URL:https://www.bcmagazine.net/event/in-an-instant-hkdc-24-09-2017/
LOCATION:Sheung Wan Civic Centre\, Sheung Wan
CATEGORIES:2017,Dance,Performing Arts
END:VEVENT
BEGIN:VEVENT
DTSTART;TZID=Asia/Hong_Kong:20170924T150000
DTEND;TZID=Asia/Hong_Kong:20170924T150000
DTSTAMP:20260426T031737
CREATED:19170708T025200Z
LAST-MODIFIED:20170708T061721Z
UID:10002992-1506265200-1506265200@www.bcmagazine.net
SUMMARY:Apariencias
DESCRIPTION:Apariencias\nCompañia Eva Yerbabuena\nDate: 23-24 September\, 2017\nVenue: HK Cultural Centre\, Grand Theatre\nTickets: $520\, $400\, $280\, $180 from Urbtix
URL:https://www.bcmagazine.net/event/apariencias/2017-09-24/
LOCATION:HK Cultural Centre\, Grand Theatre\,\, 10 Salisbury Road\, Tsim Sha Tsui\, Hong Kong
CATEGORIES:2017,Dance,Performing Arts
GEO:22.294318;114.171708
X-APPLE-STRUCTURED-LOCATION;VALUE=URI;X-ADDRESS=HK Cultural Centre Grand Theatre 10 Salisbury Road Tsim Sha Tsui Hong Kong;X-APPLE-RADIUS=500;X-TITLE=10 Salisbury Road:geo:114.171708,22.294318
END:VEVENT
BEGIN:VEVENT
DTSTART;TZID=Asia/Hong_Kong:20170924T150000
DTEND;TZID=Asia/Hong_Kong:20170924T150000
DTSTAMP:20260426T031737
CREATED:19170806T053034Z
LAST-MODIFIED:20170806T055315Z
UID:10003110-1506265200-1506265200@www.bcmagazine.net
SUMMARY:Thunderstorm
DESCRIPTION:Thunderstorm\nTang Shu-Wing Theatre Studio\nDate: 22-24 September\, 2017\nVenue: HK City Hall\, Theatre\nTickets: $320\, $260\, $180 from Urbtix
URL:https://www.bcmagazine.net/event/thunderstorm-24-09-2017/
LOCATION:HK City Hall\, Theatre\, 5 Edinburgh Place\, Central\, Hong Kong
CATEGORIES:2017,Dance,Performing Arts,Theatre
GEO:22.2822646;114.1615275
X-APPLE-STRUCTURED-LOCATION;VALUE=URI;X-ADDRESS=HK City Hall Theatre 5 Edinburgh Place Central Hong Kong;X-APPLE-RADIUS=500;X-TITLE=5 Edinburgh Place:geo:114.1615275,22.2822646
END:VEVENT
BEGIN:VEVENT
DTSTART;TZID=Asia/Hong_Kong:20170924T170000
DTEND;TZID=Asia/Hong_Kong:20170924T170000
DTSTAMP:20260426T031737
CREATED:19170903T040056Z
LAST-MODIFIED:20170903T062756Z
UID:10003377-1506272400-1506272400@www.bcmagazine.net
SUMMARY:Claustrophobia
DESCRIPTION:Claustrophobia\nDate: 22-24 September\, 2017\nVenue: HK Cultural Centre\, Studio Theatre\nTickets: $280 from Urbtix\nMore info:\n22 Sept – 8pm\n23 Sept – 2pm\, 5pm\, 9pm\n24 Sept – 2pm\, 5pm
URL:https://www.bcmagazine.net/event/claustrophobia-24-09-2017/
LOCATION:HK Cultural Centre\, Studio Theatre\, 10 Salisbury Road\, Tsim Sha Tsui\, Hong Kong
CATEGORIES:2017,Music,Performing Arts
END:VEVENT
BEGIN:VEVENT
DTSTART;TZID=Asia/Hong_Kong:20170924T190000
DTEND;TZID=Asia/Hong_Kong:20170924T190000
DTSTAMP:20260426T031737
CREATED:19170722T041457Z
LAST-MODIFIED:20170722T042722Z
UID:10003053-1506279600-1506279600@www.bcmagazine.net
SUMMARY:Silent Siren
DESCRIPTION:Silent Siren – 5th Anniversary World Tour\nDate: 7pm\, 23-24 September\, 2017\nVenue: Kitec\, Music Zone@E-Max\nTickets: $590\, $490 from Cityline
URL:https://www.bcmagazine.net/event/silent-siren-2017/2017-09-24/
LOCATION:KITEC\, Music Zone@E-Max\, KITEC\,‎ 1 Trademart Drive\, Kowloon Bay\, Hong Kong
CATEGORIES:2017,Concert,Music,Performing Arts
GEO:22.3239575;114.2037608
X-APPLE-STRUCTURED-LOCATION;VALUE=URI;X-ADDRESS=KITEC Music Zone@E-Max KITEC‎ 1 Trademart Drive Kowloon Bay Hong Kong;X-APPLE-RADIUS=500;X-TITLE=KITEC\,‎ 1 Trademart Drive:geo:114.2037608,22.3239575
END:VEVENT
BEGIN:VEVENT
DTSTART;TZID=Asia/Hong_Kong:20170924T200000
DTEND;TZID=Asia/Hong_Kong:20170924T200000
DTSTAMP:20260426T031737
CREATED:19170719T074432Z
LAST-MODIFIED:20230114T062307Z
UID:10003034-1506283200-1506283200@www.bcmagazine.net
SUMMARY:Immortal 32: Lifschitz's Beethoven Cycle
DESCRIPTION:Immortal 32: Lifschitz’s Beethoven Cycle\nKonstantin Lifschitz\nDate: 15-17\, 21-24 Sept 2017\nVenue: Grand Hall\, Lee Shau Kee Lecture Centre\, The University of Hong Kong\nTickets: $220 from Urbtix
URL:https://www.bcmagazine.net/event/immortal-32-konstantin-lifschitzs-beethoven-cycle-2017/2017-09-24/
LOCATION:Grand Hall\, Lee Shau Kee Lecture Centre\, Centennial Campus\, The University of Hong Kong\, The University of Hong Kong\, Pokfulam\, Hong Kong
CATEGORIES:2017,Concert,Music,Performing Arts
GEO:22.2840507;114.1378391
X-APPLE-STRUCTURED-LOCATION;VALUE=URI;X-ADDRESS=Grand Hall Lee Shau Kee Lecture Centre Centennial Campus The University of Hong Kong The University of Hong Kong Pokfulam Hong Kong;X-APPLE-RADIUS=500;X-TITLE=The University of Hong Kong:geo:114.1378391,22.2840507
END:VEVENT
BEGIN:VEVENT
DTSTART;TZID=Asia/Hong_Kong:20170926T193000
DTEND;TZID=Asia/Hong_Kong:20170926T193000
DTSTAMP:20260426T031737
CREATED:19170903T040056Z
LAST-MODIFIED:20170903T044443Z
UID:10003373-1506454200-1506454200@www.bcmagazine.net
SUMMARY:China Cultural Association
DESCRIPTION:China Cultural Association – Chinese Opera\nDate: 7:30pm\, 26 September\, 2017\nVenue: HK Cultural Centre\, Grand Theatre\nTickets: $480\, $380\, $280 from Urbtix
URL:https://www.bcmagazine.net/event/china-cultural-association-26-09-2017/
LOCATION:HK Cultural Centre\, Grand Theatre\,\, 10 Salisbury Road\, Tsim Sha Tsui\, Hong Kong
CATEGORIES:2017,Chinese opera,Music,Performing Arts
GEO:22.294318;114.171708
X-APPLE-STRUCTURED-LOCATION;VALUE=URI;X-ADDRESS=HK Cultural Centre Grand Theatre 10 Salisbury Road Tsim Sha Tsui Hong Kong;X-APPLE-RADIUS=500;X-TITLE=10 Salisbury Road:geo:114.171708,22.294318
END:VEVENT
BEGIN:VEVENT
DTSTART;TZID=Asia/Hong_Kong:20170927T193000
DTEND;TZID=Asia/Hong_Kong:20170927T193000
DTSTAMP:20260426T031737
CREATED:19170903T040056Z
LAST-MODIFIED:20170903T044542Z
UID:10003374-1506540600-1506540600@www.bcmagazine.net
SUMMARY:China Cultural Association
DESCRIPTION:China Cultural Association – Chinese Opera\nDate: 7:30pm\, 26-27 September\, 2017\nVenue: HK Cultural Centre\, Grand Theatre\nTickets: $480\, $380\, $280 from Urbtix
URL:https://www.bcmagazine.net/event/china-cultural-association-27-09-2017/
LOCATION:HK Cultural Centre\, Grand Theatre\,\, 10 Salisbury Road\, Tsim Sha Tsui\, Hong Kong
CATEGORIES:2017,Chinese opera,Music,Performing Arts
GEO:22.294318;114.171708
X-APPLE-STRUCTURED-LOCATION;VALUE=URI;X-ADDRESS=HK Cultural Centre Grand Theatre 10 Salisbury Road Tsim Sha Tsui Hong Kong;X-APPLE-RADIUS=500;X-TITLE=10 Salisbury Road:geo:114.171708,22.294318
END:VEVENT
BEGIN:VEVENT
DTSTART;TZID=Asia/Hong_Kong:20170927T210000
DTEND;TZID=Asia/Hong_Kong:20170927T210000
DTSTAMP:20260426T031737
CREATED:19170515T064143Z
LAST-MODIFIED:20170515T090419Z
UID:10001228-1506546000-1506546000@www.bcmagazine.net
SUMMARY:Ariana Grande
DESCRIPTION:Ariana Grande – Dangerous Woman Tour\nDate: 8pm\, 27 September\, 2017\nVenue: AsiaWorld Expo\, Arena\nTickets: $4\,888\, $2\,188\, $888 from HKTicketing
URL:https://www.bcmagazine.net/event/ariana-grande-2017/
LOCATION:AsiaWorld-Expo\, Arena\, Cheong Wing Road\, Chek Lap Kok\, Lantau\, Hong Kong
CATEGORIES:2017,Concert,Music
GEO:22.3217383;113.9402012
X-APPLE-STRUCTURED-LOCATION;VALUE=URI;X-ADDRESS=AsiaWorld-Expo Arena Cheong Wing Road Chek Lap Kok Lantau Hong Kong;X-APPLE-RADIUS=500;X-TITLE=Cheong Wing Road\, Chek Lap Kok:geo:113.9402012,22.3217383
END:VEVENT
BEGIN:VEVENT
DTSTART;TZID=Asia/Hong_Kong:20170928T190000
DTEND;TZID=Asia/Hong_Kong:20170928T190000
DTSTAMP:20260426T031737
CREATED:19170912T032953Z
LAST-MODIFIED:20170912T033508Z
UID:10003470-1506625200-1506625200@www.bcmagazine.net
SUMMARY:Drink For Justice
DESCRIPTION:Drink For Justice\nDate: 7pm\, 28 September\, 2017\nVenue: Cafe 8\nTickets: $200
URL:https://www.bcmagazine.net/event/drink-for-justice-09-2017/
LOCATION:Cafe 8\, Hong Kong
CATEGORIES:2017,Nightlife
GEO:22.396428;114.109497
END:VEVENT
BEGIN:VEVENT
DTSTART;TZID=Asia/Hong_Kong:20170928T210000
DTEND;TZID=Asia/Hong_Kong:20170928T210000
DTSTAMP:20260426T031737
CREATED:19170910T085420Z
LAST-MODIFIED:20170911T030607Z
UID:10003461-1506632400-1506632400@www.bcmagazine.net
SUMMARY:Yoko Wende
DESCRIPTION:Yoko Wende with Antoine Richard\nDate: 9pm\, 28 September\, 2017\nVenue: Peel Fresco\nTickets: $100
URL:https://www.bcmagazine.net/event/yoko-wende-28-09-2017/
LOCATION:Peel Fresco\, 49 Peel Street\, Central\, Hong Kong
CATEGORIES:2017,Concert,Music,Performing Arts
GEO:22.2828485;114.1526907
X-APPLE-STRUCTURED-LOCATION;VALUE=URI;X-ADDRESS=Peel Fresco 49 Peel Street Central Hong Kong;X-APPLE-RADIUS=500;X-TITLE=49 Peel Street:geo:114.1526907,22.2828485
END:VEVENT
END:VCALENDAR