BEGIN:VCALENDAR
VERSION:2.0
PRODID:-//bc magazine - ECPv6.15.20//NONSGML v1.0//EN
CALSCALE:GREGORIAN
METHOD:PUBLISH
X-WR-CALNAME:bc magazine
X-ORIGINAL-URL:https://www.bcmagazine.net
X-WR-CALDESC:Events for bc magazine
REFRESH-INTERVAL;VALUE=DURATION:PT1H
X-Robots-Tag:noindex
X-PUBLISHED-TTL:PT1H
BEGIN:VTIMEZONE
TZID:Asia/Hong_Kong
BEGIN:STANDARD
TZOFFSETFROM:+0800
TZOFFSETTO:+0800
TZNAME:HKT
DTSTART:20160101T000000
END:STANDARD
END:VTIMEZONE
BEGIN:VEVENT
DTSTART;VALUE=DATE:20171001
DTEND;VALUE=DATE:20171203
DTSTAMP:20260425T060214
CREATED:19171016T115818Z
LAST-MODIFIED:20171207T084030Z
UID:10003567-1506816000-1512259199@www.bcmagazine.net
SUMMARY:Wrestle Mania Macau
DESCRIPTION:Wrestle Mania Macau\nMacau Wrestling Culture Association\nDate: 4:30pm\, 8pm\, daily until 31 December\, 2017\nVenue: Hotel Golden Dragon\nTickets: $380 from MacauTicket
URL:https://www.bcmagazine.net/event/wrestle-mania-macau/
LOCATION:Hotel Golden Dragon\, Macau
CATEGORIES:2017,Macau,Sport
END:VEVENT
BEGIN:VEVENT
DTSTART;VALUE=DATE:20171109
DTEND;VALUE=DATE:20171112
DTSTAMP:20260425T060215
CREATED:20171024T044825Z
LAST-MODIFIED:20171025T151814Z
UID:10006454-1510185600-1510444799@www.bcmagazine.net
SUMMARY:Wine & Spirits Fair
DESCRIPTION:https://bcmagazine.smugmug.com/Wine-spirits-press-Conference-HKCEC-24-October-2017/n-cV2Bvp/i-KbgFJVz \nThe annual Wine & Spirits Fair returns to the HKCEC\, the first two days are for the trade only. But on the 11 November the public can attend and explore\, sample and a massive range of wine and spirits from across the globe. \nWine & Spirits Fair\nDate: 10:30am\, 9-11 November\, 2017\nVenue: HKCEC\nTickets: $200\nMore info:\n9-10 Nov – Trade only\n11 Nov – Public \nhttps://bcmagazine.smugmug.com/Wine-spirits-press-Conference-HKCEC-24-October-2017/n-cV2Bvp/i-PZVSwpz
URL:https://www.bcmagazine.net/event/wine-spirits-fair-2017/
LOCATION:HK Convention and Exhibition Centre\, 1 Expo Drive\, Wanchai\, Hong Kong
CATEGORIES:2017,Exhibition
END:VEVENT
BEGIN:VEVENT
DTSTART;TZID=Asia/Hong_Kong:20171111T143000
DTEND;TZID=Asia/Hong_Kong:20171111T143000
DTSTAMP:20260425T060215
CREATED:20230114T144036Z
LAST-MODIFIED:20230114T144036Z
UID:10002983-1510410600-1510410600@www.bcmagazine.net
SUMMARY:Le Corsaire
DESCRIPTION:Le Corsaire\nHK Ballet\nDate: 3-5\, 10-12 November\, 2017\nVenue: HK Cultural Centre\, Grand Theatre\nTickets: $1\,000\, $680\, $480\, $280\, $140 from Urbtix\nMore info:\n3-4 & 10-11 November – 7:30pm\n4-5 & 11-12 November – 2:30pm
URL:https://www.bcmagazine.net/event/le-corsaire-2017/2017-11-11/
LOCATION:HK Cultural Centre\, Grand Theatre\,\, 10 Salisbury Road\, Tsim Sha Tsui\, Hong Kong
CATEGORIES:2017,Ballet,Dance,Performing Arts
GEO:22.294318;114.171708
X-APPLE-STRUCTURED-LOCATION;VALUE=URI;X-ADDRESS=HK Cultural Centre Grand Theatre 10 Salisbury Road Tsim Sha Tsui Hong Kong;X-APPLE-RADIUS=500;X-TITLE=10 Salisbury Road:geo:114.171708,22.294318
END:VEVENT
BEGIN:VEVENT
DTSTART;TZID=Asia/Hong_Kong:20171111T150000
DTEND;TZID=Asia/Hong_Kong:20171111T150000
DTSTAMP:20260425T060215
CREATED:20230114T080119Z
LAST-MODIFIED:20230114T080119Z
UID:10001284-1510412400-1510412400@www.bcmagazine.net
SUMMARY:Beyond the Corner
DESCRIPTION:The Open Platform: Beyond the Corner\nHong Kong Repertory Theatre\nDate: 3-12 November\, 2017\nVenue: HKRep Black Box\nTickets: $200\, $180\nMore info:\nDrama in Cantonese\n3-4\, 7-11 November – 8pm\n5\, 11-12 November – 3pm
URL:https://www.bcmagazine.net/event/beyond-the-corner-hkrep-black-box-2017/2017-11-11/
LOCATION:HKREP Black Box Theatre\, 8/F\, Sheung Wan Civic Centre\, Sheung Wan Municipal Services Building\, 345 Queen's Road\, Sheung Wan\, Hong Kong
CATEGORIES:2017,Performing Arts,Theatre
END:VEVENT
BEGIN:VEVENT
DTSTART;TZID=Asia/Hong_Kong:20171111T193000
DTEND;TZID=Asia/Hong_Kong:20171111T193000
DTSTAMP:20260425T060215
CREATED:19170708T025200Z
LAST-MODIFIED:20170708T044822Z
UID:10002980-1510428600-1510428600@www.bcmagazine.net
SUMMARY:Le Corsaire
DESCRIPTION:Le Corsaire\nHK Ballet\nDate: 3-5\, 10-12 November\, 2017\nVenue: HK Cultural Centre\, Grand Theatre\nTickets: $1\,000\, $680\, $480\, $280\, $140 from Urbtix\nMore info:\n3-4 & 10-11 November – 7:30pm\n4-5 & 11-12 November – 2:30pm
URL:https://www.bcmagazine.net/event/le-corsaire-2017/2017-11-11/
LOCATION:HK Cultural Centre\, Grand Theatre\,\, 10 Salisbury Road\, Tsim Sha Tsui\, Hong Kong
CATEGORIES:2017,Ballet,Dance,Performing Arts
GEO:22.294318;114.171708
X-APPLE-STRUCTURED-LOCATION;VALUE=URI;X-ADDRESS=HK Cultural Centre Grand Theatre 10 Salisbury Road Tsim Sha Tsui Hong Kong;X-APPLE-RADIUS=500;X-TITLE=10 Salisbury Road:geo:114.171708,22.294318
END:VEVENT
BEGIN:VEVENT
DTSTART;TZID=Asia/Hong_Kong:20171111T193000
DTEND;TZID=Asia/Hong_Kong:20171111T193000
DTSTAMP:20260425T060215
CREATED:20171010T032020Z
LAST-MODIFIED:20171010T033645Z
UID:10006445-1510428600-1510428600@www.bcmagazine.net
SUMMARY:Symphony Under the Stars
DESCRIPTION:Symphony Under the Stars\nHK Philharmonic Orchestra\nDate: 7:30pm\, 11 November\, 2017\nVenue: Central Harbourfront\nTickets: public registration www.hkphil.org
URL:https://www.bcmagazine.net/event/symphony-under-the-stars-2017/
LOCATION:Central Harbourfront\,  9 Lung Wo Road\, Central\, Hong Kong
CATEGORIES:2017,Concert,Free,Music,Performing Arts,Rugby,Sport
ATTACH;FMTTYPE=image/jpeg:https://www.bcmagazine.net/wp-content/uploads/2017/10/HK-Phil-symphony-under-the-stars-c-Cheung-Chi-Wai-HK-Phil.jpg
GEO:22.2826223;114.164346
X-APPLE-STRUCTURED-LOCATION;VALUE=URI;X-ADDRESS=Central Harbourfront  9 Lung Wo Road Central Hong Kong;X-APPLE-RADIUS=500;X-TITLE=9 Lung Wo Road:geo:114.164346,22.2826223
END:VEVENT
BEGIN:VEVENT
DTSTART;TZID=Asia/Hong_Kong:20171111T200000
DTEND;TZID=Asia/Hong_Kong:20171111T200000
DTSTAMP:20260425T060215
CREATED:19170520T100528Z
LAST-MODIFIED:20170520T120323Z
UID:10001281-1510430400-1510430400@www.bcmagazine.net
SUMMARY:Beyond the Corner
DESCRIPTION:The Open Platform: Beyond the Corner\nHong Kong Repertory Theatre\nDate: 3-12 November\, 2017\nVenue: HKRep Black Box\nTickets: $200\, $180\nMore info:\nDrama in Cantonese\n3-4\, 7-11 November – 8pm\n5\, 11-12 November – 3pm
URL:https://www.bcmagazine.net/event/beyond-the-corner-hkrep-black-box-2017/2017-11-11/
LOCATION:HKREP Black Box Theatre\, 8/F\, Sheung Wan Civic Centre\, Sheung Wan Municipal Services Building\, 345 Queen's Road\, Sheung Wan\, Hong Kong
CATEGORIES:2017,Performing Arts,Theatre
END:VEVENT
BEGIN:VEVENT
DTSTART;TZID=Asia/Hong_Kong:20171111T200000
DTEND;TZID=Asia/Hong_Kong:20171111T200000
DTSTAMP:20260425T060215
CREATED:19170807T083751Z
LAST-MODIFIED:20170807T113937Z
UID:10003131-1510430400-1510430400@www.bcmagazine.net
SUMMARY:Cell
DESCRIPTION:Cell\nSmoking Apples & Dogfish\nDate: 10-12 November\, 2017\nVenue: Ngau Chi Wan Civic Centre\, Theatre\nTickets: $220\, $160 from Urbtix
URL:https://www.bcmagazine.net/event/cell-11-11-2017/
LOCATION:Ngau Chi Wan Civic Centre\, Theatre\, 2/F & 3/F\, Ngau Chi Wan Municipal Services Building\, 11 Clear Water Bay Road\, Kowloon\, Hong Kong
CATEGORIES:2017,Performing Arts,Poetry
GEO:22.3345215;114.2089915
X-APPLE-STRUCTURED-LOCATION;VALUE=URI;X-ADDRESS=Ngau Chi Wan Civic Centre Theatre 2/F & 3/F Ngau Chi Wan Municipal Services Building 11 Clear Water Bay Road Kowloon Hong Kong;X-APPLE-RADIUS=500;X-TITLE=2/F & 3/F\, Ngau Chi Wan Municipal Services Building\, 11 Clear Water Bay Road:geo:114.2089915,22.3345215
END:VEVENT
BEGIN:VEVENT
DTSTART;TZID=Asia/Hong_Kong:20171111T200000
DTEND;TZID=Asia/Hong_Kong:20171111T200000
DTSTAMP:20260425T060215
CREATED:19170909T021037Z
LAST-MODIFIED:20160916T163911Z
UID:10003399-1510430400-1510430400@www.bcmagazine.net
SUMMARY:Peel Street Poetry
DESCRIPTION:Peel Street Poetry is an open mic poetry night at Orange Peel. It runs every Wednesdays of the month except the first. The environment is friendly and they love new performers\, so come share your poetry or just listen along to some of Hong Kong’s sharpest poetic talents. \nPeel Street Poetry Open Mic\nDate: 2nd\, 3rd\, 4th (and 5th) Wednesdays of the month\nVenue: Orange Peel\nTickets: Free\nMore info:\nwww.peelstreetpoetry.com
URL:https://www.bcmagazine.net/event/peel-street-poetry-2017/2017-11-11/
LOCATION:Orange Peel\, 2/F\, 38-44 D'Aguilar Street\, Central\, Hong Kong\, Hong Kong
CATEGORIES:2017,Free,Performing Arts,Poetry
GEO:22.2807864;114.1553675
X-APPLE-STRUCTURED-LOCATION;VALUE=URI;X-ADDRESS=Orange Peel 2/F 38-44 D'Aguilar Street Central Hong Kong Hong Kong;X-APPLE-RADIUS=500;X-TITLE=2/F\, 38-44 D'Aguilar Street\, Central:geo:114.1553675,22.2807864
END:VEVENT
BEGIN:VEVENT
DTSTART;TZID=Asia/Hong_Kong:20171111T200000
DTEND;TZID=Asia/Hong_Kong:20171111T200000
DTSTAMP:20260425T060215
CREATED:19171009T025544Z
LAST-MODIFIED:20171009T062354Z
UID:10003507-1510430400-1510430400@www.bcmagazine.net
SUMMARY:Fama Mo Money World Tour (Mong Kok Station)
DESCRIPTION:Fama Mo Money World Tour (Mong Kok Station)\nDate: 8pm\, 9-14 November\, 2017\nVenue: MacPherson Stadium\nTickets: $580\, $480 from Cityline
URL:https://www.bcmagazine.net/event/fama-11-11-2017/
LOCATION:MacPherson Stadium\, 38 Nelson Street\, Mongkok\, Hong Kong
CATEGORIES:2017,Concert,Music,Performing Arts
GEO:22.3188457;114.1728403
X-APPLE-STRUCTURED-LOCATION;VALUE=URI;X-ADDRESS=MacPherson Stadium 38 Nelson Street Mongkok Hong Kong;X-APPLE-RADIUS=500;X-TITLE=38 Nelson Street:geo:114.1728403,22.3188457
END:VEVENT
BEGIN:VEVENT
DTSTART;TZID=Asia/Hong_Kong:20171111T200000
DTEND;TZID=Asia/Hong_Kong:20171111T200000
DTSTAMP:20260425T060215
CREATED:19171011T102142Z
LAST-MODIFIED:20171011T102608Z
UID:10003563-1510430400-1510430400@www.bcmagazine.net
SUMMARY:White Cell
DESCRIPTION:White Cell\nSudhee Liao\, Andrew Luk\nDate: 8pm\, 11 November 2017\nVenue: Wing\, 21F\, Chai Wan Industrial City 2\, Sheung On Street\, Chai Wan\nTickets: Free – rsvp wing@wingplatform.org
URL:https://www.bcmagazine.net/event/white-cell-2017/
LOCATION:Wing\, Unit 2102\, Chai Wan Industrial City Phase 2\, 70 Wing Tai Road\, Chai Wan\, Hong Kong
CATEGORIES:2017,Performing Arts,Theatre
GEO:22.2682325;114.242384
X-APPLE-STRUCTURED-LOCATION;VALUE=URI;X-ADDRESS=Wing Unit 2102 Chai Wan Industrial City Phase 2 70 Wing Tai Road Chai Wan Hong Kong;X-APPLE-RADIUS=500;X-TITLE=Unit 2102\, Chai Wan Industrial City Phase 2\, 70 Wing Tai Road:geo:114.242384,22.2682325
END:VEVENT
BEGIN:VEVENT
DTSTART;TZID=Asia/Hong_Kong:20171112T080000
DTEND;TZID=Asia/Hong_Kong:20171112T080000
DTSTAMP:20260425T060215
CREATED:19170902T001419Z
LAST-MODIFIED:20170902T064112Z
UID:10003268-1510473600-1510473600@www.bcmagazine.net
SUMMARY:Heifer Race to Feed
DESCRIPTION:Heifer Race to Feed 2017\nDate: 8am\, 12 November\, 2017\nVenue: Hong Kong Science & Technology Park – Pak Shek Kok Promenade\nTickets: $250
URL:https://www.bcmagazine.net/event/heifer-race-to-feed-2017/
LOCATION:Hong Kong Science Park\, Pak Shek Kok\, Hong Kong
CATEGORIES:2017,Charity,Sport
GEO:22.396428;114.109497
END:VEVENT
BEGIN:VEVENT
DTSTART;TZID=Asia/Hong_Kong:20171112T143000
DTEND;TZID=Asia/Hong_Kong:20171112T143000
DTSTAMP:20260425T060215
CREATED:20230114T144036Z
LAST-MODIFIED:20230114T144036Z
UID:10002984-1510497000-1510497000@www.bcmagazine.net
SUMMARY:Le Corsaire
DESCRIPTION:Le Corsaire\nHK Ballet\nDate: 3-5\, 10-12 November\, 2017\nVenue: HK Cultural Centre\, Grand Theatre\nTickets: $1\,000\, $680\, $480\, $280\, $140 from Urbtix\nMore info:\n3-4 & 10-11 November – 7:30pm\n4-5 & 11-12 November – 2:30pm
URL:https://www.bcmagazine.net/event/le-corsaire-2017/2017-11-12/
LOCATION:HK Cultural Centre\, Grand Theatre\,\, 10 Salisbury Road\, Tsim Sha Tsui\, Hong Kong
CATEGORIES:2017,Ballet,Dance,Performing Arts
GEO:22.294318;114.171708
X-APPLE-STRUCTURED-LOCATION;VALUE=URI;X-ADDRESS=HK Cultural Centre Grand Theatre 10 Salisbury Road Tsim Sha Tsui Hong Kong;X-APPLE-RADIUS=500;X-TITLE=10 Salisbury Road:geo:114.171708,22.294318
END:VEVENT
BEGIN:VEVENT
DTSTART;TZID=Asia/Hong_Kong:20171112T150000
DTEND;TZID=Asia/Hong_Kong:20171112T150000
DTSTAMP:20260425T060215
CREATED:19170807T083751Z
LAST-MODIFIED:20170807T114008Z
UID:10003132-1510498800-1510498800@www.bcmagazine.net
SUMMARY:Cell
DESCRIPTION:Cell\nSmoking Apples & Dogfish\nDate: 10-12 November\, 2017\nVenue: Ngau Chi Wan Civic Centre\, Theatre\nTickets: $220\, $160 from Urbtix
URL:https://www.bcmagazine.net/event/cell-12-11-2017/
LOCATION:Ngau Chi Wan Civic Centre\, Theatre\, 2/F & 3/F\, Ngau Chi Wan Municipal Services Building\, 11 Clear Water Bay Road\, Kowloon\, Hong Kong
CATEGORIES:2017,Performing Arts,Poetry
GEO:22.3345215;114.2089915
X-APPLE-STRUCTURED-LOCATION;VALUE=URI;X-ADDRESS=Ngau Chi Wan Civic Centre Theatre 2/F & 3/F Ngau Chi Wan Municipal Services Building 11 Clear Water Bay Road Kowloon Hong Kong;X-APPLE-RADIUS=500;X-TITLE=2/F & 3/F\, Ngau Chi Wan Municipal Services Building\, 11 Clear Water Bay Road:geo:114.2089915,22.3345215
END:VEVENT
BEGIN:VEVENT
DTSTART;TZID=Asia/Hong_Kong:20171112T150000
DTEND;TZID=Asia/Hong_Kong:20171112T150000
DTSTAMP:20260425T060215
CREATED:20230114T080119Z
LAST-MODIFIED:20230114T080119Z
UID:10001285-1510498800-1510498800@www.bcmagazine.net
SUMMARY:Beyond the Corner
DESCRIPTION:The Open Platform: Beyond the Corner\nHong Kong Repertory Theatre\nDate: 3-12 November\, 2017\nVenue: HKRep Black Box\nTickets: $200\, $180\nMore info:\nDrama in Cantonese\n3-4\, 7-11 November – 8pm\n5\, 11-12 November – 3pm
URL:https://www.bcmagazine.net/event/beyond-the-corner-hkrep-black-box-2017/2017-11-12/
LOCATION:HKREP Black Box Theatre\, 8/F\, Sheung Wan Civic Centre\, Sheung Wan Municipal Services Building\, 345 Queen's Road\, Sheung Wan\, Hong Kong
CATEGORIES:2017,Performing Arts,Theatre
END:VEVENT
BEGIN:VEVENT
DTSTART;TZID=Asia/Hong_Kong:20171112T200000
DTEND;TZID=Asia/Hong_Kong:20171112T200000
DTSTAMP:20260425T060215
CREATED:19171009T025544Z
LAST-MODIFIED:20171009T062405Z
UID:10003508-1510516800-1510516800@www.bcmagazine.net
SUMMARY:Fama Mo Money World Tour (Mong Kok Station)
DESCRIPTION:Fama Mo Money World Tour (Mong Kok Station)\nDate: 8pm\, 9-14 November\, 2017\nVenue: MacPherson Stadium\nTickets: $580\, $480 from Cityline
URL:https://www.bcmagazine.net/event/fama-12-11-2017/
LOCATION:MacPherson Stadium\, 38 Nelson Street\, Mongkok\, Hong Kong
CATEGORIES:2017,Concert,Music,Performing Arts
GEO:22.3188457;114.1728403
X-APPLE-STRUCTURED-LOCATION;VALUE=URI;X-ADDRESS=MacPherson Stadium 38 Nelson Street Mongkok Hong Kong;X-APPLE-RADIUS=500;X-TITLE=38 Nelson Street:geo:114.1728403,22.3188457
END:VEVENT
BEGIN:VEVENT
DTSTART;TZID=Asia/Hong_Kong:20171113T200000
DTEND;TZID=Asia/Hong_Kong:20171113T200000
DTSTAMP:20260425T060215
CREATED:19171009T025544Z
LAST-MODIFIED:20171009T062406Z
UID:10003509-1510603200-1510603200@www.bcmagazine.net
SUMMARY:Fama Mo Money World Tour (Mong Kok Station)
DESCRIPTION:Fama Mo Money World Tour (Mong Kok Station)\nDate: 8pm\, 9-14 November\, 2017\nVenue: MacPherson Stadium\nTickets: $580\, $480 from Cityline
URL:https://www.bcmagazine.net/event/fama-13-11-2017/
LOCATION:MacPherson Stadium\, 38 Nelson Street\, Mongkok\, Hong Kong
CATEGORIES:2017,Concert,Music,Performing Arts
GEO:22.3188457;114.1728403
X-APPLE-STRUCTURED-LOCATION;VALUE=URI;X-ADDRESS=MacPherson Stadium 38 Nelson Street Mongkok Hong Kong;X-APPLE-RADIUS=500;X-TITLE=38 Nelson Street:geo:114.1728403,22.3188457
END:VEVENT
BEGIN:VEVENT
DTSTART;TZID=Asia/Hong_Kong:20171114T170000
DTEND;TZID=Asia/Hong_Kong:20171114T170000
DTSTAMP:20260425T060215
CREATED:19171010T031420Z
LAST-MODIFIED:20171010T031832Z
UID:10003523-1510678800-1510678800@www.bcmagazine.net
SUMMARY:Cup of Nations 2017
DESCRIPTION:Cup of Nations 2017\nDate: 5pm\, 14 November\, 2017\nVenue: Kings Park\nTickets: $50 from Ticketflap\nMore info:\n5pm Russia v Kenya\n7pm Hong Kong v Chile
URL:https://www.bcmagazine.net/event/cup-of-nations-14-11-2017/
LOCATION:King’s Park Sports Ground\, 11 Wylie Path\, Ho Man Tin\, Jordan\, Hong Kong
CATEGORIES:2017,Rugby,Sport
END:VEVENT
BEGIN:VEVENT
DTSTART;TZID=Asia/Hong_Kong:20171114T200000
DTEND;TZID=Asia/Hong_Kong:20171114T200000
DTSTAMP:20260425T060215
CREATED:19170530T034649Z
LAST-MODIFIED:20170530T043138Z
UID:10002768-1510689600-1510689600@www.bcmagazine.net
SUMMARY:Hong Kong v Lebenon
DESCRIPTION:Hong Kong v Lebenon\nAFC Asian Cup 2019\nDate: 8pm\, 14 November\, 2017\nVenue: HK Stadium\nTickets: $200 from Cityline
URL:https://www.bcmagazine.net/event/hong-kong-v-lebenon-afc-asian-cup-2019/
LOCATION:HK Stadium\, 55 Eastern Hospital Road\, So Kon Po\, Hong Kong
CATEGORIES:2017,Football,Sport
GEO:22.2730073;114.1885121
X-APPLE-STRUCTURED-LOCATION;VALUE=URI;X-ADDRESS=HK Stadium 55 Eastern Hospital Road So Kon Po Hong Kong;X-APPLE-RADIUS=500;X-TITLE=55 Eastern Hospital Road:geo:114.1885121,22.2730073
END:VEVENT
BEGIN:VEVENT
DTSTART;TZID=Asia/Hong_Kong:20171114T200000
DTEND;TZID=Asia/Hong_Kong:20171114T200000
DTSTAMP:20260425T060215
CREATED:19171009T025544Z
LAST-MODIFIED:20171009T062339Z
UID:10003510-1510689600-1510689600@www.bcmagazine.net
SUMMARY:Fama Mo Money World Tour (Mong Kok Station)
DESCRIPTION:Fama Mo Money World Tour (Mong Kok Station)\nDate: 8pm\, 9-14 November\, 2017\nVenue: MacPherson Stadium\nTickets: $580\, $480 from Cityline
URL:https://www.bcmagazine.net/event/fama-14-11-2017/
LOCATION:MacPherson Stadium\, 38 Nelson Street\, Mongkok\, Hong Kong
CATEGORIES:2017,Concert,Music,Performing Arts
GEO:22.3188457;114.1728403
X-APPLE-STRUCTURED-LOCATION;VALUE=URI;X-ADDRESS=MacPherson Stadium 38 Nelson Street Mongkok Hong Kong;X-APPLE-RADIUS=500;X-TITLE=38 Nelson Street:geo:114.1728403,22.3188457
END:VEVENT
BEGIN:VEVENT
DTSTART;TZID=Asia/Hong_Kong:20171114T200000
DTEND;TZID=Asia/Hong_Kong:20171114T200000
DTSTAMP:20260425T060215
CREATED:19171107T110009Z
LAST-MODIFIED:20171107T110529Z
UID:10003597-1510689600-1510689600@www.bcmagazine.net
SUMMARY:Hong Kong v Lebanon
DESCRIPTION:Hong Kong v Lebanon\nAFC Asian Cup\nDate: 8pm\, 14 November\, 2017\nVenue: Hong Kong Stadium\nTickets: $200 from Cityline
URL:https://www.bcmagazine.net/event/hong-kong-v-lebanon-2017/
LOCATION:HK Stadium\, 55 Eastern Hospital Road\, So Kon Po\, Hong Kong
CATEGORIES:2017,Football,Sport
GEO:22.2730073;114.1885121
X-APPLE-STRUCTURED-LOCATION;VALUE=URI;X-ADDRESS=HK Stadium 55 Eastern Hospital Road So Kon Po Hong Kong;X-APPLE-RADIUS=500;X-TITLE=55 Eastern Hospital Road:geo:114.1885121,22.2730073
END:VEVENT
BEGIN:VEVENT
DTSTART;TZID=Asia/Hong_Kong:20171115T193000
DTEND;TZID=Asia/Hong_Kong:20171115T193000
DTSTAMP:20260425T060215
CREATED:19171107T104126Z
LAST-MODIFIED:20171107T104529Z
UID:10003579-1510774200-1510774200@www.bcmagazine.net
SUMMARY:Paul Reed Smith
DESCRIPTION:Paul Reed Smith\nDate: 7:30pm\, 15 November\, 2017\nVenue: Kitec\, Music Zone@E-Max\nTickets: $100
URL:https://www.bcmagazine.net/event/paul-reed-smith-2017/
LOCATION:KITEC\, Music Zone@E-Max\, KITEC\,‎ 1 Trademart Drive\, Kowloon Bay\, Hong Kong
CATEGORIES:2017,Concert,Music,Performing Arts
GEO:22.3239575;114.2037608
X-APPLE-STRUCTURED-LOCATION;VALUE=URI;X-ADDRESS=KITEC Music Zone@E-Max KITEC‎ 1 Trademart Drive Kowloon Bay Hong Kong;X-APPLE-RADIUS=500;X-TITLE=KITEC\,‎ 1 Trademart Drive:geo:114.2037608,22.3239575
END:VEVENT
BEGIN:VEVENT
DTSTART;TZID=Asia/Hong_Kong:20171115T200000
DTEND;TZID=Asia/Hong_Kong:20171115T200000
DTSTAMP:20260425T060215
CREATED:19171009T025544Z
LAST-MODIFIED:20171009T061155Z
UID:10003501-1510776000-1510776000@www.bcmagazine.net
SUMMARY:Naohito Fujiki
DESCRIPTION:Naohito Fujiki Live Tour ver11.1 ~ k.k.w.d.tour~Hong Kong\nDate: 8pm\, 15 November\, 2017\nVenue: MacPherson Stadium\nTickets: $1\,080\, $780\, $580 from Cityline
URL:https://www.bcmagazine.net/event/naohito-fujiki-2017/
LOCATION:MacPherson Stadium\, 38 Nelson Street\, Mongkok\, Hong Kong
CATEGORIES:2017,Concert,Music,Performing Arts
GEO:22.3188457;114.1728403
X-APPLE-STRUCTURED-LOCATION;VALUE=URI;X-ADDRESS=MacPherson Stadium 38 Nelson Street Mongkok Hong Kong;X-APPLE-RADIUS=500;X-TITLE=38 Nelson Street:geo:114.1728403,22.3188457
END:VEVENT
BEGIN:VEVENT
DTSTART;TZID=Asia/Hong_Kong:20171115T200000
DTEND;TZID=Asia/Hong_Kong:20171115T200000
DTSTAMP:20260425T060215
CREATED:19171009T025544Z
LAST-MODIFIED:20171009T055419Z
UID:10003494-1510776000-1510776000@www.bcmagazine.net
SUMMARY:HKGNA Music Festival: Yin Cheng-zong
DESCRIPTION:HKGNA Music Festival: Legends & Legacies\nYin Cheng-zong\, PolyU Orchestra\nDate: 8pm\, 15 November\, 2017\nVenue: The Hong Kong Polytechnic University\, Jockey Club Auditorium\nTickets: $300\, $200\, $80 from Cityline
URL:https://www.bcmagazine.net/event/hkgna-music-festival-yin-cheng-zong-2017/
LOCATION:Hong Kong Polytechnic University\, Jockey Club Auditorium\, Hong Kong
CATEGORIES:2017,Concert,Music,Performing Arts
GEO:22.396428;114.109497
END:VEVENT
BEGIN:VEVENT
DTSTART;TZID=Asia/Hong_Kong:20171115T201500
DTEND;TZID=Asia/Hong_Kong:20171115T201500
DTSTAMP:20260425T060215
CREATED:19171107T110009Z
LAST-MODIFIED:20171107T120330Z
UID:10003599-1510776900-1510776900@www.bcmagazine.net
SUMMARY:Karen Tong
DESCRIPTION:Karen Tong – 25th Anniversary Concert\nDate: 8:15pm\, 15 November\, 2017\nVenue: Kitec\, Star Hall\nTickets: $580\, $480\, $380
URL:https://www.bcmagazine.net/event/karen-tong-2017/
LOCATION:KITEC\, Star Hall\, KITEC\, 1 Trademart Drive\, Kowloon Bay\, Hong Kong
CATEGORIES:2017,Cantopop,Concert,Music,Performing Arts
GEO:22.3239575;114.2037608
X-APPLE-STRUCTURED-LOCATION;VALUE=URI;X-ADDRESS=KITEC Star Hall KITEC 1 Trademart Drive Kowloon Bay Hong Kong;X-APPLE-RADIUS=500;X-TITLE=KITEC\, 1 Trademart Drive:geo:114.2037608,22.3239575
END:VEVENT
BEGIN:VEVENT
DTSTART;VALUE=DATE:20171116
DTEND;VALUE=DATE:20171120
DTSTAMP:20260425T060215
CREATED:20170720T083647Z
LAST-MODIFIED:20170720T083647Z
UID:10006407-1510790400-1511135999@www.bcmagazine.net
SUMMARY:64th Macau Grand Prix
DESCRIPTION:64th Macau Grand Prix\nDate: 16-19 November\, 2017\nVenue: Macau\nTickets: tbc
URL:https://www.bcmagazine.net/event/macau-grand-prix-2017/
LOCATION:Macau\, Macau
CATEGORIES:2017,Macau,Sport
GEO:22.198745;113.543873
END:VEVENT
BEGIN:VEVENT
DTSTART;VALUE=DATE:20171117
DTEND;VALUE=DATE:20171118
DTSTAMP:20260425T060215
CREATED:19171115T092903Z
LAST-MODIFIED:20171115T093622Z
UID:10003613-1510876800-1510963199@www.bcmagazine.net
SUMMARY:Canoe Ocean Racing Asian Championships
DESCRIPTION:Canoe Ocean Racing Asian Championships\nDate: 17 November\, 2017\nVenue: Clear Water Bay\nTickets: Free
URL:https://www.bcmagazine.net/event/canoe-ocean-racing-asian-championships/
LOCATION:Clear Water Bay\, Clear Water Bay\, Hong Kong
CATEGORIES:2017,Free,Sport
GEO:22.2851406;114.2940282
END:VEVENT
BEGIN:VEVENT
DTSTART;VALUE=DATE:20171117
DTEND;VALUE=DATE:20171120
DTSTAMP:20260425T060215
CREATED:19160525T085402Z
LAST-MODIFIED:20171222T103909Z
UID:10001642-1510876800-1511135999@www.bcmagazine.net
SUMMARY:Clockenflap
DESCRIPTION:Clockenflap\nDate: 17-19 November\, 2017\nVenue: Central Harbourfront\nTickets: $1\,438\, $788\, $688\, $588 from Ticketflap
URL:https://www.bcmagazine.net/event/clockenflap-2017/
LOCATION:Central Harbourfront\,  9 Lung Wo Road\, Central\, Hong Kong
CATEGORIES:2017,Concert,Music
GEO:22.2826223;114.164346
X-APPLE-STRUCTURED-LOCATION;VALUE=URI;X-ADDRESS=Central Harbourfront  9 Lung Wo Road Central Hong Kong;X-APPLE-RADIUS=500;X-TITLE=9 Lung Wo Road:geo:114.164346,22.2826223
END:VEVENT
BEGIN:VEVENT
DTSTART;VALUE=DATE:20171117
DTEND;VALUE=DATE:20171120
DTSTAMP:20260425T060215
CREATED:19171117T094702Z
LAST-MODIFIED:20171117T102945Z
UID:10003615-1510876800-1511135999@www.bcmagazine.net
SUMMARY:Black Book Fair HK 2017
DESCRIPTION:“When dreams fly they become realities” the Black Book Fair Hong Kong is the first of its kind that embraces all the colourful ideas and desires of anarchy. \nHere is the schedule for the three day event. Find out more at by reading our article here \nBlack Book Fair\nDate: 17-19 November\, 2017\nVenue: Lecture Hall\, VAC Centre\, 7 Kennedy Road\, Central\, Hong Kong\nTickets: Free
URL:https://www.bcmagazine.net/event/black-book-fair-hk-2017/
LOCATION:Lecture Hall\, VAC Centre\, 7 Kennedy Road\, Central\, Hong Kong
CATEGORIES:2017,Free,Lifestyle,Other
ATTACH;FMTTYPE=image/jpeg:https://www.bcmagazine.net/wp-content/uploads/2017/11/black-book-fair-hk-2017.jpg
GEO:22.2767789;114.1587055
X-APPLE-STRUCTURED-LOCATION;VALUE=URI;X-ADDRESS=Lecture Hall VAC Centre 7 Kennedy Road Central Hong Kong;X-APPLE-RADIUS=500;X-TITLE=7 Kennedy Road:geo:114.1587055,22.2767789
END:VEVENT
BEGIN:VEVENT
DTSTART;VALUE=DATE:20171117
DTEND;VALUE=DATE:20171120
DTSTAMP:20260425T060215
CREATED:20170811T055648Z
LAST-MODIFIED:20171020T071818Z
UID:10006434-1510876800-1511135999@www.bcmagazine.net
SUMMARY:Trailwalker
DESCRIPTION:Trailwalker began in Hong Kong in 1981 as a military training exercise for the elite Queen’s Gurkha Signals Regiment. In 1986 the event was opened to the public. Hong Kong’s ‘reunification’ with China in 1997 saw the retreat of the Gurkhas and Oxfam Hong Kong took over the event. \nTrailwalker\nWhen: 17-19 November\, 2017\nWhere: The Maclehose Trail\nWebsite: www.oxfamtrailwalker.org.hk
URL:https://www.bcmagazine.net/event/trailwalker-2017/
CATEGORIES:2017,Sport
END:VEVENT
END:VCALENDAR