BEGIN:VCALENDAR
VERSION:2.0
PRODID:-//bc magazine - ECPv6.15.20//NONSGML v1.0//EN
CALSCALE:GREGORIAN
METHOD:PUBLISH
X-WR-CALNAME:bc magazine
X-ORIGINAL-URL:https://www.bcmagazine.net
X-WR-CALDESC:Events for bc magazine
REFRESH-INTERVAL;VALUE=DURATION:PT1H
X-Robots-Tag:noindex
X-PUBLISHED-TTL:PT1H
BEGIN:VTIMEZONE
TZID:Asia/Hong_Kong
BEGIN:STANDARD
TZOFFSETFROM:+0800
TZOFFSETTO:+0800
TZNAME:HKT
DTSTART:20160101T000000
END:STANDARD
END:VTIMEZONE
BEGIN:VEVENT
DTSTART;VALUE=DATE:20171001
DTEND;VALUE=DATE:20171203
DTSTAMP:20260426T090751
CREATED:19171016T115818Z
LAST-MODIFIED:20171207T084030Z
UID:10003567-1506816000-1512259199@www.bcmagazine.net
SUMMARY:Wrestle Mania Macau
DESCRIPTION:Wrestle Mania Macau\nMacau Wrestling Culture Association\nDate: 4:30pm\, 8pm\, daily until 31 December\, 2017\nVenue: Hotel Golden Dragon\nTickets: $380 from MacauTicket
URL:https://www.bcmagazine.net/event/wrestle-mania-macau/
LOCATION:Hotel Golden Dragon\, Macau
CATEGORIES:2017,Macau,Sport
END:VEVENT
BEGIN:VEVENT
DTSTART;VALUE=DATE:20171122
DTEND;VALUE=DATE:20171127
DTSTAMP:20260426T090751
CREATED:19171110T071408Z
LAST-MODIFIED:20171110T072508Z
UID:10003609-1511308800-1511740799@www.bcmagazine.net
SUMMARY:Hong Kong Open Badminton Championships 2017
DESCRIPTION:Hong Kong Open Badminton Championships 2017\nDate: 22-26\, November\, 2017\nVenue: HK Coliseum\nTickets: $680\, $550\, $300\,$150\, $70 from Urbtix
URL:https://www.bcmagazine.net/event/hong-kong-open-badminton-championships-2017/
LOCATION:HK Coliseum\, 9 Cheong Wan Road\, Hung Hom\, Hong Kong
CATEGORIES:2017,Badminton,Sport
GEO:22.3014169;114.1820305
X-APPLE-STRUCTURED-LOCATION;VALUE=URI;X-ADDRESS=HK Coliseum 9 Cheong Wan Road Hung Hom Hong Kong;X-APPLE-RADIUS=500;X-TITLE=9 Cheong Wan Road:geo:114.1820305,22.3014169
END:VEVENT
BEGIN:VEVENT
DTSTART;VALUE=DATE:20171123
DTEND;VALUE=DATE:20171126
DTSTAMP:20260426T090751
CREATED:20171010T032020Z
LAST-MODIFIED:20171010T043326Z
UID:10006446-1511395200-1511654399@www.bcmagazine.net
SUMMARY:Lumieres
DESCRIPTION:Lumieres\nDate: 23-25 November\, 2017\nVenue: Across Hong Kong\nTickets: Free
URL:https://www.bcmagazine.net/event/lumieres-hk-2017/
CATEGORIES:2017,Cultural Festival,Free,Lifestyle,Performing Arts
ATTACH;FMTTYPE=image/jpeg:https://www.bcmagazine.net/wp-content/uploads/2017/10/Lumieres-HK-2017-main.jpg
END:VEVENT
BEGIN:VEVENT
DTSTART;VALUE=DATE:20171125
DTEND;VALUE=DATE:20171126
DTSTAMP:20260426T090751
CREATED:19170725T035817Z
LAST-MODIFIED:20170725T043521Z
UID:10003082-1511568000-1511654399@www.bcmagazine.net
SUMMARY:Island Hike & Run
DESCRIPTION:Island Hike & Run\nDate: 25 November\, 2017\nVenue: tbc\nTickets: tbc
URL:https://www.bcmagazine.net/event/island-hike-run-2017/
CATEGORIES:2017,Sport
END:VEVENT
BEGIN:VEVENT
DTSTART;VALUE=DATE:20171125
DTEND;VALUE=DATE:20171127
DTSTAMP:20260426T090751
CREATED:19171116T050037Z
LAST-MODIFIED:20171116T050418Z
UID:10003614-1511568000-1511740799@www.bcmagazine.net
SUMMARY:Festival du Feminin Hong Kong 2017
DESCRIPTION:Festival du Feminin Hong Kong 2017\nDate: 25-26 November\, 2017\nVenue: MuiWo Beach Resort\, Silvermine Bay\nTickets: $2\,290\, $1\,490\, $890\, $790
URL:https://www.bcmagazine.net/event/festival-du-feminin-hong-kong-2017/
CATEGORIES:2017,Lifestyle
END:VEVENT
BEGIN:VEVENT
DTSTART;VALUE=DATE:20171125
DTEND;VALUE=DATE:20171207
DTSTAMP:20260426T090751
CREATED:19171118T032318Z
LAST-MODIFIED:20171118T055600Z
UID:10003621-1511568000-1512604799@www.bcmagazine.net
SUMMARY:Hong Kong Zine & Print Fest 2017
DESCRIPTION:Hong Kong Zine & Print Fest 2017\nDate: 25 November – 6 December\, 2017\nVenue: Hong Kong Open Printshop\nTickets: Free
URL:https://www.bcmagazine.net/event/hong-kong-zine-print-fest-2017/
LOCATION:Jockey Club Creative Arts Centre\, 30 Pak Tin Street\, Shek Kip Mei\, Hong Kong
CATEGORIES:2017,Exhibition,Free,Other
GEO:22.3346654;114.1657188
X-APPLE-STRUCTURED-LOCATION;VALUE=URI;X-ADDRESS=Jockey Club Creative Arts Centre 30 Pak Tin Street Shek Kip Mei Hong Kong;X-APPLE-RADIUS=500;X-TITLE=30 Pak Tin Street:geo:114.1657188,22.3346654
END:VEVENT
BEGIN:VEVENT
DTSTART;TZID=Asia/Hong_Kong:20171125T140000
DTEND;TZID=Asia/Hong_Kong:20171125T170000
DTSTAMP:20260426T090751
CREATED:19170916T105728Z
LAST-MODIFIED:20170916T105933Z
UID:10003478-1511618400-1511629200@www.bcmagazine.net
SUMMARY:Hong Kong Pride Parade 2017
DESCRIPTION:Hong Kong Pride Parade 2017\nDate: 2pm\, 25 November\, 2017\nVenue: Victoria Park\nTickets: Free
URL:https://www.bcmagazine.net/event/hong-kong-pride-parade-2017/
LOCATION:Victoria Park\, Causeway Bay\, Hong Kong
CATEGORIES:2017,Free,LGBT,Lifestyle
END:VEVENT
BEGIN:VEVENT
DTSTART;TZID=Asia/Hong_Kong:20171125T143000
DTEND;TZID=Asia/Hong_Kong:20171125T143000
DTSTAMP:20260426T090751
CREATED:19171025T130807Z
LAST-MODIFIED:20171025T153537Z
UID:10003570-1511620200-1511620200@www.bcmagazine.net
SUMMARY:Marco Polo Goes to the Carnival
DESCRIPTION:Marco Polo goes to the Carnival\nMusicus Fest 2017\nDate: 2:30pm\, 4:30pm\, 25 November\nVenue: HK City Hall\, Theatre\nTickets: $420\, $220 from Urbtix
URL:https://www.bcmagazine.net/event/marco-polo-goes-to-the-carnival-2017/
LOCATION:HK City Hall\, Theatre\, 5 Edinburgh Place\, Central\, Hong Kong
CATEGORIES:2017,Concert,Music,Performing Arts
GEO:22.2822646;114.1615275
X-APPLE-STRUCTURED-LOCATION;VALUE=URI;X-ADDRESS=HK City Hall Theatre 5 Edinburgh Place Central Hong Kong;X-APPLE-RADIUS=500;X-TITLE=5 Edinburgh Place:geo:114.1615275,22.2822646
END:VEVENT
BEGIN:VEVENT
DTSTART;TZID=Asia/Hong_Kong:20171125T200000
DTEND;TZID=Asia/Hong_Kong:20171125T200000
DTSTAMP:20260426T090751
CREATED:19171009T025544Z
LAST-MODIFIED:20171009T061431Z
UID:10003503-1511640000-1511640000@www.bcmagazine.net
SUMMARY:AI
DESCRIPTION:AI\nDate: 8pm\, 25 November\, 2017\nVenue: Kitec\, Music Zone@E-Max\nTickets: $380 from Cityline
URL:https://www.bcmagazine.net/event/ai-2017/
LOCATION:KITEC\, Music Zone@E-Max\, KITEC\,‎ 1 Trademart Drive\, Kowloon Bay\, Hong Kong
CATEGORIES:2017,Concert,Music,Performing Arts
GEO:22.3239575;114.2037608
X-APPLE-STRUCTURED-LOCATION;VALUE=URI;X-ADDRESS=KITEC Music Zone@E-Max KITEC‎ 1 Trademart Drive Kowloon Bay Hong Kong;X-APPLE-RADIUS=500;X-TITLE=KITEC\,‎ 1 Trademart Drive:geo:114.2037608,22.3239575
END:VEVENT
BEGIN:VEVENT
DTSTART;TZID=Asia/Hong_Kong:20171125T200000
DTEND;TZID=Asia/Hong_Kong:20171125T200000
DTSTAMP:20260426T090751
CREATED:19171106T101502Z
LAST-MODIFIED:20171108T112456Z
UID:10003577-1511640000-1511640000@www.bcmagazine.net
SUMMARY:Alice Theatre Laboratory
DESCRIPTION:Seven Boxes Possessed of Kafka (2017 Edition)\nAlice Theatre Laboratory\nDate: 24-26 November\, 2017\nVenue: Shatin Town Hall\, Cultural Activities Hall\nTickets: $160\nMore info:\nIn Chinese with English surtitles\n24-25 Nov – 8pm\n25-26 Nov – 3pm
URL:https://www.bcmagazine.net/event/alice-theatre-laboratory-seven-boxes-possessed-of-kafka-25-11-2017/
LOCATION:Shatin Town Hall\, Cultural Activities Hall\, 1 Yuen Wo Road\, Sha Tin\, Hong Kong
CATEGORIES:2017,Cantonese drama,Performing Arts,Theatre
GEO:22.381264;114.189895
X-APPLE-STRUCTURED-LOCATION;VALUE=URI;X-ADDRESS=Shatin Town Hall Cultural Activities Hall 1 Yuen Wo Road Sha Tin Hong Kong;X-APPLE-RADIUS=500;X-TITLE=1 Yuen Wo Road:geo:114.189895,22.381264
END:VEVENT
BEGIN:VEVENT
DTSTART;TZID=Asia/Hong_Kong:20171125T200000
DTEND;TZID=Asia/Hong_Kong:20171125T200000
DTSTAMP:20260426T090751
CREATED:19171107T104126Z
LAST-MODIFIED:20171107T105952Z
UID:10003580-1511640000-1511640000@www.bcmagazine.net
SUMMARY:IU
DESCRIPTION:IU\nDate: 8pm\, 25 November\, 2017\nVenue: AsiaWorld Expo\nTickets: $1\,480\, $1\,080\, $680 from Cityline
URL:https://www.bcmagazine.net/event/iu-2017/
LOCATION:AsiaWorld-Expo\, Cheong Wing Road\, Chek Lap Kok\, Lantau\, Hong Kong
CATEGORIES:2017,Concert,Music,Performing Arts
GEO:22.3217383;113.9402012
X-APPLE-STRUCTURED-LOCATION;VALUE=URI;X-ADDRESS=AsiaWorld-Expo Cheong Wing Road Chek Lap Kok Lantau Hong Kong;X-APPLE-RADIUS=500;X-TITLE=Cheong Wing Road\, Chek Lap Kok:geo:113.9402012,22.3217383
END:VEVENT
BEGIN:VEVENT
DTSTART;TZID=Asia/Hong_Kong:20171125T200000
DTEND;TZID=Asia/Hong_Kong:20171125T200000
DTSTAMP:20260426T090751
CREATED:20171020T073015Z
LAST-MODIFIED:20171020T073015Z
UID:10006453-1511640000-1511640000@www.bcmagazine.net
SUMMARY:Bianca Del Rio
DESCRIPTION:Bianca Del Rio\nLA Comedy Live\nWhen: 25 November\, 2017\nWhere: Asia World-Expo\, Runway 11\nTickets: $888\, $788\, $688\, $588\, $488 from HKTicketing (30 October)
URL:https://www.bcmagazine.net/event/bianca-del-rio-2017/
LOCATION:AsiaWorld-Expo\, Runway 11\, Cheong Wing Road\, Chek Lap Kok\, Lantau Island\, Hong Kong
CATEGORIES:2017,Comedy,Nightlife,Performing Arts
GEO:22.3217383;113.9402012
X-APPLE-STRUCTURED-LOCATION;VALUE=URI;X-ADDRESS=AsiaWorld-Expo Runway 11 Cheong Wing Road Chek Lap Kok Lantau Island Hong Kong;X-APPLE-RADIUS=500;X-TITLE=Cheong Wing Road:geo:113.9402012,22.3217383
END:VEVENT
BEGIN:VEVENT
DTSTART;TZID=Asia/Hong_Kong:20171125T230000
DTEND;TZID=Asia/Hong_Kong:20171125T230000
DTSTAMP:20260426T090751
CREATED:19171118T032318Z
LAST-MODIFIED:20171118T032943Z
UID:10003616-1511650800-1511650800@www.bcmagazine.net
SUMMARY:XXX Seven Year Anniversary
DESCRIPTION:XXX Seven Year Anniversary\nDate: 11pm\, 25 November\, 2017\nVenue: XXX\nTickets: tbc
URL:https://www.bcmagazine.net/event/xxx-seven-year-anniversary-2017/
LOCATION:XXX Gallery\, 89-91 Larch Street\, Tai Kok Tsui\, Hong Kong
CATEGORIES:2017,Concert,Music,Nightlife,Performing Arts
GEO:22.3232044;114.1623778
X-APPLE-STRUCTURED-LOCATION;VALUE=URI;X-ADDRESS=XXX Gallery 89-91 Larch Street Tai Kok Tsui Hong Kong;X-APPLE-RADIUS=500;X-TITLE=89-91 Larch Street:geo:114.1623778,22.3232044
END:VEVENT
BEGIN:VEVENT
DTSTART;TZID=Asia/Hong_Kong:20171126T150000
DTEND;TZID=Asia/Hong_Kong:20171126T150000
DTSTAMP:20260426T090751
CREATED:19171025T130807Z
LAST-MODIFIED:20171025T153415Z
UID:10003571-1511708400-1511708400@www.bcmagazine.net
SUMMARY:Musicus Fest 2017: Finale Concert
DESCRIPTION:Musicus Fest 2017: Finale Concert\nMusicus Fest 2017\nDate: 3pm\, 26 November\nVenue: HK City Hall\, Concert Hall\nTickets: $600\, $420\, $280\, $180 from Urbtix
URL:https://www.bcmagazine.net/event/musicus-fest-2017-finale-concert/
LOCATION:HK City Hall\, Concert Hall\,  5 Edinburgh Place\, Central\, Hong Kong
CATEGORIES:2017,Concert,Music,Performing Arts
END:VEVENT
BEGIN:VEVENT
DTSTART;TZID=Asia/Hong_Kong:20171126T150000
DTEND;TZID=Asia/Hong_Kong:20171126T150000
DTSTAMP:20260426T090751
CREATED:19171106T101502Z
LAST-MODIFIED:20171106T102317Z
UID:10003578-1511708400-1511708400@www.bcmagazine.net
SUMMARY:Alice Theatre Laboratory
DESCRIPTION:Seven Boxes Possessed of Kafka (2017 Edition)\nAlice Theatre Laboratory\nDate: 24-26 November\, 2017\nVenue: Shatin Town Hall\, Cultural Activities Hall\nTickets: $160\nMore info:\nIn Chinese with English surtitles\n24-25 Nov – 8pm\n25-26 Nov – 3pm
URL:https://www.bcmagazine.net/event/alice-theatre-laboratory-seven-boxes-possessed-of-kafka-26-11-2017/
LOCATION:Shatin Town Hall\, Cultural Activities Hall\, 1 Yuen Wo Road\, Sha Tin\, Hong Kong
CATEGORIES:2017,Cantonese drama,Performing Arts,Theatre
GEO:22.381264;114.189895
X-APPLE-STRUCTURED-LOCATION;VALUE=URI;X-ADDRESS=Shatin Town Hall Cultural Activities Hall 1 Yuen Wo Road Sha Tin Hong Kong;X-APPLE-RADIUS=500;X-TITLE=1 Yuen Wo Road:geo:114.189895,22.381264
END:VEVENT
BEGIN:VEVENT
DTSTART;TZID=Asia/Hong_Kong:20171126T180000
DTEND;TZID=Asia/Hong_Kong:20171126T180000
DTSTAMP:20260426T090751
CREATED:19171025T130807Z
LAST-MODIFIED:20171025T153421Z
UID:10003572-1511719200-1511719200@www.bcmagazine.net
SUMMARY:Musicus Heritage Community Concert Series – (Neo)Classical
DESCRIPTION:Musicus Heritage Community Concert Series – (Neo)Classical\nMusicus Fest 2017\nDate: 6pm\, 8pm\, 22 November\nVenue: HKU\, Hung Hing Ying Building Foundation Chamber\nTickets: Free with registration
URL:https://www.bcmagazine.net/event/musicus-heritage-community-concert-series-neoclassical-2017/
CATEGORIES:2017,Concert,Free,Music,Performing Arts
END:VEVENT
BEGIN:VEVENT
DTSTART;TZID=Asia/Hong_Kong:20171126T193000
DTEND;TZID=Asia/Hong_Kong:20171126T193000
DTSTAMP:20260426T090751
CREATED:19171107T104126Z
LAST-MODIFIED:20171107T105853Z
UID:10003582-1511724600-1511724600@www.bcmagazine.net
SUMMARY:Joyce Chu
DESCRIPTION:Joyce Chu\nDate: 7:30pm\, 26 November\, 2017\nVenue: Kitec\, Music Zone@E-Max\nTickets: $450\, $350 from Cityline
URL:https://www.bcmagazine.net/event/joyce-chu-2017/
LOCATION:KITEC\, Music Zone@E-Max\, KITEC\,‎ 1 Trademart Drive\, Kowloon Bay\, Hong Kong
CATEGORIES:2017,Cantopop,Concert,Music,Performing Arts
GEO:22.3239575;114.2037608
X-APPLE-STRUCTURED-LOCATION;VALUE=URI;X-ADDRESS=KITEC Music Zone@E-Max KITEC‎ 1 Trademart Drive Kowloon Bay Hong Kong;X-APPLE-RADIUS=500;X-TITLE=KITEC\,‎ 1 Trademart Drive:geo:114.2037608,22.3239575
END:VEVENT
BEGIN:VEVENT
DTSTART;TZID=Asia/Hong_Kong:20171127T200000
DTEND;TZID=Asia/Hong_Kong:20171127T200000
DTSTAMP:20260426T090751
CREATED:19170508T093526Z
LAST-MODIFIED:20170512T101713Z
UID:10001206-1511812800-1511812800@www.bcmagazine.net
SUMMARY:Michael McIntyre
DESCRIPTION:Michael McIntyre\, Big World Tour\nDate: 8pm\, 27 November\, 2017\nVenue: Kitec\, Star Hall\nTickets: $988\, $788\, $688\, $588\, $388 from HKTicketing
URL:https://www.bcmagazine.net/event/michael-mcintyre-big-world-tour-2017/
LOCATION:KITEC\, Star Hall\, KITEC\, 1 Trademart Drive\, Kowloon Bay\, Hong Kong
CATEGORIES:2017,Comedy,Concert,Music
GEO:22.3239575;114.2037608
X-APPLE-STRUCTURED-LOCATION;VALUE=URI;X-ADDRESS=KITEC Star Hall KITEC 1 Trademart Drive Kowloon Bay Hong Kong;X-APPLE-RADIUS=500;X-TITLE=KITEC\, 1 Trademart Drive:geo:114.2037608,22.3239575
END:VEVENT
BEGIN:VEVENT
DTSTART;TZID=Asia/Hong_Kong:20171128T200000
DTEND;TZID=Asia/Hong_Kong:20171128T200000
DTSTAMP:20260426T090751
CREATED:19171005T051756Z
LAST-MODIFIED:20171005T052222Z
UID:10003483-1511899200-1511899200@www.bcmagazine.net
SUMMARY:Christmas with We 4 Kings
DESCRIPTION:Christmas with We 4 Kings\nBel Canto Singers\nDate: 8pm\, 28 November\, 2017\nVenue: HK City Hall\, Concert Hall\nTickets: $380\, $280\, $180 from Urbtix
URL:https://www.bcmagazine.net/event/christmas-with-we-4-kings-2017/
LOCATION:HK City Hall\, Concert Hall\,  5 Edinburgh Place\, Central\, Hong Kong
CATEGORIES:2017,Concert,Music,Performing Arts
END:VEVENT
BEGIN:VEVENT
DTSTART;TZID=Asia/Hong_Kong:20171128T200000
DTEND;TZID=Asia/Hong_Kong:20171128T200000
DTSTAMP:20260426T090751
CREATED:20171118T032318Z
LAST-MODIFIED:20171128T031433Z
UID:10006459-1511899200-1511899200@www.bcmagazine.net
SUMMARY:Japanese Breakfast
DESCRIPTION:Japanese Breakfast – Soft Sounds from Another Planet\nSupport: Kiri T\nDate: 8pm\, 28 November\, 2017\nVenue: MOM Livehouse\nTickets: $380\, $280 from Ticketflap
URL:https://www.bcmagazine.net/event/japanese-breakfast-2017/
LOCATION:MOM Livehouse\, B39 Seven Seas Shopping Centre\, 117-121 Kings Road\, North Point\, Hong Kong
CATEGORIES:2017,Concert,Music,Performing Arts
ATTACH;FMTTYPE=image/jpeg:https://www.bcmagazine.net/wp-content/uploads/2017/11/japanese-breakfast.jpg
GEO:22.2884683;114.192803
X-APPLE-STRUCTURED-LOCATION;VALUE=URI;X-ADDRESS=MOM Livehouse B39 Seven Seas Shopping Centre 117-121 Kings Road North Point Hong Kong;X-APPLE-RADIUS=500;X-TITLE=B39 Seven Seas Shopping Centre\, 117-121 Kings Road:geo:114.192803,22.2884683
END:VEVENT
BEGIN:VEVENT
DTSTART;TZID=Asia/Hong_Kong:20171129T190000
DTEND;TZID=Asia/Hong_Kong:20171129T190000
DTSTAMP:20260426T090751
CREATED:19170910T092141Z
LAST-MODIFIED:20170910T092445Z
UID:10003467-1511982000-1511982000@www.bcmagazine.net
SUMMARY:Yuzu
DESCRIPTION:Yuzu\nDate: 7pm\, 29 November\, 2017\nVenue: MacPherson Stadium\nTickets: $880\, $680\, $580 from Cityline
URL:https://www.bcmagazine.net/event/yuzu-2017/
LOCATION:MacPherson Stadium\, 38 Nelson Street\, Mongkok\, Hong Kong
CATEGORIES:2017,Concert,Music,Performing Arts
GEO:22.3188457;114.1728403
X-APPLE-STRUCTURED-LOCATION;VALUE=URI;X-ADDRESS=MacPherson Stadium 38 Nelson Street Mongkok Hong Kong;X-APPLE-RADIUS=500;X-TITLE=38 Nelson Street:geo:114.1728403,22.3188457
END:VEVENT
BEGIN:VEVENT
DTSTART;TZID=Asia/Hong_Kong:20171129T201500
DTEND;TZID=Asia/Hong_Kong:20171129T201500
DTSTAMP:20260426T090751
CREATED:19171107T110009Z
LAST-MODIFIED:20171107T122642Z
UID:10003605-1511986500-1511986500@www.bcmagazine.net
SUMMARY:Charity Concert
DESCRIPTION:梵天娛樂慈善演唱會\nDate: 8:15pm\, 29 November\, 2017\nVenue: Kitec\, Star Hall\nTickets: $980\, $680 from HK Ticketing
URL:https://www.bcmagazine.net/event/charity-concert/
LOCATION:KITEC\, Star Hall\, KITEC\, 1 Trademart Drive\, Kowloon Bay\, Hong Kong
CATEGORIES:2017,Charity,Concert,Music,Performing Arts
GEO:22.3239575;114.2037608
X-APPLE-STRUCTURED-LOCATION;VALUE=URI;X-ADDRESS=KITEC Star Hall KITEC 1 Trademart Drive Kowloon Bay Hong Kong;X-APPLE-RADIUS=500;X-TITLE=KITEC\, 1 Trademart Drive:geo:114.2037608,22.3239575
END:VEVENT
BEGIN:VEVENT
DTSTART;VALUE=DATE:20171130
DTEND;VALUE=DATE:20171203
DTSTAMP:20260426T090751
CREATED:19161023T083509Z
LAST-MODIFIED:20161213T071140Z
UID:10000918-1512000000-1512259199@www.bcmagazine.net
SUMMARY:International Bakery Expo
DESCRIPTION:International Bakery Expo\nDate: 30 November – 2 December\, 2017\nVenue: HKCEC\nTickets: trade
URL:https://www.bcmagazine.net/event/international-bakery-expo-2017/
LOCATION:HK Convention and Exhibition Centre\, 1 Expo Drive\, Wanchai\, Hong Kong
CATEGORIES:2017,Exhibition,Food
END:VEVENT
BEGIN:VEVENT
DTSTART;TZID=Asia/Hong_Kong:20171130T200000
DTEND;TZID=Asia/Hong_Kong:20171130T200000
DTSTAMP:20260426T090751
CREATED:20171007T042726Z
LAST-MODIFIED:20171007T042726Z
UID:10006444-1512072000-1512072000@www.bcmagazine.net
SUMMARY:Christopher Owens
DESCRIPTION:Christopher Owens\nDate: 8pm\, 30 November\, 2017\nVenue: MOM Livehouse\nTickets: $380\, $340 (advance) from Ticketflap
URL:https://www.bcmagazine.net/event/christopher-owens-2017/
LOCATION:MOM Livehouse\, B39 Seven Seas Shopping Centre\, 117-121 Kings Road\, North Point\, Hong Kong
CATEGORIES:2017,Concert,Music,Performing Arts
GEO:22.2884683;114.192803
X-APPLE-STRUCTURED-LOCATION;VALUE=URI;X-ADDRESS=MOM Livehouse B39 Seven Seas Shopping Centre 117-121 Kings Road North Point Hong Kong;X-APPLE-RADIUS=500;X-TITLE=B39 Seven Seas Shopping Centre\, 117-121 Kings Road:geo:114.192803,22.2884683
END:VEVENT
BEGIN:VEVENT
DTSTART;VALUE=DATE:20171201
DTEND;VALUE=DATE:20171204
DTSTAMP:20260426T090751
CREATED:19171118T032318Z
LAST-MODIFIED:20171118T040935Z
UID:10003618-1512086400-1512345599@www.bcmagazine.net
SUMMARY:Cheung Chau Wave - Life by Water
DESCRIPTION:Cheung Chau Wave 浪長洲\nDate: 1-3 December\, 2017\nVenue: Cheung Chau\nTickets: various
URL:https://www.bcmagazine.net/event/cheung-chau-wave-2017/
LOCATION:Cheung Chau\, Cheung Chau\, Hong Kong
CATEGORIES:2017,Cultural Festival,Lifestyle,Music,Other,Performing Arts
END:VEVENT
BEGIN:VEVENT
DTSTART;TZID=Asia/Hong_Kong:20171201T150000
DTEND;TZID=Asia/Hong_Kong:20171201T150000
DTSTAMP:20260426T090751
CREATED:19170725T035817Z
LAST-MODIFIED:20170725T044215Z
UID:10003084-1512140400-1512140400@www.bcmagazine.net
SUMMARY:Lantau VK
DESCRIPTION:Lantau VK 2017\nDate: 3pm\, 1 December\, 2017\nVenue: Tong Fuk Beach\nTickets: $400
URL:https://www.bcmagazine.net/event/lantau-vk-2107/
LOCATION:Tong Fuk Beach\, Lantau Island\, Hong Kong
CATEGORIES:2017,Sport
GEO:22.2664984;113.941751
END:VEVENT
BEGIN:VEVENT
DTSTART;TZID=Asia/Hong_Kong:20171201T200000
DTEND;TZID=Asia/Hong_Kong:20171201T200000
DTSTAMP:20260426T090751
CREATED:19171010T092932Z
LAST-MODIFIED:20171010T100939Z
UID:10003538-1512158400-1512158400@www.bcmagazine.net
SUMMARY:Hong Kong Belt-Road 2017 - One Table Two Chairs
DESCRIPTION:Hong Kong Belt-Road 2017 – One Table Two Chairs\nZuni Icosahedron\nDate: 8pm\, 1-2\, 7-8 December\, 2017\nVenue: HK Cultural Centre\, Studio Theatre\nTickets: $200 from Urbtix
URL:https://www.bcmagazine.net/event/hong-kong-belt-road-2017-one-table-two-chairs-01-12-2017/
LOCATION:HK Cultural Centre\, Studio Theatre\, 10 Salisbury Road\, Tsim Sha Tsui\, Hong Kong
CATEGORIES:2017,Performing Arts,Theatre
END:VEVENT
BEGIN:VEVENT
DTSTART;TZID=Asia/Hong_Kong:20171201T201500
DTEND;TZID=Asia/Hong_Kong:20171201T201500
DTSTAMP:20260426T090751
CREATED:19170612T074724Z
LAST-MODIFIED:20170612T085914Z
UID:10002841-1512159300-1512159300@www.bcmagazine.net
SUMMARY:Buddhist Chants in Scent and Light
DESCRIPTION:Buddhist Chants in Scent and Light\nZuni Icosahedron\, Architecture is Art Festival 2017\nDate: 1-2 December\, 2017\nVenue: HK Cultural Centre\, Grand Theatre\nTickets: $1\,000\, $480\, $280\, $180 from Urbtix
URL:https://www.bcmagazine.net/event/buddhist-chants-in-scent-and-light-2017/2017-12-01/
LOCATION:HK Cultural Centre\, Grand Theatre\,\, 10 Salisbury Road\, Tsim Sha Tsui\, Hong Kong
CATEGORIES:2017,Cultural Festival,Performing Arts,Theatre
GEO:22.294318;114.171708
X-APPLE-STRUCTURED-LOCATION;VALUE=URI;X-ADDRESS=HK Cultural Centre Grand Theatre 10 Salisbury Road Tsim Sha Tsui Hong Kong;X-APPLE-RADIUS=500;X-TITLE=10 Salisbury Road:geo:114.171708,22.294318
END:VEVENT
BEGIN:VEVENT
DTSTART;VALUE=DATE:20171202
DTEND;VALUE=DATE:20171204
DTSTAMP:20260426T090751
CREATED:19170804T064513Z
LAST-MODIFIED:20170804T081256Z
UID:10003106-1512172800-1512345599@www.bcmagazine.net
SUMMARY:FIA Formula E Hong Kong E-Prix
DESCRIPTION:FIA Formula E Hong Kong E-Prix\nDate: 2-3 December\, 2017\nVenue: Central Harbourfront\nTickets: $4\,780\, $4\,280\, $2\,880\, $2\,390\, $2\,380\, $2\,140 $1\,140\, $1\,190 from Ticketflap
URL:https://www.bcmagazine.net/event/fia-formula-e-hong-kong-e-prix-2017/
LOCATION:Central Harbourfront\,  9 Lung Wo Road\, Central\, Hong Kong
CATEGORIES:2017,Sport
GEO:22.2826223;114.164346
X-APPLE-STRUCTURED-LOCATION;VALUE=URI;X-ADDRESS=Central Harbourfront  9 Lung Wo Road Central Hong Kong;X-APPLE-RADIUS=500;X-TITLE=9 Lung Wo Road:geo:114.164346,22.2826223
END:VEVENT
BEGIN:VEVENT
DTSTART;TZID=Asia/Hong_Kong:20171202T100000
DTEND;TZID=Asia/Hong_Kong:20171202T100000
DTSTAMP:20260426T090751
CREATED:19171013T084056Z
LAST-MODIFIED:20171013T092732Z
UID:10003565-1512208800-1512208800@www.bcmagazine.net
SUMMARY:German Swiss International School
DESCRIPTION:Christmas Bazaar\nGerman Swiss International School\nDate: 10am-4pm\, 2 December\, 2017\nVenue: GSIS\, 11 Guildford Road\, The Peak\nTickets: Free
URL:https://www.bcmagazine.net/event/gsis-christmas-bazaar-2017/
LOCATION:German Swiss International School\, 11 Guildford Road\, The Peak\, Hong Kong
CATEGORIES:2017,Free,Lifestyle
GEO:22.2659125;114.1615387
X-APPLE-STRUCTURED-LOCATION;VALUE=URI;X-ADDRESS=German Swiss International School 11 Guildford Road The Peak Hong Kong;X-APPLE-RADIUS=500;X-TITLE=11 Guildford Road:geo:114.1615387,22.2659125
END:VEVENT
END:VCALENDAR