BEGIN:VCALENDAR
VERSION:2.0
PRODID:-//bc magazine - ECPv6.15.20//NONSGML v1.0//EN
CALSCALE:GREGORIAN
METHOD:PUBLISH
X-WR-CALNAME:bc magazine
X-ORIGINAL-URL:https://www.bcmagazine.net
X-WR-CALDESC:Events for bc magazine
REFRESH-INTERVAL;VALUE=DURATION:PT1H
X-Robots-Tag:noindex
X-PUBLISHED-TTL:PT1H
BEGIN:VTIMEZONE
TZID:Asia/Hong_Kong
BEGIN:STANDARD
TZOFFSETFROM:+0800
TZOFFSETTO:+0800
TZNAME:HKT
DTSTART:20160101T000000
END:STANDARD
END:VTIMEZONE
BEGIN:VEVENT
DTSTART;VALUE=DATE:20171221
DTEND;VALUE=DATE:20180226
DTSTAMP:20260426T100355
CREATED:19171212T072433Z
LAST-MODIFIED:20180123T125159Z
UID:10003654-1513814400-1519603199@www.bcmagazine.net
SUMMARY:AIA The Great European Carnival
DESCRIPTION:AIA The Great European Carnival + The Great Circus of Europe\nDate: 21 December\, 2017 – 25 February\, 2018\nVenue: Central Harbourfront\nTickets: $130\, $40
URL:https://www.bcmagazine.net/event/the-great-european-carnival-2017-18/
LOCATION:Central Harbourfront\,  9 Lung Wo Road\, Central\, Hong Kong
CATEGORIES:2017,2018,Nightlife
ATTACH;FMTTYPE=image/jpeg:https://www.bcmagazine.net/wp-content/uploads/2018/01/TGEC-2018.jpg
GEO:22.2826223;114.164346
X-APPLE-STRUCTURED-LOCATION;VALUE=URI;X-ADDRESS=Central Harbourfront  9 Lung Wo Road Central Hong Kong;X-APPLE-RADIUS=500;X-TITLE=9 Lung Wo Road:geo:114.164346,22.2826223
END:VEVENT
BEGIN:VEVENT
DTSTART;VALUE=DATE:20180202
DTEND;VALUE=DATE:20180205
DTSTAMP:20260426T100355
CREATED:19170421T034737Z
LAST-MODIFIED:20221002T032622Z
UID:10001164-1517529600-1517788799@www.bcmagazine.net
SUMMARY:Tale of Three Cities
DESCRIPTION:Tale of Three Cities\nHong Kong Dance Company\nDate: 2-4 February\, 2018\nVenue: HK Cultural Centre\, Grand Theatre\nTickets: $280\, $200\, $100 from Urbtix
URL:https://www.bcmagazine.net/event/tale-of-three-cities-hkdc-2018/
LOCATION:Kwai Tsing Theatre\, Auditorium\, 12 Hing Ning Road\, Kwai Chung\, Hong Kong
CATEGORIES:2018,Dance,Performing Arts
GEO:22.3568224;114.126199
X-APPLE-STRUCTURED-LOCATION;VALUE=URI;X-ADDRESS=Kwai Tsing Theatre Auditorium 12 Hing Ning Road Kwai Chung Hong Kong;X-APPLE-RADIUS=500;X-TITLE=12 Hing Ning Road:geo:114.126199,22.3568224
END:VEVENT
BEGIN:VEVENT
DTSTART;TZID=Asia/Hong_Kong:20180203T150000
DTEND;TZID=Asia/Hong_Kong:20180203T150000
DTSTAMP:20260426T100355
CREATED:20230114T080141Z
LAST-MODIFIED:20230114T080141Z
UID:10001338-1517670000-1517670000@www.bcmagazine.net
SUMMARY:White Blaze of the Morning
DESCRIPTION:White Blaze of the Morning\nHong Kong Repertory Theatre\nDate: 27 January – 10 February\, 2018\nVenue: HKRep Black Box\nTickets: $200\, $190\nMore info:\nDrama in Cantonese\n27\, 31 January\, 1-3\, 6-10 February – 8pm\n28 January\, 3-4\, 10 February – 3pm
URL:https://www.bcmagazine.net/event/white-blaze-of-the-morning-hkrep-black-box-2018/2018-02-03/
LOCATION:HKREP Black Box Theatre\, 8/F\, Sheung Wan Civic Centre\, Sheung Wan Municipal Services Building\, 345 Queen's Road\, Sheung Wan\, Hong Kong
CATEGORIES:2018,Performing Arts,Theatre
END:VEVENT
BEGIN:VEVENT
DTSTART;TZID=Asia/Hong_Kong:20180203T160000
DTEND;TZID=Asia/Hong_Kong:20180203T160000
DTSTAMP:20260426T100355
CREATED:19171218T095151Z
LAST-MODIFIED:20171218T095957Z
UID:10003695-1517673600-1517673600@www.bcmagazine.net
SUMMARY:Racing 92 v The Sharks
DESCRIPTION:Racing 92 v The Sharks\nDate: 4pm\, 3 February\, 2018\nVenue: Aberdeen Sports Ground\nTickets: $738\, $438\, $399\, $299 from Ticketflap
URL:https://www.bcmagazine.net/event/racing-92-v-the-sharks/
LOCATION:Aberdeen Sports Ground\, 108 Wong Chuk Hang Road\, Aberdeen\, Hong Kong
CATEGORIES:2018,Rugby,Sport
END:VEVENT
BEGIN:VEVENT
DTSTART;TZID=Asia/Hong_Kong:20180203T193000
DTEND;TZID=Asia/Hong_Kong:20180203T193000
DTSTAMP:20260426T100355
CREATED:19170708T025200Z
LAST-MODIFIED:20170708T045623Z
UID:10002989-1517686200-1517686200@www.bcmagazine.net
SUMMARY:Ballet Classics for Children: Swan Lake
DESCRIPTION:Ballet Classics for Children: Swan Lake\nHK Ballet\nDate: 2-4 February\, 2018\nVenue: HK Cultural Centre\, Studio Theatre\nTickets: $300\, $200 from Urbtix\nMore info:\n2 February – 7:30pm\n3 February – 2:30pm\n3-4 February – 5pm
URL:https://www.bcmagazine.net/event/ballet-classics-for-children-swan-lake-2018/2018-02-03/
LOCATION:HK Cultural Centre\, Studio Theatre\, 10 Salisbury Road\, Tsim Sha Tsui\, Hong Kong
CATEGORIES:2017,Ballet,Dance,Performing Arts
END:VEVENT
BEGIN:VEVENT
DTSTART;TZID=Asia/Hong_Kong:20180203T193000
DTEND;TZID=Asia/Hong_Kong:20180203T193000
DTSTAMP:20260426T100355
CREATED:19180104T065539Z
LAST-MODIFIED:20180105T084842Z
UID:10003703-1517686200-1517686200@www.bcmagazine.net
SUMMARY:Chen Zhen
DESCRIPTION:Chen Zhen – Search\nDate: 7:30pm\, 2-3 February\, 2018\nVenue: Fringe Club\, Fringe Upstairs\nTickets: $220
URL:https://www.bcmagazine.net/event/chen-zhen-03-02-2018/
LOCATION:Fringe Club\, Fringe Upstairs\, Central\, Hong Kong
CATEGORIES:2018,Dance,Performing Arts,Theatre
END:VEVENT
BEGIN:VEVENT
DTSTART;TZID=Asia/Hong_Kong:20180203T193000
DTEND;TZID=Asia/Hong_Kong:20180203T193000
DTSTAMP:20260426T100355
CREATED:19180121T134633Z
LAST-MODIFIED:20180121T135431Z
UID:10003739-1517686200-1517686200@www.bcmagazine.net
SUMMARY:BOL4
DESCRIPTION:BOL4\nDate: 7:30pm\, 3 February\, 2018\nVenue: Kitec\, Music Zone@E-Max\nTickets: $980\, $680 from Cityline
URL:https://www.bcmagazine.net/event/bol4/
LOCATION:KITEC\, Music Zone@E-Max\, KITEC\,‎ 1 Trademart Drive\, Kowloon Bay\, Hong Kong
CATEGORIES:2018,Concert,Music,Performing Arts
GEO:22.3239575;114.2037608
X-APPLE-STRUCTURED-LOCATION;VALUE=URI;X-ADDRESS=KITEC Music Zone@E-Max KITEC‎ 1 Trademart Drive Kowloon Bay Hong Kong;X-APPLE-RADIUS=500;X-TITLE=KITEC\,‎ 1 Trademart Drive:geo:114.2037608,22.3239575
END:VEVENT
BEGIN:VEVENT
DTSTART;TZID=Asia/Hong_Kong:20180203T200000
DTEND;TZID=Asia/Hong_Kong:20180203T200000
DTSTAMP:20260426T100355
CREATED:19170520T100528Z
LAST-MODIFIED:20170520T121808Z
UID:10001324-1517688000-1517688000@www.bcmagazine.net
SUMMARY:White Blaze of the Morning
DESCRIPTION:White Blaze of the Morning\nHong Kong Repertory Theatre\nDate: 27 January – 10 February\, 2018\nVenue: HKRep Black Box\nTickets: $200\, $190\nMore info:\nDrama in Cantonese\n27\, 31 January\, 1-3\, 6-10 February – 8pm\n28 January\, 3-4\, 10 February – 3pm
URL:https://www.bcmagazine.net/event/white-blaze-of-the-morning-hkrep-black-box-2018/2018-02-03/
LOCATION:HKREP Black Box Theatre\, 8/F\, Sheung Wan Civic Centre\, Sheung Wan Municipal Services Building\, 345 Queen's Road\, Sheung Wan\, Hong Kong
CATEGORIES:2018,Performing Arts,Theatre
END:VEVENT
BEGIN:VEVENT
DTSTART;TZID=Asia/Hong_Kong:20180203T200000
DTEND;TZID=Asia/Hong_Kong:20180203T200000
DTSTAMP:20260426T100356
CREATED:19171119T140618Z
LAST-MODIFIED:20171220T082740Z
UID:10003628-1517688000-1517688000@www.bcmagazine.net
SUMMARY:Legends in Concert
DESCRIPTION:Legends in Concert\nWhen: 2-4 February\, 2018\nWhere: The Parisian Theatre\nHow much: $480\, $380\, $180 from HKTicketing\nMore info:\n2 February – 8pm\n3 February – 2pm & 8pm\n4 February – 6pm
URL:https://www.bcmagazine.net/event/legends-in-concert-macau-03-02-2018/
LOCATION:The Parisian Theatre\, The Parisian Macao\, Macau
CATEGORIES:2018,Concert,Macau,Music
GEO:22.1905958;113.5518856
X-APPLE-STRUCTURED-LOCATION;VALUE=URI;X-ADDRESS=The Parisian Theatre The Parisian Macao Macau;X-APPLE-RADIUS=500;X-TITLE=The Parisian Macao:geo:113.5518856,22.1905958
END:VEVENT
BEGIN:VEVENT
DTSTART;TZID=Asia/Hong_Kong:20180204T110000
DTEND;TZID=Asia/Hong_Kong:20180204T190000
DTSTAMP:20260426T100356
CREATED:19180106T085359Z
LAST-MODIFIED:20180106T091311Z
UID:10003705-1517742000-1517770800@www.bcmagazine.net
SUMMARY:India By the Bay 2018: Family Day
DESCRIPTION:India by the Bay 2018: Family Day\nDate: 11am\, 4 February\, 2018\nVenue: Asia Society Hong Kong Center\nTickets: $200
URL:https://www.bcmagazine.net/event/india-by-the-bay-2018-family-day/
LOCATION:Asia Society Hong Kong Center\, 9 Justice Drive\, Admiralty\, Hong Kong
CATEGORIES:2018,Cultural Festival,Other
END:VEVENT
BEGIN:VEVENT
DTSTART;TZID=Asia/Hong_Kong:20180204T150000
DTEND;TZID=Asia/Hong_Kong:20180204T150000
DTSTAMP:20260426T100356
CREATED:20230114T080141Z
LAST-MODIFIED:20230114T080141Z
UID:10001339-1517756400-1517756400@www.bcmagazine.net
SUMMARY:White Blaze of the Morning
DESCRIPTION:White Blaze of the Morning\nHong Kong Repertory Theatre\nDate: 27 January – 10 February\, 2018\nVenue: HKRep Black Box\nTickets: $200\, $190\nMore info:\nDrama in Cantonese\n27\, 31 January\, 1-3\, 6-10 February – 8pm\n28 January\, 3-4\, 10 February – 3pm
URL:https://www.bcmagazine.net/event/white-blaze-of-the-morning-hkrep-black-box-2018/2018-02-04/
LOCATION:HKREP Black Box Theatre\, 8/F\, Sheung Wan Civic Centre\, Sheung Wan Municipal Services Building\, 345 Queen's Road\, Sheung Wan\, Hong Kong
CATEGORIES:2018,Performing Arts,Theatre
END:VEVENT
BEGIN:VEVENT
DTSTART;TZID=Asia/Hong_Kong:20180204T180000
DTEND;TZID=Asia/Hong_Kong:20180204T180000
DTSTAMP:20260426T100356
CREATED:19171119T140618Z
LAST-MODIFIED:20171220T082730Z
UID:10003629-1517767200-1517767200@www.bcmagazine.net
SUMMARY:Legends in Concert
DESCRIPTION:Legends in Concert\nWhen: 2-4 February\, 2018\nWhere: The Parisian Theatre\nHow much: $480\, $380\, $180 from HKTicketing\nMore info:\n2 February – 8pm\n3 February – 2pm & 8pm\n4 February – 6pm
URL:https://www.bcmagazine.net/event/legends-in-concert-macau-04-02-2018/
LOCATION:The Parisian Theatre\, The Parisian Macao\, Macau
CATEGORIES:2018,Concert,Macau,Music
GEO:22.1905958;113.5518856
X-APPLE-STRUCTURED-LOCATION;VALUE=URI;X-ADDRESS=The Parisian Theatre The Parisian Macao Macau;X-APPLE-RADIUS=500;X-TITLE=The Parisian Macao:geo:113.5518856,22.1905958
END:VEVENT
BEGIN:VEVENT
DTSTART;TZID=Asia/Hong_Kong:20180204T190000
DTEND;TZID=Asia/Hong_Kong:20180204T190000
DTSTAMP:20260426T100356
CREATED:19180106T085359Z
LAST-MODIFIED:20180106T092147Z
UID:10003706-1517770800-1517770800@www.bcmagazine.net
SUMMARY:Shrabani Basu
DESCRIPTION:Shrabani Basu\nIndia by the Bay 2018\nDate: 7pm\, 4 February\, 2018\nVenue: Asia Society Hong Kong Center\nTickets: $250
URL:https://www.bcmagazine.net/event/shrabani-basu-india-by-the-bay-2018/
LOCATION:Asia Society Hong Kong Center\, 9 Justice Drive\, Admiralty\, Hong Kong
CATEGORIES:2018,Cultural Festival,Other,Performing Arts
END:VEVENT
BEGIN:VEVENT
DTSTART;TZID=Asia/Hong_Kong:20180204T193000
DTEND;TZID=Asia/Hong_Kong:20180204T193000
DTSTAMP:20260426T100356
CREATED:19170708T025200Z
LAST-MODIFIED:20170708T045623Z
UID:10002990-1517772600-1517772600@www.bcmagazine.net
SUMMARY:Ballet Classics for Children: Swan Lake
DESCRIPTION:Ballet Classics for Children: Swan Lake\nHK Ballet\nDate: 2-4 February\, 2018\nVenue: HK Cultural Centre\, Studio Theatre\nTickets: $300\, $200 from Urbtix\nMore info:\n2 February – 7:30pm\n3 February – 2:30pm\n3-4 February – 5pm
URL:https://www.bcmagazine.net/event/ballet-classics-for-children-swan-lake-2018/2018-02-04/
LOCATION:HK Cultural Centre\, Studio Theatre\, 10 Salisbury Road\, Tsim Sha Tsui\, Hong Kong
CATEGORIES:2017,Ballet,Dance,Performing Arts
END:VEVENT
BEGIN:VEVENT
DTSTART;TZID=Asia/Hong_Kong:20180204T193000
DTEND;TZID=Asia/Hong_Kong:20180204T200000
DTSTAMP:20260426T100356
CREATED:19171009T025544Z
LAST-MODIFIED:20171210T084257Z
UID:10003519-1517772600-1517774400@www.bcmagazine.net
SUMMARY:Wild Kard
DESCRIPTION:Wild Kard\nDate: 7:30pm\, 4 February\, 2018\nVenue: Kitec\, Music Zone@E-Max\nTickets: $1\,380\, $880 $480 from Cityline
URL:https://www.bcmagazine.net/event/wild-kard-2018/
LOCATION:KITEC\, Music Zone@E-Max\, KITEC\,‎ 1 Trademart Drive\, Kowloon Bay\, Hong Kong
CATEGORIES:2018,Concert,Music,Performing Arts
GEO:22.3239575;114.2037608
X-APPLE-STRUCTURED-LOCATION;VALUE=URI;X-ADDRESS=KITEC Music Zone@E-Max KITEC‎ 1 Trademart Drive Kowloon Bay Hong Kong;X-APPLE-RADIUS=500;X-TITLE=KITEC\,‎ 1 Trademart Drive:geo:114.2037608,22.3239575
END:VEVENT
BEGIN:VEVENT
DTSTART;TZID=Asia/Hong_Kong:20180205T190000
DTEND;TZID=Asia/Hong_Kong:20180205T190000
DTSTAMP:20260426T100356
CREATED:19180106T085359Z
LAST-MODIFIED:20180106T091905Z
UID:10003707-1517857200-1517857200@www.bcmagazine.net
SUMMARY:Bhajju Shyam: A Journey of Discovery
DESCRIPTION:Bhajju Shyam – A Journey of Discovery\nIndia by the Bay\nDate: 7pm\, 5 February\, 2018\nVenue: Bonhams\nTickets: $200
URL:https://www.bcmagazine.net/event/a-journey-of-discovery-india-by-the-bay-2018/
LOCATION:Bonham’s Gallery\, Suite 2001\, One Pacific Place\, 88 Queensway\, Admiralty\, Hong Kong
CATEGORIES:2018,Art Gallery,Cultural Festival,Other
GEO:22.2776447;114.1653936
X-APPLE-STRUCTURED-LOCATION;VALUE=URI;X-ADDRESS=Bonham’s Gallery Suite 2001 One Pacific Place 88 Queensway Admiralty Hong Kong;X-APPLE-RADIUS=500;X-TITLE=Suite 2001\, One Pacific Place\, 88 Queensway:geo:114.1653936,22.2776447
END:VEVENT
BEGIN:VEVENT
DTSTART;TZID=Asia/Hong_Kong:20180205T200000
DTEND;TZID=Asia/Hong_Kong:20180205T200000
DTSTAMP:20260426T100356
CREATED:20170724T031400Z
LAST-MODIFIED:20180111T074721Z
UID:10006417-1517860800-1517860800@www.bcmagazine.net
SUMMARY:Le Malentendu
DESCRIPTION:Le Malentendu\nDate: 5-10 February\, 2018\nVenue: HKAPA\, Studio Theatre\nTickets: $95 from HKTicketing\nMore info:\n5 -10 Feb – 8pm\n10 Feb – 2:45pm
URL:https://www.bcmagazine.net/event/le-malentendu-05-02-2018/
LOCATION:HKAPA: Studio Theatre\, 1 Gloucester Road\, Wanchai\, Hong Kong
CATEGORIES:2018,Cantonese drama,Performing Arts,Theatre
GEO:22.2801854;114.1695054
X-APPLE-STRUCTURED-LOCATION;VALUE=URI;X-ADDRESS=HKAPA: Studio Theatre 1 Gloucester Road Wanchai Hong Kong;X-APPLE-RADIUS=500;X-TITLE=1 Gloucester Road:geo:114.1695054,22.2801854
END:VEVENT
BEGIN:VEVENT
DTSTART;VALUE=DATE:20180206
DTEND;VALUE=DATE:20180212
DTSTAMP:20260426T100356
CREATED:19180127T082046Z
LAST-MODIFIED:20180127T082657Z
UID:10003744-1517875200-1518393599@www.bcmagazine.net
SUMMARY:Hong Kong T20 Blitz
DESCRIPTION:Hong Kong T20 Blitz\nDate: 6-11 February\, 2018\nVeune: Tin Kwong Road Recreation Ground\nTickets: $1\,300\, $600\, $350\, $200\, $20 from Ticketflap\nMore info: \n\n\n\nMATCH\nDAY\nDATE\nTIME\nTEAM 1\nV\nTEAM 2\n\n\n1\nTuesday\n6-Feb\n14:00\nCity Kaitak\n\nHung Hom JD Jaguars\n\n\n2\nWednesday\n7-Feb\n10:00\nCity Kaitak\n\nHKI United\n\n\n3\nWednesday\n7-Feb\n14:00\nKowloon Cantons\n\nGalaxy Gladiators Lantau\n\n\n4\nThursday\n8-Feb\n10:00\nHung Hom JD Jaguars\n\nKowloon Cantons\n\n\n5\nThursday\n8-Feb\n14:00\nHKI United\n\nGalaxy Gladiators Lantau\n\n\n6\nFriday\n9-Feb\n10:00\nGalaxy Gladiators Lantau\n\nHung Hom JD Jaguars\n\n\n7\nFriday\n9-Feb\n14:00\nKowloon Cantons\n\nCity Kaitak\n\n\n8\nSaturday\n10-Feb\n10:00\nGalaxy Gladiators Lantau\n\nCity Kaitak\n\n\n9\nSaturday\n10-Feb\n14:00\nHung Hom JD Jaguars\n\nHKI United\n\n\n10\nSunday\n11-Feb\n10:00\nHKI United\n\nKowloon Cantons\n\n\n11\nSunday\n11-Feb\n14:00\nFinal 1\n\nFinal 2
URL:https://www.bcmagazine.net/event/hong-kong-t20-blitz-2018/
LOCATION:Tin Kwong Road Recreation Ground\, Tin Kwong Road\, Mong Kok\, Hong Kong
CATEGORIES:2018,Cricket,Sport
GEO:22.3219997;114.1847986
X-APPLE-STRUCTURED-LOCATION;VALUE=URI;X-ADDRESS=Tin Kwong Road Recreation Ground Tin Kwong Road Mong Kok Hong Kong;X-APPLE-RADIUS=500;X-TITLE=Tin Kwong Road:geo:114.1847986,22.3219997
END:VEVENT
BEGIN:VEVENT
DTSTART;TZID=Asia/Hong_Kong:20180206T190000
DTEND;TZID=Asia/Hong_Kong:20180206T190000
DTSTAMP:20260426T100356
CREATED:19180106T085359Z
LAST-MODIFIED:20180106T092217Z
UID:10003708-1517943600-1517943600@www.bcmagazine.net
SUMMARY:Vishwa Mohan Bhatt
DESCRIPTION:Vishwa Mohan Bhatt\nIndia by the Bay 2018\nDate: 7pm\, 6 February\, 2018\nVenue: Asia Society Hong Kong Center\nTickets: $350
URL:https://www.bcmagazine.net/event/vishwa-mohan-bhatt-india-by-the-bay-2018/
LOCATION:Asia Society Hong Kong Center\, 9 Justice Drive\, Admiralty\, Hong Kong
CATEGORIES:2018,Cultural Festival,Music,Performing Arts
END:VEVENT
BEGIN:VEVENT
DTSTART;TZID=Asia/Hong_Kong:20180206T200000
DTEND;TZID=Asia/Hong_Kong:20180206T200000
DTSTAMP:20260426T100356
CREATED:19170520T100528Z
LAST-MODIFIED:20170520T121808Z
UID:10001325-1517947200-1517947200@www.bcmagazine.net
SUMMARY:White Blaze of the Morning
DESCRIPTION:White Blaze of the Morning\nHong Kong Repertory Theatre\nDate: 27 January – 10 February\, 2018\nVenue: HKRep Black Box\nTickets: $200\, $190\nMore info:\nDrama in Cantonese\n27\, 31 January\, 1-3\, 6-10 February – 8pm\n28 January\, 3-4\, 10 February – 3pm
URL:https://www.bcmagazine.net/event/white-blaze-of-the-morning-hkrep-black-box-2018/2018-02-06/
LOCATION:HKREP Black Box Theatre\, 8/F\, Sheung Wan Civic Centre\, Sheung Wan Municipal Services Building\, 345 Queen's Road\, Sheung Wan\, Hong Kong
CATEGORIES:2018,Performing Arts,Theatre
END:VEVENT
BEGIN:VEVENT
DTSTART;TZID=Asia/Hong_Kong:20180206T200000
DTEND;TZID=Asia/Hong_Kong:20180206T200000
DTSTAMP:20260426T100356
CREATED:20170724T031400Z
LAST-MODIFIED:20180111T074739Z
UID:10006418-1517947200-1517947200@www.bcmagazine.net
SUMMARY:Le Malentendu
DESCRIPTION:Le Malentendu\nDate: 5-10 February\, 2018\nVenue: HKAPA\, Studio Theatre\nTickets: $95 from HKTicketing\nMore info:\n5 -10 Feb – 8pm\n10 Feb – 2:45pm
URL:https://www.bcmagazine.net/event/le-malentendu-06-02-2018/
LOCATION:HKAPA: Studio Theatre\, 1 Gloucester Road\, Wanchai\, Hong Kong
CATEGORIES:2018,Cantonese drama,Performing Arts,Theatre
GEO:22.2801854;114.1695054
X-APPLE-STRUCTURED-LOCATION;VALUE=URI;X-ADDRESS=HKAPA: Studio Theatre 1 Gloucester Road Wanchai Hong Kong;X-APPLE-RADIUS=500;X-TITLE=1 Gloucester Road:geo:114.1695054,22.2801854
END:VEVENT
BEGIN:VEVENT
DTSTART;TZID=Asia/Hong_Kong:20180207T183000
DTEND;TZID=Asia/Hong_Kong:20180207T190000
DTSTAMP:20260426T100356
CREATED:19180106T085359Z
LAST-MODIFIED:20180106T092739Z
UID:10003709-1518028200-1518030000@www.bcmagazine.net
SUMMARY:Sooni Taraporevala
DESCRIPTION:Through the Lens: Sooni Taraporevala\nIndia by the Bay 2018\nDate: 6:30pm\, 7 February\, 2018\nVenue: Asia Society Hong Kong Center\nTickets: $250
URL:https://www.bcmagazine.net/event/sooni-taraporevala-india-by-the-bay-2018/
LOCATION:Asia Society Hong Kong Center\, 9 Justice Drive\, Admiralty\, Hong Kong
CATEGORIES:2018,Cultural Festival,Other,talk
END:VEVENT
BEGIN:VEVENT
DTSTART;TZID=Asia/Hong_Kong:20180207T200000
DTEND;TZID=Asia/Hong_Kong:20180207T200000
DTSTAMP:20260426T100356
CREATED:19170520T100528Z
LAST-MODIFIED:20170520T121808Z
UID:10001326-1518033600-1518033600@www.bcmagazine.net
SUMMARY:White Blaze of the Morning
DESCRIPTION:White Blaze of the Morning\nHong Kong Repertory Theatre\nDate: 27 January – 10 February\, 2018\nVenue: HKRep Black Box\nTickets: $200\, $190\nMore info:\nDrama in Cantonese\n27\, 31 January\, 1-3\, 6-10 February – 8pm\n28 January\, 3-4\, 10 February – 3pm
URL:https://www.bcmagazine.net/event/white-blaze-of-the-morning-hkrep-black-box-2018/2018-02-07/
LOCATION:HKREP Black Box Theatre\, 8/F\, Sheung Wan Civic Centre\, Sheung Wan Municipal Services Building\, 345 Queen's Road\, Sheung Wan\, Hong Kong
CATEGORIES:2018,Performing Arts,Theatre
END:VEVENT
BEGIN:VEVENT
DTSTART;TZID=Asia/Hong_Kong:20180207T200000
DTEND;TZID=Asia/Hong_Kong:20180207T200000
DTSTAMP:20260426T100356
CREATED:20170724T031400Z
LAST-MODIFIED:20180111T074754Z
UID:10006419-1518033600-1518033600@www.bcmagazine.net
SUMMARY:Le Malentendu
DESCRIPTION:Le Malentendu\nDate: 5-10 February\, 2018\nVenue: HKAPA\, Studio Theatre\nTickets: $95 from HKTicketing\nMore info:\n5 -10 Feb – 8pm\n10 Feb – 2:45pm
URL:https://www.bcmagazine.net/event/le-malentendu-07-02-2018/
LOCATION:HKAPA: Studio Theatre\, 1 Gloucester Road\, Wanchai\, Hong Kong
CATEGORIES:2018,Cantonese drama,Performing Arts,Theatre
GEO:22.2801854;114.1695054
X-APPLE-STRUCTURED-LOCATION;VALUE=URI;X-ADDRESS=HKAPA: Studio Theatre 1 Gloucester Road Wanchai Hong Kong;X-APPLE-RADIUS=500;X-TITLE=1 Gloucester Road:geo:114.1695054,22.2801854
END:VEVENT
BEGIN:VEVENT
DTSTART;TZID=Asia/Hong_Kong:20180208T190000
DTEND;TZID=Asia/Hong_Kong:20180208T190000
DTSTAMP:20260426T100356
CREATED:19180106T085359Z
LAST-MODIFIED:20180106T093324Z
UID:10003710-1518116400-1518116400@www.bcmagazine.net
SUMMARY:Elephant in the Room
DESCRIPTION:Elephant in the Room\nIndia by the Bay 2018\nDate: 7pm\, 8 February\, 2018\nVenue: Asia Society Hong Kong Center\nTickets: $300
URL:https://www.bcmagazine.net/event/elephant-in-the-room-india-by-the-bay-2018/
LOCATION:Asia Society Hong Kong Center\, 9 Justice Drive\, Admiralty\, Hong Kong
CATEGORIES:2018,Cultural Festival,Performing Arts,Theatre
END:VEVENT
BEGIN:VEVENT
DTSTART;TZID=Asia/Hong_Kong:20180208T200000
DTEND;TZID=Asia/Hong_Kong:20180208T200000
DTSTAMP:20260426T100356
CREATED:19170520T100528Z
LAST-MODIFIED:20170520T121808Z
UID:10001327-1518120000-1518120000@www.bcmagazine.net
SUMMARY:White Blaze of the Morning
DESCRIPTION:White Blaze of the Morning\nHong Kong Repertory Theatre\nDate: 27 January – 10 February\, 2018\nVenue: HKRep Black Box\nTickets: $200\, $190\nMore info:\nDrama in Cantonese\n27\, 31 January\, 1-3\, 6-10 February – 8pm\n28 January\, 3-4\, 10 February – 3pm
URL:https://www.bcmagazine.net/event/white-blaze-of-the-morning-hkrep-black-box-2018/2018-02-08/
LOCATION:HKREP Black Box Theatre\, 8/F\, Sheung Wan Civic Centre\, Sheung Wan Municipal Services Building\, 345 Queen's Road\, Sheung Wan\, Hong Kong
CATEGORIES:2018,Performing Arts,Theatre
END:VEVENT
BEGIN:VEVENT
DTSTART;TZID=Asia/Hong_Kong:20180208T200000
DTEND;TZID=Asia/Hong_Kong:20180208T200000
DTSTAMP:20260426T100356
CREATED:20170724T031400Z
LAST-MODIFIED:20180111T074848Z
UID:10006421-1518120000-1518120000@www.bcmagazine.net
SUMMARY:Le Malentendu
DESCRIPTION:Le Malentendu\nDate: 5-10 February\, 2018\nVenue: HKAPA\, Studio Theatre\nTickets: $95 from HKTicketing\nMore info:\n5 -10 Feb – 8pm\n10 Feb – 2:45pm
URL:https://www.bcmagazine.net/event/le-malentendu-08-02-2018/
LOCATION:HKAPA: Studio Theatre\, 1 Gloucester Road\, Wanchai\, Hong Kong
CATEGORIES:2018,Cantonese drama,Performing Arts,Theatre
GEO:22.2801854;114.1695054
X-APPLE-STRUCTURED-LOCATION;VALUE=URI;X-ADDRESS=HKAPA: Studio Theatre 1 Gloucester Road Wanchai Hong Kong;X-APPLE-RADIUS=500;X-TITLE=1 Gloucester Road:geo:114.1695054,22.2801854
END:VEVENT
BEGIN:VEVENT
DTSTART;VALUE=DATE:20180209
DTEND;VALUE=DATE:20180212
DTSTAMP:20260426T100356
CREATED:19171107T110009Z
LAST-MODIFIED:20171107T111757Z
UID:10003598-1518134400-1518393599@www.bcmagazine.net
SUMMARY:Masters of Hong Kong
DESCRIPTION:Masters of Hong Kong\nDate: 9-11 February\, 2018\nVenue: AsiaWorld Expo\nTickets: $4\,000\, $3\,500\, $3\,000\, $2\,500\, $2\,250\, $2\,000\, $1010\, $880\, $750\, $620\, $500\, $360\, $250\, $230 from Cityline
URL:https://www.bcmagazine.net/event/masters-of-hong-kong-2018/
LOCATION:AsiaWorld-Expo\, Cheong Wing Road\, Chek Lap Kok\, Lantau\, Hong Kong
CATEGORIES:2017,Sport
GEO:22.3217383;113.9402012
X-APPLE-STRUCTURED-LOCATION;VALUE=URI;X-ADDRESS=AsiaWorld-Expo Cheong Wing Road Chek Lap Kok Lantau Hong Kong;X-APPLE-RADIUS=500;X-TITLE=Cheong Wing Road\, Chek Lap Kok:geo:113.9402012,22.3217383
END:VEVENT
BEGIN:VEVENT
DTSTART;VALUE=DATE:20180209
DTEND;VALUE=DATE:20180507
DTSTAMP:20260426T100356
CREATED:20180208T065813Z
LAST-MODIFIED:20180228T071122Z
UID:10006477-1518134400-1525651199@www.bcmagazine.net
SUMMARY:Samson Young Songs for Disaster Relief World Tour
DESCRIPTION:Samson Young: Songs for Disaster Relief World Tour is the Hong Kong edition of the exhibition Songs for Disaster Relief conceived by multidisciplinary artist Samson Young for the 57th International Art Exhibition at the Venice Biennale 2017. \nIt features a series of sculptures\, objects\, videos\, sound installations and site-specific pieces\, the exhibition offers a unique audiovisual experience that re-examines the popularity of charity singles from the 1980s. Creatively repurposing and misreading iconic songs made by popular artists for charitable causes\, Young draws on seemingly unrelated past and current events to explore the social\, political\, and philosophical implications of charity singles in a cross-cultural context. \nThe exhibition is accompanied by a series of talks\, guided tours\, and live performances. \nSamson Young: Songs for Disaster Relief World Tour\nDate: 9 February – 6 May\, 2018\nVenue: M+ Pavilion\, West Kowloon Cultural District\nTickets: Free\nMore info:\n11am–6pm\nWednesday to Sunday and public holidays
URL:https://www.bcmagazine.net/event/samson-young-songs-for-disaster-relief-world-tour-2018/
LOCATION:West Kowloon Cultural District\, M+ Pavilion\, West Kowloon Cultural District\, West Kowloon\, Hong Kong
CATEGORIES:2018,Art Gallery,Exhibition,Free
ATTACH;FMTTYPE=image/jpeg:https://www.bcmagazine.net/wp-content/uploads/2018/02/Samson-Young-Songs-for-Disaster-Relief-World-Tour.jpg
GEO:22.2989668;114.1551898
X-APPLE-STRUCTURED-LOCATION;VALUE=URI;X-ADDRESS=West Kowloon Cultural District M+ Pavilion West Kowloon Cultural District West Kowloon Hong Kong;X-APPLE-RADIUS=500;X-TITLE=West Kowloon Cultural District:geo:114.1551898,22.2989668
END:VEVENT
BEGIN:VEVENT
DTSTART;TZID=Asia/Hong_Kong:20180209T081500
DTEND;TZID=Asia/Hong_Kong:20180209T081500
DTSTAMP:20260426T100356
CREATED:19171217T065358Z
LAST-MODIFIED:20171217T105903Z
UID:10003688-1518164100-1518164100@www.bcmagazine.net
SUMMARY:Lost Sole 50km Challenge
DESCRIPTION:Lost Sole 50km Challenge\n Date: 8:15am\, 9 February\, 2018\nVenue: Mui Wo Ferry Pier\nTickets: $50
URL:https://www.bcmagazine.net/event/lost-sole-50km-challenge-2018/
LOCATION:Lantau\, Lantau\, Hong Kong
CATEGORIES:2018,Charity,Lifestyle,Sport
END:VEVENT
END:VCALENDAR