BEGIN:VCALENDAR
VERSION:2.0
PRODID:-//bc magazine - ECPv6.15.20//NONSGML v1.0//EN
CALSCALE:GREGORIAN
METHOD:PUBLISH
X-WR-CALNAME:bc magazine
X-ORIGINAL-URL:https://www.bcmagazine.net
X-WR-CALDESC:Events for bc magazine
REFRESH-INTERVAL;VALUE=DURATION:PT1H
X-Robots-Tag:noindex
X-PUBLISHED-TTL:PT1H
BEGIN:VTIMEZONE
TZID:Asia/Hong_Kong
BEGIN:STANDARD
TZOFFSETFROM:+0800
TZOFFSETTO:+0800
TZNAME:HKT
DTSTART:20170101T000000
END:STANDARD
END:VTIMEZONE
BEGIN:VEVENT
DTSTART;VALUE=DATE:20180210
DTEND;VALUE=DATE:20180630
DTSTAMP:20260426T052046
CREATED:19180303T082231Z
LAST-MODIFIED:20180303T102023Z
UID:10003878-1518220800-1530316799@www.bcmagazine.net
SUMMARY:Monkey King
DESCRIPTION:Monkey King – China Show\nDate: until 29 June\, 2018\nVenue: Sands Cotai Theatre\nTickets: $1\,280\, $980\, $680\, $480\, $380 from CotaiTicketing\nMore info:\nNightly except Thursday\nIn Chinese with English subtitles
URL:https://www.bcmagazine.net/event/monkey-king-macau-2018/
LOCATION:Venetian Macau\, Sands Theatre\, Venetian Macau\, Macau
CATEGORIES:2018,Macau,Performing Arts
GEO:22.1483528;113.5602019
X-APPLE-STRUCTURED-LOCATION;VALUE=URI;X-ADDRESS=Venetian Macau Sands Theatre Venetian Macau Macau;X-APPLE-RADIUS=500;X-TITLE=Venetian Macau:geo:113.5602019,22.1483528
END:VEVENT
BEGIN:VEVENT
DTSTART;VALUE=DATE:20180316
DTEND;VALUE=DATE:20180618
DTSTAMP:20260426T052046
CREATED:19180303T082231Z
LAST-MODIFIED:20180303T104749Z
UID:10003882-1521158400-1529279999@www.bcmagazine.net
SUMMARY:La Parisienne
DESCRIPTION:La Parisienne – Cabaret Francaise\n Date: 16 March – 17  June\, 2018\nVenue: Parisian Theatre\nTickets: $488\, $388\, $188 from CotaiTicketing\nMore info:\nTue – Fri\, 8pm\,\nSat – 2pm & 8pm\nSun – 2pm & 5pm\n*Dark day on Monday
URL:https://www.bcmagazine.net/event/la-parisienne-macau-2018/
LOCATION:The Parisian Theatre\, The Parisian Macao\, Macau
CATEGORIES:2018,Macau,Performing Arts,Theatre
GEO:22.1905958;113.5518856
X-APPLE-STRUCTURED-LOCATION;VALUE=URI;X-ADDRESS=The Parisian Theatre The Parisian Macao Macau;X-APPLE-RADIUS=500;X-TITLE=The Parisian Macao:geo:113.5518856,22.1905958
END:VEVENT
BEGIN:VEVENT
DTSTART;VALUE=DATE:20180419
DTEND;VALUE=DATE:20180604
DTSTAMP:20260426T052046
CREATED:20180214T102637Z
LAST-MODIFIED:20180214T104107Z
UID:10006479-1524096000-1528070399@www.bcmagazine.net
SUMMARY:Cirque du Soleil: Kooza
DESCRIPTION:Cirque du Soleil’s Kooza\n Date: 19 April – 3 June\, 2018\nVenue: Central Harbourfront\nTickets: $1\,888\, $1\,288\, $1\,088\, $888\, $688\, $488\nMore info:\nTuesdays              5pm* & 8pm\nWednesdays        8pm\nThursdays            8pm\nFridays                 4.30pm**\, 8pm\nSaturdays             4:30pm\, 8pm\nSundays               1:30pm & 5pm \n* Public holiday shows on May 1 & May 22.\n** Additional shows on 20 April 2018 and 11 May 2018
URL:https://www.bcmagazine.net/event/cirque-du-soleil-kooza-2018/
LOCATION:Central Harbourfront\,  9 Lung Wo Road\, Central\, Hong Kong
CATEGORIES:2018,Performing Arts
GEO:22.2826223;114.164346
X-APPLE-STRUCTURED-LOCATION;VALUE=URI;X-ADDRESS=Central Harbourfront  9 Lung Wo Road Central Hong Kong;X-APPLE-RADIUS=500;X-TITLE=9 Lung Wo Road:geo:114.164346,22.2826223
END:VEVENT
BEGIN:VEVENT
DTSTART;VALUE=DATE:20180511
DTEND;VALUE=DATE:20180604
DTSTAMP:20260426T052046
CREATED:20170724T031400Z
LAST-MODIFIED:20180111T064845Z
UID:10006409-1525996800-1528070399@www.bcmagazine.net
SUMMARY:Evita
DESCRIPTION:Evita\nDate: 11 May – 3 June\, 2018\nVenue: HKAPA\, Lyric Theatre\nTickets: $1\,250\, $1\,045\, $845\, $595\, $445 from HKTicketing\nMore info:\nMonday: OFF\nTue-Fri: 7:45pm\nSat: 2pm & 7:45pm\nSun: 1pm & 6pm
URL:https://www.bcmagazine.net/event/evita-2018/
LOCATION:HKAPA: Lyric Theatre\, 1 Gloucester Road\, Wanchai\, Hong Kong
CATEGORIES:2018,Musical,Performing Arts,Theatre
GEO:22.2801854;114.1695054
X-APPLE-STRUCTURED-LOCATION;VALUE=URI;X-ADDRESS=HKAPA: Lyric Theatre 1 Gloucester Road Wanchai Hong Kong;X-APPLE-RADIUS=500;X-TITLE=1 Gloucester Road:geo:114.1695054,22.2801854
END:VEVENT
BEGIN:VEVENT
DTSTART;VALUE=DATE:20180518
DTEND;VALUE=DATE:20180521
DTSTAMP:20260426T052046
CREATED:19170412T084257Z
LAST-MODIFIED:20180514T124152Z
UID:10002514-1526601600-1526860799@www.bcmagazine.net
SUMMARY:Soccer Sevens
DESCRIPTION:Soccer Sevens\nDate: 18-20 May\, 2018\nVenue: HK Football Club\nTickets: $300 (Weekend pass)\, $160 (Day ticket)\, Free (Friday night) from Ticketflap\nMore info:\n18 May (Fri): 6 – 9pm; exhibition youth matches start at 4.45pm\n19 May (Sat): 9am – 7.40pm\n20 May (Sun): 9am – 6pm
URL:https://www.bcmagazine.net/event/soccer-sevens-2018/
LOCATION:Hong Kong Football Club\, 3 Sports Road\, Causeway Bay\, Hong Kong
CATEGORIES:2018,Football,Sport
GEO:22.275374;114.1822239
X-APPLE-STRUCTURED-LOCATION;VALUE=URI;X-ADDRESS=Hong Kong Football Club 3 Sports Road Causeway Bay Hong Kong;X-APPLE-RADIUS=500;X-TITLE=3 Sports Road:geo:114.1822239,22.275374
END:VEVENT
BEGIN:VEVENT
DTSTART;TZID=Asia/Hong_Kong:20180520T193000
DTEND;TZID=Asia/Hong_Kong:20180520T193000
DTSTAMP:20260426T052046
CREATED:19170720T083647Z
LAST-MODIFIED:20180416T160513Z
UID:10003046-1526844600-1526844600@www.bcmagazine.net
SUMMARY:The Unknown Soldier
DESCRIPTION:The Unknown Soldier\nDate: 18-20 May\, 2018\nVenue: HKAC\, McAulay Studio Theatre\nTickets: $200\, $150 from Urbtix
URL:https://www.bcmagazine.net/event/the-unknown-soldier-20-05-2018/
LOCATION:HK Arts Centre\, McAulay Studio\, 2 Harbour Road\, Wanchai\, Hong Kong
CATEGORIES:2018,Performing Arts,Theatre
GEO:22.280173;114.1708144
X-APPLE-STRUCTURED-LOCATION;VALUE=URI;X-ADDRESS=HK Arts Centre McAulay Studio 2 Harbour Road Wanchai Hong Kong;X-APPLE-RADIUS=500;X-TITLE=2 Harbour Road:geo:114.1708144,22.280173
END:VEVENT
BEGIN:VEVENT
DTSTART;TZID=Asia/Hong_Kong:20180520T193000
DTEND;TZID=Asia/Hong_Kong:20180520T235900
DTSTAMP:20260426T052046
CREATED:19170720T083647Z
LAST-MODIFIED:20180413T011949Z
UID:10003041-1526844600-1526860740@www.bcmagazine.net
SUMMARY:Carmen
DESCRIPTION:Bizet’s Carmen – An Opera in 4 Acts\nOpera Hong Kong\, Le French May\nDate: 7:30pm\, 16-20 May\, 2018\nVenue: HK Cultural Centre\, Grand Theatre\nTickets: $1\,080\, $880\, $680\, $420\, $300 $150 from Urbtix
URL:https://www.bcmagazine.net/event/carmen-operahongkong-20-05-2018/
LOCATION:HK Cultural Centre\, Grand Theatre\,\, 10 Salisbury Road\, Tsim Sha Tsui\, Hong Kong
CATEGORIES:2018,Music,Performing Arts
GEO:22.294318;114.171708
X-APPLE-STRUCTURED-LOCATION;VALUE=URI;X-ADDRESS=HK Cultural Centre Grand Theatre 10 Salisbury Road Tsim Sha Tsui Hong Kong;X-APPLE-RADIUS=500;X-TITLE=10 Salisbury Road:geo:114.171708,22.294318
END:VEVENT
BEGIN:VEVENT
DTSTART;TZID=Asia/Hong_Kong:20180522T190000
DTEND;TZID=Asia/Hong_Kong:20180522T190000
DTSTAMP:20260426T052047
CREATED:19180505T081708Z
LAST-MODIFIED:20180505T085122Z
UID:10004013-1527015600-1527015600@www.bcmagazine.net
SUMMARY:Teen Top
DESCRIPTION:Teen Top\nDate: 7pm\, 22 May\, 2018\nVenue: MacPherson Stadium\nTickets: $1\,380\, $1\,080\, $880 from Cityline
URL:https://www.bcmagazine.net/event/teen-top-2018/
LOCATION:MacPherson Stadium\, 38 Nelson Street\, Mongkok\, Hong Kong
CATEGORIES:2018,Concert,Music,Performing Arts
GEO:22.3188457;114.1728403
X-APPLE-STRUCTURED-LOCATION;VALUE=URI;X-ADDRESS=MacPherson Stadium 38 Nelson Street Mongkok Hong Kong;X-APPLE-RADIUS=500;X-TITLE=38 Nelson Street:geo:114.1728403,22.3188457
END:VEVENT
BEGIN:VEVENT
DTSTART;TZID=Asia/Hong_Kong:20180523T200000
DTEND;TZID=Asia/Hong_Kong:20180523T200000
DTSTAMP:20260426T052047
CREATED:19180427T132956Z
LAST-MODIFIED:20180430T144555Z
UID:10003977-1527105600-1527105600@www.bcmagazine.net
SUMMARY:Prep
DESCRIPTION:Prep\nSupport: 袁智聰 (Yuen Chi-Chung)\nDate: 8pm\, 23 May\, 2018\nVenue: TTN\nTickets: $320 (Door)\, $250(Advance)
URL:https://www.bcmagazine.net/event/prep-2018/
LOCATION:This Town Needs (TTN)\, 1/F Ocean One\, 6 Shung Shun Street\, Yau Tong\, Hong Kong
CATEGORIES:2018,Concert,Music,Performing Arts
ATTACH;FMTTYPE=image/jpeg:https://www.bcmagazine.net/wp-content/uploads/1918/04/Prep-2018.jpg
GEO:22.292861;114.23782
X-APPLE-STRUCTURED-LOCATION;VALUE=URI;X-ADDRESS=This Town Needs (TTN) 1/F Ocean One 6 Shung Shun Street Yau Tong Hong Kong;X-APPLE-RADIUS=500;X-TITLE=1/F Ocean One\, 6 Shung Shun Street:geo:114.23782,22.292861
END:VEVENT
BEGIN:VEVENT
DTSTART;TZID=Asia/Hong_Kong:20180526T160000
DTEND;TZID=Asia/Hong_Kong:20180526T160000
DTSTAMP:20260426T052047
CREATED:19180427T093827Z
LAST-MODIFIED:20180508T132623Z
UID:10003972-1527350400-1527350400@www.bcmagazine.net
SUMMARY:Hong Kong v Malaysia
DESCRIPTION:Hong Kong v Malaysia\nAsian Rugby Championship 2018\nDate: 4pm\, 26 May\, 2018\nVenue: HK Football Club\nTickets: $50
URL:https://www.bcmagazine.net/event/hong-kong-v-malaysia-26-05-2018/
LOCATION:Hong Kong Football Club\, 3 Sports Road\, Causeway Bay\, Hong Kong
CATEGORIES:2018,Rugby,Sport
GEO:22.275374;114.1822239
X-APPLE-STRUCTURED-LOCATION;VALUE=URI;X-ADDRESS=Hong Kong Football Club 3 Sports Road Causeway Bay Hong Kong;X-APPLE-RADIUS=500;X-TITLE=3 Sports Road:geo:114.1822239,22.275374
END:VEVENT
BEGIN:VEVENT
DTSTART;TZID=Asia/Hong_Kong:20180526T190000
DTEND;TZID=Asia/Hong_Kong:20180526T190000
DTSTAMP:20260426T052047
CREATED:19180505T081708Z
LAST-MODIFIED:20180505T082903Z
UID:10003981-1527361200-1527361200@www.bcmagazine.net
SUMMARY:Oh My Girl
DESCRIPTION:Oh My Girl\nDate: 7pm\, 26 May\, 2018\nVenue: Kitec\, Music Zone@E-Max\nTickets: $880 from Cityline
URL:https://www.bcmagazine.net/event/oh-my-girl-2018/
LOCATION:KITEC\, Music Zone@E-Max\, KITEC\,‎ 1 Trademart Drive\, Kowloon Bay\, Hong Kong
CATEGORIES:2018,Concert,Music,Performing Arts
GEO:22.3239575;114.2037608
X-APPLE-STRUCTURED-LOCATION;VALUE=URI;X-ADDRESS=KITEC Music Zone@E-Max KITEC‎ 1 Trademart Drive Kowloon Bay Hong Kong;X-APPLE-RADIUS=500;X-TITLE=KITEC\,‎ 1 Trademart Drive:geo:114.2037608,22.3239575
END:VEVENT
BEGIN:VEVENT
DTSTART;TZID=Asia/Hong_Kong:20180526T200000
DTEND;TZID=Asia/Hong_Kong:20180526T200000
DTSTAMP:20260426T052047
CREATED:19180505T081708Z
LAST-MODIFIED:20180505T082039Z
UID:10003978-1527364800-1527364800@www.bcmagazine.net
SUMMARY:Suzy
DESCRIPTION:Suzy Bae\nDate: 8pm\, 26 May\, 2018\nVenue: Kitec\, Music Zone@E-Max\nTickets: $1\,080\, $680\, $380 from Cityline
URL:https://www.bcmagazine.net/event/suzy-2018/
LOCATION:KITEC\, Music Zone@E-Max\, KITEC\,‎ 1 Trademart Drive\, Kowloon Bay\, Hong Kong
CATEGORIES:2018,Concert,Music,Performing Arts
GEO:22.3239575;114.2037608
X-APPLE-STRUCTURED-LOCATION;VALUE=URI;X-ADDRESS=KITEC Music Zone@E-Max KITEC‎ 1 Trademart Drive Kowloon Bay Hong Kong;X-APPLE-RADIUS=500;X-TITLE=KITEC\,‎ 1 Trademart Drive:geo:114.2037608,22.3239575
END:VEVENT
BEGIN:VEVENT
DTSTART;TZID=Asia/Hong_Kong:20180526T201500
DTEND;TZID=Asia/Hong_Kong:20180526T201500
DTSTAMP:20260426T052047
CREATED:19180505T081708Z
LAST-MODIFIED:20180505T085307Z
UID:10004014-1527365700-1527365700@www.bcmagazine.net
SUMMARY:Focus
DESCRIPTION:Focus\nDate: 8:15pm\, 26 May\, 2018\nVenue: MacPherson Stadium\nTickets: $580\, $480 from Cityline
URL:https://www.bcmagazine.net/event/focus-2018/
LOCATION:MacPherson Stadium\, 38 Nelson Street\, Mongkok\, Hong Kong
CATEGORIES:2018,Concert,Music,Performing Arts
GEO:22.3188457;114.1728403
X-APPLE-STRUCTURED-LOCATION;VALUE=URI;X-ADDRESS=MacPherson Stadium 38 Nelson Street Mongkok Hong Kong;X-APPLE-RADIUS=500;X-TITLE=38 Nelson Street:geo:114.1728403,22.3188457
END:VEVENT
BEGIN:VEVENT
DTSTART;VALUE=DATE:20180527
DTEND;VALUE=DATE:20180528
DTSTAMP:20260426T052047
CREATED:20170909T140212Z
LAST-MODIFIED:20180223T092843Z
UID:10006440-1527379200-1527465599@www.bcmagazine.net
SUMMARY:HK Rugby League 9s
DESCRIPTION:Already into it’s fourth year the HKRL 9s will be held on Sunday 27 May at King’s Park and will feature both domestic and overseas teams. \nThe 9s welcomed it’s first overseas teams last year with the Diamond Chiefs (PNG) and Esarn All Stars (Thailand) joining the competition. Both teams eventually made the final which was one by Diamond Chiefs. The tournament also saw the debut of three out of four domestic teams – Valley Broncos\, HKS Reivers and Wan Chai Warriors – who went onto play in the inaugural domestic club competition last year\, the ICG Super League. \nHong Kong Rugby League Nines\nDate: 27 May\, 2018\nVenue: Kings Park\nTickets: Free\nMore info: http://hongkongrugbyleague.com
URL:https://www.bcmagazine.net/event/hk-rugby-league-nines-2018/
LOCATION:King’s Park Sports Ground\, 11 Wylie Path\, Ho Man Tin\, Jordan\, Hong Kong
CATEGORIES:2018,Free,Rugby League,Sport
ATTACH;FMTTYPE=image/jpeg:https://www.bcmagazine.net/wp-content/uploads/2018/02/HK-Rugby-League-9s-2018.jpg
END:VEVENT
BEGIN:VEVENT
DTSTART;VALUE=DATE:20180529
DTEND;VALUE=DATE:20180601
DTSTAMP:20260426T052047
CREATED:20170530T051029Z
LAST-MODIFIED:20180517T033034Z
UID:10006399-1527552000-1527811199@www.bcmagazine.net
SUMMARY:FIVB Volleyball Nations League
DESCRIPTION:FIVB Volleyball Nations League\nDate: 29-31 May\, 2017\nVenue: HK Coliseum\nTickets: $650\, $350\, $120 from Urbtix
URL:https://www.bcmagazine.net/event/fivb-volleyball-nations-league-2018/
LOCATION:HK Coliseum\, 9 Cheong Wan Road\, Hung Hom\, Hong Kong
CATEGORIES:2018,Sport,Volleyball
GEO:22.3014169;114.1820305
X-APPLE-STRUCTURED-LOCATION;VALUE=URI;X-ADDRESS=HK Coliseum 9 Cheong Wan Road Hung Hom Hong Kong;X-APPLE-RADIUS=500;X-TITLE=9 Cheong Wan Road:geo:114.1820305,22.3014169
END:VEVENT
BEGIN:VEVENT
DTSTART;TZID=Asia/Hong_Kong:20180529T203000
DTEND;TZID=Asia/Hong_Kong:20180529T203000
DTSTAMP:20260426T052047
CREATED:19180227T114925Z
LAST-MODIFIED:20180227T115855Z
UID:10003872-1527625800-1527625800@www.bcmagazine.net
SUMMARY:Metz
DESCRIPTION:Metz\nDate: 29 May\, 2018\nVenue: This Town Needs\nTickets: tbc
URL:https://www.bcmagazine.net/event/metz-2018/
LOCATION:This Town Needs (TTN)\, 1/F Ocean One\, 6 Shung Shun Street\, Yau Tong\, Hong Kong
CATEGORIES:2018,Concert,Music,Performing Arts
GEO:22.292861;114.23782
X-APPLE-STRUCTURED-LOCATION;VALUE=URI;X-ADDRESS=This Town Needs (TTN) 1/F Ocean One 6 Shung Shun Street Yau Tong Hong Kong;X-APPLE-RADIUS=500;X-TITLE=1/F Ocean One\, 6 Shung Shun Street:geo:114.23782,22.292861
END:VEVENT
BEGIN:VEVENT
DTSTART;VALUE=DATE:20180601
DTEND;VALUE=DATE:20180603
DTSTAMP:20260426T052047
CREATED:19170720T083647Z
LAST-MODIFIED:20180416T155100Z
UID:10003043-1527811200-1527983999@www.bcmagazine.net
SUMMARY:HK Rum Fest
DESCRIPTION:HK Rum Fest\nDate: 12pm\, 1-2 June\, 2018\nVenue: Honi Honi\nTickets: $150
URL:https://www.bcmagazine.net/event/hk-rum-fest-2018/
LOCATION:Honi Honi\, 33 Wellington Street\, Central\, Hong Kong
CATEGORIES:2018,Nightlife
GEO:22.2820557;114.1554426
X-APPLE-STRUCTURED-LOCATION;VALUE=URI;X-ADDRESS=Honi Honi 33 Wellington Street Central Hong Kong;X-APPLE-RADIUS=500;X-TITLE=33 Wellington Street:geo:114.1554426,22.2820557
END:VEVENT
BEGIN:VEVENT
DTSTART;VALUE=DATE:20180601
DTEND;VALUE=DATE:20180827
DTSTAMP:20260426T052047
CREATED:19180317T044051Z
LAST-MODIFIED:20180317T044619Z
UID:10003924-1527811200-1535327999@www.bcmagazine.net
SUMMARY:Marc Chagall\, Light and Colour in Southern France
DESCRIPTION:Marc Chagall\, Light and Colour in Southern France\n29th Macao Arts Festival\nDate: 1 June – 26 August\, 2018\nVenue: Macao Museum of Art\nTickets: Free
URL:https://www.bcmagazine.net/event/marc-chagall-light-and-colour-in-southern-france/
LOCATION:Macao Museum of Art\, Macau
CATEGORIES:2018,Art Gallery,Exhibition,Macau
GEO:22.198745;113.543873
END:VEVENT
BEGIN:VEVENT
DTSTART;TZID=Asia/Hong_Kong:20180601T170000
DTEND;TZID=Asia/Hong_Kong:20180601T170000
DTSTAMP:20260426T052047
CREATED:19180226T071446Z
LAST-MODIFIED:20180311T093359Z
UID:10003864-1527872400-1527872400@www.bcmagazine.net
SUMMARY:Tabby McTat
DESCRIPTION:Tabby McTat\nDate: 1-3 June\, 2018\nVenue: HKAPA\, Drama Theatre\nTickets: $435\, $385\, $335\, $195 from HKTicketing\nMore info:\n1 June -5pm\n2-3 June – 11am\, 2pm & 4.30pm
URL:https://www.bcmagazine.net/event/tabby-mctat-01-06-2018/
LOCATION:HKAPA: Drama Theatre\, 1 Gloucester Road\, Wanchai\, Hong Kong
CATEGORIES:2018,Performing Arts,Theatre
GEO:22.2801854;114.1695054
X-APPLE-STRUCTURED-LOCATION;VALUE=URI;X-ADDRESS=HKAPA: Drama Theatre 1 Gloucester Road Wanchai Hong Kong;X-APPLE-RADIUS=500;X-TITLE=1 Gloucester Road:geo:114.1695054,22.2801854
END:VEVENT
BEGIN:VEVENT
DTSTART;TZID=Asia/Hong_Kong:20180601T193000
DTEND;TZID=Asia/Hong_Kong:20180601T193000
DTSTAMP:20260426T052047
CREATED:19170708T025200Z
LAST-MODIFIED:20170708T044554Z
UID:10002985-1527881400-1527881400@www.bcmagazine.net
SUMMARY:Wheeldon\, Ratmansky and More
DESCRIPTION:Wheeldon\, Ratmansky and More\nHK Ballet\nDate: 1-3 June\, 2018\nVenue: HK Cultural Centre\, Grand Theatre\nTickets: $1\,000\, $680\, $480\, $320\, $180 from Urbtix\nMore info:\n1-2 June – 7:30pm\n2-3 June – 2:30pm
URL:https://www.bcmagazine.net/event/wheeldon-ratmansky-and-more-2018/2018-06-01/
LOCATION:HK Cultural Centre\, Grand Theatre\,\, 10 Salisbury Road\, Tsim Sha Tsui\, Hong Kong
CATEGORIES:2017,Ballet,Dance,Performing Arts
GEO:22.294318;114.171708
X-APPLE-STRUCTURED-LOCATION;VALUE=URI;X-ADDRESS=HK Cultural Centre Grand Theatre 10 Salisbury Road Tsim Sha Tsui Hong Kong;X-APPLE-RADIUS=500;X-TITLE=10 Salisbury Road:geo:114.171708,22.294318
END:VEVENT
BEGIN:VEVENT
DTSTART;VALUE=DATE:20180602
DTEND;VALUE=DATE:20180603
DTSTAMP:20260426T052047
CREATED:19181023T091214Z
LAST-MODIFIED:20180227T094012Z
UID:10004510-1527897600-1527983999@www.bcmagazine.net
SUMMARY:TEDxWanChai: Emergence
DESCRIPTION:TEDxWanChai: Emergence\nDate: 2 June\, 2018\nVenue: The Vine\nTickets: tbc
URL:https://www.bcmagazine.net/event/tedxwanchai-emergence-2018/
LOCATION:The Vine Centre\, 29 Burrows Street\, Wanchai\, Hong Kong
CATEGORIES:2018,Other
GEO:22.2762216;114.1763629
X-APPLE-STRUCTURED-LOCATION;VALUE=URI;X-ADDRESS=The Vine Centre 29 Burrows Street Wanchai Hong Kong;X-APPLE-RADIUS=500;X-TITLE=29 Burrows Street:geo:114.1763629,22.2762216
END:VEVENT
BEGIN:VEVENT
DTSTART;TZID=Asia/Hong_Kong:20180602T160000
DTEND;TZID=Asia/Hong_Kong:20180602T160000
DTSTAMP:20260426T052047
CREATED:19180427T093827Z
LAST-MODIFIED:20180508T132406Z
UID:10003968-1527955200-1527955200@www.bcmagazine.net
SUMMARY:Hong Kong v South Korea
DESCRIPTION:Hong Kong v South Korea\nAsian Rugby Championship 2018\nDate: 4pm\, 2 June\, 2018\nVenue: HK Football Club\nTickets: $50
URL:https://www.bcmagazine.net/event/hong-kong-v-south-korea-2018/
LOCATION:Hong Kong Football Club\, 3 Sports Road\, Causeway Bay\, Hong Kong
CATEGORIES:2018,Rugby,Sport
GEO:22.275374;114.1822239
X-APPLE-STRUCTURED-LOCATION;VALUE=URI;X-ADDRESS=Hong Kong Football Club 3 Sports Road Causeway Bay Hong Kong;X-APPLE-RADIUS=500;X-TITLE=3 Sports Road:geo:114.1822239,22.275374
END:VEVENT
BEGIN:VEVENT
DTSTART;TZID=Asia/Hong_Kong:20180602T163000
DTEND;TZID=Asia/Hong_Kong:20180602T163000
DTSTAMP:20260426T052047
CREATED:19180226T071446Z
LAST-MODIFIED:20180311T093137Z
UID:10003865-1527957000-1527957000@www.bcmagazine.net
SUMMARY:Tabby McTat
DESCRIPTION:Tabby McTat\nDate: 1-3 June\, 2018\nVenue: HKAPA\, Drama Theatre\nTickets: $435\, $385\, $335\, $195 from HKTicketing\nMore info:\n1 June -5pm\n2-3 June – 11am\, 2pm & 4.30pm
URL:https://www.bcmagazine.net/event/tabby-mctat-02-06-2018/
LOCATION:HKAPA: Drama Theatre\, 1 Gloucester Road\, Wanchai\, Hong Kong
CATEGORIES:2018,Performing Arts,Theatre
GEO:22.2801854;114.1695054
X-APPLE-STRUCTURED-LOCATION;VALUE=URI;X-ADDRESS=HKAPA: Drama Theatre 1 Gloucester Road Wanchai Hong Kong;X-APPLE-RADIUS=500;X-TITLE=1 Gloucester Road:geo:114.1695054,22.2801854
END:VEVENT
BEGIN:VEVENT
DTSTART;TZID=Asia/Hong_Kong:20180602T193000
DTEND;TZID=Asia/Hong_Kong:20180602T193000
DTSTAMP:20260426T052047
CREATED:19170708T025200Z
LAST-MODIFIED:20170708T044554Z
UID:10002986-1527967800-1527967800@www.bcmagazine.net
SUMMARY:Wheeldon\, Ratmansky and More
DESCRIPTION:Wheeldon\, Ratmansky and More\nHK Ballet\nDate: 1-3 June\, 2018\nVenue: HK Cultural Centre\, Grand Theatre\nTickets: $1\,000\, $680\, $480\, $320\, $180 from Urbtix\nMore info:\n1-2 June – 7:30pm\n2-3 June – 2:30pm
URL:https://www.bcmagazine.net/event/wheeldon-ratmansky-and-more-2018/2018-06-02/
LOCATION:HK Cultural Centre\, Grand Theatre\,\, 10 Salisbury Road\, Tsim Sha Tsui\, Hong Kong
CATEGORIES:2017,Ballet,Dance,Performing Arts
GEO:22.294318;114.171708
X-APPLE-STRUCTURED-LOCATION;VALUE=URI;X-ADDRESS=HK Cultural Centre Grand Theatre 10 Salisbury Road Tsim Sha Tsui Hong Kong;X-APPLE-RADIUS=500;X-TITLE=10 Salisbury Road:geo:114.171708,22.294318
END:VEVENT
BEGIN:VEVENT
DTSTART;TZID=Asia/Hong_Kong:20180602T193000
DTEND;TZID=Asia/Hong_Kong:20180602T193000
DTSTAMP:20260426T052047
CREATED:20180408T053805Z
LAST-MODIFIED:20180423T111932Z
UID:10006489-1527967800-1527967800@www.bcmagazine.net
SUMMARY:Sleep Party People
DESCRIPTION:Sleep Party People\nDate: 7:30pm\, 2 June\, 2018\nVenue: Y Studio\nTickets: $400 (door)\, $350 (advance)
URL:https://www.bcmagazine.net/event/sleep-party-people-2018/
LOCATION:Youth Square\, Y Studio\, 238 Chai Wan Road\, Chaiwan\, Hong Kong
CATEGORIES:2018,Concert,Music,Performing Arts
GEO:22.26301;114.2366034
X-APPLE-STRUCTURED-LOCATION;VALUE=URI;X-ADDRESS=Youth Square Y Studio 238 Chai Wan Road Chaiwan Hong Kong;X-APPLE-RADIUS=500;X-TITLE=238 Chai Wan Road:geo:114.2366034,22.26301
END:VEVENT
BEGIN:VEVENT
DTSTART;TZID=Asia/Hong_Kong:20180602T200000
DTEND;TZID=Asia/Hong_Kong:20180602T200000
DTSTAMP:20260426T052047
CREATED:19180311T094055Z
LAST-MODIFIED:20180311T102618Z
UID:10003918-1527969600-1527969600@www.bcmagazine.net
SUMMARY:GOT7
DESCRIPTION:GOT7\nDate: 8pm\, 2 June\, 2018\nVenue: Cotai Arena\nTickets: tbc
URL:https://www.bcmagazine.net/event/got7-macau-2018/
LOCATION:CotaiArena\, Venetian Macao\, Taipa\, Macau
CATEGORIES:2018,Concert,Macau,Music,Performing Arts
GEO:22.1483528;113.5602019
X-APPLE-STRUCTURED-LOCATION;VALUE=URI;X-ADDRESS=CotaiArena Venetian Macao Taipa Macau;X-APPLE-RADIUS=500;X-TITLE=Venetian Macao:geo:113.5602019,22.1483528
END:VEVENT
BEGIN:VEVENT
DTSTART;TZID=Asia/Hong_Kong:20180602T200000
DTEND;TZID=Asia/Hong_Kong:20180602T200000
DTSTAMP:20260426T052047
CREATED:19180505T081708Z
LAST-MODIFIED:20180505T090820Z
UID:10004018-1527969600-1527969600@www.bcmagazine.net
SUMMARY:Concert of Rearranged Canton Pop Songs
DESCRIPTION:Concert of Rearranged Canton Pop Songs\nPonte Singers\nDate: 8pm\, 2 June\, 2018\nVenue: HKPU\, Jockey Club Auditorium\nTickets: $280\, $220\, $180 from Cityline
URL:https://www.bcmagazine.net/event/concert-of-rearranged-canton-pop-songs-2018/
LOCATION:Hong Kong Polytechnic University\, Jockey Club Auditorium\, Hong Kong
CATEGORIES:2018,Concert,Music,Performing Arts
GEO:22.396428;114.109497
END:VEVENT
BEGIN:VEVENT
DTSTART;TZID=Asia/Hong_Kong:20180603T084500
DTEND;TZID=Asia/Hong_Kong:20180603T084500
DTSTAMP:20260426T052047
CREATED:19171217T075358Z
LAST-MODIFIED:20180214T105016Z
UID:10003694-1528015500-1528015500@www.bcmagazine.net
SUMMARY:SwimRun #4: Lantau
DESCRIPTION:SwimRun #4: Lantau\nDate: 8:45am\, 3 June\, 2018\nVenue: Lantau\nTickets: $280
URL:https://www.bcmagazine.net/event/swimrun-4-lantau-2018/
LOCATION:Lantau\, Lantau\, Hong Kong
CATEGORIES:2018,Lifestyle,Sport,Swimming
END:VEVENT
BEGIN:VEVENT
DTSTART;TZID=Asia/Hong_Kong:20180603T163000
DTEND;TZID=Asia/Hong_Kong:20180603T163000
DTSTAMP:20260426T052047
CREATED:19180226T071446Z
LAST-MODIFIED:20180311T093122Z
UID:10003866-1528043400-1528043400@www.bcmagazine.net
SUMMARY:Tabby McTat
DESCRIPTION:Tabby McTat\nDate: 1-3 June\, 2018\nVenue: HKAPA\, Drama Theatre\nTickets: $435\, $385\, $335\, $195 from HKTicketing\nMore info:\n1 June -5pm\n2-3 June – 11am\, 2pm & 4.30pm
URL:https://www.bcmagazine.net/event/tabby-mctat-03-06-2018/
LOCATION:HKAPA: Drama Theatre\, 1 Gloucester Road\, Wanchai\, Hong Kong
CATEGORIES:2018,Performing Arts,Theatre
GEO:22.2801854;114.1695054
X-APPLE-STRUCTURED-LOCATION;VALUE=URI;X-ADDRESS=HKAPA: Drama Theatre 1 Gloucester Road Wanchai Hong Kong;X-APPLE-RADIUS=500;X-TITLE=1 Gloucester Road:geo:114.1695054,22.2801854
END:VEVENT
BEGIN:VEVENT
DTSTART;TZID=Asia/Hong_Kong:20180603T193000
DTEND;TZID=Asia/Hong_Kong:20180603T193000
DTSTAMP:20260426T052047
CREATED:19170708T025200Z
LAST-MODIFIED:20170708T044554Z
UID:10002987-1528054200-1528054200@www.bcmagazine.net
SUMMARY:Wheeldon\, Ratmansky and More
DESCRIPTION:Wheeldon\, Ratmansky and More\nHK Ballet\nDate: 1-3 June\, 2018\nVenue: HK Cultural Centre\, Grand Theatre\nTickets: $1\,000\, $680\, $480\, $320\, $180 from Urbtix\nMore info:\n1-2 June – 7:30pm\n2-3 June – 2:30pm
URL:https://www.bcmagazine.net/event/wheeldon-ratmansky-and-more-2018/2018-06-03/
LOCATION:HK Cultural Centre\, Grand Theatre\,\, 10 Salisbury Road\, Tsim Sha Tsui\, Hong Kong
CATEGORIES:2017,Ballet,Dance,Performing Arts
GEO:22.294318;114.171708
X-APPLE-STRUCTURED-LOCATION;VALUE=URI;X-ADDRESS=HK Cultural Centre Grand Theatre 10 Salisbury Road Tsim Sha Tsui Hong Kong;X-APPLE-RADIUS=500;X-TITLE=10 Salisbury Road:geo:114.171708,22.294318
END:VEVENT
END:VCALENDAR