BEGIN:VCALENDAR
VERSION:2.0
PRODID:-//bc magazine - ECPv6.15.20//NONSGML v1.0//EN
CALSCALE:GREGORIAN
METHOD:PUBLISH
X-WR-CALNAME:bc magazine
X-ORIGINAL-URL:https://www.bcmagazine.net
X-WR-CALDESC:Events for bc magazine
REFRESH-INTERVAL;VALUE=DURATION:PT1H
X-Robots-Tag:noindex
X-PUBLISHED-TTL:PT1H
BEGIN:VTIMEZONE
TZID:Asia/Hong_Kong
BEGIN:STANDARD
TZOFFSETFROM:+0800
TZOFFSETTO:+0800
TZNAME:HKT
DTSTART:20170101T000000
END:STANDARD
END:VTIMEZONE
BEGIN:VEVENT
DTSTART;VALUE=DATE:20180210
DTEND;VALUE=DATE:20180630
DTSTAMP:20260426T123330
CREATED:19180303T082231Z
LAST-MODIFIED:20180303T102023Z
UID:10003878-1518220800-1530316799@www.bcmagazine.net
SUMMARY:Monkey King
DESCRIPTION:Monkey King – China Show\nDate: until 29 June\, 2018\nVenue: Sands Cotai Theatre\nTickets: $1\,280\, $980\, $680\, $480\, $380 from CotaiTicketing\nMore info:\nNightly except Thursday\nIn Chinese with English subtitles
URL:https://www.bcmagazine.net/event/monkey-king-macau-2018/
LOCATION:Venetian Macau\, Sands Theatre\, Venetian Macau\, Macau
CATEGORIES:2018,Macau,Performing Arts
GEO:22.1483528;113.5602019
X-APPLE-STRUCTURED-LOCATION;VALUE=URI;X-ADDRESS=Venetian Macau Sands Theatre Venetian Macau Macau;X-APPLE-RADIUS=500;X-TITLE=Venetian Macau:geo:113.5602019,22.1483528
END:VEVENT
BEGIN:VEVENT
DTSTART;VALUE=DATE:20180316
DTEND;VALUE=DATE:20180618
DTSTAMP:20260426T123330
CREATED:19180303T082231Z
LAST-MODIFIED:20180303T104749Z
UID:10003882-1521158400-1529279999@www.bcmagazine.net
SUMMARY:La Parisienne
DESCRIPTION:La Parisienne – Cabaret Francaise\n Date: 16 March – 17  June\, 2018\nVenue: Parisian Theatre\nTickets: $488\, $388\, $188 from CotaiTicketing\nMore info:\nTue – Fri\, 8pm\,\nSat – 2pm & 8pm\nSun – 2pm & 5pm\n*Dark day on Monday
URL:https://www.bcmagazine.net/event/la-parisienne-macau-2018/
LOCATION:The Parisian Theatre\, The Parisian Macao\, Macau
CATEGORIES:2018,Macau,Performing Arts,Theatre
GEO:22.1905958;113.5518856
X-APPLE-STRUCTURED-LOCATION;VALUE=URI;X-ADDRESS=The Parisian Theatre The Parisian Macao Macau;X-APPLE-RADIUS=500;X-TITLE=The Parisian Macao:geo:113.5518856,22.1905958
END:VEVENT
BEGIN:VEVENT
DTSTART;VALUE=DATE:20180601
DTEND;VALUE=DATE:20180827
DTSTAMP:20260426T123330
CREATED:19180317T044051Z
LAST-MODIFIED:20180317T044619Z
UID:10003924-1527811200-1535327999@www.bcmagazine.net
SUMMARY:Marc Chagall\, Light and Colour in Southern France
DESCRIPTION:Marc Chagall\, Light and Colour in Southern France\n29th Macao Arts Festival\nDate: 1 June – 26 August\, 2018\nVenue: Macao Museum of Art\nTickets: Free
URL:https://www.bcmagazine.net/event/marc-chagall-light-and-colour-in-southern-france/
LOCATION:Macao Museum of Art\, Macau
CATEGORIES:2018,Art Gallery,Exhibition,Macau
GEO:22.198745;113.543873
END:VEVENT
BEGIN:VEVENT
DTSTART;VALUE=DATE:20180616
DTEND;VALUE=DATE:20180827
DTSTAMP:20260426T123330
CREATED:19180608T094055Z
LAST-MODIFIED:20180724T050954Z
UID:10004207-1529107200-1535327999@www.bcmagazine.net
SUMMARY:Kamen Rider Exhibition
DESCRIPTION:Kamen Rider Exhibition\nDate: 16 June – 26 August\, 2018\nVenue: Broadway Macau\nTickets: $180\, $128
URL:https://www.bcmagazine.net/event/kamen-rider-exhibition-macau-2018/
LOCATION:Broadway Macau\, Avenida Marginal Flor de Lotus\, Cotai\, Macau
CATEGORIES:2018,Exhibition,Macau
ATTACH;FMTTYPE=image/jpeg:https://www.bcmagazine.net/wp-content/uploads/1918/06/kamen-rider-2018.jpg
END:VEVENT
BEGIN:VEVENT
DTSTART;TZID=Asia/Hong_Kong:20180617T143000
DTEND;TZID=Asia/Hong_Kong:20180617T143000
DTSTAMP:20260426T123330
CREATED:19180505T081708Z
LAST-MODIFIED:20180505T090309Z
UID:10004017-1529245800-1529245800@www.bcmagazine.net
SUMMARY:Hansel and Gretel
DESCRIPTION:Hansel and Gretel\nEdge ‘N Pointe Dance Centre\nDate: 2:30pm\, 17 June\, 2018\nVenue: HKBU\, AC Hall\nTickets: $280\, $250\, $200 from Cityline
URL:https://www.bcmagazine.net/event/hansel-and-gretel-2018/
LOCATION:HKBU Academic Community Hall\, 224 Waterloo Road\, Kowloon Tong\, Hong Kong
CATEGORIES:2018,Performing Arts,Theatre
GEO:22.340854;114.1799456
X-APPLE-STRUCTURED-LOCATION;VALUE=URI;X-ADDRESS=HKBU Academic Community Hall 224 Waterloo Road Kowloon Tong Hong Kong;X-APPLE-RADIUS=500;X-TITLE=224 Waterloo Road:geo:114.1799456,22.340854
END:VEVENT
BEGIN:VEVENT
DTSTART;TZID=Asia/Hong_Kong:20180618T200000
DTEND;TZID=Asia/Hong_Kong:20180618T201500
DTSTAMP:20260426T123330
CREATED:19180505T081708Z
LAST-MODIFIED:20180505T085808Z
UID:10004016-1529352000-1529352900@www.bcmagazine.net
SUMMARY:Lisa Ono
DESCRIPTION:Lisa Ono – 30th Anniversary Tour\nDate: 8pm\, 18 June\, 2018\nVenue: MacPherson Stadium\nTickets: $890\, $790\, $690\, $490\, $390 from Cityline
URL:https://www.bcmagazine.net/event/lisa-ono-2018/
LOCATION:MacPherson Stadium\, 38 Nelson Street\, Mongkok\, Hong Kong
CATEGORIES:2018,Concert,Music,Performing Arts
GEO:22.3188457;114.1728403
X-APPLE-STRUCTURED-LOCATION;VALUE=URI;X-ADDRESS=MacPherson Stadium 38 Nelson Street Mongkok Hong Kong;X-APPLE-RADIUS=500;X-TITLE=38 Nelson Street:geo:114.1728403,22.3188457
END:VEVENT
BEGIN:VEVENT
DTSTART;TZID=Asia/Hong_Kong:20180620T200000
DTEND;TZID=Asia/Hong_Kong:20180620T200000
DTSTAMP:20260426T123330
CREATED:20230114T165259Z
LAST-MODIFIED:20230114T165259Z
UID:10003430-1529524800-1529524800@www.bcmagazine.net
SUMMARY:Peel Street Poetry
DESCRIPTION:Peel Street Poetry is an open mic poetry night at Social Room. It runs every Wednesdays of the month except the first and last. The environment is friendly and they love new performers\, so come share your poetry or just listen along to some of Hong Kong’s sharpest poetic talents. \nPeel Street Poetry Open Mic\nDate: 2nd\, 3rd (and 4th) Wednesdays of the month\nVenue: Social Room\nTickets: Free\nMore info:\nwww.peelstreetpoetry.com
URL:https://www.bcmagazine.net/event/peel-street-poetry/2018-06-20/
LOCATION:Social Room\, 74-78 Stanley Street \, Central\, Hong Kong
CATEGORIES:2018,2019,Free,Performing Arts,Poetry
GEO:22.2834184;114.1544925
X-APPLE-STRUCTURED-LOCATION;VALUE=URI;X-ADDRESS=Social Room 74-78 Stanley Street  Central Hong Kong;X-APPLE-RADIUS=500;X-TITLE=74-78 Stanley Street:geo:114.1544925,22.2834184
END:VEVENT
BEGIN:VEVENT
DTSTART;TZID=Asia/Hong_Kong:20180621T200000
DTEND;TZID=Asia/Hong_Kong:20180621T200000
DTSTAMP:20260426T123330
CREATED:19180512T132328Z
LAST-MODIFIED:20180515T020144Z
UID:10004023-1529611200-1529611200@www.bcmagazine.net
SUMMARY:Siamese Cats
DESCRIPTION:Siamese Cats\nDate: 8pm\, 21 June\, 2018\nVenue: MOM Livehouse\nTickets: $350\, $280 (advance)
URL:https://www.bcmagazine.net/event/siamese-cats-2018/
LOCATION:MOM Livehouse\, B39 Seven Seas Shopping Centre\, 117-121 Kings Road\, North Point\, Hong Kong
CATEGORIES:2018,Concert,Music,Performing Arts
ATTACH;FMTTYPE=image/jpeg:https://www.bcmagazine.net/wp-content/uploads/1918/05/siamese-cats-2018.jpg
GEO:22.2884683;114.192803
X-APPLE-STRUCTURED-LOCATION;VALUE=URI;X-ADDRESS=MOM Livehouse B39 Seven Seas Shopping Centre 117-121 Kings Road North Point Hong Kong;X-APPLE-RADIUS=500;X-TITLE=B39 Seven Seas Shopping Centre\, 117-121 Kings Road:geo:114.192803,22.2884683
END:VEVENT
BEGIN:VEVENT
DTSTART;VALUE=DATE:20180622
DTEND;VALUE=DATE:20180625
DTSTAMP:20260426T123330
CREATED:19180405T081942Z
LAST-MODIFIED:20230315T085111Z
UID:10006787-1529625600-1529884799@www.bcmagazine.net
SUMMARY:Dragon Boat Carnival
DESCRIPTION:Dragon Boat Carnival\nDate: 24-25 June\, 2023\nVenue: Off Tsim Sha Tsui East Promenade\nTickets: Free
URL:https://www.bcmagazine.net/event/dragon-boat-carnival-2023/
LOCATION:Central Harbourfront\,  9 Lung Wo Road\, Central\, Hong Kong
CATEGORIES:2023,Cultural Festival,Free,Sport
ATTACH;FMTTYPE=image/jpeg:https://www.bcmagazine.net/wp-content/uploads/2018/04/Dragon-Boat-Carnival.jpg
GEO:22.2826223;114.164346
X-APPLE-STRUCTURED-LOCATION;VALUE=URI;X-ADDRESS=Central Harbourfront  9 Lung Wo Road Central Hong Kong;X-APPLE-RADIUS=500;X-TITLE=9 Lung Wo Road:geo:114.164346,22.2826223
END:VEVENT
BEGIN:VEVENT
DTSTART;VALUE=DATE:20180622
DTEND;VALUE=DATE:20180625
DTSTAMP:20260426T123330
CREATED:20180405T081942Z
LAST-MODIFIED:20180412T081358Z
UID:10006486-1529625600-1529884799@www.bcmagazine.net
SUMMARY:Dragon Boat Carnival
DESCRIPTION:Dragon Boat Carnival\nDate: 22-24 June\, 2018\nVenue: Central Harbourfront\nTickets: Free
URL:https://www.bcmagazine.net/event/dragon-boat-carnival-2018/
LOCATION:Central Harbourfront\,  9 Lung Wo Road\, Central\, Hong Kong
CATEGORIES:2018,Cultural Festival,Free,Sport
ATTACH;FMTTYPE=image/jpeg:https://www.bcmagazine.net/wp-content/uploads/2018/04/Dragon-Boat-Carnival.jpg
GEO:22.2826223;114.164346
X-APPLE-STRUCTURED-LOCATION;VALUE=URI;X-ADDRESS=Central Harbourfront  9 Lung Wo Road Central Hong Kong;X-APPLE-RADIUS=500;X-TITLE=9 Lung Wo Road:geo:114.164346,22.2826223
END:VEVENT
BEGIN:VEVENT
DTSTART;TZID=Asia/Hong_Kong:20180625T200000
DTEND;TZID=Asia/Hong_Kong:20180625T200000
DTSTAMP:20260426T123330
CREATED:19180512T132328Z
LAST-MODIFIED:20180515T013401Z
UID:10004019-1529956800-1529956800@www.bcmagazine.net
SUMMARY:The Landlords Cat
DESCRIPTION:The Landlords Cat\nDate: 8pm\, 25 June\, 2018\nVenue: TTN\nTickets: $380\, $280 (advance) from Ticketflap
URL:https://www.bcmagazine.net/event/the-landlords-cat-25-06-2018/
LOCATION:This Town Needs (TTN)\, 1/F Ocean One\, 6 Shung Shun Street\, Yau Tong\, Hong Kong
CATEGORIES:2018,Concert,Music,Performing Arts
ATTACH;FMTTYPE=image/jpeg:https://www.bcmagazine.net/wp-content/uploads/1918/05/landlords-cat-2562018.jpg
GEO:22.292861;114.23782
X-APPLE-STRUCTURED-LOCATION;VALUE=URI;X-ADDRESS=This Town Needs (TTN) 1/F Ocean One 6 Shung Shun Street Yau Tong Hong Kong;X-APPLE-RADIUS=500;X-TITLE=1/F Ocean One\, 6 Shung Shun Street:geo:114.23782,22.292861
END:VEVENT
BEGIN:VEVENT
DTSTART;VALUE=DATE:20180627
DTEND;VALUE=DATE:20180630
DTSTAMP:20260426T123330
CREATED:19170720T083647Z
LAST-MODIFIED:20180414T074556Z
UID:10003042-1530057600-1530316799@www.bcmagazine.net
SUMMARY:Belt & Road International Food Expo
DESCRIPTION:Belt & Road International Food Expo\nDate: 27-29 June\, 2018\nVenue: AsiaWorld Expo\nTickets: tbc
URL:https://www.bcmagazine.net/event/belt-road-international-food-expo-27-06-2018/
LOCATION:AsiaWorld-Expo\, Cheong Wing Road\, Chek Lap Kok\, Lantau\, Hong Kong
CATEGORIES:2018,Exhibition,Food
GEO:22.3217383;113.9402012
X-APPLE-STRUCTURED-LOCATION;VALUE=URI;X-ADDRESS=AsiaWorld-Expo Cheong Wing Road Chek Lap Kok Lantau Hong Kong;X-APPLE-RADIUS=500;X-TITLE=Cheong Wing Road\, Chek Lap Kok:geo:113.9402012,22.3217383
END:VEVENT
BEGIN:VEVENT
DTSTART;TZID=Asia/Hong_Kong:20180627T200000
DTEND;TZID=Asia/Hong_Kong:20180627T200000
DTSTAMP:20260426T123330
CREATED:20180512T132328Z
LAST-MODIFIED:20180513T132802Z
UID:10006496-1530129600-1530129600@www.bcmagazine.net
SUMMARY:The Landlords Cat
DESCRIPTION:The Landlords Cat\nDate: 8pm\, 27 June\, 2018\nVenue: TTN\nTickets: $380\, $280 (advance) from Ticketflap
URL:https://www.bcmagazine.net/event/the-landlords-cat-2018/
LOCATION:This Town Needs (TTN)\, 1/F Ocean One\, 6 Shung Shun Street\, Yau Tong\, Hong Kong
CATEGORIES:2018,Concert,Music,Performing Arts
ATTACH;FMTTYPE=image/jpeg:https://www.bcmagazine.net/wp-content/uploads/2018/05/the-landlords-cat-june-2018.jpg
GEO:22.292861;114.23782
X-APPLE-STRUCTURED-LOCATION;VALUE=URI;X-ADDRESS=This Town Needs (TTN) 1/F Ocean One 6 Shung Shun Street Yau Tong Hong Kong;X-APPLE-RADIUS=500;X-TITLE=1/F Ocean One\, 6 Shung Shun Street:geo:114.23782,22.292861
END:VEVENT
BEGIN:VEVENT
DTSTART;TZID=Asia/Hong_Kong:20180629T200000
DTEND;TZID=Asia/Hong_Kong:20180629T200000
DTSTAMP:20260426T123330
CREATED:19180303T082231Z
LAST-MODIFIED:20180303T103512Z
UID:10003880-1530302400-1530302400@www.bcmagazine.net
SUMMARY:Celine Dion
DESCRIPTION:Celine Dion\n Date: 8pm\, 29-30 June\, 2018\nVenue: Cotai Arena\nTickets: $4\,880\, $2\,680\, $1\,680\, $1\,080\, $680\, $480 from CotaiTicketing
URL:https://www.bcmagazine.net/event/celine-dion-macau-29-06-2018/
LOCATION:CotaiArena\, Venetian Macao\, Taipa\, Macau
CATEGORIES:2018,Concert,Macau,Music,Performing Arts
GEO:22.1483528;113.5602019
X-APPLE-STRUCTURED-LOCATION;VALUE=URI;X-ADDRESS=CotaiArena Venetian Macao Taipa Macau;X-APPLE-RADIUS=500;X-TITLE=Venetian Macao:geo:113.5602019,22.1483528
END:VEVENT
BEGIN:VEVENT
DTSTART;TZID=Asia/Hong_Kong:20180629T200000
DTEND;TZID=Asia/Hong_Kong:20180629T200000
DTSTAMP:20260426T123330
CREATED:19180505T081708Z
LAST-MODIFIED:20180505T083106Z
UID:10003982-1530302400-1530302400@www.bcmagazine.net
SUMMARY:Crush
DESCRIPTION:Crush Asia Showcase\nDate: 8pm\, 29 June\, 2018\nVenue: Kitec\, Music Zone@E-Max\nTickets: $880 from Cityline
URL:https://www.bcmagazine.net/event/crush-2018/
LOCATION:KITEC\, Music Zone@E-Max\, KITEC\,‎ 1 Trademart Drive\, Kowloon Bay\, Hong Kong
CATEGORIES:2018,Concert,Music,Performing Arts
GEO:22.3239575;114.2037608
X-APPLE-STRUCTURED-LOCATION;VALUE=URI;X-ADDRESS=KITEC Music Zone@E-Max KITEC‎ 1 Trademart Drive Kowloon Bay Hong Kong;X-APPLE-RADIUS=500;X-TITLE=KITEC\,‎ 1 Trademart Drive:geo:114.2037608,22.3239575
END:VEVENT
BEGIN:VEVENT
DTSTART;TZID=Asia/Hong_Kong:20180630T200000
DTEND;TZID=Asia/Hong_Kong:20180630T200000
DTSTAMP:20260426T123330
CREATED:19180303T082231Z
LAST-MODIFIED:20180303T103531Z
UID:10003881-1530388800-1530388800@www.bcmagazine.net
SUMMARY:Celine Dion
DESCRIPTION:Celine Dion\n Date: 8pm\, 29-30 June\, 2018\nVenue: Cotai Arena\nTickets: $4\,880\, $2\,680\, $1\,680\, $1\,080\, $680\, $480 from CotaiTicketing
URL:https://www.bcmagazine.net/event/celine-dion-macau-30-06-2018/
LOCATION:CotaiArena\, Venetian Macao\, Taipa\, Macau
CATEGORIES:2018,Concert,Macau,Music,Performing Arts
GEO:22.1483528;113.5602019
X-APPLE-STRUCTURED-LOCATION;VALUE=URI;X-ADDRESS=CotaiArena Venetian Macao Taipa Macau;X-APPLE-RADIUS=500;X-TITLE=Venetian Macao:geo:113.5602019,22.1483528
END:VEVENT
BEGIN:VEVENT
DTSTART;TZID=Asia/Hong_Kong:20180706T200000
DTEND;TZID=Asia/Hong_Kong:20180706T200000
DTSTAMP:20260426T123330
CREATED:19180716T124702Z
LAST-MODIFIED:20180724T163954Z
UID:10004297-1530907200-1530907200@www.bcmagazine.net
SUMMARY:Wong Tze Wah
DESCRIPTION:Wong Tze Wah Standup Comedy 2018\nDate: 8pm\, 6-31 July\, 2018\nVenue: HK Coliseum\nTickets: $880\, $680\, $480\, $380\, $280 from Urbtix
URL:https://www.bcmagazine.net/event/wong-tze-wah-06-07-2018/
LOCATION:HK Coliseum\, 9 Cheong Wan Road\, Hung Hom\, Hong Kong
CATEGORIES:2018,Comedy,Concert,Music,Performing Arts
ATTACH;FMTTYPE=image/jpeg:https://www.bcmagazine.net/wp-content/uploads/1918/07/dayo-wong-2018.jpg
GEO:22.3014169;114.1820305
X-APPLE-STRUCTURED-LOCATION;VALUE=URI;X-ADDRESS=HK Coliseum 9 Cheong Wan Road Hung Hom Hong Kong;X-APPLE-RADIUS=500;X-TITLE=9 Cheong Wan Road:geo:114.1820305,22.3014169
END:VEVENT
BEGIN:VEVENT
DTSTART;TZID=Asia/Hong_Kong:20180711T200000
DTEND;TZID=Asia/Hong_Kong:20180711T200000
DTSTAMP:20260426T123330
CREATED:19170909T021037Z
LAST-MODIFIED:20181127T002904Z
UID:10003407-1531339200-1531339200@www.bcmagazine.net
SUMMARY:Peel Street Poetry
DESCRIPTION:Peel Street Poetry is an open mic poetry night at Social Room. It runs every Wednesdays of the month except the first and last. The environment is friendly and they love new performers\, so come share your poetry or just listen along to some of Hong Kong’s sharpest poetic talents. \nPeel Street Poetry Open Mic\nDate: 2nd\, 3rd (and 4th) Wednesdays of the month\nVenue: Social Room\nTickets: Free\nMore info:\nwww.peelstreetpoetry.com
URL:https://www.bcmagazine.net/event/peel-street-poetry/2018-07-11/
LOCATION:Social Room\, 74-78 Stanley Street \, Central\, Hong Kong
CATEGORIES:2018,2019,Free,Performing Arts,Poetry
GEO:22.2834184;114.1544925
X-APPLE-STRUCTURED-LOCATION;VALUE=URI;X-ADDRESS=Social Room 74-78 Stanley Street  Central Hong Kong;X-APPLE-RADIUS=500;X-TITLE=74-78 Stanley Street:geo:114.1544925,22.2834184
END:VEVENT
BEGIN:VEVENT
DTSTART;TZID=Asia/Hong_Kong:20180718T200000
DTEND;TZID=Asia/Hong_Kong:20180718T200000
DTSTAMP:20260426T123330
CREATED:20230114T165259Z
LAST-MODIFIED:20230114T165259Z
UID:10003431-1531944000-1531944000@www.bcmagazine.net
SUMMARY:Peel Street Poetry
DESCRIPTION:Peel Street Poetry is an open mic poetry night at Social Room. It runs every Wednesdays of the month except the first and last. The environment is friendly and they love new performers\, so come share your poetry or just listen along to some of Hong Kong’s sharpest poetic talents. \nPeel Street Poetry Open Mic\nDate: 2nd\, 3rd (and 4th) Wednesdays of the month\nVenue: Social Room\nTickets: Free\nMore info:\nwww.peelstreetpoetry.com
URL:https://www.bcmagazine.net/event/peel-street-poetry/2018-07-18/
LOCATION:Social Room\, 74-78 Stanley Street \, Central\, Hong Kong
CATEGORIES:2018,2019,Free,Performing Arts,Poetry
GEO:22.2834184;114.1544925
X-APPLE-STRUCTURED-LOCATION;VALUE=URI;X-ADDRESS=Social Room 74-78 Stanley Street  Central Hong Kong;X-APPLE-RADIUS=500;X-TITLE=74-78 Stanley Street:geo:114.1544925,22.2834184
END:VEVENT
BEGIN:VEVENT
DTSTART;TZID=Asia/Hong_Kong:20180720T150000
DTEND;TZID=Asia/Hong_Kong:20180720T150000
DTSTAMP:20260426T123330
CREATED:19180528T020834Z
LAST-MODIFIED:20180806T033207Z
UID:10004168-1532098800-1532098800@www.bcmagazine.net
SUMMARY:The Amazing Filmphony
DESCRIPTION:The Amazing Filmphony\nHong Kong Sinfonietta\, HKS Cool Summer Festival\nDate: 20-22 July\, 2018\nVenue: HK City Hall\, Concert Hall\nTickets: $380\, $260\, $150 from Urbtix
URL:https://www.bcmagazine.net/event/the-amazing-filmphony-22-07-2018/
LOCATION:HK City Hall\, Concert Hall\,  5 Edinburgh Place\, Central\, Hong Kong
CATEGORIES:2018,Concert,Jazz,Music,Performing Arts
ATTACH;FMTTYPE=image/jpeg:https://www.bcmagazine.net/wp-content/uploads/1918/05/toconoma-2018.jpg
END:VEVENT
BEGIN:VEVENT
DTSTART;TZID=Asia/Hong_Kong:20180720T200000
DTEND;TZID=Asia/Hong_Kong:20180720T200000
DTSTAMP:20260426T123330
CREATED:19180528T020834Z
LAST-MODIFIED:20180806T033122Z
UID:10004166-1532116800-1532116800@www.bcmagazine.net
SUMMARY:The Amazing Filmphony
DESCRIPTION:The Amazing Filmphony\nHong Kong Sinfonietta\, HKS Cool Summer Festival\nDate: 20-22 July\, 2018\nVenue: HK City Hall\, Concert Hall\nTickets: $380\, $260\, $150 from Urbtix
URL:https://www.bcmagazine.net/event/the-amazing-filmphony-20-07-2018/
LOCATION:HK City Hall\, Concert Hall\,  5 Edinburgh Place\, Central\, Hong Kong
CATEGORIES:2018,Concert,Jazz,Music,Performing Arts
ATTACH;FMTTYPE=image/jpeg:https://www.bcmagazine.net/wp-content/uploads/1918/05/toconoma-2018.jpg
END:VEVENT
BEGIN:VEVENT
DTSTART;TZID=Asia/Hong_Kong:20180721T200000
DTEND;TZID=Asia/Hong_Kong:20180721T200000
DTSTAMP:20260426T123330
CREATED:19180528T020834Z
LAST-MODIFIED:20180806T033213Z
UID:10004167-1532203200-1532203200@www.bcmagazine.net
SUMMARY:The Amazing Filmphony
DESCRIPTION:The Amazing Filmphony\nHong Kong Sinfonietta\, HKS Cool Summer Festival\nDate: 20-22 July\, 2018\nVenue: HK City Hall\, Concert Hall\nTickets: $380\, $260\, $150 from Urbtix
URL:https://www.bcmagazine.net/event/the-amazing-filmphony-21-07-2018/
LOCATION:HK City Hall\, Concert Hall\,  5 Edinburgh Place\, Central\, Hong Kong
CATEGORIES:2018,Concert,Jazz,Music,Performing Arts
ATTACH;FMTTYPE=image/jpeg:https://www.bcmagazine.net/wp-content/uploads/1918/05/toconoma-2018.jpg
END:VEVENT
BEGIN:VEVENT
DTSTART;TZID=Asia/Hong_Kong:20180725T200000
DTEND;TZID=Asia/Hong_Kong:20180725T200000
DTSTAMP:20260426T123330
CREATED:19180716T124702Z
LAST-MODIFIED:20180724T164200Z
UID:10004299-1532548800-1532548800@www.bcmagazine.net
SUMMARY:Wong Tze Wah
DESCRIPTION:Wong Tze Wah Standup Comedy 2018\nDate: 8pm\, 6-31 July\, 2018\nVenue: HK Coliseum\nTickets: $880\, $680\, $480\, $380\, $280 from Urbtix
URL:https://www.bcmagazine.net/event/wong-tze-wah-25-07-2018/
LOCATION:HK Coliseum\, 9 Cheong Wan Road\, Hung Hom\, Hong Kong
CATEGORIES:2018,Comedy,Concert,Music,Performing Arts
ATTACH;FMTTYPE=image/jpeg:https://www.bcmagazine.net/wp-content/uploads/1918/07/dayo-wong-2018.jpg
GEO:22.3014169;114.1820305
X-APPLE-STRUCTURED-LOCATION;VALUE=URI;X-ADDRESS=HK Coliseum 9 Cheong Wan Road Hung Hom Hong Kong;X-APPLE-RADIUS=500;X-TITLE=9 Cheong Wan Road:geo:114.1820305,22.3014169
END:VEVENT
BEGIN:VEVENT
DTSTART;TZID=Asia/Hong_Kong:20180725T200000
DTEND;TZID=Asia/Hong_Kong:20180725T200000
DTSTAMP:20260426T123330
CREATED:19180723T011954Z
LAST-MODIFIED:20180723T012235Z
UID:10004353-1532548800-1532548800@www.bcmagazine.net
SUMMARY:DSPS
DESCRIPTION:DSPS – Live in Hong Kong\nSupport: Wellsaid\nDate: 8pm\, 25 July\, 2018\nVenue: TTN\nTickets: $350\, $250
URL:https://www.bcmagazine.net/event/dsps-2018/
LOCATION:This Town Needs (TTN)\, 1/F Ocean One\, 6 Shung Shun Street\, Yau Tong\, Hong Kong
CATEGORIES:2018,Concert,Music,Performing Arts
GEO:22.292861;114.23782
X-APPLE-STRUCTURED-LOCATION;VALUE=URI;X-ADDRESS=This Town Needs (TTN) 1/F Ocean One 6 Shung Shun Street Yau Tong Hong Kong;X-APPLE-RADIUS=500;X-TITLE=1/F Ocean One\, 6 Shung Shun Street:geo:114.23782,22.292861
END:VEVENT
BEGIN:VEVENT
DTSTART;TZID=Asia/Hong_Kong:20180725T201500
DTEND;TZID=Asia/Hong_Kong:20180725T201500
DTSTAMP:20260426T123330
CREATED:20180608T094055Z
LAST-MODIFIED:20180724T010535Z
UID:10006501-1532549700-1532549700@www.bcmagazine.net
SUMMARY:Eric Chou
DESCRIPTION:Eric Chou – 22 Plus\nDate: 8:15pm\, 25 July\, 2018\nVenue: Kitec\, Star Hall\nTickets: $1\,088\, $888\, $688\, $488 from HKTicketing
URL:https://www.bcmagazine.net/event/eric-chou-2018/
LOCATION:KITEC\, Star Hall\, KITEC\, 1 Trademart Drive\, Kowloon Bay\, Hong Kong
CATEGORIES:2018,Concert,Music,Performing Arts
ATTACH;FMTTYPE=image/jpeg:https://www.bcmagazine.net/wp-content/uploads/2018/06/eric-chou-22-plus-2018.jpg
GEO:22.3239575;114.2037608
X-APPLE-STRUCTURED-LOCATION;VALUE=URI;X-ADDRESS=KITEC Star Hall KITEC 1 Trademart Drive Kowloon Bay Hong Kong;X-APPLE-RADIUS=500;X-TITLE=KITEC\, 1 Trademart Drive:geo:114.2037608,22.3239575
END:VEVENT
BEGIN:VEVENT
DTSTART;TZID=Asia/Hong_Kong:20180726T200000
DTEND;TZID=Asia/Hong_Kong:20180726T200000
DTSTAMP:20260426T123330
CREATED:19180716T124702Z
LAST-MODIFIED:20180724T164207Z
UID:10004300-1532635200-1532635200@www.bcmagazine.net
SUMMARY:Wong Tze Wah
DESCRIPTION:Wong Tze Wah Standup Comedy 2018\nDate: 8pm\, 6-31 July\, 2018\nVenue: HK Coliseum\nTickets: $880\, $680\, $480\, $380\, $280 from Urbtix
URL:https://www.bcmagazine.net/event/wong-tze-wah-26-07-2018/
LOCATION:HK Coliseum\, 9 Cheong Wan Road\, Hung Hom\, Hong Kong
CATEGORIES:2018,Comedy,Concert,Music,Performing Arts
ATTACH;FMTTYPE=image/jpeg:https://www.bcmagazine.net/wp-content/uploads/1918/07/dayo-wong-2018.jpg
GEO:22.3014169;114.1820305
X-APPLE-STRUCTURED-LOCATION;VALUE=URI;X-ADDRESS=HK Coliseum 9 Cheong Wan Road Hung Hom Hong Kong;X-APPLE-RADIUS=500;X-TITLE=9 Cheong Wan Road:geo:114.1820305,22.3014169
END:VEVENT
BEGIN:VEVENT
DTSTART;TZID=Asia/Hong_Kong:20180727T200000
DTEND;TZID=Asia/Hong_Kong:20180727T200000
DTSTAMP:20260426T123330
CREATED:19180716T124702Z
LAST-MODIFIED:20180724T164212Z
UID:10004301-1532721600-1532721600@www.bcmagazine.net
SUMMARY:Wong Tze Wah
DESCRIPTION:Wong Tze Wah Standup Comedy 2018\nDate: 8pm\, 6-31 July\, 2018\nVenue: HK Coliseum\nTickets: $880\, $680\, $480\, $380\, $280 from Urbtix
URL:https://www.bcmagazine.net/event/wong-tze-wah-27-07-2018/
LOCATION:HK Coliseum\, 9 Cheong Wan Road\, Hung Hom\, Hong Kong
CATEGORIES:2018,Comedy,Concert,Music,Performing Arts
ATTACH;FMTTYPE=image/jpeg:https://www.bcmagazine.net/wp-content/uploads/1918/07/dayo-wong-2018.jpg
GEO:22.3014169;114.1820305
X-APPLE-STRUCTURED-LOCATION;VALUE=URI;X-ADDRESS=HK Coliseum 9 Cheong Wan Road Hung Hom Hong Kong;X-APPLE-RADIUS=500;X-TITLE=9 Cheong Wan Road:geo:114.1820305,22.3014169
END:VEVENT
BEGIN:VEVENT
DTSTART;TZID=Asia/Hong_Kong:20180727T200000
DTEND;TZID=Asia/Hong_Kong:20180727T200000
DTSTAMP:20260426T123330
CREATED:20180608T094055Z
LAST-MODIFIED:20180724T065804Z
UID:10006500-1532721600-1532721600@www.bcmagazine.net
SUMMARY:Hong Kong International Darts Festival - Opening Concert
DESCRIPTION:Hong Kong International Darts Festival – Opening Concert\nDear Jane\, Alfred Hui\, Jill Vidal\, Jude Tsang\, Abrahim Chan Wing Him\, Dough-Boy\nDate: 8pm\, 27 July\, 2018\nVenue: Kitec\, Star Hall\nTickets: $580\, $480\, $380 from HKTicketing
URL:https://www.bcmagazine.net/event/hkidf-concert-2018/
LOCATION:KITEC\, Star Hall\, KITEC\, 1 Trademart Drive\, Kowloon Bay\, Hong Kong
CATEGORIES:2018,Concert,Music,Performing Arts
ATTACH;FMTTYPE=image/jpeg:https://www.bcmagazine.net/wp-content/uploads/2018/06/hk-darts-opening-concert-2018.jpg
GEO:22.3239575;114.2037608
X-APPLE-STRUCTURED-LOCATION;VALUE=URI;X-ADDRESS=KITEC Star Hall KITEC 1 Trademart Drive Kowloon Bay Hong Kong;X-APPLE-RADIUS=500;X-TITLE=KITEC\, 1 Trademart Drive:geo:114.2037608,22.3239575
END:VEVENT
BEGIN:VEVENT
DTSTART;VALUE=DATE:20180728
DTEND;VALUE=DATE:20180729
DTSTAMP:20260426T123330
CREATED:19180608T094055Z
LAST-MODIFIED:20180724T012932Z
UID:10004193-1532736000-1532822399@www.bcmagazine.net
SUMMARY:Dollvie 2018
DESCRIPTION:Dollvie 2018\nDate: 28 July\, 2018\nVenue: Kitec\, Rotunda 2\nTickets: $60
URL:https://www.bcmagazine.net/event/dollvie-2018/
LOCATION:KITEC\, Rotunda 2\, Hong Kong
CATEGORIES:2018,Exhibition,Lifestyle
GEO:22.396428;114.109497
END:VEVENT
BEGIN:VEVENT
DTSTART;VALUE=DATE:20180728
DTEND;VALUE=DATE:20180730
DTSTAMP:20260426T123330
CREATED:19180608T094055Z
LAST-MODIFIED:20180724T004856Z
UID:10003367-1532736000-1532908799@www.bcmagazine.net
SUMMARY:2nd Hong Kong International Darts Festival
DESCRIPTION:2nd Hong Kong International Darts Festival\nDate: 28-29 July\, 2018\nVenue: Kitec\, Star Hall\nTickets: Free
URL:https://www.bcmagazine.net/event/hkidf-2018/
LOCATION:KITEC\, Star Hall\, KITEC\, 1 Trademart Drive\, Kowloon Bay\, Hong Kong
CATEGORIES:2018,Free,Lifestyle,Sport
ATTACH;FMTTYPE=image/jpeg:https://www.bcmagazine.net/wp-content/uploads/2018/06/2nd-hkidf-2018.jpg
GEO:22.3239575;114.2037608
X-APPLE-STRUCTURED-LOCATION;VALUE=URI;X-ADDRESS=KITEC Star Hall KITEC 1 Trademart Drive Kowloon Bay Hong Kong;X-APPLE-RADIUS=500;X-TITLE=KITEC\, 1 Trademart Drive:geo:114.2037608,22.3239575
END:VEVENT
END:VCALENDAR