BEGIN:VCALENDAR
VERSION:2.0
PRODID:-//bc magazine - ECPv6.15.20//NONSGML v1.0//EN
CALSCALE:GREGORIAN
METHOD:PUBLISH
X-WR-CALNAME:bc magazine
X-ORIGINAL-URL:https://www.bcmagazine.net
X-WR-CALDESC:Events for bc magazine
REFRESH-INTERVAL;VALUE=DURATION:PT1H
X-Robots-Tag:noindex
X-PUBLISHED-TTL:PT1H
BEGIN:VTIMEZONE
TZID:Asia/Hong_Kong
BEGIN:STANDARD
TZOFFSETFROM:+0800
TZOFFSETTO:+0800
TZNAME:HKT
DTSTART:20170101T000000
END:STANDARD
END:VTIMEZONE
BEGIN:VEVENT
DTSTART;VALUE=DATE:20180601
DTEND;VALUE=DATE:20180827
DTSTAMP:20260426T095746
CREATED:19180317T044051Z
LAST-MODIFIED:20180317T044619Z
UID:10003924-1527811200-1535327999@www.bcmagazine.net
SUMMARY:Marc Chagall\, Light and Colour in Southern France
DESCRIPTION:Marc Chagall\, Light and Colour in Southern France\n29th Macao Arts Festival\nDate: 1 June – 26 August\, 2018\nVenue: Macao Museum of Art\nTickets: Free
URL:https://www.bcmagazine.net/event/marc-chagall-light-and-colour-in-southern-france/
LOCATION:Macao Museum of Art\, Macau
CATEGORIES:2018,Art Gallery,Exhibition,Macau
GEO:22.198745;113.543873
END:VEVENT
BEGIN:VEVENT
DTSTART;VALUE=DATE:20180616
DTEND;VALUE=DATE:20180827
DTSTAMP:20260426T095746
CREATED:19180608T094055Z
LAST-MODIFIED:20180724T050954Z
UID:10004207-1529107200-1535327999@www.bcmagazine.net
SUMMARY:Kamen Rider Exhibition
DESCRIPTION:Kamen Rider Exhibition\nDate: 16 June – 26 August\, 2018\nVenue: Broadway Macau\nTickets: $180\, $128
URL:https://www.bcmagazine.net/event/kamen-rider-exhibition-macau-2018/
LOCATION:Broadway Macau\, Avenida Marginal Flor de Lotus\, Cotai\, Macau
CATEGORIES:2018,Exhibition,Macau
ATTACH;FMTTYPE=image/jpeg:https://www.bcmagazine.net/wp-content/uploads/1918/06/kamen-rider-2018.jpg
END:VEVENT
BEGIN:VEVENT
DTSTART;VALUE=DATE:20180824
DTEND;VALUE=DATE:20180827
DTSTAMP:20260426T095746
CREATED:20180707T081335Z
LAST-MODIFIED:20180824T141930Z
UID:10006510-1535068800-1535327999@www.bcmagazine.net
SUMMARY:e-Sports & Music Festival
DESCRIPTION:e-Sports & Music Festival\nDate: 24-26 August\, 2018\nVenue: HKCEC\, Hall 3DE\nTickets: $250\, $120\, $50 from HKTicketing\nMore info:\n24 Aug 2018: 5:30-11pm\n25 Aug 2018: 11am-3:30pm; 4-11pm\n26 Aug 2018: 11am-3:30pm; 4-10pm
URL:https://www.bcmagazine.net/event/e-sports-music-festival-2018/
LOCATION:HK Convention and Exhibition Centre\, 1 Expo Drive\, Wanchai\, Hong Kong
CATEGORIES:2018,Concert,e-sports,Exhibition,Lifestyle,Music,Performing Arts,Sport
ATTACH;FMTTYPE=image/jpeg:https://www.bcmagazine.net/wp-content/uploads/2017/07/EMFHK_2018_002.jpg
END:VEVENT
BEGIN:VEVENT
DTSTART;VALUE=DATE:20180826
DTEND;VALUE=DATE:20180827
DTSTAMP:20260426T095747
CREATED:19180608T094055Z
LAST-MODIFIED:20180724T012748Z
UID:10004192-1535241600-1535327999@www.bcmagazine.net
SUMMARY:Comic World 46
DESCRIPTION:Comic World 46\nDate: 26 August\, 2018\nVenue: Kitec\, Rotunda 2\nTickets: $35
URL:https://www.bcmagazine.net/event/comic-world-46/
LOCATION:KITEC\, Rotunda 2\, Hong Kong
CATEGORIES:2018,Exhibition,Lifestyle
GEO:22.396428;114.109497
END:VEVENT
BEGIN:VEVENT
DTSTART;TZID=Asia/Hong_Kong:20180826T133000
DTEND;TZID=Asia/Hong_Kong:20180826T133000
DTSTAMP:20260426T095747
CREATED:19180528T020834Z
LAST-MODIFIED:20180727T005459Z
UID:10004071-1535290200-1535290200@www.bcmagazine.net
SUMMARY:The Princess in Distress
DESCRIPTION:Cantonese Opera\nEurana Operatic Arts Assembly\, Wing Ko Cantonese Opera Promotion Association\nDate: 21-26 August\, 2018\nVenue: HK Cultural Centre\, Grand Theatre\nTickets: $380\, $300\, $240\, $200\, $160 from Urbtix\nMore info:\n21 Aug 2018 (Tue) 19:30: The Young Heroes of Yue’s Family\n22 Aug 2018 (Wed) 19:30: The Young Heroes of Yue’s Family\n23 Aug 2018 (Thu) 19:30: The Hatless Gathering\n24 Aug 2018 (Fri) 19:30: Di Qing and Shuang Yang\n25 Aug 2018 (Sat) 19:30: Farewell\, My Husband\n26 Aug 2018 (Sun) 13:30: The Princess in Distress\n26 Aug 2018 (Sun) 19:30: Huang FeiHu’s Rebellion
URL:https://www.bcmagazine.net/event/the-princess-in-distress-2018/
LOCATION:HK Cultural Centre\, Grand Theatre\,\, 10 Salisbury Road\, Tsim Sha Tsui\, Hong Kong
CATEGORIES:2018,Cantonese Opera,Music,Performing Arts,Theatre
GEO:22.294318;114.171708
X-APPLE-STRUCTURED-LOCATION;VALUE=URI;X-ADDRESS=HK Cultural Centre Grand Theatre 10 Salisbury Road Tsim Sha Tsui Hong Kong;X-APPLE-RADIUS=500;X-TITLE=10 Salisbury Road:geo:114.171708,22.294318
END:VEVENT
BEGIN:VEVENT
DTSTART;TZID=Asia/Hong_Kong:20180826T150000
DTEND;TZID=Asia/Hong_Kong:20180826T150000
DTSTAMP:20260426T095747
CREATED:19180708T094055Z
LAST-MODIFIED:20180728T041655Z
UID:10004268-1535295600-1535295600@www.bcmagazine.net
SUMMARY:Frances Yip
DESCRIPTION:Frances Yip\nDate: 25-26 August\, 2018\nVenue: MacPherson Stadium\nTickets: $680\, $480 from Cityline
URL:https://www.bcmagazine.net/event/frances-yip-26-08-2018/
LOCATION:MacPherson Stadium\, 38 Nelson Street\, Mongkok\, Hong Kong
CATEGORIES:2018,Concert,Music,Performing Arts
GEO:22.3188457;114.1728403
X-APPLE-STRUCTURED-LOCATION;VALUE=URI;X-ADDRESS=MacPherson Stadium 38 Nelson Street Mongkok Hong Kong;X-APPLE-RADIUS=500;X-TITLE=38 Nelson Street:geo:114.1728403,22.3188457
END:VEVENT
BEGIN:VEVENT
DTSTART;TZID=Asia/Hong_Kong:20180826T193000
DTEND;TZID=Asia/Hong_Kong:20180826T193000
DTSTAMP:20260426T095747
CREATED:19180528T020834Z
LAST-MODIFIED:20180727T005523Z
UID:10004072-1535311800-1535311800@www.bcmagazine.net
SUMMARY:Huang FeiHu's Rebellion
DESCRIPTION:Cantonese Opera\nEurana Operatic Arts Assembly\, Wing Ko Cantonese Opera Promotion Association\nDate: 21-26 August\, 2018\nVenue: HK Cultural Centre\, Grand Theatre\nTickets: $380\, $300\, $240\, $200\, $160 from Urbtix\nMore info:\n21 Aug 2018 (Tue) 19:30: The Young Heroes of Yue’s Family\n22 Aug 2018 (Wed) 19:30: The Young Heroes of Yue’s Family\n23 Aug 2018 (Thu) 19:30: The Hatless Gathering\n24 Aug 2018 (Fri) 19:30: Di Qing and Shuang Yang\n25 Aug 2018 (Sat) 19:30: Farewell\, My Husband\n26 Aug 2018 (Sun) 13:30: The Princess in Distress\n26 Aug 2018 (Sun) 19:30: Huang FeiHu’s Rebellion
URL:https://www.bcmagazine.net/event/huang-feihus-rebellion-2018/
LOCATION:HK Cultural Centre\, Grand Theatre\,\, 10 Salisbury Road\, Tsim Sha Tsui\, Hong Kong
CATEGORIES:2018,Cantonese Opera,Music,Performing Arts,Theatre
GEO:22.294318;114.171708
X-APPLE-STRUCTURED-LOCATION;VALUE=URI;X-ADDRESS=HK Cultural Centre Grand Theatre 10 Salisbury Road Tsim Sha Tsui Hong Kong;X-APPLE-RADIUS=500;X-TITLE=10 Salisbury Road:geo:114.171708,22.294318
END:VEVENT
BEGIN:VEVENT
DTSTART;TZID=Asia/Hong_Kong:20180826T193000
DTEND;TZID=Asia/Hong_Kong:20180826T200000
DTSTAMP:20260426T095747
CREATED:19180723T011954Z
LAST-MODIFIED:20180723T012625Z
UID:10004354-1535311800-1535313600@www.bcmagazine.net
SUMMARY:This Town Needs Noize Vol.2
DESCRIPTION:This Town Needs Noize Vol.2\nCow Head (acoustic)\, Foster Studio (indie dance)\, Knife Fighter (electro-grunge)\, P.P.C Records (hip-hop)\, Say You Care (emo)\nDate: 7:30pm\, 26 August\, 2018\nVenue: TTN\nTickets: $150\, $120
URL:https://www.bcmagazine.net/event/this-town-needs-noize-vol-2-2018/
LOCATION:This Town Needs (TTN)\, 1/F Ocean One\, 6 Shung Shun Street\, Yau Tong\, Hong Kong
CATEGORIES:2018,Concert,Music,Performing Arts
GEO:22.292861;114.23782
X-APPLE-STRUCTURED-LOCATION;VALUE=URI;X-ADDRESS=This Town Needs (TTN) 1/F Ocean One 6 Shung Shun Street Yau Tong Hong Kong;X-APPLE-RADIUS=500;X-TITLE=1/F Ocean One\, 6 Shung Shun Street:geo:114.23782,22.292861
END:VEVENT
BEGIN:VEVENT
DTSTART;TZID=Asia/Hong_Kong:20180826T200000
DTEND;TZID=Asia/Hong_Kong:20180826T200000
DTSTAMP:20260426T095747
CREATED:19180620T094055Z
LAST-MODIFIED:20180724T001920Z
UID:10004252-1535313600-1535313600@www.bcmagazine.net
SUMMARY:Shout it Out Music Festival
DESCRIPTION:Shout it Out Music Festival: Janice Yan\, Della Ding\, Afalean Lufiz\nDate: 8pm\, 26 August\, 2018\nVenue: Kitec\, Star Hall\nTickets: $580\, $480\, $380 from HKTicketing
URL:https://www.bcmagazine.net/event/shout-it-out-music-festival-26-08-2018/
LOCATION:KITEC\, Star Hall\, KITEC\, 1 Trademart Drive\, Kowloon Bay\, Hong Kong
CATEGORIES:2018,Concert,Music,Performing Arts
ATTACH;FMTTYPE=image/jpeg:https://www.bcmagazine.net/wp-content/uploads/1918/06/shout-it-out-music-fest-2018-08-26.jpg
GEO:22.3239575;114.2037608
X-APPLE-STRUCTURED-LOCATION;VALUE=URI;X-ADDRESS=KITEC Star Hall KITEC 1 Trademart Drive Kowloon Bay Hong Kong;X-APPLE-RADIUS=500;X-TITLE=KITEC\, 1 Trademart Drive:geo:114.2037608,22.3239575
END:VEVENT
BEGIN:VEVENT
DTSTART;TZID=Asia/Hong_Kong:20180826T200000
DTEND;TZID=Asia/Hong_Kong:20180826T200000
DTSTAMP:20260426T095747
CREATED:20180620T011954Z
LAST-MODIFIED:20180723T020418Z
UID:10006504-1535313600-1535313600@www.bcmagazine.net
SUMMARY:Phoon
DESCRIPTION:Phoon – Mini Album Release Party\nSupport: Clave\nDate: 8pm\, 26 August\, 2018\nVenue: MOM Livehouse\nTickets: $250\, $200
URL:https://www.bcmagazine.net/event/phoon-26-08-2018/
LOCATION:MOM Livehouse\, B39 Seven Seas Shopping Centre\, 117-121 Kings Road\, North Point\, Hong Kong
CATEGORIES:2018,Concert,Music,Performing Arts
ATTACH;FMTTYPE=image/jpeg:https://www.bcmagazine.net/wp-content/uploads/2018/07/Phoon-2018.jpg
GEO:22.2884683;114.192803
X-APPLE-STRUCTURED-LOCATION;VALUE=URI;X-ADDRESS=MOM Livehouse B39 Seven Seas Shopping Centre 117-121 Kings Road North Point Hong Kong;X-APPLE-RADIUS=500;X-TITLE=B39 Seven Seas Shopping Centre\, 117-121 Kings Road:geo:114.192803,22.2884683
END:VEVENT
BEGIN:VEVENT
DTSTART;TZID=Asia/Hong_Kong:20180828T190000
DTEND;TZID=Asia/Hong_Kong:20180828T190000
DTSTAMP:20260426T095747
CREATED:19180620T094055Z
LAST-MODIFIED:20180724T001627Z
UID:10004253-1535482800-1535482800@www.bcmagazine.net
SUMMARY:I-1 World MuayThai Grand Prix
DESCRIPTION:I-1 World Muaythai Grand Prix\nDate: 7pm\, 28 August\, 2018\nVenue: Kitec\, Star Hall\nTickets: $1\,000\, $600\, $400\, $250 from HKTicketing
URL:https://www.bcmagazine.net/event/i-1-world-muaythai-grand-prix-2018/
LOCATION:KITEC\, Star Hall\, KITEC\, 1 Trademart Drive\, Kowloon Bay\, Hong Kong
CATEGORIES:2018,Muay Thai,Sport
GEO:22.3239575;114.2037608
X-APPLE-STRUCTURED-LOCATION;VALUE=URI;X-ADDRESS=KITEC Star Hall KITEC 1 Trademart Drive Kowloon Bay Hong Kong;X-APPLE-RADIUS=500;X-TITLE=KITEC\, 1 Trademart Drive:geo:114.2037608,22.3239575
END:VEVENT
BEGIN:VEVENT
DTSTART;TZID=Asia/Hong_Kong:20180830T201500
DTEND;TZID=Asia/Hong_Kong:20180830T201500
DTSTAMP:20260426T095747
CREATED:19180708T094055Z
LAST-MODIFIED:20180728T042247Z
UID:10004269-1535660100-1535660100@www.bcmagazine.net
SUMMARY:Ivana
DESCRIPTION:Ivana\nDate: 8:15pm\, 30-31 August\, 2018\nVenue: MacPherson Stadium\nTickets: $680\, $450 from Cityline
URL:https://www.bcmagazine.net/event/ivana-30-08-2018/
LOCATION:MacPherson Stadium\, 38 Nelson Street\, Mongkok\, Hong Kong
CATEGORIES:2018,Concert,Music,Performing Arts
ATTACH;FMTTYPE=image/jpeg:https://www.bcmagazine.net/wp-content/uploads/1918/07/ivana-2018.jpg
GEO:22.3188457;114.1728403
X-APPLE-STRUCTURED-LOCATION;VALUE=URI;X-ADDRESS=MacPherson Stadium 38 Nelson Street Mongkok Hong Kong;X-APPLE-RADIUS=500;X-TITLE=38 Nelson Street:geo:114.1728403,22.3188457
END:VEVENT
BEGIN:VEVENT
DTSTART;VALUE=DATE:20180831
DTEND;VALUE=DATE:20180903
DTSTAMP:20260426T095747
CREATED:19180716T124702Z
LAST-MODIFIED:20180808T092236Z
UID:10004322-1535673600-1535932799@www.bcmagazine.net
SUMMARY:Rock Am Depot Festival
DESCRIPTION:Rock Am Depot Festival 2018\nDavid Boring\, Opposite Opposite\, Say You Care\, Edges and Corners\, Teenage Riot\, Vanish\, Maenad & the Ravers\, Happy Friday\, The Pafala\, Woollen\, Came Slowly\, Virt\nDate: 31 August – 2 September\, 2018\nVenue: Cattle Depot Artist Village\nTickets: $980 (3-day pass)\, $685 daily (Sat or Sun pass)\, $185 (Friday)
URL:https://www.bcmagazine.net/event/rock-am-depot-festival-2018/
LOCATION:Cattle Depot Artist Village\, 63 Ma Tau Kok Road\, Ma Tau Kok\, Hong Kong
CATEGORIES:2018,Concert,Music,Performing Arts
ATTACH;FMTTYPE=image/jpeg:https://www.bcmagazine.net/wp-content/uploads/1918/07/Rock-Am-Depot-Festival-2018.jpg
GEO:22.3214467;114.1909173
X-APPLE-STRUCTURED-LOCATION;VALUE=URI;X-ADDRESS=Cattle Depot Artist Village 63 Ma Tau Kok Road Ma Tau Kok Hong Kong;X-APPLE-RADIUS=500;X-TITLE=63 Ma Tau Kok Road:geo:114.1909173,22.3214467
END:VEVENT
BEGIN:VEVENT
DTSTART;TZID=Asia/Hong_Kong:20180831T194500
DTEND;TZID=Asia/Hong_Kong:20180831T194500
DTSTAMP:20260426T095747
CREATED:19180528T020834Z
LAST-MODIFIED:20180728T164310Z
UID:10004135-1535744700-1535744700@www.bcmagazine.net
SUMMARY:Waiting Heart
DESCRIPTION:Waiting Heart\nHK Dance \nDate: 31 August – 2 September\, 2018\nVenue: HK Cultural Centre\, Studio Theatre\nTickets: $280\, $200 from Urbtix
URL:https://www.bcmagazine.net/event/waiting-heart-31-08-2018/
LOCATION:HK Cultural Centre\, Studio Theatre\, 10 Salisbury Road\, Tsim Sha Tsui\, Hong Kong
CATEGORIES:2018,Dance,Performing Arts,Theatre
END:VEVENT
BEGIN:VEVENT
DTSTART;TZID=Asia/Hong_Kong:20180831T200000
DTEND;TZID=Asia/Hong_Kong:20180831T200000
DTSTAMP:20260426T095747
CREATED:19180528T020834Z
LAST-MODIFIED:20180728T172654Z
UID:10003273-1535745600-1535745600@www.bcmagazine.net
SUMMARY:HK Philharmonic Orchestra
DESCRIPTION:Jaap – Leila Josefowicz\nHK Philharmonic Orchestra\nDate: 8pm\, 31 August – 1 September\, 2018\nVenue: HK Cultural Centre\, Concert Hall\nTickets: $680\, $480\, $380\, $280 from Urbtix
URL:https://www.bcmagazine.net/event/hk-philharmonic-orchestra-31-08-2018/
LOCATION:HK Cultural Centre\, Concert Hall\, 10 Salisbury Road\, Tsim Sha Tsui\, Hong Kong
CATEGORIES:2018,Concert,Music,Performing Arts
GEO:22.294318;114.171708
X-APPLE-STRUCTURED-LOCATION;VALUE=URI;X-ADDRESS=HK Cultural Centre Concert Hall 10 Salisbury Road Tsim Sha Tsui Hong Kong;X-APPLE-RADIUS=500;X-TITLE=10 Salisbury Road:geo:114.171708,22.294318
END:VEVENT
BEGIN:VEVENT
DTSTART;TZID=Asia/Hong_Kong:20180831T200000
DTEND;TZID=Asia/Hong_Kong:20180831T200000
DTSTAMP:20260426T095747
CREATED:19180726T020834Z
LAST-MODIFIED:20180728T032755Z
UID:10004358-1535745600-1535745600@www.bcmagazine.net
SUMMARY:Seventeen
DESCRIPTION:Seventeen – Ideal Cut\nDate: 8pm\, 31 August\, 2018\nVenue: AsiaWorld Expo\, Arena\nTickets: $1\,980\, $1\,580\, $1\,280\, $980\, $880\, $680\, $480 from Cityline
URL:https://www.bcmagazine.net/event/seventeen-31-08-2018/
LOCATION:AsiaWorld-Expo\, Arena\, Cheong Wing Road\, Chek Lap Kok\, Lantau\, Hong Kong
CATEGORIES:2018,Concert,Music,Performing Arts
ATTACH;FMTTYPE=image/jpeg:https://www.bcmagazine.net/wp-content/uploads/1918/05/got7-eyes-on-you-2018.jpg
GEO:22.3217383;113.9402012
X-APPLE-STRUCTURED-LOCATION;VALUE=URI;X-ADDRESS=AsiaWorld-Expo Arena Cheong Wing Road Chek Lap Kok Lantau Hong Kong;X-APPLE-RADIUS=500;X-TITLE=Cheong Wing Road\, Chek Lap Kok:geo:113.9402012,22.3217383
END:VEVENT
BEGIN:VEVENT
DTSTART;TZID=Asia/Hong_Kong:20180831T201500
DTEND;TZID=Asia/Hong_Kong:20180831T201500
DTSTAMP:20260426T095747
CREATED:19180708T094055Z
LAST-MODIFIED:20180728T042316Z
UID:10004270-1535746500-1535746500@www.bcmagazine.net
SUMMARY:Ivana
DESCRIPTION:Ivana\nDate: 8:15pm\, 30-31 August\, 2018\nVenue: MacPherson Stadium\nTickets: $680\, $450 from Cityline
URL:https://www.bcmagazine.net/event/ivana-31-08-2018/
LOCATION:MacPherson Stadium\, 38 Nelson Street\, Mongkok\, Hong Kong
CATEGORIES:2018,Concert,Music,Performing Arts
ATTACH;FMTTYPE=image/jpeg:https://www.bcmagazine.net/wp-content/uploads/1918/07/ivana-2018.jpg
GEO:22.3188457;114.1728403
X-APPLE-STRUCTURED-LOCATION;VALUE=URI;X-ADDRESS=MacPherson Stadium 38 Nelson Street Mongkok Hong Kong;X-APPLE-RADIUS=500;X-TITLE=38 Nelson Street:geo:114.1728403,22.3188457
END:VEVENT
BEGIN:VEVENT
DTSTART;TZID=Asia/Hong_Kong:20180831T203000
DTEND;TZID=Asia/Hong_Kong:20180831T203000
DTSTAMP:20260426T095747
CREATED:19180716T124702Z
LAST-MODIFIED:20180808T133646Z
UID:10004328-1535747400-1535747400@www.bcmagazine.net
SUMMARY:Bamboo Star
DESCRIPTION:Bamboo Star – No Hard Feelings Album Launch\nDate: 8:30pm\, 31 August\, 2018\nVenue: Fringe Club\, Fringe Underground\nTickets: $200\, $180 (Advance)
URL:https://www.bcmagazine.net/event/bamboo-star-31-08-2018/
LOCATION:Fringe Club: Fringe Underground\, Central\, Hong Kong
CATEGORIES:2018,Concert,Music,Performing Arts
ATTACH;FMTTYPE=image/png:https://www.bcmagazine.net/wp-content/uploads/1918/07/bamboo-star-aug-2018.png
END:VEVENT
BEGIN:VEVENT
DTSTART;TZID=Asia/Hong_Kong:20180831T213000
DTEND;TZID=Asia/Hong_Kong:20180831T213000
DTSTAMP:20260426T095747
CREATED:19180716T124702Z
LAST-MODIFIED:20180808T091308Z
UID:10004324-1535751000-1535751000@www.bcmagazine.net
SUMMARY:Woollen
DESCRIPTION:Woollen\nRock Am Depot Festival\nDate: 8:30pm\, 31 August\, 2018\nVenue: Cattle Depot Artist Village\nTickets: Free
URL:https://www.bcmagazine.net/event/woollen-31-08-2018/
LOCATION:Cattle Depot Artist Village\, 63 Ma Tau Kok Road\, Ma Tau Kok\, Hong Kong
CATEGORIES:2018,Concert,Free,Music,Performing Arts
ATTACH;FMTTYPE=image/jpeg:https://www.bcmagazine.net/wp-content/uploads/1918/07/woollen-2018.jpg
GEO:22.3214467;114.1909173
X-APPLE-STRUCTURED-LOCATION;VALUE=URI;X-ADDRESS=Cattle Depot Artist Village 63 Ma Tau Kok Road Ma Tau Kok Hong Kong;X-APPLE-RADIUS=500;X-TITLE=63 Ma Tau Kok Road:geo:114.1909173,22.3214467
END:VEVENT
BEGIN:VEVENT
DTSTART;TZID=Asia/Hong_Kong:20180831T213000
DTEND;TZID=Asia/Hong_Kong:20180831T213000
DTSTAMP:20260426T095747
CREATED:19180716T124702Z
LAST-MODIFIED:20180808T081955Z
UID:10004314-1535751000-1535751000@www.bcmagazine.net
SUMMARY:Vanish
DESCRIPTION:Vanish\nRock Am Depot Festival\nDate: 9:30pm\, 31 August\, 2018\nVenue: Cattle Depot Artist Village\nTickets: $275\, $185
URL:https://www.bcmagazine.net/event/vanish-31-08-2018/
LOCATION:Cattle Depot Artist Village\, 63 Ma Tau Kok Road\, Ma Tau Kok\, Hong Kong
CATEGORIES:2018,Concert,Music,Performing Arts
ATTACH;FMTTYPE=image/jpeg:https://www.bcmagazine.net/wp-content/uploads/1918/07/vanish-hk-band.jpg
GEO:22.3214467;114.1909173
X-APPLE-STRUCTURED-LOCATION;VALUE=URI;X-ADDRESS=Cattle Depot Artist Village 63 Ma Tau Kok Road Ma Tau Kok Hong Kong;X-APPLE-RADIUS=500;X-TITLE=63 Ma Tau Kok Road:geo:114.1909173,22.3214467
END:VEVENT
BEGIN:VEVENT
DTSTART;TZID=Asia/Hong_Kong:20180901T134500
DTEND;TZID=Asia/Hong_Kong:20180901T134500
DTSTAMP:20260426T095747
CREATED:19180807T150636Z
LAST-MODIFIED:20180807T151136Z
UID:10004424-1535809500-1535809500@www.bcmagazine.net
SUMMARY:Blue Tie Ball
DESCRIPTION:Blue Tie Ball\nDate: 1:45pm\, 1 September\, 2018\nVenue: HK Football Club\nTickets: Free
URL:https://www.bcmagazine.net/event/blue-tie-ball-2018/
LOCATION:Hong Kong Football Club\, 3 Sports Road\, Causeway Bay\, Hong Kong
CATEGORIES:2018,Charity,Free,Rugby,Sport
GEO:22.275374;114.1822239
X-APPLE-STRUCTURED-LOCATION;VALUE=URI;X-ADDRESS=Hong Kong Football Club 3 Sports Road Causeway Bay Hong Kong;X-APPLE-RADIUS=500;X-TITLE=3 Sports Road:geo:114.1822239,22.275374
END:VEVENT
BEGIN:VEVENT
DTSTART;TZID=Asia/Hong_Kong:20180901T160000
DTEND;TZID=Asia/Hong_Kong:20180901T160000
DTSTAMP:20260426T095747
CREATED:19180716T124702Z
LAST-MODIFIED:20180808T090743Z
UID:10004298-1535817600-1535817600@www.bcmagazine.net
SUMMARY:Virt
DESCRIPTION:Virt\nRock Am Depot Festival\nDate: 4pm\, 1 September\, 2018\nVenue: Cattle Depot Artist Village\nTickets:
URL:https://www.bcmagazine.net/event/virt-01-09-2018-2/
LOCATION:Cattle Depot Artist Village\, 63 Ma Tau Kok Road\, Ma Tau Kok\, Hong Kong
CATEGORIES:2018,Concert,Music,Performing Arts
ATTACH;FMTTYPE=image/jpeg:https://www.bcmagazine.net/wp-content/uploads/1918/07/virt-hk-band.jpg
GEO:22.3214467;114.1909173
X-APPLE-STRUCTURED-LOCATION;VALUE=URI;X-ADDRESS=Cattle Depot Artist Village 63 Ma Tau Kok Road Ma Tau Kok Hong Kong;X-APPLE-RADIUS=500;X-TITLE=63 Ma Tau Kok Road:geo:114.1909173,22.3214467
END:VEVENT
BEGIN:VEVENT
DTSTART;TZID=Asia/Hong_Kong:20180901T170000
DTEND;TZID=Asia/Hong_Kong:20180901T170000
DTSTAMP:20260426T095747
CREATED:19180716T124702Z
LAST-MODIFIED:20180808T081405Z
UID:10004313-1535821200-1535821200@www.bcmagazine.net
SUMMARY:Happy Friday
DESCRIPTION:Happy Friday – Light up the Universe\nRock Am Depot Festival\nDate: 5pm\, 1 September\, 2018\nVenue: Cattle Depot Artist Village\nTickets: $275\, $185
URL:https://www.bcmagazine.net/event/happy-friday-2018/
LOCATION:Cattle Depot Artist Village\, 63 Ma Tau Kok Road\, Ma Tau Kok\, Hong Kong
CATEGORIES:2018,Concert,Music,Performing Arts
ATTACH;FMTTYPE=image/jpeg:https://www.bcmagazine.net/wp-content/uploads/1918/07/Happy-Friday-light-up-the-universe.jpg
GEO:22.3214467;114.1909173
X-APPLE-STRUCTURED-LOCATION;VALUE=URI;X-ADDRESS=Cattle Depot Artist Village 63 Ma Tau Kok Road Ma Tau Kok Hong Kong;X-APPLE-RADIUS=500;X-TITLE=63 Ma Tau Kok Road:geo:114.1909173,22.3214467
END:VEVENT
BEGIN:VEVENT
DTSTART;TZID=Asia/Hong_Kong:20180901T183000
DTEND;TZID=Asia/Hong_Kong:20180901T183000
DTSTAMP:20260426T095747
CREATED:19180716T124702Z
LAST-MODIFIED:20180808T082223Z
UID:10004315-1535826600-1535826600@www.bcmagazine.net
SUMMARY:Teenage Riot
DESCRIPTION:Teenage Riot\nRock Am Depot Festival\nDate: 6:30pm\, 1 September\, 2018\nVenue: Cattle Depot Artist Village\nTickets: $275\, $185
URL:https://www.bcmagazine.net/event/teenage-riot-01-09-2018/
LOCATION:Cattle Depot Artist Village\, 63 Ma Tau Kok Road\, Ma Tau Kok\, Hong Kong
CATEGORIES:2018,Concert,Music,Performing Arts
ATTACH;FMTTYPE=image/jpeg:https://www.bcmagazine.net/wp-content/uploads/1918/07/teenage-riot.jpg
GEO:22.3214467;114.1909173
X-APPLE-STRUCTURED-LOCATION;VALUE=URI;X-ADDRESS=Cattle Depot Artist Village 63 Ma Tau Kok Road Ma Tau Kok Hong Kong;X-APPLE-RADIUS=500;X-TITLE=63 Ma Tau Kok Road:geo:114.1909173,22.3214467
END:VEVENT
BEGIN:VEVENT
DTSTART;TZID=Asia/Hong_Kong:20180901T190000
DTEND;TZID=Asia/Hong_Kong:20180901T190000
DTSTAMP:20260426T095747
CREATED:19180802T094055Z
LAST-MODIFIED:20190924T041150Z
UID:10004361-1535828400-1535828400@www.bcmagazine.net
SUMMARY:Kill Time With A Static Mind
DESCRIPTION:Kill Time With A Static Mind\nAn Id Signal\, David Boring\, ΔΩ alter omega\, Life Was All Silence\nDate: 7pm\, 1 September\, 2018\nVenue: TTN\nTickets: $240\, $180
URL:https://www.bcmagazine.net/event/kill-time-with-a-static-mind-2018/
LOCATION:This Town Needs (TTN)\, 1/F Ocean One\, 6 Shung Shun Street\, Yau Tong\, Hong Kong
CATEGORIES:2018,Concert,Music,Performing Arts
ATTACH;FMTTYPE=image/jpeg:https://www.bcmagazine.net/wp-content/uploads/1918/08/life-was-all-silence.jpg
GEO:22.292861;114.23782
X-APPLE-STRUCTURED-LOCATION;VALUE=URI;X-ADDRESS=This Town Needs (TTN) 1/F Ocean One 6 Shung Shun Street Yau Tong Hong Kong;X-APPLE-RADIUS=500;X-TITLE=1/F Ocean One\, 6 Shung Shun Street:geo:114.23782,22.292861
END:VEVENT
BEGIN:VEVENT
DTSTART;TZID=Asia/Hong_Kong:20180901T193000
DTEND;TZID=Asia/Hong_Kong:20180901T193000
DTSTAMP:20260426T095747
CREATED:19180528T020834Z
LAST-MODIFIED:20180727T004540Z
UID:10004064-1535830200-1535830200@www.bcmagazine.net
SUMMARY:My Love
DESCRIPTION:My Love\nCUHK FAA\nDate: 1-2 September\, 2018\nVenue: HK Cultural Centre\, Grand Theatre\nTickets: $380\, $280\, $180 from Urbtix\nMore info:\n1 Sept – 7:30pm\n2 Sept – 3pm\nCantonese drama
URL:https://www.bcmagazine.net/event/my-love-01-09-2018/
LOCATION:HK Cultural Centre\, Grand Theatre\,\, 10 Salisbury Road\, Tsim Sha Tsui\, Hong Kong
CATEGORIES:2018,Cantonese drama,Performing Arts,Theatre
GEO:22.294318;114.171708
X-APPLE-STRUCTURED-LOCATION;VALUE=URI;X-ADDRESS=HK Cultural Centre Grand Theatre 10 Salisbury Road Tsim Sha Tsui Hong Kong;X-APPLE-RADIUS=500;X-TITLE=10 Salisbury Road:geo:114.171708,22.294318
END:VEVENT
BEGIN:VEVENT
DTSTART;TZID=Asia/Hong_Kong:20180901T194500
DTEND;TZID=Asia/Hong_Kong:20180901T194500
DTSTAMP:20260426T095747
CREATED:19180528T020834Z
LAST-MODIFIED:20180728T164410Z
UID:10004136-1535831100-1535831100@www.bcmagazine.net
SUMMARY:Waiting Heart
DESCRIPTION:Waiting Heart\nHK Dance \nDate: 31 August – 2 September\, 2018\nVenue: HK Cultural Centre\, Studio Theatre\nTickets: $280\, $200 from Urbtix
URL:https://www.bcmagazine.net/event/waiting-heart-01-09-2018/
LOCATION:HK Cultural Centre\, Studio Theatre\, 10 Salisbury Road\, Tsim Sha Tsui\, Hong Kong
CATEGORIES:2018,Dance,Performing Arts,Theatre
END:VEVENT
BEGIN:VEVENT
DTSTART;TZID=Asia/Hong_Kong:20180901T200000
DTEND;TZID=Asia/Hong_Kong:20180901T200000
DTSTAMP:20260426T095747
CREATED:19180528T020834Z
LAST-MODIFIED:20180728T172734Z
UID:10003274-1535832000-1535832000@www.bcmagazine.net
SUMMARY:HK Philharmonic Orchestra
DESCRIPTION:Jaap – Leila Josefowicz\nHK Philharmonic Orchestra\nDate: 8pm\, 31 August – 1 September\, 2018\nVenue: HK Cultural Centre\, Concert Hall\nTickets: $680\, $480\, $380\, $280 from Urbtix
URL:https://www.bcmagazine.net/event/hk-philharmonic-orchestra-01-09-2018/
LOCATION:HK Cultural Centre\, Concert Hall\, 10 Salisbury Road\, Tsim Sha Tsui\, Hong Kong
CATEGORIES:2018,Concert,Music,Performing Arts
GEO:22.294318;114.171708
X-APPLE-STRUCTURED-LOCATION;VALUE=URI;X-ADDRESS=HK Cultural Centre Concert Hall 10 Salisbury Road Tsim Sha Tsui Hong Kong;X-APPLE-RADIUS=500;X-TITLE=10 Salisbury Road:geo:114.171708,22.294318
END:VEVENT
BEGIN:VEVENT
DTSTART;TZID=Asia/Hong_Kong:20180901T200000
DTEND;TZID=Asia/Hong_Kong:20180901T200000
DTSTAMP:20260426T095747
CREATED:19180608T094055Z
LAST-MODIFIED:20180728T033818Z
UID:10004216-1535832000-1535832000@www.bcmagazine.net
SUMMARY:Charamel
DESCRIPTION:Charamel – Splash Tour\nDate: 8pm\, 1 September\, 2018\nVenue: Kitec\, Music Zone@E-Max\nTickets: $580 from Cityline
URL:https://www.bcmagazine.net/event/charamel-2018/
LOCATION:KITEC\, Music Zone@E-Max\, KITEC\,‎ 1 Trademart Drive\, Kowloon Bay\, Hong Kong
CATEGORIES:2018,Concert,Music,Performing Arts
GEO:22.3239575;114.2037608
X-APPLE-STRUCTURED-LOCATION;VALUE=URI;X-ADDRESS=KITEC Music Zone@E-Max KITEC‎ 1 Trademart Drive Kowloon Bay Hong Kong;X-APPLE-RADIUS=500;X-TITLE=KITEC\,‎ 1 Trademart Drive:geo:114.2037608,22.3239575
END:VEVENT
BEGIN:VEVENT
DTSTART;TZID=Asia/Hong_Kong:20180901T200000
DTEND;TZID=Asia/Hong_Kong:20180901T200000
DTSTAMP:20260426T095747
CREATED:19180716T124702Z
LAST-MODIFIED:20180808T082606Z
UID:10004316-1535832000-1535832000@www.bcmagazine.net
SUMMARY:Edges and Corners - 72％
DESCRIPTION:Edges and Corners – 72％\nRock Am Depot Festival\nDate: 8pm\, 1 September\, 2018\nVenue: Cattle Depot Artist Village\nTickets: $275\, $185
URL:https://www.bcmagazine.net/event/edges-and-corners-72%ef%bc%85/
LOCATION:Cattle Depot Artist Village\, 63 Ma Tau Kok Road\, Ma Tau Kok\, Hong Kong
CATEGORIES:2018,Concert,Music,Performing Arts
ATTACH;FMTTYPE=image/jpeg:https://www.bcmagazine.net/wp-content/uploads/1918/07/edges-and-corners-72.jpg
GEO:22.3214467;114.1909173
X-APPLE-STRUCTURED-LOCATION;VALUE=URI;X-ADDRESS=Cattle Depot Artist Village 63 Ma Tau Kok Road Ma Tau Kok Hong Kong;X-APPLE-RADIUS=500;X-TITLE=63 Ma Tau Kok Road:geo:114.1909173,22.3214467
END:VEVENT
END:VCALENDAR