BEGIN:VCALENDAR
VERSION:2.0
PRODID:-//bc magazine - ECPv6.15.20//NONSGML v1.0//EN
CALSCALE:GREGORIAN
METHOD:PUBLISH
X-WR-CALNAME:bc magazine
X-ORIGINAL-URL:https://www.bcmagazine.net
X-WR-CALDESC:Events for bc magazine
REFRESH-INTERVAL;VALUE=DURATION:PT1H
X-Robots-Tag:noindex
X-PUBLISHED-TTL:PT1H
BEGIN:VTIMEZONE
TZID:Asia/Hong_Kong
BEGIN:STANDARD
TZOFFSETFROM:+0800
TZOFFSETTO:+0800
TZNAME:HKT
DTSTART:20170101T000000
END:STANDARD
END:VTIMEZONE
BEGIN:VEVENT
DTSTART;VALUE=DATE:20180928
DTEND;VALUE=DATE:20190101
DTSTAMP:20260426T123219
CREATED:19181002T010042Z
LAST-MODIFIED:20181004T091604Z
UID:10004464-1538092800-1546300799@www.bcmagazine.net
SUMMARY:Keith Haring Maze Macao
DESCRIPTION:Keith Haring Maze Macao\nDate: 28 September – 31 December\, 2018\nVenues: Cotai Expo\nTickets: $100 from CotaiTicketing
URL:https://www.bcmagazine.net/event/keith-haring-maze-macao-2018/
LOCATION:Cotai Expo\, The Venetian\, Taipa\, Macau
CATEGORIES:2018,Exhibition,Macau,Other,Performing Arts
ATTACH;FMTTYPE=image/jpeg:https://www.bcmagazine.net/wp-content/uploads/1918/10/Keith-Haring-Maze-Macao-2018.jpg
END:VEVENT
BEGIN:VEVENT
DTSTART;VALUE=DATE:20181102
DTEND;VALUE=DATE:20181112
DTSTAMP:20260426T123219
CREATED:20180801T091944Z
LAST-MODIFIED:20180801T095759Z
UID:10006519-1541116800-1541980799@www.bcmagazine.net
SUMMARY:Hong Kong International Literary Festival 2018
DESCRIPTION:Celebrated writers from a diverse range of literary corners\, including fiction\, history\, poetry\, fitness and science\, will come together this autumn at the The Hong Kong International Literary Festival 2018. \nThe festival takes places at Tai Kwun and this year’s programme will includes talks\, literary lunches\, readings\, panel discussions and spans ten days from 2 to 11 November. \nFull event schedule and tickets onsale soon. \nHong Kong International Literary Festival 2018\nDate: 2-11 November\, 2018\nVenue: Tai Kwun\nTickets: tbc\nMore info: www.festival.org.hk
URL:https://www.bcmagazine.net/event/hong-kong-international-literary-festival-2018/
LOCATION:Tai Kwun\, Central\, Hong Kong
CATEGORIES:2018,Cultural Festival,Performing Arts,Workshop
END:VEVENT
BEGIN:VEVENT
DTSTART;VALUE=DATE:20181108
DTEND;VALUE=DATE:20181111
DTSTAMP:20260426T123219
CREATED:19180806T080042Z
LAST-MODIFIED:20181106T083836Z
UID:10004423-1541635200-1541894399@www.bcmagazine.net
SUMMARY:Hong Kong International Wine & Spirits Fair
DESCRIPTION:This year’s Wine & Spirits Fair features pavilions from wine-producing regions\, trade organisations and governmental organisations. There are new pavilions from the China Council for the Promotion of International Trade Sichuan Council\, the Department of Commerce of Zhejiang Province\, Ningxia’s General Office of Administrative Committee of Grape Industry Zong of Helan Mountain’s East Foothill Wine Region\, the Czech Grape and Wine Producer Association\, Gifu Prefecture and the Niigata Sake Brewers’ Association from Japan\, and Peru. \nThere is Liquor & Beverage Products Zone\, a Whisky and Spirits Zone and a Beer Zone. As well as an Organic Wine and Spirits corner and for those wanting something to pair with all this alcohol there’s a food area and also interestingly “World of Olive Oil” where you can learn and taste premium olive oils. \nThe first two days are for trade only\, the public day on the 10 November runs from 10:30am and entry costs $200 \nHong Kong International Wine & Spirits Fair\nDate: 8-10 November\, 2018\nVenues: HKCEC\nTickets: $200
URL:https://www.bcmagazine.net/event/hk-international-wine-spirits-fair-2018/
LOCATION:HK Convention and Exhibition Centre\, 1 Expo Drive\, Wanchai\, Hong Kong
CATEGORIES:2018,Exhibition,Food,Lifestyle
ATTACH;FMTTYPE=image/jpeg:https://www.bcmagazine.net/wp-content/uploads/1918/10/hk-wine-spirits-2018.jpg
END:VEVENT
BEGIN:VEVENT
DTSTART;VALUE=DATE:20181109
DTEND;VALUE=DATE:20181112
DTSTAMP:20260426T123219
CREATED:19171225T085402Z
LAST-MODIFIED:20180723T031206Z
UID:10003697-1541721600-1541980799@www.bcmagazine.net
SUMMARY:Clockenflap
DESCRIPTION:Clockenflap\nDate: 9-11 November\, 2018\nVenue: Central Harbourfront\nTickets: $1\,410\, $890\, $820 (early bird) from Ticketflap
URL:https://www.bcmagazine.net/event/clockenflap-2018/
LOCATION:Central Harbourfront\,  9 Lung Wo Road\, Central\, Hong Kong
CATEGORIES:2018,Concert,Music,Performing Arts
GEO:22.2826223;114.164346
X-APPLE-STRUCTURED-LOCATION;VALUE=URI;X-ADDRESS=Central Harbourfront  9 Lung Wo Road Central Hong Kong;X-APPLE-RADIUS=500;X-TITLE=9 Lung Wo Road:geo:114.164346,22.2826223
END:VEVENT
BEGIN:VEVENT
DTSTART;TZID=Asia/Hong_Kong:20181109T200000
DTEND;TZID=Asia/Hong_Kong:20181109T200000
DTSTAMP:20260426T123219
CREATED:19180805T120338Z
LAST-MODIFIED:20180805T130517Z
UID:10004414-1541793600-1541793600@www.bcmagazine.net
SUMMARY:Made in Taiwan
DESCRIPTION:Made in Taiwan\nHK Chinese Orchestra\nDate: 8pm\, 9-10 November\, 2018\nVenue: HK Cultural Centre\, Concert Hall\nTickets: $350\, $280\, $220\, $170 from Urbtix
URL:https://www.bcmagazine.net/event/hkco-made-in-taiwan-09-11-2018/
LOCATION:HK Cultural Centre\, Concert Hall\, 10 Salisbury Road\, Tsim Sha Tsui\, Hong Kong
CATEGORIES:2018,Concert,Music,Performing Arts
GEO:22.294318;114.171708
X-APPLE-STRUCTURED-LOCATION;VALUE=URI;X-ADDRESS=HK Cultural Centre Concert Hall 10 Salisbury Road Tsim Sha Tsui Hong Kong;X-APPLE-RADIUS=500;X-TITLE=10 Salisbury Road:geo:114.171708,22.294318
END:VEVENT
BEGIN:VEVENT
DTSTART;TZID=Asia/Hong_Kong:20181109T200000
DTEND;TZID=Asia/Hong_Kong:20181109T200000
DTSTAMP:20260426T123219
CREATED:19181011T154018Z
LAST-MODIFIED:20181011T154406Z
UID:10004486-1541793600-1541793600@www.bcmagazine.net
SUMMARY:Jan Lisiecki
DESCRIPTION:Jan Lisiecki in Recital\nDate: 8pm\, 9 November\, 2018\nVenue: The University of Hong Kong\, Lee Shau Kee Lecture Centre\, Grand Hall\nTickets: $220 from Urbtix
URL:https://www.bcmagazine.net/event/jan-lisiecki-2018/
LOCATION:Grand Hall\, Lee Shau Kee Lecture Centre\, Centennial Campus\, The University of Hong Kong\, The University of Hong Kong\, Pokfulam\, Hong Kong
CATEGORIES:2018,Concert,Music,Performing Arts
GEO:22.2840507;114.1378391
X-APPLE-STRUCTURED-LOCATION;VALUE=URI;X-ADDRESS=Grand Hall Lee Shau Kee Lecture Centre Centennial Campus The University of Hong Kong The University of Hong Kong Pokfulam Hong Kong;X-APPLE-RADIUS=500;X-TITLE=The University of Hong Kong:geo:114.1378391,22.2840507
END:VEVENT
BEGIN:VEVENT
DTSTART;TZID=Asia/Hong_Kong:20181109T200000
DTEND;TZID=Asia/Hong_Kong:20181109T200000
DTSTAMP:20260426T123219
CREATED:19181020T145036Z
LAST-MODIFIED:20181103T080535Z
UID:10004503-1541793600-1541793600@www.bcmagazine.net
SUMMARY:Same Old\, Same Old - No Party For Cao Dong
DESCRIPTION:Same Old\, Same Old —No Party For Cao Dong\nDate: 8pm\, 9 November\, 2018\nVenue: Kitec\, Music Zone@E-Max\nTickets: $240 from Ticketflap
URL:https://www.bcmagazine.net/event/same-old-same-old-no-party-for-cao-dong/
LOCATION:KITEC\, Music Zone@E-Max\, KITEC\,‎ 1 Trademart Drive\, Kowloon Bay\, Hong Kong
CATEGORIES:2018,Concert,Music,Performing Arts
ATTACH;FMTTYPE=image/jpeg:https://www.bcmagazine.net/wp-content/uploads/1918/10/Same-Old-Same-Old-2018.jpg
GEO:22.3239575;114.2037608
X-APPLE-STRUCTURED-LOCATION;VALUE=URI;X-ADDRESS=KITEC Music Zone@E-Max KITEC‎ 1 Trademart Drive Kowloon Bay Hong Kong;X-APPLE-RADIUS=500;X-TITLE=KITEC\,‎ 1 Trademart Drive:geo:114.2037608,22.3239575
END:VEVENT
BEGIN:VEVENT
DTSTART;VALUE=DATE:20181110
DTEND;VALUE=DATE:20181112
DTSTAMP:20260426T123219
CREATED:20181104T041350Z
LAST-MODIFIED:20181106T061514Z
UID:10006543-1541808000-1541980799@www.bcmagazine.net
SUMMARY:Pedal Kart Grand Prix
DESCRIPTION:Pedal Kart Grand Prix\nDate: 10-11 November\, 2018\nVenue: Victoria Park\nTickets: Free
URL:https://www.bcmagazine.net/event/pedal-kart-grand-prix-2018/
LOCATION:Victoria Park\, Causeway Bay\, Hong Kong
CATEGORIES:2018,Charity,Sport
ATTACH;FMTTYPE=image/jpeg:https://www.bcmagazine.net/wp-content/uploads/1917/08/pedal-kart-2018.jpg
END:VEVENT
BEGIN:VEVENT
DTSTART;VALUE=DATE:20181110
DTEND;VALUE=DATE:20181119
DTSTAMP:20260426T123219
CREATED:19181024T161051Z
LAST-MODIFIED:20181104T155837Z
UID:10004556-1541808000-1542585599@www.bcmagazine.net
SUMMARY:HK International Bowls Classic
DESCRIPTION:HK International Bowls Classic\nDate: 10-18 November\, 2018\nVenue: Craigengower Cricket Club\, HK Football Club\, Indian Recreation Club\nTickets: Free
URL:https://www.bcmagazine.net/event/hk-international-bowls-classic-2018/
CATEGORIES:2018,Bowls,Free,Sport
END:VEVENT
BEGIN:VEVENT
DTSTART;TZID=Asia/Hong_Kong:20181110T190000
DTEND;TZID=Asia/Hong_Kong:20181110T190000
DTSTAMP:20260426T123219
CREATED:19181002T010042Z
LAST-MODIFIED:20181003T103325Z
UID:10004441-1541876400-1541876400@www.bcmagazine.net
SUMMARY:Tiffany Young
DESCRIPTION:Tiffany Young Asia Fan Meeting Tour\nDate: 7pm\, 10 November\, 2018\nVenues: Kitec\, Star Hall\nTickets: $1\,580\, $1\,380\, $880 from HKTicketing
URL:https://www.bcmagazine.net/event/tiffany-young-2018/
LOCATION:KITEC\, Star Hall\, KITEC\, 1 Trademart Drive\, Kowloon Bay\, Hong Kong
CATEGORIES:2018,Concert,Music,Performing Arts
GEO:22.3239575;114.2037608
X-APPLE-STRUCTURED-LOCATION;VALUE=URI;X-ADDRESS=KITEC Star Hall KITEC 1 Trademart Drive Kowloon Bay Hong Kong;X-APPLE-RADIUS=500;X-TITLE=KITEC\, 1 Trademart Drive:geo:114.2037608,22.3239575
END:VEVENT
BEGIN:VEVENT
DTSTART;TZID=Asia/Hong_Kong:20181110T193000
DTEND;TZID=Asia/Hong_Kong:20181110T193000
DTSTAMP:20260426T123219
CREATED:19181020T145036Z
LAST-MODIFIED:20181103T080923Z
UID:10004504-1541878200-1541878200@www.bcmagazine.net
SUMMARY:Pok Oi Youth Charity Concert 2018
DESCRIPTION:Pok Oi Youth Charity Concert 2018\nDate: 7:30pm\, 10 November\, 2018\nVenue: Kitec\, Music Zone@E-Max\nTickets: $480\, $380 from Cityline
URL:https://www.bcmagazine.net/event/pok-oi-youth-charity-concert-2018/
LOCATION:KITEC\, Music Zone@E-Max\, KITEC\,‎ 1 Trademart Drive\, Kowloon Bay\, Hong Kong
CATEGORIES:2018,Concert,Music,Performing Arts
ATTACH;FMTTYPE=image/jpeg:https://www.bcmagazine.net/wp-content/uploads/1918/10/pok-oi-2018.jpg
GEO:22.3239575;114.2037608
X-APPLE-STRUCTURED-LOCATION;VALUE=URI;X-ADDRESS=KITEC Music Zone@E-Max KITEC‎ 1 Trademart Drive Kowloon Bay Hong Kong;X-APPLE-RADIUS=500;X-TITLE=KITEC\,‎ 1 Trademart Drive:geo:114.2037608,22.3239575
END:VEVENT
BEGIN:VEVENT
DTSTART;TZID=Asia/Hong_Kong:20181110T200000
DTEND;TZID=Asia/Hong_Kong:20181110T200000
DTSTAMP:20260426T123219
CREATED:19180805T120338Z
LAST-MODIFIED:20180805T130556Z
UID:10004415-1541880000-1541880000@www.bcmagazine.net
SUMMARY:Made in Taiwan
DESCRIPTION:Made in Taiwan\nHK Chinese Orchestra\nDate: 8pm\, 9-10 November\, 2018\nVenue: HK Cultural Centre\, Concert Hall\nTickets: $350\, $280\, $220\, $170 from Urbtix
URL:https://www.bcmagazine.net/event/hkco-made-in-taiwan-10-11-2018/
LOCATION:HK Cultural Centre\, Concert Hall\, 10 Salisbury Road\, Tsim Sha Tsui\, Hong Kong
CATEGORIES:2018,Concert,Music,Performing Arts
GEO:22.294318;114.171708
X-APPLE-STRUCTURED-LOCATION;VALUE=URI;X-ADDRESS=HK Cultural Centre Concert Hall 10 Salisbury Road Tsim Sha Tsui Hong Kong;X-APPLE-RADIUS=500;X-TITLE=10 Salisbury Road:geo:114.171708,22.294318
END:VEVENT
BEGIN:VEVENT
DTSTART;VALUE=DATE:20181111
DTEND;VALUE=DATE:20181112
DTSTAMP:20260426T123219
CREATED:19180208T065813Z
LAST-MODIFIED:20180824T014621Z
UID:10003773-1541894400-1541980799@www.bcmagazine.net
SUMMARY:Freespace Happening
DESCRIPTION:Freespace Happening\nDate: 2pm\, 11 November\, 2018\nVenue: Nursery Park\, West Kowloon Cultural District\nTickets: Free
URL:https://www.bcmagazine.net/event/freespace-happening-11-11-2018/
LOCATION:West Kowloon Cultural District\, Nursery Park\, West Kowloon Cultural District\, West Kowloon\, Hong Kong
CATEGORIES:2018,Art Gallery,Concert,Exhibition,Free,Music,Performing Arts
GEO:22.2989668;114.1551898
X-APPLE-STRUCTURED-LOCATION;VALUE=URI;X-ADDRESS=West Kowloon Cultural District Nursery Park West Kowloon Cultural District West Kowloon Hong Kong;X-APPLE-RADIUS=500;X-TITLE=West Kowloon Cultural District:geo:114.1551898,22.2989668
END:VEVENT
BEGIN:VEVENT
DTSTART;TZID=Asia/Hong_Kong:20181111T080000
DTEND;TZID=Asia/Hong_Kong:20181111T080000
DTSTAMP:20260426T123219
CREATED:19170902T001419Z
LAST-MODIFIED:20181004T083005Z
UID:10003269-1541923200-1541923200@www.bcmagazine.net
SUMMARY:Race to Feed 2018
DESCRIPTION:Race to Feed 2018\nDate: 8am\, 11 November\, 2018\nVenue: Hong Kong Science & Technology Park – Pak Shek Kok Promenade\nTickets: $260/person
URL:https://www.bcmagazine.net/event/race-to-feed-2018/
LOCATION:Hong Kong Science Park\, Pak Shek Kok\, Hong Kong
CATEGORIES:2018,Charity,Sport
GEO:22.396428;114.109497
END:VEVENT
BEGIN:VEVENT
DTSTART;TZID=Asia/Hong_Kong:20181111T150000
DTEND;TZID=Asia/Hong_Kong:20181111T150000
DTSTAMP:20260426T123219
CREATED:19181020T145036Z
LAST-MODIFIED:20181103T075236Z
UID:10004499-1541948400-1541948400@www.bcmagazine.net
SUMMARY:Yong Junhyung & Yang Yoseop
DESCRIPTION:Yong Junhyung & Yang Yoseop\nDate: 3pm\, 11 November\, 2018\nVenue: Kitec\, Star Hall\nTickets: $1\,580\, $1\,080\, $680 from HKTicketing
URL:https://www.bcmagazine.net/event/yong-junhyung-yang-yoseop-2018/
LOCATION:KITEC\, Star Hall\, KITEC\, 1 Trademart Drive\, Kowloon Bay\, Hong Kong
CATEGORIES:2018,Concert,Music,Performing Arts
ATTACH;FMTTYPE=image/jpeg:https://www.bcmagazine.net/wp-content/uploads/1918/10/yong-2018.jpg
GEO:22.3239575;114.2037608
X-APPLE-STRUCTURED-LOCATION;VALUE=URI;X-ADDRESS=KITEC Star Hall KITEC 1 Trademart Drive Kowloon Bay Hong Kong;X-APPLE-RADIUS=500;X-TITLE=KITEC\, 1 Trademart Drive:geo:114.2037608,22.3239575
END:VEVENT
BEGIN:VEVENT
DTSTART;TZID=Asia/Hong_Kong:20181111T160000
DTEND;TZID=Asia/Hong_Kong:20181111T160000
DTSTAMP:20260426T123219
CREATED:19170608T120614Z
LAST-MODIFIED:20181011T165744Z
UID:10002779-1541952000-1541952000@www.bcmagazine.net
SUMMARY:Rugby World Cup 2019 Repechage
DESCRIPTION:Rugby World Cup 2019 Repechage – Hong Kong v Germany\nDate: 4pm\, 11 November\, 2018\nVenue: Marseille\, France\nTickets: $16
URL:https://www.bcmagazine.net/event/rugby-world-cup-2019-repechage-11-11-2018/
CATEGORIES:2018,Rugby,Sport
ATTACH;FMTTYPE=image/jpeg:https://www.bcmagazine.net/wp-content/uploads/1917/06/RWC2019-Repechage.jpg
END:VEVENT
BEGIN:VEVENT
DTSTART;TZID=Asia/Hong_Kong:20181111T190000
DTEND;TZID=Asia/Hong_Kong:20181111T190000
DTSTAMP:20260426T123219
CREATED:19181002T010042Z
LAST-MODIFIED:20181004T133341Z
UID:10004472-1541962800-1541962800@www.bcmagazine.net
SUMMARY:Evocation
DESCRIPTION:Evocation\nDate: 7pm\, 11 November\, 2018\nVenues: MOM Livehouse\nTickets: $380\, $280 (Advance)
URL:https://www.bcmagazine.net/event/evocation-2018/
LOCATION:MOM Livehouse\, B39 Seven Seas Shopping Centre\, 117-121 Kings Road\, North Point\, Hong Kong
CATEGORIES:2018,Concert,Music,Performing Arts
ATTACH;FMTTYPE=image/jpeg:https://www.bcmagazine.net/wp-content/uploads/1918/10/evocation-2018.jpg
GEO:22.2884683;114.192803
X-APPLE-STRUCTURED-LOCATION;VALUE=URI;X-ADDRESS=MOM Livehouse B39 Seven Seas Shopping Centre 117-121 Kings Road North Point Hong Kong;X-APPLE-RADIUS=500;X-TITLE=B39 Seven Seas Shopping Centre\, 117-121 Kings Road:geo:114.192803,22.2884683
END:VEVENT
BEGIN:VEVENT
DTSTART;VALUE=DATE:20181113
DTEND;VALUE=DATE:20181119
DTSTAMP:20260426T123219
CREATED:19171110T071408Z
LAST-MODIFIED:20181105T021030Z
UID:10003610-1542067200-1542585599@www.bcmagazine.net
SUMMARY:Hong Kong Open Badminton Championships
DESCRIPTION:Hong Kong Open Badminton Championships 2018\nDate: 13-18\, November\, 2018\nVenue: HK Coliseum\nTickets: $680\, $550\, $300\,$150\, $80 from Urbtix
URL:https://www.bcmagazine.net/event/hong-kong-open-badminton-championships-2018/
LOCATION:HK Coliseum\, 9 Cheong Wan Road\, Hung Hom\, Hong Kong
CATEGORIES:2018,Badminton,Sport
ATTACH;FMTTYPE=image/jpeg:https://www.bcmagazine.net/wp-content/uploads/1917/11/Hong-Kong-badminton-Open-2018.jpg
GEO:22.3014169;114.1820305
X-APPLE-STRUCTURED-LOCATION;VALUE=URI;X-ADDRESS=HK Coliseum 9 Cheong Wan Road Hung Hom Hong Kong;X-APPLE-RADIUS=500;X-TITLE=9 Cheong Wan Road:geo:114.1820305,22.3014169
END:VEVENT
BEGIN:VEVENT
DTSTART;TZID=Asia/Hong_Kong:20181114T150000
DTEND;TZID=Asia/Hong_Kong:20181114T150000
DTSTAMP:20260426T123219
CREATED:19180805T120338Z
LAST-MODIFIED:20180805T130144Z
UID:10004386-1542207600-1542207600@www.bcmagazine.net
SUMMARY:That’s The Fun of Chinese Music!
DESCRIPTION:That’s The Fun of Chinese Music!\nHK Chinese Orchestra\nDate: 3pm\, 14 November\, 2018\nVenue: Tuen Mun Town Hall\, Auditorium\nTickets: free
URL:https://www.bcmagazine.net/event/hkco-thats-the-fun-of-chinese-music/
LOCATION:Tuen Mun Town Hall\, Auditorium\, 3 Tuen Hi Road\, Tuen Mun
CATEGORIES:2018,Concert,Free,Music,Performing Arts
GEO:22.39182;113.9767372
X-APPLE-STRUCTURED-LOCATION;VALUE=URI;X-ADDRESS=Tuen Mun Town Hall Auditorium 3 Tuen Hi Road Tuen Mun;X-APPLE-RADIUS=500;X-TITLE=3 Tuen Hi Road:geo:113.9767372,22.39182
END:VEVENT
BEGIN:VEVENT
DTSTART;TZID=Asia/Hong_Kong:20181114T200000
DTEND;TZID=Asia/Hong_Kong:20181114T200000
DTSTAMP:20260426T123219
CREATED:19170909T021037Z
LAST-MODIFIED:20181127T002904Z
UID:10003411-1542225600-1542225600@www.bcmagazine.net
SUMMARY:Peel Street Poetry
DESCRIPTION:Peel Street Poetry is an open mic poetry night at Social Room. It runs every Wednesdays of the month except the first and last. The environment is friendly and they love new performers\, so come share your poetry or just listen along to some of Hong Kong’s sharpest poetic talents. \nPeel Street Poetry Open Mic\nDate: 2nd\, 3rd (and 4th) Wednesdays of the month\nVenue: Social Room\nTickets: Free\nMore info:\nwww.peelstreetpoetry.com
URL:https://www.bcmagazine.net/event/peel-street-poetry/2018-11-14/
LOCATION:Social Room\, 74-78 Stanley Street \, Central\, Hong Kong
CATEGORIES:2018,2019,Free,Performing Arts,Poetry
GEO:22.2834184;114.1544925
X-APPLE-STRUCTURED-LOCATION;VALUE=URI;X-ADDRESS=Social Room 74-78 Stanley Street  Central Hong Kong;X-APPLE-RADIUS=500;X-TITLE=74-78 Stanley Street:geo:114.1544925,22.2834184
END:VEVENT
BEGIN:VEVENT
DTSTART;TZID=Asia/Hong_Kong:20181114T200000
DTEND;TZID=Asia/Hong_Kong:20181114T200000
DTSTAMP:20260426T123219
CREATED:19181002T010042Z
LAST-MODIFIED:20181003T113718Z
UID:10004455-1542225600-1542225600@www.bcmagazine.net
SUMMARY:Rachael Yamagata
DESCRIPTION:Rachael Yamagata Live in HK 2018\nDate: 8pm\, 14 November\, 2018\nVenues: Kitec\, Music Zone@E-Max\nTickets: $890\, $580 from Cityline
URL:https://www.bcmagazine.net/event/rachael-yamagata-2018/
LOCATION:KITEC\, Music Zone@E-Max\, KITEC\,‎ 1 Trademart Drive\, Kowloon Bay\, Hong Kong
CATEGORIES:2018,Concert,Music,Performing Arts
ATTACH;FMTTYPE=image/jpeg:https://www.bcmagazine.net/wp-content/uploads/1918/10/Rachael-Yamagata-Live-in-HK-2018.jpg
GEO:22.3239575;114.2037608
X-APPLE-STRUCTURED-LOCATION;VALUE=URI;X-ADDRESS=KITEC Music Zone@E-Max KITEC‎ 1 Trademart Drive Kowloon Bay Hong Kong;X-APPLE-RADIUS=500;X-TITLE=KITEC\,‎ 1 Trademart Drive:geo:114.2037608,22.3239575
END:VEVENT
BEGIN:VEVENT
DTSTART;VALUE=DATE:20181115
DTEND;VALUE=DATE:20181119
DTSTAMP:20260426T123219
CREATED:19161017T171300Z
LAST-MODIFIED:20180303T114700Z
UID:10000902-1542240000-1542585599@www.bcmagazine.net
SUMMARY:Macau Grand Prix
DESCRIPTION:65th Macau Grand Prix\nDate: 15-18 November\, 2018\nVenue: Guia Circuit\, Macau\nTickets: tbc
URL:https://www.bcmagazine.net/event/macau-grand-prix-2018/
LOCATION:Macau\, Macau
CATEGORIES:2018,Macau,Sport
GEO:22.198745;113.543873
END:VEVENT
BEGIN:VEVENT
DTSTART;TZID=Asia/Hong_Kong:20181115T150000
DTEND;TZID=Asia/Hong_Kong:20181115T150000
DTSTAMP:20260426T123219
CREATED:19180805T120338Z
LAST-MODIFIED:20180805T130313Z
UID:10004413-1542294000-1542294000@www.bcmagazine.net
SUMMARY:Telling Stories Through Music
DESCRIPTION:Telling Stories Through Music\nHK Chinese Orchestra\nDate: 15 November\, 2018\nVenue: Tuen Mun Town Hall\, Auditorium\nTickets: free
URL:https://www.bcmagazine.net/event/hkco-telling-stories-through-music/
LOCATION:Tuen Mun Town Hall\, Auditorium\, 3 Tuen Hi Road\, Tuen Mun
CATEGORIES:2018,Concert,Free,Music,Performing Arts
GEO:22.39182;113.9767372
X-APPLE-STRUCTURED-LOCATION;VALUE=URI;X-ADDRESS=Tuen Mun Town Hall Auditorium 3 Tuen Hi Road Tuen Mun;X-APPLE-RADIUS=500;X-TITLE=3 Tuen Hi Road:geo:113.9767372,22.39182
END:VEVENT
BEGIN:VEVENT
DTSTART;TZID=Asia/Hong_Kong:20181115T200000
DTEND;TZID=Asia/Hong_Kong:20181115T200000
DTSTAMP:20260426T123219
CREATED:19181002T010042Z
LAST-MODIFIED:20181003T112403Z
UID:10004453-1542312000-1542312000@www.bcmagazine.net
SUMMARY:SpyAir
DESCRIPTION:SpyAir\nDate: 8pm\, 15 November\, 2018\nVenues: Kitec\, Music Zone@E-Max\nTickets: tbc from Cityline
URL:https://www.bcmagazine.net/event/spyair-2018/
LOCATION:KITEC\, Music Zone@E-Max\, KITEC\,‎ 1 Trademart Drive\, Kowloon Bay\, Hong Kong
CATEGORIES:2018,Concert,Music,Performing Arts
ATTACH;FMTTYPE=image/jpeg:https://www.bcmagazine.net/wp-content/uploads/1918/10/spyair-hk-2018.jpg
GEO:22.3239575;114.2037608
X-APPLE-STRUCTURED-LOCATION;VALUE=URI;X-ADDRESS=KITEC Music Zone@E-Max KITEC‎ 1 Trademart Drive Kowloon Bay Hong Kong;X-APPLE-RADIUS=500;X-TITLE=KITEC\,‎ 1 Trademart Drive:geo:114.2037608,22.3239575
END:VEVENT
BEGIN:VEVENT
DTSTART;VALUE=DATE:20181116
DTEND;VALUE=DATE:20181119
DTSTAMP:20260426T123219
CREATED:20181107T015648Z
LAST-MODIFIED:20181106T154321Z
UID:10006544-1542326400-1542585599@www.bcmagazine.net
SUMMARY:Trailwalker
DESCRIPTION:Trailwalker began in Hong Kong in 1981 as a military training exercise for the elite Queen’s Gurkha Signals Regiment. In 1986 the event was opened to the public. Hong Kong’s ‘reunification’ with China in 1997 saw the retreat of the Gurkhas and Oxfam Hong Kong took over the event. \nThe 100km route along The MacLehose Trail begins in Pak Tam Chung\, Sai Kung and ends at Po Leung Kuk Jockey Club Tai Tong Holiday Camp in Yuen Long. \nTrailwalker\nWhen: 16-18 November\, 2018\nWhere: The MacLehose Trail\nWebsite: www.oxfamtrailwalker.org.hk
URL:https://www.bcmagazine.net/event/trailwalker-2018/
CATEGORIES:2018,Charity,Sport
END:VEVENT
BEGIN:VEVENT
DTSTART;VALUE=DATE:20181116
DTEND;VALUE=DATE:20181123
DTSTAMP:20260426T123219
CREATED:20181112T041350Z
LAST-MODIFIED:20181113T061509Z
UID:10006545-1542326400-1542931199@www.bcmagazine.net
SUMMARY:Human Dignity Festival
DESCRIPTION:Human Dignity Festival 2018\nDate: 16-22 November\, 2018\nVenue: Eaton Hotel\nTickets: $700
URL:https://www.bcmagazine.net/event/human-dignity-festival-2018/
LOCATION:Eaton Hotel\, 380 Nathan Road\, Yau Ma Tei\, Hong Kong
CATEGORIES:2018,Exhibition,Lifestyle,Other
ATTACH;FMTTYPE=image/png:https://www.bcmagazine.net/wp-content/uploads/1918/11/Human-Dignity-Festival-2018.png
GEO:22.308041;114.1717102
X-APPLE-STRUCTURED-LOCATION;VALUE=URI;X-ADDRESS=Eaton Hotel 380 Nathan Road Yau Ma Tei Hong Kong;X-APPLE-RADIUS=500;X-TITLE=380 Nathan Road:geo:114.1717102,22.308041
END:VEVENT
BEGIN:VEVENT
DTSTART;TZID=Asia/Hong_Kong:20181116T201500
DTEND;TZID=Asia/Hong_Kong:20181116T201500
DTSTAMP:20260426T123219
CREATED:19181002T010042Z
LAST-MODIFIED:20181003T103652Z
UID:10004442-1542399300-1542399300@www.bcmagazine.net
SUMMARY:Hysteric
DESCRIPTION:Hysteric\nDate: 8:15pm\, 16-17 November\, 2018\nVenues: Kitec\, Star Hall\nTickets: $680\, $480\, $280 from HKTicketing
URL:https://www.bcmagazine.net/event/hysteric-16-11-2018/
LOCATION:KITEC\, Star Hall\, KITEC\, 1 Trademart Drive\, Kowloon Bay\, Hong Kong
CATEGORIES:2018,Concert,Music,Performing Arts
ATTACH;FMTTYPE=image/jpeg:https://www.bcmagazine.net/wp-content/uploads/1918/10/hysteric-2018.jpg
GEO:22.3239575;114.2037608
X-APPLE-STRUCTURED-LOCATION;VALUE=URI;X-ADDRESS=KITEC Star Hall KITEC 1 Trademart Drive Kowloon Bay Hong Kong;X-APPLE-RADIUS=500;X-TITLE=KITEC\, 1 Trademart Drive:geo:114.2037608,22.3239575
END:VEVENT
BEGIN:VEVENT
DTSTART;TZID=Asia/Hong_Kong:20181117T130000
DTEND;TZID=Asia/Hong_Kong:20181117T130000
DTSTAMP:20260426T123219
CREATED:19170608T120614Z
LAST-MODIFIED:20181011T165800Z
UID:10002780-1542459600-1542459600@www.bcmagazine.net
SUMMARY:Rugby World Cup 2019 Repechage
DESCRIPTION:Rugby World Cup 2019 Repechage – Hong Kong v Kenya\nDate: 1pm\, 17 November\, 2018\nVenue: Marseille\, France\nTickets: $16
URL:https://www.bcmagazine.net/event/rugby-world-cup-2019-repechage-17-11-2018/
CATEGORIES:2018,Rugby,Sport
ATTACH;FMTTYPE=image/jpeg:https://www.bcmagazine.net/wp-content/uploads/1917/06/RWC2019-Repechage.jpg
END:VEVENT
BEGIN:VEVENT
DTSTART;TZID=Asia/Hong_Kong:20181117T140000
DTEND;TZID=Asia/Hong_Kong:20181117T140000
DTSTAMP:20260426T123219
CREATED:19170916T105728Z
LAST-MODIFIED:20180728T061309Z
UID:10003479-1542463200-1542463200@www.bcmagazine.net
SUMMARY:Hong Kong Pride Parade 2018
DESCRIPTION:Hong Kong Pride Parade 2018\nDate: 2pm\, 17 November\, 2018\nVenue: Victoria Park\nTickets: Free
URL:https://www.bcmagazine.net/event/hong-kong-pride-parade-2018/
LOCATION:Victoria Park\, Causeway Bay\, Hong Kong
CATEGORIES:2018,Free,LGBT,Lifestyle
ATTACH;FMTTYPE=image/jpeg:https://www.bcmagazine.net/wp-content/uploads/1917/09/hk-pride-parade-2018.jpg
END:VEVENT
BEGIN:VEVENT
DTSTART;TZID=Asia/Hong_Kong:20181117T190000
DTEND;TZID=Asia/Hong_Kong:20181117T190000
DTSTAMP:20260426T123219
CREATED:19181002T010042Z
LAST-MODIFIED:20181003T113221Z
UID:10004454-1542481200-1542481200@www.bcmagazine.net
SUMMARY:Standing Egg
DESCRIPTION:Standing Egg Dramatic Tour 2018\nDate: 7pm\, 17 November\, 2018\nVenues: Kitec\, Music Zone@E-Max\nTickets: $680 from Cityline
URL:https://www.bcmagazine.net/event/standing-egg-2018/
LOCATION:KITEC\, Music Zone@E-Max\, KITEC\,‎ 1 Trademart Drive\, Kowloon Bay\, Hong Kong
CATEGORIES:2018,Concert,Music,Performing Arts
ATTACH;FMTTYPE=image/jpeg:https://www.bcmagazine.net/wp-content/uploads/1918/10/standing-egg-dramatic-tour-2018.jpg
GEO:22.3239575;114.2037608
X-APPLE-STRUCTURED-LOCATION;VALUE=URI;X-ADDRESS=KITEC Music Zone@E-Max KITEC‎ 1 Trademart Drive Kowloon Bay Hong Kong;X-APPLE-RADIUS=500;X-TITLE=KITEC\,‎ 1 Trademart Drive:geo:114.2037608,22.3239575
END:VEVENT
END:VCALENDAR