BEGIN:VCALENDAR
VERSION:2.0
PRODID:-//bc magazine - ECPv6.15.20//NONSGML v1.0//EN
CALSCALE:GREGORIAN
METHOD:PUBLISH
X-WR-CALNAME:bc magazine
X-ORIGINAL-URL:https://www.bcmagazine.net
X-WR-CALDESC:Events for bc magazine
REFRESH-INTERVAL;VALUE=DURATION:PT1H
X-Robots-Tag:noindex
X-PUBLISHED-TTL:PT1H
BEGIN:VTIMEZONE
TZID:Asia/Hong_Kong
BEGIN:STANDARD
TZOFFSETFROM:+0800
TZOFFSETTO:+0800
TZNAME:HKT
DTSTART:20170101T000000
END:STANDARD
END:VTIMEZONE
BEGIN:VEVENT
DTSTART;VALUE=DATE:20181214
DTEND;VALUE=DATE:20190218
DTSTAMP:20260426T093828
CREATED:19181120T072433Z
LAST-MODIFIED:20190129T164755Z
UID:10004583-1544745600-1550447999@www.bcmagazine.net
SUMMARY:AIA Carnival
DESCRIPTION:AIA Carnival + The Great Circus of Europe\nDate: 14 December\, 2018 – 17 February\, 2019\nVenue: Central Harbourfront\nTickets: $400\, $300\, $130\, $50
URL:https://www.bcmagazine.net/event/carnival-2018/
LOCATION:Central Harbourfront\,  9 Lung Wo Road\, Central\, Hong Kong
CATEGORIES:2018,2019,Music,Nightlife,Other,Performing Arts
GEO:22.2826223;114.164346
X-APPLE-STRUCTURED-LOCATION;VALUE=URI;X-ADDRESS=Central Harbourfront  9 Lung Wo Road Central Hong Kong;X-APPLE-RADIUS=500;X-TITLE=9 Lung Wo Road:geo:114.164346,22.2826223
END:VEVENT
BEGIN:VEVENT
DTSTART;TZID=Asia/Hong_Kong:20190118T200000
DTEND;TZID=Asia/Hong_Kong:20190118T200000
DTSTAMP:20260426T093828
CREATED:19181023T145036Z
LAST-MODIFIED:20181103T085604Z
UID:10004518-1547841600-1547841600@www.bcmagazine.net
SUMMARY:My Very Short Marriage
DESCRIPTION:My Very Short Marriage\nDate: 11-13\, 15-20\, 22-27 January\, 2019\nVenue: The Hong Kong Polytechnic University\, Jockey Club Auditorium\, \nTickets: $1\,280\, $780\, $580\, $480\, $280 from Cityline\nMore info:\n11-13\, 15-20\, 22-27 Jan – 8pm\n13\, 20 Jan – 3pm
URL:https://www.bcmagazine.net/event/my-very-short-marriage-18-01-2019/
LOCATION:Hong Kong Polytechnic University\, Jockey Club Auditorium\, Hong Kong
CATEGORIES:2019,Cantonese drama,Performing Arts,Theatre
ATTACH;FMTTYPE=image/jpeg:https://www.bcmagazine.net/wp-content/uploads/1918/10/My-Very-Short-Marriage.jpg
GEO:22.396428;114.109497
END:VEVENT
BEGIN:VEVENT
DTSTART;TZID=Asia/Hong_Kong:20190118T210000
DTEND;TZID=Asia/Hong_Kong:20190118T210000
DTSTAMP:20260426T093828
CREATED:19180802T094055Z
LAST-MODIFIED:20181218T100712Z
UID:10004379-1547845200-1547845200@www.bcmagazine.net
SUMMARY:Marcus Brigstocke
DESCRIPTION:Marcus Brigstocke\nDate: 17-19 January\, 2019\nVenue: Tamarind Restaurant\nTickets: $488 from Ticketflap
URL:https://www.bcmagazine.net/event/marcus-brigstocke-18-01-2019/
LOCATION:Tamarind Restaurant\, Hong Kong
CATEGORIES:2019,Comedy,Performing Arts
ATTACH;FMTTYPE=image/jpeg:https://www.bcmagazine.net/wp-content/uploads/1918/08/Marcus-Brigstocke.jpg
GEO:22.396428;114.109497
END:VEVENT
BEGIN:VEVENT
DTSTART;TZID=Asia/Hong_Kong:20190119T200000
DTEND;TZID=Asia/Hong_Kong:20190119T200000
DTSTAMP:20260426T093828
CREATED:19181023T145036Z
LAST-MODIFIED:20181103T085811Z
UID:10004519-1547928000-1547928000@www.bcmagazine.net
SUMMARY:My Very Short Marriage
DESCRIPTION:My Very Short Marriage\nDate: 11-13\, 15-20\, 22-27 January\, 2019\nVenue: The Hong Kong Polytechnic University\, Jockey Club Auditorium\, \nTickets: $1\,280\, $780\, $580\, $480\, $280 from Cityline\nMore info:\n11-13\, 15-20\, 22-27 Jan – 8pm\n13\, 20 Jan – 3pm
URL:https://www.bcmagazine.net/event/my-very-short-marriage-19-01-2019/
LOCATION:Hong Kong Polytechnic University\, Jockey Club Auditorium\, Hong Kong
CATEGORIES:2019,Cantonese drama,Performing Arts,Theatre
ATTACH;FMTTYPE=image/jpeg:https://www.bcmagazine.net/wp-content/uploads/1918/10/My-Very-Short-Marriage.jpg
GEO:22.396428;114.109497
END:VEVENT
BEGIN:VEVENT
DTSTART;TZID=Asia/Hong_Kong:20190119T200000
DTEND;TZID=Asia/Hong_Kong:20190119T200000
DTSTAMP:20260426T093828
CREATED:19190111T043612Z
LAST-MODIFIED:20190112T082118Z
UID:10003954-1547928000-1547928000@www.bcmagazine.net
SUMMARY:Angel Baby
DESCRIPTION:Angel Baby Huge Tour\nDate: 8pm\, 19 January\, 2019\nVenue: This Town Needs (TTN)\nTickets: $350 (door)\, $280 (advance)
URL:https://www.bcmagazine.net/event/angel-baby-hk-2019/
LOCATION:This Town Needs (TTN)\, 1/F Ocean One\, 6 Shung Shun Street\, Yau Tong\, Hong Kong
CATEGORIES:2019,Concert,Music,Performing Arts
ATTACH;FMTTYPE=image/jpeg:https://www.bcmagazine.net/wp-content/uploads/1919/01/Angel-Baby-Huge-Tour-2019.jpg
GEO:22.292861;114.23782
X-APPLE-STRUCTURED-LOCATION;VALUE=URI;X-ADDRESS=This Town Needs (TTN) 1/F Ocean One 6 Shung Shun Street Yau Tong Hong Kong;X-APPLE-RADIUS=500;X-TITLE=1/F Ocean One\, 6 Shung Shun Street:geo:114.23782,22.292861
END:VEVENT
BEGIN:VEVENT
DTSTART;TZID=Asia/Hong_Kong:20190119T200000
DTEND;TZID=Asia/Hong_Kong:20190119T200000
DTSTAMP:20260426T093829
CREATED:20181228T044512Z
LAST-MODIFIED:20190115T043750Z
UID:10006558-1547928000-1547928000@www.bcmagazine.net
SUMMARY:Density 2.019
DESCRIPTION:Density 2.019\nJoel Cahen\, So Ho Chi\nDate: 8pm\, 19 January\, 2019\nVenue: Twenty Alpha\nTickets: $100
URL:https://www.bcmagazine.net/event/density-2-019/
LOCATION:Twenty Alpha\, 13/F\, Foo Tak Building\, 367 Hennessy Road\, Wanchai\, Hong Kong
CATEGORIES:2019,Concert,Music,Performing Arts
ATTACH;FMTTYPE=image/jpeg:https://www.bcmagazine.net/wp-content/uploads/1918/12/Density-2019.jpg
END:VEVENT
BEGIN:VEVENT
DTSTART;TZID=Asia/Hong_Kong:20190119T201500
DTEND;TZID=Asia/Hong_Kong:20190119T201500
DTSTAMP:20260426T093829
CREATED:19181213T044512Z
LAST-MODIFIED:20190118T092035Z
UID:10004633-1547928900-1547928900@www.bcmagazine.net
SUMMARY:Jacky Cheung
DESCRIPTION:Jacky Cheung A Classic Tour – Finale\nDate: 8:15pm\, 11-13\, 15-17\, 19-21\, 23-25\, 27-29 January\, 2019\nVenue: HK Coliseum\nTickets: $980\, $680\, $380 from Urbtix
URL:https://www.bcmagazine.net/event/jacky-cheung-19-01-2019/
LOCATION:HK Coliseum\, 9 Cheong Wan Road\, Hung Hom\, Hong Kong
CATEGORIES:2019,Cantopop,Concert,Music,Performing Arts
ATTACH;FMTTYPE=image/jpeg:https://www.bcmagazine.net/wp-content/uploads/1918/12/Jacky-Cheung-A-Classic-Tour.jpg
GEO:22.3014169;114.1820305
X-APPLE-STRUCTURED-LOCATION;VALUE=URI;X-ADDRESS=HK Coliseum 9 Cheong Wan Road Hung Hom Hong Kong;X-APPLE-RADIUS=500;X-TITLE=9 Cheong Wan Road:geo:114.1820305,22.3014169
END:VEVENT
BEGIN:VEVENT
DTSTART;TZID=Asia/Hong_Kong:20190119T210000
DTEND;TZID=Asia/Hong_Kong:20190119T210000
DTSTAMP:20260426T093829
CREATED:19180802T094055Z
LAST-MODIFIED:20181218T100706Z
UID:10004380-1547931600-1547931600@www.bcmagazine.net
SUMMARY:Marcus Brigstocke
DESCRIPTION:Marcus Brigstocke\nDate: 17-19 January\, 2019\nVenue: Tamarind Restaurant\nTickets: $488 from Ticketflap
URL:https://www.bcmagazine.net/event/marcus-brigstocke-19-01-2019/
LOCATION:Tamarind Restaurant\, Hong Kong
CATEGORIES:2019,Comedy,Performing Arts
ATTACH;FMTTYPE=image/jpeg:https://www.bcmagazine.net/wp-content/uploads/1918/08/Marcus-Brigstocke.jpg
GEO:22.396428;114.109497
END:VEVENT
BEGIN:VEVENT
DTSTART;TZID=Asia/Hong_Kong:20190120T144500
DTEND;TZID=Asia/Hong_Kong:20190120T194500
DTSTAMP:20260426T093829
CREATED:19180528T020834Z
LAST-MODIFIED:20180725T130907Z
UID:10004052-1547995500-1548013500@www.bcmagazine.net
SUMMARY:HK Repertory Theatre
DESCRIPTION:HK Repertory Theatre – La Cage aux Folles\nDate: 7:45pm\, 20\, 22-27 January\, 2019\nVenue: HK Cultural Centre\, Grand Theatre\nTickets: Tue-Thu: $360\, $270\, $180; Fri-Sun: $400\, $300\, $200 from Urbtix
URL:https://www.bcmagazine.net/event/hkrep-la-cage-aux-folles-20-01-2019/
LOCATION:HK Cultural Centre\, Grand Theatre\,\, 10 Salisbury Road\, Tsim Sha Tsui\, Hong Kong
CATEGORIES:2019,Performing Arts,Theatre
GEO:22.294318;114.171708
X-APPLE-STRUCTURED-LOCATION;VALUE=URI;X-ADDRESS=HK Cultural Centre Grand Theatre 10 Salisbury Road Tsim Sha Tsui Hong Kong;X-APPLE-RADIUS=500;X-TITLE=10 Salisbury Road:geo:114.171708,22.294318
END:VEVENT
BEGIN:VEVENT
DTSTART;TZID=Asia/Hong_Kong:20190120T200000
DTEND;TZID=Asia/Hong_Kong:20190120T200000
DTSTAMP:20260426T093829
CREATED:19181023T145036Z
LAST-MODIFIED:20181103T085826Z
UID:10004520-1548014400-1548014400@www.bcmagazine.net
SUMMARY:My Very Short Marriage
DESCRIPTION:My Very Short Marriage\nDate: 11-13\, 15-20\, 22-27 January\, 2019\nVenue: The Hong Kong Polytechnic University\, Jockey Club Auditorium\, \nTickets: $1\,280\, $780\, $580\, $480\, $280 from Cityline\nMore info:\n11-13\, 15-20\, 22-27 Jan – 8pm\n13\, 20 Jan – 3pm
URL:https://www.bcmagazine.net/event/my-very-short-marriage-20-01-2019/
LOCATION:Hong Kong Polytechnic University\, Jockey Club Auditorium\, Hong Kong
CATEGORIES:2019,Cantonese drama,Performing Arts,Theatre
ATTACH;FMTTYPE=image/jpeg:https://www.bcmagazine.net/wp-content/uploads/1918/10/My-Very-Short-Marriage.jpg
GEO:22.396428;114.109497
END:VEVENT
BEGIN:VEVENT
DTSTART;TZID=Asia/Hong_Kong:20190120T201500
DTEND;TZID=Asia/Hong_Kong:20190120T201500
DTSTAMP:20260426T093829
CREATED:19181213T044512Z
LAST-MODIFIED:20190118T092054Z
UID:10004634-1548015300-1548015300@www.bcmagazine.net
SUMMARY:Jacky Cheung
DESCRIPTION:Jacky Cheung A Classic Tour – Finale\nDate: 8:15pm\, 11-13\, 15-17\, 19-21\, 23-25\, 27-29 January\, 2019\nVenue: HK Coliseum\nTickets: $980\, $680\, $380 from Urbtix
URL:https://www.bcmagazine.net/event/jacky-cheung-20-01-2019/
LOCATION:HK Coliseum\, 9 Cheong Wan Road\, Hung Hom\, Hong Kong
CATEGORIES:2019,Cantopop,Concert,Music,Performing Arts
ATTACH;FMTTYPE=image/jpeg:https://www.bcmagazine.net/wp-content/uploads/1918/12/Jacky-Cheung-A-Classic-Tour.jpg
GEO:22.3014169;114.1820305
X-APPLE-STRUCTURED-LOCATION;VALUE=URI;X-ADDRESS=HK Coliseum 9 Cheong Wan Road Hung Hom Hong Kong;X-APPLE-RADIUS=500;X-TITLE=9 Cheong Wan Road:geo:114.1820305,22.3014169
END:VEVENT
BEGIN:VEVENT
DTSTART;TZID=Asia/Hong_Kong:20190121T201500
DTEND;TZID=Asia/Hong_Kong:20190121T201500
DTSTAMP:20260426T093829
CREATED:19181213T044512Z
LAST-MODIFIED:20190118T092107Z
UID:10004635-1548101700-1548101700@www.bcmagazine.net
SUMMARY:Jacky Cheung
DESCRIPTION:Jacky Cheung A Classic Tour – Finale\nDate: 8:15pm\, 11-13\, 15-17\, 19-21\, 23-25\, 27-29 January\, 2019\nVenue: HK Coliseum\nTickets: $980\, $680\, $380 from Urbtix
URL:https://www.bcmagazine.net/event/jacky-cheung-21-01-2019/
LOCATION:HK Coliseum\, 9 Cheong Wan Road\, Hung Hom\, Hong Kong
CATEGORIES:2019,Cantopop,Concert,Music,Performing Arts
ATTACH;FMTTYPE=image/jpeg:https://www.bcmagazine.net/wp-content/uploads/1918/12/Jacky-Cheung-A-Classic-Tour.jpg
GEO:22.3014169;114.1820305
X-APPLE-STRUCTURED-LOCATION;VALUE=URI;X-ADDRESS=HK Coliseum 9 Cheong Wan Road Hung Hom Hong Kong;X-APPLE-RADIUS=500;X-TITLE=9 Cheong Wan Road:geo:114.1820305,22.3014169
END:VEVENT
BEGIN:VEVENT
DTSTART;TZID=Asia/Hong_Kong:20190122T194500
DTEND;TZID=Asia/Hong_Kong:20190122T194500
DTSTAMP:20260426T093829
CREATED:19180528T020834Z
LAST-MODIFIED:20181103T090753Z
UID:10004053-1548186300-1548186300@www.bcmagazine.net
SUMMARY:HK Repertory Theatre
DESCRIPTION:HK Repertory Theatre – La Cage aux Folles\nDate: 7:45pm\, 20\, 22-27 January\, 2019\nVenue: HK Cultural Centre\, Grand Theatre\nTickets: Tue-Thu: $360\, $270\, $180; Fri-Sun: $400\, $300\, $200 from Urbtix
URL:https://www.bcmagazine.net/event/hkrep-la-cage-aux-folles-22-01-2019/
LOCATION:HK Cultural Centre\, Grand Theatre\,\, 10 Salisbury Road\, Tsim Sha Tsui\, Hong Kong
CATEGORIES:2019,Performing Arts,Theatre
GEO:22.294318;114.171708
X-APPLE-STRUCTURED-LOCATION;VALUE=URI;X-ADDRESS=HK Cultural Centre Grand Theatre 10 Salisbury Road Tsim Sha Tsui Hong Kong;X-APPLE-RADIUS=500;X-TITLE=10 Salisbury Road:geo:114.171708,22.294318
END:VEVENT
BEGIN:VEVENT
DTSTART;TZID=Asia/Hong_Kong:20190122T200000
DTEND;TZID=Asia/Hong_Kong:20190122T200000
DTSTAMP:20260426T093829
CREATED:19181023T145036Z
LAST-MODIFIED:20181103T090122Z
UID:10004521-1548187200-1548187200@www.bcmagazine.net
SUMMARY:My Very Short Marriage
DESCRIPTION:My Very Short Marriage\nDate: 11-13\, 15-20\, 22-27 January\, 2019\nVenue: The Hong Kong Polytechnic University\, Jockey Club Auditorium\, \nTickets: $1\,280\, $780\, $580\, $480\, $280 from Cityline\nMore info:\n11-13\, 15-20\, 22-27 Jan – 8pm\n13\, 20 Jan – 3pm
URL:https://www.bcmagazine.net/event/my-very-short-marriage-22-01-2019/
LOCATION:Hong Kong Polytechnic University\, Jockey Club Auditorium\, Hong Kong
CATEGORIES:2019,Cantonese drama,Performing Arts,Theatre
ATTACH;FMTTYPE=image/jpeg:https://www.bcmagazine.net/wp-content/uploads/1918/10/My-Very-Short-Marriage.jpg
GEO:22.396428;114.109497
END:VEVENT
BEGIN:VEVENT
DTSTART;TZID=Asia/Hong_Kong:20190123T194500
DTEND;TZID=Asia/Hong_Kong:20190123T194500
DTSTAMP:20260426T093829
CREATED:19180528T020834Z
LAST-MODIFIED:20181103T090744Z
UID:10004054-1548272700-1548272700@www.bcmagazine.net
SUMMARY:HK Repertory Theatre
DESCRIPTION:HK Repertory Theatre – La Cage aux Folles\nDate: 7:45pm\, 20\, 22-27 January\, 2019\nVenue: HK Cultural Centre\, Grand Theatre\nTickets: Tue-Thu: $360\, $270\, $180; Fri-Sun: $400\, $300\, $200 from Urbtix
URL:https://www.bcmagazine.net/event/hkrep-la-cage-aux-folles-23-01-2019/
LOCATION:HK Cultural Centre\, Grand Theatre\,\, 10 Salisbury Road\, Tsim Sha Tsui\, Hong Kong
CATEGORIES:2019,Performing Arts,Theatre
GEO:22.294318;114.171708
X-APPLE-STRUCTURED-LOCATION;VALUE=URI;X-ADDRESS=HK Cultural Centre Grand Theatre 10 Salisbury Road Tsim Sha Tsui Hong Kong;X-APPLE-RADIUS=500;X-TITLE=10 Salisbury Road:geo:114.171708,22.294318
END:VEVENT
BEGIN:VEVENT
DTSTART;TZID=Asia/Hong_Kong:20190123T200000
DTEND;TZID=Asia/Hong_Kong:20190123T200000
DTSTAMP:20260426T093829
CREATED:19181023T145036Z
LAST-MODIFIED:20181103T090114Z
UID:10004522-1548273600-1548273600@www.bcmagazine.net
SUMMARY:My Very Short Marriage
DESCRIPTION:My Very Short Marriage\nDate: 11-13\, 15-20\, 22-27 January\, 2019\nVenue: The Hong Kong Polytechnic University\, Jockey Club Auditorium\, \nTickets: $1\,280\, $780\, $580\, $480\, $280 from Cityline\nMore info:\n11-13\, 15-20\, 22-27 Jan – 8pm\n13\, 20 Jan – 3pm
URL:https://www.bcmagazine.net/event/my-very-short-marriage-23-01-2019/
LOCATION:Hong Kong Polytechnic University\, Jockey Club Auditorium\, Hong Kong
CATEGORIES:2019,Cantonese drama,Performing Arts,Theatre
ATTACH;FMTTYPE=image/jpeg:https://www.bcmagazine.net/wp-content/uploads/1918/10/My-Very-Short-Marriage.jpg
GEO:22.396428;114.109497
END:VEVENT
BEGIN:VEVENT
DTSTART;TZID=Asia/Hong_Kong:20190123T201500
DTEND;TZID=Asia/Hong_Kong:20190123T201500
DTSTAMP:20260426T093829
CREATED:19181213T044512Z
LAST-MODIFIED:20190118T092120Z
UID:10004636-1548274500-1548274500@www.bcmagazine.net
SUMMARY:Jacky Cheung
DESCRIPTION:Jacky Cheung A Classic Tour – Finale\nDate: 8:15pm\, 11-13\, 15-17\, 19-21\, 23-25\, 27-29 January\, 2019\nVenue: HK Coliseum\nTickets: $980\, $680\, $380 from Urbtix
URL:https://www.bcmagazine.net/event/jacky-cheung-23-01-2019/
LOCATION:HK Coliseum\, 9 Cheong Wan Road\, Hung Hom\, Hong Kong
CATEGORIES:2019,Cantopop,Concert,Music,Performing Arts
ATTACH;FMTTYPE=image/jpeg:https://www.bcmagazine.net/wp-content/uploads/1918/12/Jacky-Cheung-A-Classic-Tour.jpg
GEO:22.3014169;114.1820305
X-APPLE-STRUCTURED-LOCATION;VALUE=URI;X-ADDRESS=HK Coliseum 9 Cheong Wan Road Hung Hom Hong Kong;X-APPLE-RADIUS=500;X-TITLE=9 Cheong Wan Road:geo:114.1820305,22.3014169
END:VEVENT
BEGIN:VEVENT
DTSTART;VALUE=DATE:20190124
DTEND;VALUE=DATE:20190128
DTSTAMP:20260426T093829
CREATED:19180202T042256Z
LAST-MODIFIED:20190119T160906Z
UID:10003745-1548288000-1548633599@www.bcmagazine.net
SUMMARY:Disney On Ice
DESCRIPTION:Disney On Ice presents Mickey’s Super Celebration\nDate: 24-27 January\, 2019\nVenue: HK Convention and Exhibition Centre\nTickets: $880\, $780\, $580\, $480\, $420\, $300\, $280 \n 
URL:https://www.bcmagazine.net/event/disney-on-ice-2019/2019-01-24/
LOCATION:HK Convention and Exhibition Centre\, 1 Expo Drive\, Wanchai\, Hong Kong
CATEGORIES:2019,Multimedia,Performing Arts,Theatre
END:VEVENT
BEGIN:VEVENT
DTSTART;TZID=Asia/Hong_Kong:20190124T193000
DTEND;TZID=Asia/Hong_Kong:20190124T193000
DTSTAMP:20260426T093829
CREATED:20190111T045612Z
LAST-MODIFIED:20190112T080540Z
UID:10006560-1548358200-1548358200@www.bcmagazine.net
SUMMARY:Denzel Curry
DESCRIPTION:Denzel Curry\nSupport: Dough-Boy\, Bakerie Music Productions\, JB\, Young Hysan\nDate: 7:30pm\, 24 January\, 2019\nVenue: This Town Needs (TTN)\nTickets: $420 (door)\, $380 (advance)
URL:https://www.bcmagazine.net/event/denzel-curry-2019/
LOCATION:This Town Needs (TTN)\, 1/F Ocean One\, 6 Shung Shun Street\, Yau Tong\, Hong Kong
CATEGORIES:2019,Concert,Music,Performing Arts
ATTACH;FMTTYPE=image/jpeg:https://www.bcmagazine.net/wp-content/uploads/1918/12/Denzel-Curry-hk-2019.jpg
GEO:22.292861;114.23782
X-APPLE-STRUCTURED-LOCATION;VALUE=URI;X-ADDRESS=This Town Needs (TTN) 1/F Ocean One 6 Shung Shun Street Yau Tong Hong Kong;X-APPLE-RADIUS=500;X-TITLE=1/F Ocean One\, 6 Shung Shun Street:geo:114.23782,22.292861
END:VEVENT
BEGIN:VEVENT
DTSTART;TZID=Asia/Hong_Kong:20190124T194500
DTEND;TZID=Asia/Hong_Kong:20190124T194500
DTSTAMP:20260426T093829
CREATED:19180528T020834Z
LAST-MODIFIED:20181103T090736Z
UID:10004055-1548359100-1548359100@www.bcmagazine.net
SUMMARY:HK Repertory Theatre
DESCRIPTION:HK Repertory Theatre – La Cage aux Folles\nDate: 7:45pm\, 20\, 22-27 January\, 2019\nVenue: HK Cultural Centre\, Grand Theatre\nTickets: Tue-Thu: $360\, $270\, $180; Fri-Sun: $400\, $300\, $200 from Urbtix
URL:https://www.bcmagazine.net/event/hkrep-la-cage-aux-folles-24-01-2019/
LOCATION:HK Cultural Centre\, Grand Theatre\,\, 10 Salisbury Road\, Tsim Sha Tsui\, Hong Kong
CATEGORIES:2019,Performing Arts,Theatre
GEO:22.294318;114.171708
X-APPLE-STRUCTURED-LOCATION;VALUE=URI;X-ADDRESS=HK Cultural Centre Grand Theatre 10 Salisbury Road Tsim Sha Tsui Hong Kong;X-APPLE-RADIUS=500;X-TITLE=10 Salisbury Road:geo:114.171708,22.294318
END:VEVENT
BEGIN:VEVENT
DTSTART;TZID=Asia/Hong_Kong:20190124T200000
DTEND;TZID=Asia/Hong_Kong:20190124T200000
DTSTAMP:20260426T093829
CREATED:19181023T145036Z
LAST-MODIFIED:20181103T090102Z
UID:10004523-1548360000-1548360000@www.bcmagazine.net
SUMMARY:My Very Short Marriage
DESCRIPTION:My Very Short Marriage\nDate: 11-13\, 15-20\, 22-27 January\, 2019\nVenue: The Hong Kong Polytechnic University\, Jockey Club Auditorium\, \nTickets: $1\,280\, $780\, $580\, $480\, $280 from Cityline\nMore info:\n11-13\, 15-20\, 22-27 Jan – 8pm\n13\, 20 Jan – 3pm
URL:https://www.bcmagazine.net/event/my-very-short-marriage-24-01-2019/
LOCATION:Hong Kong Polytechnic University\, Jockey Club Auditorium\, Hong Kong
CATEGORIES:2019,Cantonese drama,Performing Arts,Theatre
ATTACH;FMTTYPE=image/jpeg:https://www.bcmagazine.net/wp-content/uploads/1918/10/My-Very-Short-Marriage.jpg
GEO:22.396428;114.109497
END:VEVENT
BEGIN:VEVENT
DTSTART;TZID=Asia/Hong_Kong:20190124T201500
DTEND;TZID=Asia/Hong_Kong:20190124T201500
DTSTAMP:20260426T093829
CREATED:19181213T044512Z
LAST-MODIFIED:20190118T092133Z
UID:10004637-1548360900-1548360900@www.bcmagazine.net
SUMMARY:Jacky Cheung
DESCRIPTION:Jacky Cheung A Classic Tour – Finale\nDate: 8:15pm\, 11-13\, 15-17\, 19-21\, 23-25\, 27-29 January\, 2019\nVenue: HK Coliseum\nTickets: $980\, $680\, $380 from Urbtix
URL:https://www.bcmagazine.net/event/jacky-cheung-24-01-2019/
LOCATION:HK Coliseum\, 9 Cheong Wan Road\, Hung Hom\, Hong Kong
CATEGORIES:2019,Cantopop,Concert,Music,Performing Arts
ATTACH;FMTTYPE=image/jpeg:https://www.bcmagazine.net/wp-content/uploads/1918/12/Jacky-Cheung-A-Classic-Tour.jpg
GEO:22.3014169;114.1820305
X-APPLE-STRUCTURED-LOCATION;VALUE=URI;X-ADDRESS=HK Coliseum 9 Cheong Wan Road Hung Hom Hong Kong;X-APPLE-RADIUS=500;X-TITLE=9 Cheong Wan Road:geo:114.1820305,22.3014169
END:VEVENT
BEGIN:VEVENT
DTSTART;VALUE=DATE:20190125
DTEND;VALUE=DATE:20190617
DTSTAMP:20260426T093829
CREATED:19181213T044512Z
LAST-MODIFIED:20190129T164442Z
UID:10004690-1548374400-1560729599@www.bcmagazine.net
SUMMARY:Under the Skin
DESCRIPTION:Ferrari\, Under the Skin\nDate: 25 January – 16 June\, 2019\nVenue: City of Dreams\, Macau\nTickets: $80
URL:https://www.bcmagazine.net/event/under-the-skin-macau-2019/
LOCATION:City of Dreams\, Macau
CATEGORIES:2019,Exhibition,Macau
ATTACH;FMTTYPE=image/jpeg:https://www.bcmagazine.net/wp-content/uploads/1918/12/under-the-skin-2019.jpg
END:VEVENT
BEGIN:VEVENT
DTSTART;TZID=Asia/Hong_Kong:20190125T194500
DTEND;TZID=Asia/Hong_Kong:20190125T194500
DTSTAMP:20260426T093829
CREATED:19180528T020834Z
LAST-MODIFIED:20181103T090727Z
UID:10004056-1548445500-1548445500@www.bcmagazine.net
SUMMARY:HK Repertory Theatre
DESCRIPTION:HK Repertory Theatre – La Cage aux Folles\nDate: 7:45pm\, 20\, 22-27 January\, 2019\nVenue: HK Cultural Centre\, Grand Theatre\nTickets: Tue-Thu: $360\, $270\, $180; Fri-Sun: $400\, $300\, $200 from Urbtix
URL:https://www.bcmagazine.net/event/hkrep-la-cage-aux-folles-25-01-2019/
LOCATION:HK Cultural Centre\, Grand Theatre\,\, 10 Salisbury Road\, Tsim Sha Tsui\, Hong Kong
CATEGORIES:2019,Performing Arts,Theatre
GEO:22.294318;114.171708
X-APPLE-STRUCTURED-LOCATION;VALUE=URI;X-ADDRESS=HK Cultural Centre Grand Theatre 10 Salisbury Road Tsim Sha Tsui Hong Kong;X-APPLE-RADIUS=500;X-TITLE=10 Salisbury Road:geo:114.171708,22.294318
END:VEVENT
BEGIN:VEVENT
DTSTART;TZID=Asia/Hong_Kong:20190125T200000
DTEND;TZID=Asia/Hong_Kong:20190125T200000
DTSTAMP:20260426T093829
CREATED:19180805T120338Z
LAST-MODIFIED:20180805T124819Z
UID:10004405-1548446400-1548446400@www.bcmagazine.net
SUMMARY:Voices of Spring
DESCRIPTION:Voices of Spring\nHK Chinese Orchestra\nDate: 8pm\, 25-26 January\, 2019\nVenue: HK City Hall\, Concert Hall\nTickets: $350\, $280\, $220\, $170 from Urbtix
URL:https://www.bcmagazine.net/event/hkco-voices-of-spring-25-01-2019/
LOCATION:HK City Hall\, Concert Hall\,  5 Edinburgh Place\, Central\, Hong Kong
CATEGORIES:2019,Concert,Music,Performing Arts
END:VEVENT
BEGIN:VEVENT
DTSTART;TZID=Asia/Hong_Kong:20190125T200000
DTEND;TZID=Asia/Hong_Kong:20190125T200000
DTSTAMP:20260426T093829
CREATED:19181023T145036Z
LAST-MODIFIED:20181103T090050Z
UID:10004524-1548446400-1548446400@www.bcmagazine.net
SUMMARY:My Very Short Marriage
DESCRIPTION:My Very Short Marriage\nDate: 11-13\, 15-20\, 22-27 January\, 2019\nVenue: The Hong Kong Polytechnic University\, Jockey Club Auditorium\, \nTickets: $1\,280\, $780\, $580\, $480\, $280 from Cityline\nMore info:\n11-13\, 15-20\, 22-27 Jan – 8pm\n13\, 20 Jan – 3pm
URL:https://www.bcmagazine.net/event/my-very-short-marriage-25-01-2019/
LOCATION:Hong Kong Polytechnic University\, Jockey Club Auditorium\, Hong Kong
CATEGORIES:2019,Cantonese drama,Performing Arts,Theatre
ATTACH;FMTTYPE=image/jpeg:https://www.bcmagazine.net/wp-content/uploads/1918/10/My-Very-Short-Marriage.jpg
GEO:22.396428;114.109497
END:VEVENT
BEGIN:VEVENT
DTSTART;TZID=Asia/Hong_Kong:20190125T201500
DTEND;TZID=Asia/Hong_Kong:20190125T201500
DTSTAMP:20260426T093829
CREATED:19181213T044512Z
LAST-MODIFIED:20190118T092146Z
UID:10004638-1548447300-1548447300@www.bcmagazine.net
SUMMARY:Jacky Cheung
DESCRIPTION:Jacky Cheung A Classic Tour – Finale\nDate: 8:15pm\, 11-13\, 15-17\, 19-21\, 23-25\, 27-29 January\, 2019\nVenue: HK Coliseum\nTickets: $980\, $680\, $380 from Urbtix
URL:https://www.bcmagazine.net/event/jacky-cheung-25-01-2019/
LOCATION:HK Coliseum\, 9 Cheong Wan Road\, Hung Hom\, Hong Kong
CATEGORIES:2019,Cantopop,Concert,Music,Performing Arts
ATTACH;FMTTYPE=image/jpeg:https://www.bcmagazine.net/wp-content/uploads/1918/12/Jacky-Cheung-A-Classic-Tour.jpg
GEO:22.3014169;114.1820305
X-APPLE-STRUCTURED-LOCATION;VALUE=URI;X-ADDRESS=HK Coliseum 9 Cheong Wan Road Hung Hom Hong Kong;X-APPLE-RADIUS=500;X-TITLE=9 Cheong Wan Road:geo:114.1820305,22.3014169
END:VEVENT
BEGIN:VEVENT
DTSTART;TZID=Asia/Hong_Kong:20190126T190000
DTEND;TZID=Asia/Hong_Kong:20190126T190000
DTSTAMP:20260426T093829
CREATED:19181115T145036Z
LAST-MODIFIED:20181121T075224Z
UID:10004581-1548529200-1548529200@www.bcmagazine.net
SUMMARY:BlackPink
DESCRIPTION:BlackPink\nDate: 7pm\, 26 January\, 2019\nVenue: AsiaWorld Expo\, Arena\nTickets: $1\,898\, $1\,498\, $1\,398\, $1\,198 $998\, $798\, $698 from HKTicketing
URL:https://www.bcmagazine.net/event/blackpink-2019/
LOCATION:AsiaWorld-Expo\, Arena\, Cheong Wing Road\, Chek Lap Kok\, Lantau\, Hong Kong
CATEGORIES:2019,Concert,Music,Performing Arts
ATTACH;FMTTYPE=image/jpeg:https://www.bcmagazine.net/wp-content/uploads/1918/11/SID-15th-Anniversary-2019-hk.jpg
GEO:22.3217383;113.9402012
X-APPLE-STRUCTURED-LOCATION;VALUE=URI;X-ADDRESS=AsiaWorld-Expo Arena Cheong Wing Road Chek Lap Kok Lantau Hong Kong;X-APPLE-RADIUS=500;X-TITLE=Cheong Wing Road\, Chek Lap Kok:geo:113.9402012,22.3217383
END:VEVENT
BEGIN:VEVENT
DTSTART;TZID=Asia/Hong_Kong:20190126T193000
DTEND;TZID=Asia/Hong_Kong:20190126T193000
DTSTAMP:20260426T093829
CREATED:19181213T044512Z
LAST-MODIFIED:20190122T113751Z
UID:10004671-1548531000-1548531000@www.bcmagazine.net
SUMMARY:Perception
DESCRIPTION:Perception\nThe Performers Studio\nDate: 7:30pm\, 26 January\, 2019\nVenue: HK Arts Centre\, McAulay Theatre\nTickets: $230 from Ticketflap\nMore info:\nPerception! 2 thought provoking pieces of theatre in one show questioning how we view the world!
URL:https://www.bcmagazine.net/event/perception-2019/
LOCATION:HK Arts Centre\, McAulay Studio\, 2 Harbour Road\, Wanchai\, Hong Kong
CATEGORIES:2019,Performing Arts,Theatre
ATTACH;FMTTYPE=image/jpeg:https://www.bcmagazine.net/wp-content/uploads/1918/12/perception-2019.jpg
GEO:22.280173;114.1708144
X-APPLE-STRUCTURED-LOCATION;VALUE=URI;X-ADDRESS=HK Arts Centre McAulay Studio 2 Harbour Road Wanchai Hong Kong;X-APPLE-RADIUS=500;X-TITLE=2 Harbour Road:geo:114.1708144,22.280173
END:VEVENT
BEGIN:VEVENT
DTSTART;TZID=Asia/Hong_Kong:20190126T193000
DTEND;TZID=Asia/Hong_Kong:20190126T193000
DTSTAMP:20260426T093829
CREATED:20181204T094055Z
LAST-MODIFIED:20190924T041150Z
UID:10006553-1548531000-1548531000@www.bcmagazine.net
SUMMARY:The White Eyes
DESCRIPTION:The White Eyes -ＡFucking Day\nSupport: Twisterella\nDate: 7:30pm\, 26 January\, 2019\nVenue: This Town Needs (TTN)\nTickets: $280 from Ticketflap
URL:https://www.bcmagazine.net/event/the-white-eyes-hk-2019/
LOCATION:This Town Needs (TTN)\, 1/F Ocean One\, 6 Shung Shun Street\, Yau Tong\, Hong Kong
CATEGORIES:2019,Concert,concert,Music,Performing Arts
ATTACH;FMTTYPE=image/jpeg:https://www.bcmagazine.net/wp-content/uploads/1918/08/The-White-Eyes-hk-2019.jpg
GEO:22.292861;114.23782
X-APPLE-STRUCTURED-LOCATION;VALUE=URI;X-ADDRESS=This Town Needs (TTN) 1/F Ocean One 6 Shung Shun Street Yau Tong Hong Kong;X-APPLE-RADIUS=500;X-TITLE=1/F Ocean One\, 6 Shung Shun Street:geo:114.23782,22.292861
END:VEVENT
END:VCALENDAR