BEGIN:VCALENDAR
VERSION:2.0
PRODID:-//bc magazine - ECPv6.15.20//NONSGML v1.0//EN
CALSCALE:GREGORIAN
METHOD:PUBLISH
X-WR-CALNAME:bc magazine
X-ORIGINAL-URL:https://www.bcmagazine.net
X-WR-CALDESC:Events for bc magazine
REFRESH-INTERVAL;VALUE=DURATION:PT1H
X-Robots-Tag:noindex
X-PUBLISHED-TTL:PT1H
BEGIN:VTIMEZONE
TZID:Asia/Hong_Kong
BEGIN:STANDARD
TZOFFSETFROM:+0800
TZOFFSETTO:+0800
TZNAME:HKT
DTSTART:20180101T000000
END:STANDARD
END:VTIMEZONE
BEGIN:VEVENT
DTSTART;VALUE=DATE:20190916
DTEND;VALUE=DATE:20191029
DTSTAMP:20260426T120045
CREATED:19160906T150024Z
LAST-MODIFIED:20190809T135314Z
UID:10000789-1568592000-1572307199@www.bcmagazine.net
SUMMARY:MGM Macau Oktoberfest
DESCRIPTION:MGM Macau Oktoberfest\nDate: 16 September – 28 October\, 2019\nVenue: MGM Macau\nTickets: $18o
URL:https://www.bcmagazine.net/event/mgm-macau-oktoberfest-2019/
LOCATION:MGM Macau\, Avenida Dr. Sun Yat Sen\, Macau
CATEGORIES:2019,Food,Macau,Nightlife
GEO:22.1854455;113.5488817
X-APPLE-STRUCTURED-LOCATION;VALUE=URI;X-ADDRESS=MGM Macau Avenida Dr. Sun Yat Sen Macau;X-APPLE-RADIUS=500;X-TITLE=Avenida Dr. Sun Yat Sen:geo:113.5488817,22.1854455
END:VEVENT
BEGIN:VEVENT
DTSTART;VALUE=DATE:20190920
DTEND;VALUE=DATE:20191216
DTSTAMP:20260426T120045
CREATED:20190905T075925Z
LAST-MODIFIED:20190919T145337Z
UID:10006599-1568937600-1576454399@www.bcmagazine.net
SUMMARY:Leonardo da Vinci Art and Science Then and Now
DESCRIPTION:Leonardo da Vinci Art and Science Then and Now\nDate: 20 September – 15 December\, 2019\nVenue: City University of Hong Kong\, CityU Exhibition Gallery\, 18/F\, Lau Ming Wai Academic Building\, 83 Tat Chee Avenue\, Kowloon Tong\nTickets: Free\nMore info:\n10am-7pm daily except Monday
URL:https://www.bcmagazine.net/event/leonardo-da-vinci-art-and-science-then-and-now/
LOCATION:CityU Exhibition Gallery\, 18/F\, Lau Ming Wai Academic Building\, 83 Tat Chee Avenue\, Kowloon Tong\, Hong Kong
CATEGORIES:2019,Art Gallery,Exhibition,Free,Lifestyle,Other
ATTACH;FMTTYPE=image/jpeg:https://www.bcmagazine.net/wp-content/uploads/2015/05/Leonardo_Web-Banner_1920x816.jpg
END:VEVENT
BEGIN:VEVENT
DTSTART;VALUE=DATE:20190921
DTEND;VALUE=DATE:20191125
DTSTAMP:20260426T120045
CREATED:19190819T041350Z
LAST-MODIFIED:20190923T105324Z
UID:10004892-1569024000-1574639999@www.bcmagazine.net
SUMMARY:Russian Culture Festival
DESCRIPTION:Russian Culture Festival\nDate: 21 September -24 November\, 2019\nVenue: various\nTickets: tbc\nMore info:\nwww.facebook.com/russianculturefestivalhk
URL:https://www.bcmagazine.net/event/russian-culture-festival-2019/
CATEGORIES:2019,Exhibition,Film,Performing Arts
ATTACH;FMTTYPE=image/jpeg:https://www.bcmagazine.net/wp-content/uploads/2019/08/russian-autumn-culture-festival-2019.jpg
END:VEVENT
BEGIN:VEVENT
DTSTART;VALUE=DATE:20190928
DTEND;VALUE=DATE:20191103
DTSTAMP:20260426T120045
CREATED:20190920T041525Z
LAST-MODIFIED:20190930T123930Z
UID:10006602-1569628800-1572739199@www.bcmagazine.net
SUMMARY:Pink Season
DESCRIPTION:Pink Season\nDate: 28 September – 2 November\, 2019\nVenue: various\nTickets: various\nMore info:\nwww.facebook.com/PinkSeason.HK \nSep 28 10:00 – 02:00 – Launch Party 開幕派對\nSep 29 10:00 – 18:00 – Bike Ride 單車騎行\nSep 29 18:00 – 20:00 – Rainbow China Forum 彩虹中國論壇\nOct 3 20:00 – 22:00 – Comedy Night 喜劇之夜\nOct 4 19:30 – 21:30 – Drag Workshop#1 變妝工作坊#1\nOct 5 14:00 – 18:00 Health Forum 健康講座\nOct 5 18:00 – 20:00 – Drag Workshop#2 變妝工作坊#2\nOct 8 19:30 – 22:30 – Quiz Night 答題挑戰\nOct 9 19:00 – 21:00 – How To Be An Intersectional Ally 成為盟友\nOct 10 19:00 – 21:00 – Yoga For All 一起瑜伽\nOct 15 20:00 – 23:00 – Variety Show 達人秀\nOct 16 19:30 – 22:00 – Wine Pairing Dinner 配酒晚宴\nOct 17 19:30 – 22:00 – Book Launch 新書發佈\nOct 19 10:00 – 18:00 – Urban Race 城市賽跑\nOct 19 18:00 – 20:00 – Drag Workshop#3 變妝工作坊#3\nOct 22 20:00 – 22:00 – Band Night 樂隊之夜\nOct 23 19:00 – 22:00 – Money Forum 金錢研討會\nOct 24 19:00 – 22:00 – Happiness Program#1\nOct 25 19:00 – 22:00 – Happiness Program#2\nOct 26 09:00 – 12:00 – Happiness Program#3\nOct 26 13:00 – 17:00 Career Day 職業日\nOct 27 18:00 – 20:00 LGBT+ and Christianity LGBT 與基督信仰講座\nOct 29 19:00 – 21:00 Yoga For All 一起瑜珈\nOct 30 19:00 – 21:00 Marriage Equality Forum 婚姻平權研討會
URL:https://www.bcmagazine.net/event/pink-season-2019/
CATEGORIES:2019,Concert,Cultural Festival,Exhibition,Food,LGBT,Lifestyle,Music,Nightlife,Performing Arts
ATTACH;FMTTYPE=image/jpeg:https://www.bcmagazine.net/wp-content/uploads/1916/04/pink-season-2019.jpg
END:VEVENT
BEGIN:VEVENT
DTSTART;VALUE=DATE:20191011
DTEND;VALUE=DATE:20191021
DTSTAMP:20260426T120045
CREATED:19190909T054604Z
LAST-MODIFIED:20211007T143254Z
UID:10004896-1570752000-1571615999@www.bcmagazine.net
SUMMARY:KINO/19 – German Film Festival
DESCRIPTION:KINO/19 – German Film Festival\nBalloon\, A Regular Woman\, 25 KM/H\, Gundermann\, The Collini Case\, Chris the Swiss\, The Most Beautiful Couple\, The Mover\, Roads\, Sweethearts.\nDate: 11-20 October\, 2019\nVenue: HKAC\, Louis Koo Cinema\, HK Film Archive\, Elements Premiere\nTickets: $95\, $90\, $75
URL:https://www.bcmagazine.net/event/kino-19-german-film-festival/
CATEGORIES:2019,Film,Performing Arts
ATTACH;FMTTYPE=image/jpeg:https://www.bcmagazine.net/wp-content/uploads/1919/09/kino2019.jpeg
END:VEVENT
BEGIN:VEVENT
DTSTART;TZID=Asia/Hong_Kong:20191016T193000
DTEND;TZID=Asia/Hong_Kong:20191016T193000
DTSTAMP:20260426T120045
CREATED:19181023T145036Z
LAST-MODIFIED:20190605T150426Z
UID:10004527-1571254200-1571254200@www.bcmagazine.net
SUMMARY:Men I Trust
DESCRIPTION:Men I Trust\nDate: 8pm\, 16 October\, 2019\nVenue: This Town Needs (TTN)\nTickets: $360 from Ticketflap
URL:https://www.bcmagazine.net/event/men-i-trust-hk-2019/
LOCATION:This Town Needs (TTN)\, 1/F Ocean One\, 6 Shung Shun Street\, Yau Tong\, Hong Kong
CATEGORIES:2019,Concert,Music,Performing Arts
ATTACH;FMTTYPE=image/jpeg:https://www.bcmagazine.net/wp-content/uploads/2018/10/men-i-trust-hk-2019.jpg
GEO:22.292861;114.23782
X-APPLE-STRUCTURED-LOCATION;VALUE=URI;X-ADDRESS=This Town Needs (TTN) 1/F Ocean One 6 Shung Shun Street Yau Tong Hong Kong;X-APPLE-RADIUS=500;X-TITLE=1/F Ocean One\, 6 Shung Shun Street:geo:114.23782,22.292861
END:VEVENT
BEGIN:VEVENT
DTSTART;TZID=Asia/Hong_Kong:20191016T200000
DTEND;TZID=Asia/Hong_Kong:20191016T200000
DTSTAMP:20260426T120045
CREATED:20230114T165259Z
LAST-MODIFIED:20230114T165259Z
UID:10003446-1571256000-1571256000@www.bcmagazine.net
SUMMARY:Peel Street Poetry
DESCRIPTION:Peel Street Poetry is an open mic poetry night at Social Room. It runs every Wednesdays of the month except the first and last. The environment is friendly and they love new performers\, so come share your poetry or just listen along to some of Hong Kong’s sharpest poetic talents. \nPeel Street Poetry Open Mic\nDate: 2nd\, 3rd (and 4th) Wednesdays of the month\nVenue: Social Room\nTickets: Free\nMore info:\nwww.peelstreetpoetry.com
URL:https://www.bcmagazine.net/event/peel-street-poetry/2019-10-16/
LOCATION:Social Room\, 74-78 Stanley Street \, Central\, Hong Kong
CATEGORIES:2018,2019,Free,Performing Arts,Poetry
GEO:22.2834184;114.1544925
X-APPLE-STRUCTURED-LOCATION;VALUE=URI;X-ADDRESS=Social Room 74-78 Stanley Street  Central Hong Kong;X-APPLE-RADIUS=500;X-TITLE=74-78 Stanley Street:geo:114.1544925,22.2834184
END:VEVENT
BEGIN:VEVENT
DTSTART;TZID=Asia/Hong_Kong:20191016T201500
DTEND;TZID=Asia/Hong_Kong:20191016T201500
DTSTAMP:20260426T120045
CREATED:19190409T044512Z
LAST-MODIFIED:20190924T040405Z
UID:10003995-1571256900-1571256900@www.bcmagazine.net
SUMMARY:Vincy Chan
DESCRIPTION:Vincy Chan\nDate: 8:15pm\, 16 October\, 2019\nVenue: Kitec\, Star Hall\nTickets: $880\, $680\, $580\, $380 from HKTicketing
URL:https://www.bcmagazine.net/event/vincy-chan-2019/
LOCATION:KITEC\, Star Hall\, KITEC\, 1 Trademart Drive\, Kowloon Bay\, Hong Kong
CATEGORIES:2019,Concert,Music,Performing Arts
ATTACH;FMTTYPE=image/jpeg:https://www.bcmagazine.net/wp-content/uploads/1919/04/vincy-chan-2019.jpg
GEO:22.3239575;114.2037608
X-APPLE-STRUCTURED-LOCATION;VALUE=URI;X-ADDRESS=KITEC Star Hall KITEC 1 Trademart Drive Kowloon Bay Hong Kong;X-APPLE-RADIUS=500;X-TITLE=KITEC\, 1 Trademart Drive:geo:114.2037608,22.3239575
END:VEVENT
BEGIN:VEVENT
DTSTART;VALUE=DATE:20191018
DTEND;VALUE=DATE:20191020
DTSTAMP:20260426T120045
CREATED:19190409T044512Z
LAST-MODIFIED:20190924T035925Z
UID:10003992-1571356800-1571529599@www.bcmagazine.net
SUMMARY:Soul of Shaolin - Cancelled
DESCRIPTION:Soul of Shaolin\nDate: 18-19 October\, 2019\nVenue: Kitec\, Star Hall\nTickets: $480\, $380\, $280\, $180 from HKTicketing
URL:https://www.bcmagazine.net/event/soul-of-shaolin-2019/
LOCATION:KITEC\, Star Hall\, KITEC\, 1 Trademart Drive\, Kowloon Bay\, Hong Kong
CATEGORIES:2019,Cancelled,Performing Arts
GEO:22.3239575;114.2037608
X-APPLE-STRUCTURED-LOCATION;VALUE=URI;X-ADDRESS=KITEC Star Hall KITEC 1 Trademart Drive Kowloon Bay Hong Kong;X-APPLE-RADIUS=500;X-TITLE=KITEC\, 1 Trademart Drive:geo:114.2037608,22.3239575
END:VEVENT
BEGIN:VEVENT
DTSTART;TZID=Asia/Hong_Kong:20191018T200000
DTEND;TZID=Asia/Hong_Kong:20191018T200000
DTSTAMP:20260426T120045
CREATED:19190409T044512Z
LAST-MODIFIED:20190924T044115Z
UID:10003987-1571428800-1571428800@www.bcmagazine.net
SUMMARY:Daniel Sloss
DESCRIPTION:Daniel Sloss – X Hong Kong\nDate: 8pm\, 18 October\, 2019\nVenue: Kitec\, Music Zone@E-Max\nTickets: $688\, $488 from Cityline
URL:https://www.bcmagazine.net/event/daniel-sloss-2019/
LOCATION:KITEC\, Music Zone@E-Max\, KITEC\,‎ 1 Trademart Drive\, Kowloon Bay\, Hong Kong
CATEGORIES:2019,Concert,Music,Performing Arts
GEO:22.3239575;114.2037608
X-APPLE-STRUCTURED-LOCATION;VALUE=URI;X-ADDRESS=KITEC Music Zone@E-Max KITEC‎ 1 Trademart Drive Kowloon Bay Hong Kong;X-APPLE-RADIUS=500;X-TITLE=KITEC\,‎ 1 Trademart Drive:geo:114.2037608,22.3239575
END:VEVENT
BEGIN:VEVENT
DTSTART;TZID=Asia/Hong_Kong:20191019T190000
DTEND;TZID=Asia/Hong_Kong:20191019T190000
DTSTAMP:20260426T120045
CREATED:19190409T044512Z
LAST-MODIFIED:20190924T042318Z
UID:10004003-1571511600-1571511600@www.bcmagazine.net
SUMMARY:Cha Eun-Woo
DESCRIPTION:Cha Eun-Woo – Just One 10 Minute Fan Meet\nDate: 7pm\, 19 October\, 2019\nVenue: Kitec\, Rotunda 3\nTickets: $1\,388\, $888 from Cityline
URL:https://www.bcmagazine.net/event/cha-eun-woo-2019/
LOCATION:KITEC\, Rotunda 3\, 1 Trademart Drive\, Kowloon Bay\, Hong Kong
CATEGORIES:2019,Concert,Kpop,Music,Performing Arts
GEO:22.3239575;114.2037608
X-APPLE-STRUCTURED-LOCATION;VALUE=URI;X-ADDRESS=KITEC Rotunda 3 1 Trademart Drive Kowloon Bay Hong Kong;X-APPLE-RADIUS=500;X-TITLE=1 Trademart Drive:geo:114.2037608,22.3239575
END:VEVENT
BEGIN:VEVENT
DTSTART;TZID=Asia/Hong_Kong:20191019T200000
DTEND;TZID=Asia/Hong_Kong:20191019T200000
DTSTAMP:20260426T120045
CREATED:19190411T044512Z
LAST-MODIFIED:20190414T024914Z
UID:10004761-1571515200-1571515200@www.bcmagazine.net
SUMMARY:Backstreet Boys
DESCRIPTION:Backstreet Boys – DNA World Tour\nDate: 8pm\, 19 October\, 2019\nVenue: Cotai Arena\nTickets: $2\,488\, $1\,488\, $1\,088\, $988\, $888\, $688
URL:https://www.bcmagazine.net/event/backstreet-boys-macau-2019/
LOCATION:Cotai Arena\, Venetian Macao\, Macau
CATEGORIES:2019,Concert,Macau,Music,Performing Arts
ATTACH;FMTTYPE=image/jpeg:https://www.bcmagazine.net/wp-content/uploads/1919/04/Backstreet-Boys-Macau-2019.jpg
END:VEVENT
BEGIN:VEVENT
DTSTART;TZID=Asia/Hong_Kong:20191019T220000
DTEND;TZID=Asia/Hong_Kong:20191019T220000
DTSTAMP:20260426T120045
CREATED:19160429T221525Z
LAST-MODIFIED:20190930T123237Z
UID:10001595-1571522400-1571522400@www.bcmagazine.net
SUMMARY:I Kong/ Soom T/ Skunga Kong/ J Star
DESCRIPTION:I Kong\, Soom T\, Skunga Kong\, J Star\nDate: 10pm\, 19 October\, 2019\nVenue: Aux\nTickets: $250\, $200 (advance) from Ticketflap
URL:https://www.bcmagazine.net/event/i-kong-soom-t-skunga-kong-j-star/
LOCATION:Aux\, 152 Austin Road\, Tsim Sha Tsui\, Hong Kong
CATEGORIES:2019,Concert,Music,Performing Arts
ATTACH;FMTTYPE=image/jpeg:https://www.bcmagazine.net/wp-content/uploads/1916/04/i-soot.jpg
END:VEVENT
BEGIN:VEVENT
DTSTART;TZID=Asia/Hong_Kong:20191025T200000
DTEND;TZID=Asia/Hong_Kong:20191025T200000
DTSTAMP:20260426T120045
CREATED:19161124T035724Z
LAST-MODIFIED:20190827T083150Z
UID:10000996-1572033600-1572033600@www.bcmagazine.net
SUMMARY:Carly Rae Jepsen
DESCRIPTION:Carly Rae Jepsen\nWhen: 8pm\, 25 October\, 2019\nWhere: Kitec\, Rotunda 2\nHow much: $850 from Cityline
URL:https://www.bcmagazine.net/event/carly-rae-jepsen-2019/
LOCATION:KITEC\, Rotunda 2\, Hong Kong
CATEGORIES:2019,Concert,Music,Performing Arts
GEO:22.396428;114.109497
END:VEVENT
BEGIN:VEVENT
DTSTART;TZID=Asia/Hong_Kong:20191025T201500
DTEND;TZID=Asia/Hong_Kong:20191025T201500
DTSTAMP:20260426T120045
CREATED:19190409T044512Z
LAST-MODIFIED:20190924T051821Z
UID:10004007-1572034500-1572034500@www.bcmagazine.net
SUMMARY:Louis Yuen
DESCRIPTION:Louis Yuen – King of Dreams\nDate: 8:15pm\, 25-27 October\, 2019\nVenue: MacPherson Stadium\nTickets: $680\, $380 from Cityline
URL:https://www.bcmagazine.net/event/louis-yuen-25-10-2019/
LOCATION:MacPherson Stadium\, 38 Nelson Street\, Mongkok\, Hong Kong
CATEGORIES:2019,Concert,Music,Performing Arts
ATTACH;FMTTYPE=image/jpeg:https://www.bcmagazine.net/wp-content/uploads/1919/04/king-of-dreams.jpg
GEO:22.3188457;114.1728403
X-APPLE-STRUCTURED-LOCATION;VALUE=URI;X-ADDRESS=MacPherson Stadium 38 Nelson Street Mongkok Hong Kong;X-APPLE-RADIUS=500;X-TITLE=38 Nelson Street:geo:114.1728403,22.3188457
END:VEVENT
BEGIN:VEVENT
DTSTART;VALUE=DATE:20191026
DTEND;VALUE=DATE:20191027
DTSTAMP:20260426T120045
CREATED:19151013T093331Z
LAST-MODIFIED:20190724T042420Z
UID:10000107-1572048000-1572134399@www.bcmagazine.net
SUMMARY:Rotten Head Music Festival
DESCRIPTION:Rotten Head Music Festival\nDate: 12pm\, 26 October\, 2019\nVenue: Tat Tung Road Garden\nTickets: tbc
URL:https://www.bcmagazine.net/event/rotten-head-music-festival-2019/
LOCATION:Hong Kong
CATEGORIES:2019,Concert,Food,Market,Music,Performing Arts
ATTACH;FMTTYPE=image/jpeg:https://www.bcmagazine.net/wp-content/uploads/2015/10/Rotten-head-Frestival.jpg
END:VEVENT
BEGIN:VEVENT
DTSTART;VALUE=DATE:20191026
DTEND;VALUE=DATE:20191028
DTSTAMP:20260426T120045
CREATED:19180716T124702Z
LAST-MODIFIED:20190904T162643Z
UID:10004331-1572048000-1572220799@www.bcmagazine.net
SUMMARY:Shi Fu Miz Festival 2019
DESCRIPTION:Shi Fu Miz Festival 2019\nAndre Poon & Hugo Lau\, Camion Bazar\, Carista\, Club Kowloon\, HK Solar Soundsystem\, Josey Rebelle\, Lena Willikens\, Max Davis\, Mengzy\, Peach\, Shanti Celeste\, Or:La\, Stephen Andarakis\, Utopia Hong Kong\, Yukari BB\, Elise\, Jazzanova \, Johnny Hiller\, Kink\, K-Melo \, La Mamie’s\, Lb Aka Labat\, Marcellus Pittman Unirhythm\, Midori / Menace\, Ocean Lam\, Roam Selectors\, Vrap\, Zepa Records\, 7elevn\nDate: 26-27 October\, 2019\nVenue: Sai Yuen Camping & Adventure Park\nTickets: $880\, $680\, $580\, $480
URL:https://www.bcmagazine.net/event/shi-fu-miz-festival-2019/
LOCATION:Saiyuen Camping & Adventure Park\, Sai Yuen\, Sai Wan\, Hong Kong
CATEGORIES:2019,Comedy,Concert,Music,Performing Arts
ATTACH;FMTTYPE=image/jpeg:https://www.bcmagazine.net/wp-content/uploads/1918/07/shi-fu-2019.jpg
END:VEVENT
BEGIN:VEVENT
DTSTART;VALUE=DATE:20191026
DTEND;VALUE=DATE:20191028
DTSTAMP:20260426T120045
CREATED:20190909T054604Z
LAST-MODIFIED:20191015T120420Z
UID:10006600-1572048000-1572220799@www.bcmagazine.net
SUMMARY:Hong Kong Beach Festival - Cancelled
DESCRIPTION:Hong Kong Beach Festival\nDate: 26-27 October\, 2019\nVenue: Repulse Bay Beach\nTickets: Free
URL:https://www.bcmagazine.net/event/hong-kong-beach-festival-2019/
LOCATION:Repulse Bay Beach\, Repulse Bay\, Hong Kong
CATEGORIES:2019,Beach Volleyball,Free,Sport
ATTACH;FMTTYPE=image/jpeg:https://www.bcmagazine.net/wp-content/uploads/1916/08/hk-beach-festival-2019.jpg
GEO:22.2371597;114.1971229
X-APPLE-STRUCTURED-LOCATION;VALUE=URI;X-ADDRESS=Repulse Bay Beach Repulse Bay Hong Kong;X-APPLE-RADIUS=500;X-TITLE=Repulse Bay:geo:114.1971229,22.2371597
END:VEVENT
BEGIN:VEVENT
DTSTART;TZID=Asia/Hong_Kong:20191026T193000
DTEND;TZID=Asia/Hong_Kong:20191026T193000
DTSTAMP:20260426T120045
CREATED:19190409T044512Z
LAST-MODIFIED:20190924T043916Z
UID:10004755-1572118200-1572118200@www.bcmagazine.net
SUMMARY:Music Is...
DESCRIPTION:Music Is…\nAfter later\, Kolor\, Distortion\, Double Q\, The Last Goodbye\, Last of Wee Hours\, Sleep Well \nDate: 7:30pm\, 26 October\, 2019\nVenue: Kitec\, Music Zone@E-Max\nTickets: $680 from Cityline
URL:https://www.bcmagazine.net/event/music-is-2019/
LOCATION:KITEC\, Music Zone@E-Max\, KITEC\,‎ 1 Trademart Drive\, Kowloon Bay\, Hong Kong
CATEGORIES:2019,Concert,Music,Performing Arts
ATTACH;FMTTYPE=image/jpeg:https://www.bcmagazine.net/wp-content/uploads/1919/04/music-is-2019.jpg
GEO:22.3239575;114.2037608
X-APPLE-STRUCTURED-LOCATION;VALUE=URI;X-ADDRESS=KITEC Music Zone@E-Max KITEC‎ 1 Trademart Drive Kowloon Bay Hong Kong;X-APPLE-RADIUS=500;X-TITLE=KITEC\,‎ 1 Trademart Drive:geo:114.2037608,22.3239575
END:VEVENT
BEGIN:VEVENT
DTSTART;TZID=Asia/Hong_Kong:20191026T200000
DTEND;TZID=Asia/Hong_Kong:20191026T200000
DTSTAMP:20260426T120045
CREATED:19190409T044512Z
LAST-MODIFIED:20190924T040131Z
UID:10003991-1572120000-1572120000@www.bcmagazine.net
SUMMARY:Nana Mizuki - Cancelled
DESCRIPTION:Nana Mizuki\nDate: 8pm\, 26 October\, 2019\nVenue: Kitec\, Star Hall\nTickets: $888\, $688\, $488 from HKTicketing
URL:https://www.bcmagazine.net/event/nana-mizuki-2019/
LOCATION:KITEC\, Star Hall\, KITEC\, 1 Trademart Drive\, Kowloon Bay\, Hong Kong
CATEGORIES:2019,Cancelled,Concert,Music,Performing Arts
GEO:22.3239575;114.2037608
X-APPLE-STRUCTURED-LOCATION;VALUE=URI;X-ADDRESS=KITEC Star Hall KITEC 1 Trademart Drive Kowloon Bay Hong Kong;X-APPLE-RADIUS=500;X-TITLE=KITEC\, 1 Trademart Drive:geo:114.2037608,22.3239575
END:VEVENT
BEGIN:VEVENT
DTSTART;TZID=Asia/Hong_Kong:20191026T200000
DTEND;TZID=Asia/Hong_Kong:20191026T200000
DTSTAMP:20260426T120045
CREATED:19190411T044512Z
LAST-MODIFIED:20190924T053150Z
UID:10004831-1572120000-1572120000@www.bcmagazine.net
SUMMARY:Coco Lee
DESCRIPTION:Coco Lee\nDate: 8pm\, 26 October\, 2019\nVenue: Cotai Arena\nTickets: $1\,380\, $980\, $680\, $380 from Cotai Ticketing
URL:https://www.bcmagazine.net/event/coco-lee-macau-2019/
LOCATION:Cotai Arena\, Venetian Macao\, Macau
CATEGORIES:2019,Concert,Macau,Music,Performing Arts
END:VEVENT
BEGIN:VEVENT
DTSTART;TZID=Asia/Hong_Kong:20191026T201500
DTEND;TZID=Asia/Hong_Kong:20191026T201500
DTSTAMP:20260426T120045
CREATED:19190409T044512Z
LAST-MODIFIED:20190924T051919Z
UID:10004009-1572120900-1572120900@www.bcmagazine.net
SUMMARY:Louis Yuen
DESCRIPTION:Louis Yuen – King of Dreams\nDate: 8:15pm\, 25-27 October\, 2019\nVenue: MacPherson Stadium\nTickets: $680\, $380 from Cityline
URL:https://www.bcmagazine.net/event/louis-yuen-26-10-2019/
LOCATION:MacPherson Stadium\, 38 Nelson Street\, Mongkok\, Hong Kong
CATEGORIES:2019,Concert,Music,Performing Arts
ATTACH;FMTTYPE=image/jpeg:https://www.bcmagazine.net/wp-content/uploads/1919/04/king-of-dreams.jpg
GEO:22.3188457;114.1728403
X-APPLE-STRUCTURED-LOCATION;VALUE=URI;X-ADDRESS=MacPherson Stadium 38 Nelson Street Mongkok Hong Kong;X-APPLE-RADIUS=500;X-TITLE=38 Nelson Street:geo:114.1728403,22.3188457
END:VEVENT
BEGIN:VEVENT
DTSTART;TZID=Asia/Hong_Kong:20191027T190000
DTEND;TZID=Asia/Hong_Kong:20191027T190000
DTSTAMP:20260426T120045
CREATED:19190409T044512Z
LAST-MODIFIED:20190924T043414Z
UID:10004754-1572202800-1572202800@www.bcmagazine.net
SUMMARY:The Gospellers
DESCRIPTION:The Gospellers\nDate: 7pm\, 27 October\, 2019\nVenue: Kitec\, Music Zone@E-Max\nTickets: $680 from Cityline
URL:https://www.bcmagazine.net/event/the-gospellers-2019/
LOCATION:KITEC\, Music Zone@E-Max\, KITEC\,‎ 1 Trademart Drive\, Kowloon Bay\, Hong Kong
CATEGORIES:2019,Concert,Music,Performing Arts
GEO:22.3239575;114.2037608
X-APPLE-STRUCTURED-LOCATION;VALUE=URI;X-ADDRESS=KITEC Music Zone@E-Max KITEC‎ 1 Trademart Drive Kowloon Bay Hong Kong;X-APPLE-RADIUS=500;X-TITLE=KITEC\,‎ 1 Trademart Drive:geo:114.2037608,22.3239575
END:VEVENT
BEGIN:VEVENT
DTSTART;TZID=Asia/Hong_Kong:20191027T200000
DTEND;TZID=Asia/Hong_Kong:20191027T200000
DTSTAMP:20260426T120045
CREATED:19181023T145036Z
LAST-MODIFIED:20190807T113713Z
UID:10004551-1572206400-1572206400@www.bcmagazine.net
SUMMARY:Jupiter Zeus
DESCRIPTION:Jupiter Zeus\nDate: 8pm\, 27 October\, 2019\nVenue: This Town Needs\nTickets: tbc
URL:https://www.bcmagazine.net/event/jupiter-zeus-hk-2019/
LOCATION:This Town Needs (TTN)\, 1/F Ocean One\, 6 Shung Shun Street\, Yau Tong\, Hong Kong
CATEGORIES:2019,Concert,Music,Performing Arts
ATTACH;FMTTYPE=image/jpeg:https://www.bcmagazine.net/wp-content/uploads/1918/10/jupiter-zeus-2019.jpg
GEO:22.292861;114.23782
X-APPLE-STRUCTURED-LOCATION;VALUE=URI;X-ADDRESS=This Town Needs (TTN) 1/F Ocean One 6 Shung Shun Street Yau Tong Hong Kong;X-APPLE-RADIUS=500;X-TITLE=1/F Ocean One\, 6 Shung Shun Street:geo:114.23782,22.292861
END:VEVENT
BEGIN:VEVENT
DTSTART;TZID=Asia/Hong_Kong:20191027T201500
DTEND;TZID=Asia/Hong_Kong:20191027T201500
DTSTAMP:20260426T120045
CREATED:19190409T044512Z
LAST-MODIFIED:20190924T052459Z
UID:10004012-1572207300-1572207300@www.bcmagazine.net
SUMMARY:Louis Yuen
DESCRIPTION:Louis Yuen – King of Dreams\nDate: 8:15pm\, 25-27 October\, 2019\nVenue: MacPherson Stadium\nTickets: $680\, $380 from Cityline
URL:https://www.bcmagazine.net/event/louis-yuen-27-10-2019/
LOCATION:MacPherson Stadium\, 38 Nelson Street\, Mongkok\, Hong Kong
CATEGORIES:2019,Concert,Music,Performing Arts
ATTACH;FMTTYPE=image/jpeg:https://www.bcmagazine.net/wp-content/uploads/1919/04/king-of-dreams.jpg
GEO:22.3188457;114.1728403
X-APPLE-STRUCTURED-LOCATION;VALUE=URI;X-ADDRESS=MacPherson Stadium 38 Nelson Street Mongkok Hong Kong;X-APPLE-RADIUS=500;X-TITLE=38 Nelson Street:geo:114.1728403,22.3188457
END:VEVENT
BEGIN:VEVENT
DTSTART;VALUE=DATE:20191029
DTEND;VALUE=DATE:20191118
DTSTAMP:20260426T120045
CREATED:19191021T075302Z
LAST-MODIFIED:20191021T080329Z
UID:10004900-1572307200-1574035199@www.bcmagazine.net
SUMMARY:Hong Kong Asian Film Festival
DESCRIPTION:16th Hong Kong Asian Film Festival\nDate: 29 October – 17 November\, 2019\nVenues: Broadway Cinematheque\, Broadway The One\, My Cinema Yoho Mall\, AMC Pacific Place\, Palace IFC\, Movie Movie Citiplaza\, Premiere Elements\nTickets: www.cinema.com.hk
URL:https://www.bcmagazine.net/event/hong-kong-asian-film-festival-2019/
CATEGORIES:2019,Cultural Festival,Film,Performing Arts
ATTACH;FMTTYPE=image/jpeg:https://www.bcmagazine.net/wp-content/uploads/2019/10/AFF2019-poster.jpg
END:VEVENT
BEGIN:VEVENT
DTSTART;VALUE=DATE:20191031
DTEND;VALUE=DATE:20191104
DTSTAMP:20260426T120045
CREATED:19161018T033117Z
LAST-MODIFIED:20191015T040356Z
UID:10002282-1572480000-1572825599@www.bcmagazine.net
SUMMARY:Wine & Dine Festival - Cancelled
DESCRIPTION:Wine & Dine Festival 2019\nDate: 31 October – 3 November\, 2019\nVenue: Central Harbourfront\nTickets: $35
URL:https://www.bcmagazine.net/event/wine-dine-festival-2019/
LOCATION:Central Harbourfront\,  9 Lung Wo Road\, Central\, Hong Kong
CATEGORIES:2019,Food,Nightlife
GEO:22.2826223;114.164346
X-APPLE-STRUCTURED-LOCATION;VALUE=URI;X-ADDRESS=Central Harbourfront  9 Lung Wo Road Central Hong Kong;X-APPLE-RADIUS=500;X-TITLE=9 Lung Wo Road:geo:114.164346,22.2826223
END:VEVENT
BEGIN:VEVENT
DTSTART;TZID=Asia/Hong_Kong:20191031T170000
DTEND;TZID=Asia/Hong_Kong:20191031T170000
DTSTAMP:20260426T120045
CREATED:20190924T044512Z
LAST-MODIFIED:20190924T103434Z
UID:10006604-1572541200-1572541200@www.bcmagazine.net
SUMMARY:Great Wines of the World 2019: Hong Kong Grand Tasting
DESCRIPTION:Great Wines of the World 2019: Hong Kong Grand Tasting\nDate: 5pm\, 31 October\, 2019\nVenue: Grand Hyatt Hotel\nTickets: $980\, $799 (advance)
URL:https://www.bcmagazine.net/event/great-wines-of-the-world-2019-hong-kong-grand-tasting/
LOCATION:Grand Hyatt Hotel\, 1 Harbour Road\, Wanchai\, Hong Kong
CATEGORIES:2019,Food,Lifestyle,Other
ATTACH;FMTTYPE=image/png:https://www.bcmagazine.net/wp-content/uploads/1919/04/hong-kong_james-suckling-wine-tasting.png
END:VEVENT
BEGIN:VEVENT
DTSTART;VALUE=DATE:20191101
DTEND;VALUE=DATE:20191111
DTSTAMP:20260426T120045
CREATED:20190820T025116Z
LAST-MODIFIED:20190828T214000Z
UID:10006597-1572566400-1573430399@www.bcmagazine.net
SUMMARY:HK International Literary Festival
DESCRIPTION:Hong Kong International Literary Festival\nDate: 1-10 November\, 2019\nVenue: various\nTickets: various\nMore info:\nFull festival schedule www.festival.org.hk/events/
URL:https://www.bcmagazine.net/event/hk-international-literary-festival-2019/
CATEGORIES:2019,Cultural Festival,Performing Arts
ATTACH;FMTTYPE=image/jpeg:https://www.bcmagazine.net/wp-content/uploads/1915/09/hkilf-2019.jpg
END:VEVENT
BEGIN:VEVENT
DTSTART;TZID=Asia/Hong_Kong:20191101T200000
DTEND;TZID=Asia/Hong_Kong:20191101T200000
DTSTAMP:20260426T120045
CREATED:19180716T124702Z
LAST-MODIFIED:20191015T121349Z
UID:10004332-1572638400-1572638400@www.bcmagazine.net
SUMMARY:Carmen | Hong Kong - Postponed to 2020
DESCRIPTION:Carmen | Hong Kong\nMore Than Musical\nDate: 1-2 November\, 2019\nVenue: The Box\, Freespace\, Art Park\, West Kowloon Cultural District\nTickets: $850\, $550\, $350\, $250\nMore info:\n8pm – 1 November\, 2019\n4:30pm – 2 November\, 2019
URL:https://www.bcmagazine.net/event/carmen-hong-kong-01-11-2019/
LOCATION:West Kowloon Cultural District\, Freespace\, The Box\, West Kowloon\, Hong Kong
CATEGORIES:2019,Music,Opera,Performing Arts
ATTACH;FMTTYPE=image/jpeg:https://www.bcmagazine.net/wp-content/uploads/1918/07/carmen-hk.jpg
END:VEVENT
END:VCALENDAR