BEGIN:VCALENDAR
VERSION:2.0
PRODID:-//bc magazine - ECPv6.15.20//NONSGML v1.0//EN
CALSCALE:GREGORIAN
METHOD:PUBLISH
X-WR-CALNAME:bc magazine
X-ORIGINAL-URL:https://www.bcmagazine.net
X-WR-CALDESC:Events for bc magazine
REFRESH-INTERVAL;VALUE=DURATION:PT1H
X-Robots-Tag:noindex
X-PUBLISHED-TTL:PT1H
BEGIN:VTIMEZONE
TZID:Asia/Hong_Kong
BEGIN:STANDARD
TZOFFSETFROM:+0800
TZOFFSETTO:+0800
TZNAME:HKT
DTSTART:20240101T000000
END:STANDARD
END:VTIMEZONE
BEGIN:VEVENT
DTSTART;VALUE=DATE:20250227
DTEND;VALUE=DATE:20250331
DTSTAMP:20260425T053829
CREATED:20240928T044512Z
LAST-MODIFIED:20241014T151824Z
UID:10010170-1740614400-1743379199@www.bcmagazine.net
SUMMARY:HK Arts Festival
DESCRIPTION:51st HK Arts Festival\nDate: 27 February – 30 March\, 2025\nVenue: Various\nTickets: Urbtix
URL:https://www.bcmagazine.net/event/hk-arts-festival-2025/
CATEGORIES:2025,Ballet,Cantonese drama,Cantonese Opera,Chinese opera,Concert,Cultural Festival,Dance,Music,Opera,Performing Arts,talk,Theatre
ATTACH;FMTTYPE=image/jpeg:https://www.bcmagazine.net/wp-content/uploads/1918/12/HKAF-2025.jpg
END:VEVENT
BEGIN:VEVENT
DTSTART;VALUE=DATE:20250301
DTEND;VALUE=DATE:20250309
DTSTAMP:20260425T053829
CREATED:20250201T044216Z
LAST-MODIFIED:20250221T113913Z
UID:10010597-1740787200-1741478399@www.bcmagazine.net
SUMMARY:Hong Kong International Literary Festival
DESCRIPTION:23rd Hong Kong International Literary Festival\nDate: 1-8 March 2025\nVenue: various\nTickets: various\nMore info:\nFull festival schedule www.festival.org.hk
URL:https://www.bcmagazine.net/event/hong-kong-international-literary-festival-2025/
CATEGORIES:2025,Cultural Festival,Performing Arts
ATTACH;FMTTYPE=image/png:https://www.bcmagazine.net/wp-content/uploads/2023/07/HKILf-2025.png
END:VEVENT
BEGIN:VEVENT
DTSTART;TZID=Asia/Hong_Kong:20250301T183000
DTEND;TZID=Asia/Hong_Kong:20250301T183000
DTSTAMP:20260425T053829
CREATED:20250201T054205Z
LAST-MODIFIED:20250221T111902Z
UID:10010593-1740853800-1740853800@www.bcmagazine.net
SUMMARY:Kai Tak Sports Park Grand Opening
DESCRIPTION:Kai Tak Sports Park Grand Opening\nDate: 6:30pm\, 1 March 2025\nVenue: Kai Tak Stadium\, Kai Tak Sports Park\nTickets: $10 from Urbtix
URL:https://www.bcmagazine.net/event/kai-tak-sports-park-grand-opening-2025/
LOCATION:Kai Tak Stadium\, 38-39 Shing Kai Road\, Kowloon City\, Hong Kong
CATEGORIES:2025,Cantopop,Concert,Music,Performing Arts
ATTACH;FMTTYPE=image/jpeg:https://www.bcmagazine.net/wp-content/uploads/2025/02/Kai-Tak-Sports-Park-Grand-Opening.jpg
END:VEVENT
BEGIN:VEVENT
DTSTART;TZID=Asia/Hong_Kong:20250309T110000
DTEND;TZID=Asia/Hong_Kong:20250309T170000
DTSTAMP:20260425T053829
CREATED:20250111T000853Z
LAST-MODIFIED:20250111T123507Z
UID:10010207-1741518000-1741539600@www.bcmagazine.net
SUMMARY:Holi Beach Party
DESCRIPTION:Holi Beach Party\nDate: 11am-5pm\, 9 March\, 2025\nVenue: to be announced\nTickets: $tbc\nMore info: \nBring your own food & drinks (BYOB & BYOF allowed)\nFor more info email holi.beach.party@gmail.com
URL:https://www.bcmagazine.net/event/holi-beach-party-2025/
CATEGORIES:2025,Cultural Festival,DJ,Lifestyle,Music,Nightlife
ATTACH;FMTTYPE=image/jpeg:https://www.bcmagazine.net/wp-content/uploads/2024/03/Holi-Beach-party-2025.jpeg
END:VEVENT
BEGIN:VEVENT
DTSTART;VALUE=DATE:20250315
DTEND;VALUE=DATE:20250714
DTSTAMP:20260425T053829
CREATED:20250306T000803Z
LAST-MODIFIED:20250430T144051Z
UID:10011337-1741996800-1752451199@www.bcmagazine.net
SUMMARY:Le French May
DESCRIPTION:Le French May\nDate: 15 March – 13 July 2025\nVenue: Various\nTickets: Various\nMore info:\nwww.FrenchMay.com
URL:https://www.bcmagazine.net/event/le-french-may-2025/
CATEGORIES:2025,Art Gallery,Concert,Cultural Festival,Exhibition,Fashion,Film,Food,Lifestyle,Multimedia,Music,Performing Arts
ATTACH;FMTTYPE=image/png:https://www.bcmagazine.net/wp-content/uploads/1916/04/le-french-may-2025.png
END:VEVENT
BEGIN:VEVENT
DTSTART;VALUE=DATE:20250322
DTEND;VALUE=DATE:20250324
DTSTAMP:20260425T053829
CREATED:20250202T004237Z
LAST-MODIFIED:20250221T115512Z
UID:10010598-1742601600-1742774399@www.bcmagazine.net
SUMMARY:Irish Festival
DESCRIPTION:Irish Festival\nDate: 22-23 March\, 2025\nVenue: 70 Queen’s Road Central\nTickets: $320\, $170
URL:https://www.bcmagazine.net/event/hk-irish-festival-2025/
LOCATION:70 Queen’s Road Central\, 70 Queen's Road\, Central\, Hong Kong
CATEGORIES:2025,Concert,Cultural Festival,Dance,Music,Nightlife,Performing Arts
ATTACH;FMTTYPE=image/jpeg:https://www.bcmagazine.net/wp-content/uploads/2025/02/Irish-Festival-2025.jpg
END:VEVENT
BEGIN:VEVENT
DTSTART;VALUE=DATE:20250323
DTEND;VALUE=DATE:20250324
DTSTAMP:20260425T053829
CREATED:20250125T062832Z
LAST-MODIFIED:20250218T095327Z
UID:10010210-1742688000-1742774399@www.bcmagazine.net
SUMMARY:Hong Kong International Touch Championship 2025
DESCRIPTION:Hong Kong International Touch Championship 2025\nWhen: 23 March\, 2025\nWhere: Happy Valley Recreation Ground\nHow much: tbc\nMore info: www.facebook.com/hktouch
URL:https://www.bcmagazine.net/event/hong-kong-international-touch-championship-2025/
LOCATION:Happy Valley Recreation Ground\, 2 Sports Road\, Happy Valley\, Causeway Bay\, Hong Kong
CATEGORIES:2025,Rugby,Sport
ATTACH;FMTTYPE=image/jpeg:https://www.bcmagazine.net/wp-content/uploads/2024/11/Hong-Kong-Touch-Championship-2025.jpg
GEO:22.2859787;114.1914919
X-APPLE-STRUCTURED-LOCATION;VALUE=URI;X-ADDRESS=Happy Valley Recreation Ground 2 Sports Road Happy Valley Causeway Bay Hong Kong;X-APPLE-RADIUS=500;X-TITLE=2 Sports Road:geo:114.1914919,22.2859787
END:VEVENT
BEGIN:VEVENT
DTSTART;VALUE=DATE:20250326
DTEND;VALUE=DATE:20250328
DTSTAMP:20260425T053830
CREATED:20241120T062832Z
LAST-MODIFIED:20260219T095933Z
UID:10010197-1742947200-1743119999@www.bcmagazine.net
SUMMARY:Hong Kong Tens
DESCRIPTION:Hong Kong Tens\nWhen: 26-27 March\, 2025\nWhere: Hong Kong Football Club\nHow much: tbc\nMore info: www.hkfc-10s.com
URL:https://www.bcmagazine.net/event/hong-kong-tens-2025/
LOCATION:Hong Kong Football Club\, 3 Sports Road\, Causeway Bay\, Hong Kong
CATEGORIES:2025,Rugby,Sport
ATTACH;FMTTYPE=image/jpeg:https://www.bcmagazine.net/wp-content/uploads/2023/11/tens-2024-winners.jpg
GEO:22.275374;114.1822239
X-APPLE-STRUCTURED-LOCATION;VALUE=URI;X-ADDRESS=Hong Kong Football Club 3 Sports Road Causeway Bay Hong Kong;X-APPLE-RADIUS=500;X-TITLE=3 Sports Road:geo:114.1822239,22.275374
END:VEVENT
BEGIN:VEVENT
DTSTART;VALUE=DATE:20250326
DTEND;VALUE=DATE:20250331
DTSTAMP:20260425T053830
CREATED:20241014T110826Z
LAST-MODIFIED:20241017T101316Z
UID:10010172-1742947200-1743379199@www.bcmagazine.net
SUMMARY:Digital Art Fair
DESCRIPTION:Digital Art Fair\nDate: 26-30 March\, 2025\nVenue: West Kowloon\nTickets: $1\,960\, $960\, $320
URL:https://www.bcmagazine.net/event/digital-art-fair-2025/
LOCATION:West Kowloon Culture District\, West Kowloon Waterfront Promenade\, Hong Kong
CATEGORIES:2025,Art Gallery,Exhibition
ATTACH;FMTTYPE=image/jpeg:https://www.bcmagazine.net/wp-content/uploads/2015/04/digital-art-fair-2025.jpg
GEO:22.302243;114.155596
X-APPLE-STRUCTURED-LOCATION;VALUE=URI;X-ADDRESS=West Kowloon Culture District West Kowloon Waterfront Promenade Hong Kong;X-APPLE-RADIUS=500;X-TITLE=West Kowloon Waterfront Promenade:geo:114.155596,22.302243
END:VEVENT
BEGIN:VEVENT
DTSTART;VALUE=DATE:20250326
DTEND;VALUE=DATE:20250331
DTSTAMP:20260425T053830
CREATED:20250110T032000Z
LAST-MODIFIED:20250218T103859Z
UID:10010211-1742947200-1743379199@www.bcmagazine.net
SUMMARY:Art Central
DESCRIPTION:Art Central\nDate: 26-30 March 2025\nVenue: Central Harbourfront\nTickets: $540\, $340\, $260 HKTicketing\nMore info:\n26 March: 12nn-5pm / 5-9pm\n27 March: 12nn-7pm\n28 March: 12nn -7pm\n29 March: 11am-7pm\n30 March: 11am-5pm
URL:https://www.bcmagazine.net/event/art-central-2025/
LOCATION:Central Harbourfront\,  9 Lung Wo Road\, Central\, Hong Kong
CATEGORIES:2025,Art Gallery,Exhibition,Other
ATTACH;FMTTYPE=image/jpeg:https://www.bcmagazine.net/wp-content/uploads/2023/01/art-Central-2024.jpeg
GEO:22.2826223;114.164346
X-APPLE-STRUCTURED-LOCATION;VALUE=URI;X-ADDRESS=Central Harbourfront  9 Lung Wo Road Central Hong Kong;X-APPLE-RADIUS=500;X-TITLE=9 Lung Wo Road:geo:114.164346,22.2826223
END:VEVENT
BEGIN:VEVENT
DTSTART;VALUE=DATE:20250327
DTEND;VALUE=DATE:20250328
DTSTAMP:20260425T053830
CREATED:20250120T084236Z
LAST-MODIFIED:20250218T093733Z
UID:10010209-1743033600-1743119999@www.bcmagazine.net
SUMMARY:Kowloon Fest - Twentieth Anniversary
DESCRIPTION:Kowloon Fest – Twentieth Anniversary\nWhen: 27 March 2025\nWhere: Kings Park\nHow much: Free\nMore info: www.rugbyfest.org
URL:https://www.bcmagazine.net/event/kowloon-fest-2025/
LOCATION:King’s Park Sports Ground\, 11 Wylie Path\, Ho Man Tin\, Jordan\, Hong Kong
CATEGORIES:2025,Free,Rugby,Sport
ATTACH;FMTTYPE=image/jpeg:https://www.bcmagazine.net/wp-content/uploads/1918/02/kowloonfest-2025.jpg
END:VEVENT
BEGIN:VEVENT
DTSTART;VALUE=DATE:20250327
DTEND;VALUE=DATE:20250331
DTSTAMP:20260425T053830
CREATED:20250125T020222Z
LAST-MODIFIED:20250219T122639Z
UID:10010212-1743033600-1743379199@www.bcmagazine.net
SUMMARY:Art Basel Hong Kong 2025
DESCRIPTION:Art Basel Hong Kong 2025\nDate: 27-30 March\, 2025\nVenue: HK Convention and Exhibition Centre\nTickets: $4\,880\, $1\,180\, $980\, $990\, $620\, $550\, $420\, $350 from HKTicketing\nMore info:\n27 March: 4-8pm\n28 March: 2-8pm\n29 March: 2–8pm\n30 March: 12 noon–6pm
URL:https://www.bcmagazine.net/event/art-basel-hong-kong-2025/
LOCATION:HK Convention and Exhibition Centre\, 1 Expo Drive\, Wanchai\, Hong Kong
CATEGORIES:2025,Art Gallery,Exhibition
ATTACH;FMTTYPE=image/jpeg:https://www.bcmagazine.net/wp-content/uploads/2024/01/art-basel-hk-2025.jpg
END:VEVENT
BEGIN:VEVENT
DTSTART;VALUE=DATE:20250328
DTEND;VALUE=DATE:20250331
DTSTAMP:20260425T053830
CREATED:20241018T111400Z
LAST-MODIFIED:20241105T043104Z
UID:10010192-1743120000-1743379199@www.bcmagazine.net
SUMMARY:HK Sevens
DESCRIPTION:HK Sevens\nDate: 28-30 March 2025\nVenue: Kai Tak Stadium\nTickets: $1\,950\nMore info: www.HKsevens.com
URL:https://www.bcmagazine.net/event/hk-sevens-2025/
LOCATION:Kai Tak Stadium\, 38-39 Shing Kai Road\, Kowloon City\, Hong Kong
CATEGORIES:2025,Rugby,Sport
ATTACH;FMTTYPE=image/jpeg:https://www.bcmagazine.net/wp-content/uploads/2023/04/HK-sevens-2025.jpg
END:VEVENT
BEGIN:VEVENT
DTSTART;TZID=Asia/Hong_Kong:20250408T200000
DTEND;TZID=Asia/Hong_Kong:20250408T200000
DTSTAMP:20260425T053830
CREATED:20240919T040802Z
LAST-MODIFIED:20250220T085134Z
UID:10010592-1744142400-1744142400@www.bcmagazine.net
SUMMARY:Coldplay
DESCRIPTION:Coldplay – Music of the Spheres\nDate: 9\, 11\, 12 April 2025\nVenue: Kai Tak Stadium\nTickets: $2\,099\, $1\,699\, $1\,399\, $1\,299\, $999\, $699\, $399
URL:https://www.bcmagazine.net/event/coldplay-2025-hong-kong/2025-04-08/
CATEGORIES:2025,Concert,Music,Performing Arts
ATTACH;FMTTYPE=image/jpeg:https://www.bcmagazine.net/wp-content/uploads/2024/05/Coldplay-Hong-Kong-2025.jpg
END:VEVENT
BEGIN:VEVENT
DTSTART;TZID=Asia/Hong_Kong:20250409T200000
DTEND;TZID=Asia/Hong_Kong:20250409T200000
DTSTAMP:20260425T053830
CREATED:20240919T040802Z
LAST-MODIFIED:20250220T085134Z
UID:10009834-1744228800-1744228800@www.bcmagazine.net
SUMMARY:Coldplay
DESCRIPTION:Coldplay – Music of the Spheres\nDate: 9\, 11\, 12 April 2025\nVenue: Kai Tak Stadium\nTickets: $2\,099\, $1\,699\, $1\,399\, $1\,299\, $999\, $699\, $399
URL:https://www.bcmagazine.net/event/coldplay-2025-hong-kong/2025-04-09/
CATEGORIES:2025,Concert,Music,Performing Arts
ATTACH;FMTTYPE=image/jpeg:https://www.bcmagazine.net/wp-content/uploads/2024/05/Coldplay-Hong-Kong-2025.jpg
END:VEVENT
BEGIN:VEVENT
DTSTART;VALUE=DATE:20250410
DTEND;VALUE=DATE:20250422
DTSTAMP:20260425T053830
CREATED:20250210T063818Z
LAST-MODIFIED:20260201T095633Z
UID:10010596-1744243200-1745279999@www.bcmagazine.net
SUMMARY:49th Hong Kong International Film Festival
DESCRIPTION:49th Hong Kong International Film Festival\nDate: 10-21 April\, 2025\nVenue: various\nTickets: tbc
URL:https://www.bcmagazine.net/event/49th-hong-kong-international-film-festival/
CATEGORIES:2025,Film,Performing Arts
ATTACH;FMTTYPE=image/jpeg:https://www.bcmagazine.net/wp-content/uploads/2024/01/HKIFF-2025.jpg
END:VEVENT
BEGIN:VEVENT
DTSTART;TZID=Asia/Hong_Kong:20250411T200000
DTEND;TZID=Asia/Hong_Kong:20250411T200000
DTSTAMP:20260425T053830
CREATED:20240919T040802Z
LAST-MODIFIED:20250220T085134Z
UID:10009835-1744401600-1744401600@www.bcmagazine.net
SUMMARY:Coldplay
DESCRIPTION:Coldplay – Music of the Spheres\nDate: 9\, 11\, 12 April 2025\nVenue: Kai Tak Stadium\nTickets: $2\,099\, $1\,699\, $1\,399\, $1\,299\, $999\, $699\, $399
URL:https://www.bcmagazine.net/event/coldplay-2025-hong-kong/2025-04-11/
CATEGORIES:2025,Concert,Music,Performing Arts
ATTACH;FMTTYPE=image/jpeg:https://www.bcmagazine.net/wp-content/uploads/2024/05/Coldplay-Hong-Kong-2025.jpg
END:VEVENT
BEGIN:VEVENT
DTSTART;TZID=Asia/Hong_Kong:20250412T200000
DTEND;TZID=Asia/Hong_Kong:20250412T200000
DTSTAMP:20260425T053830
CREATED:20240919T040802Z
LAST-MODIFIED:20250220T085134Z
UID:10009836-1744488000-1744488000@www.bcmagazine.net
SUMMARY:Coldplay
DESCRIPTION:Coldplay – Music of the Spheres\nDate: 9\, 11\, 12 April 2025\nVenue: Kai Tak Stadium\nTickets: $2\,099\, $1\,699\, $1\,399\, $1\,299\, $999\, $699\, $399
URL:https://www.bcmagazine.net/event/coldplay-2025-hong-kong/2025-04-12/
CATEGORIES:2025,Concert,Music,Performing Arts
ATTACH;FMTTYPE=image/jpeg:https://www.bcmagazine.net/wp-content/uploads/2024/05/Coldplay-Hong-Kong-2025.jpg
END:VEVENT
BEGIN:VEVENT
DTSTART;TZID=Asia/Hong_Kong:20250424T193000
DTEND;TZID=Asia/Hong_Kong:20250424T193000
DTSTAMP:20260425T053830
CREATED:20250207T054205Z
LAST-MODIFIED:20250408T102436Z
UID:10010587-1745523000-1745523000@www.bcmagazine.net
SUMMARY:Nicholas Tse
DESCRIPTION:Nicholas Tse\nDate: 7:30pm\, 24-27 April 2025\nVenue: Kai Tak Stadium\, Kai Tak Sports Park\nTickets: $1\,380\, $1\,180\, $980\, $680 from Cityline
URL:https://www.bcmagazine.net/event/nicholas-tse-2025/2025-04-24/
LOCATION:Kai Tak Stadium\, 38-39 Shing Kai Road\, Kowloon City\, Hong Kong
CATEGORIES:2025,Cantopop,Concert,Music,Performing Arts
ATTACH;FMTTYPE=image/jpeg:https://www.bcmagazine.net/wp-content/uploads/2025/01/Nicholas-Tse-2025.jpg
END:VEVENT
BEGIN:VEVENT
DTSTART;TZID=Asia/Hong_Kong:20250425T193000
DTEND;TZID=Asia/Hong_Kong:20250425T193000
DTSTAMP:20260425T053830
CREATED:20250207T054205Z
LAST-MODIFIED:20250408T102436Z
UID:10010590-1745609400-1745609400@www.bcmagazine.net
SUMMARY:Nicholas Tse
DESCRIPTION:Nicholas Tse\nDate: 7:30pm\, 24-27 April 2025\nVenue: Kai Tak Stadium\, Kai Tak Sports Park\nTickets: $1\,380\, $1\,180\, $980\, $680 from Cityline
URL:https://www.bcmagazine.net/event/nicholas-tse-2025/2025-04-25/
LOCATION:Kai Tak Stadium\, 38-39 Shing Kai Road\, Kowloon City\, Hong Kong
CATEGORIES:2025,Cantopop,Concert,Music,Performing Arts
ATTACH;FMTTYPE=image/jpeg:https://www.bcmagazine.net/wp-content/uploads/2025/01/Nicholas-Tse-2025.jpg
END:VEVENT
BEGIN:VEVENT
DTSTART;TZID=Asia/Hong_Kong:20250426T190000
DTEND;TZID=Asia/Hong_Kong:20250426T190000
DTSTAMP:20260425T053830
CREATED:20250323T053805Z
LAST-MODIFIED:20250408T104340Z
UID:10010602-1745694000-1745694000@www.bcmagazine.net
SUMMARY:Just Us
DESCRIPTION:Just Us Live in Hong Kong 2025\nDate: 26 April 2025\nVenue: Kai Tak Arena\, Kai Tak Sports Park\nTickets: $1\,880\, $1\,580\, $1\,280\, $880\, $680 from Cityline
URL:https://www.bcmagazine.net/event/just-us-hong-kong-2025/
LOCATION:Kai Tak Arena\, Kai Tak Sports Park\, Hong Kong
CATEGORIES:2025,Cantopop,Concert,Music,Performing Arts
ATTACH;FMTTYPE=image/avif:https://www.bcmagazine.net/wp-content/uploads/2025/01/Just-Us-HK-2025.avif
END:VEVENT
BEGIN:VEVENT
DTSTART;TZID=Asia/Hong_Kong:20250426T193000
DTEND;TZID=Asia/Hong_Kong:20250426T193000
DTSTAMP:20260425T053830
CREATED:20250207T054205Z
LAST-MODIFIED:20250408T102436Z
UID:10010591-1745695800-1745695800@www.bcmagazine.net
SUMMARY:Nicholas Tse
DESCRIPTION:Nicholas Tse\nDate: 7:30pm\, 24-27 April 2025\nVenue: Kai Tak Stadium\, Kai Tak Sports Park\nTickets: $1\,380\, $1\,180\, $980\, $680 from Cityline
URL:https://www.bcmagazine.net/event/nicholas-tse-2025/2025-04-26/
LOCATION:Kai Tak Stadium\, 38-39 Shing Kai Road\, Kowloon City\, Hong Kong
CATEGORIES:2025,Cantopop,Concert,Music,Performing Arts
ATTACH;FMTTYPE=image/jpeg:https://www.bcmagazine.net/wp-content/uploads/2025/01/Nicholas-Tse-2025.jpg
END:VEVENT
BEGIN:VEVENT
DTSTART;TZID=Asia/Hong_Kong:20250426T200000
DTEND;TZID=Asia/Hong_Kong:20250426T200000
DTSTAMP:20260425T053830
CREATED:20250206T004237Z
LAST-MODIFIED:20250208T135918Z
UID:10010208-1745697600-1745697600@www.bcmagazine.net
SUMMARY:Shag
DESCRIPTION:Shag\nSugizo\nDate: 8pm\, 26 April\, 2025\nVenue: Tsuen Wan Town Hall\, Auditorium\nTickets: $880\, $680\, $480\, $280
URL:https://www.bcmagazine.net/event/shag-2025/
LOCATION:Tsuen Wan Town Hall\, Auditorium\, 72 Tai Ho Road\, Tsuen Wan\, Hong Kong
CATEGORIES:2025,Concert,Free,Music,Nightlife,Performing Arts
ATTACH;FMTTYPE=image/jpeg:https://www.bcmagazine.net/wp-content/uploads/2022/06/shag-2025.jpg
GEO:22.3708519;114.112733
X-APPLE-STRUCTURED-LOCATION;VALUE=URI;X-ADDRESS=Tsuen Wan Town Hall Auditorium 72 Tai Ho Road Tsuen Wan Hong Kong;X-APPLE-RADIUS=500;X-TITLE=72 Tai Ho Road:geo:114.112733,22.3708519
END:VEVENT
BEGIN:VEVENT
DTSTART;TZID=Asia/Hong_Kong:20250427T193000
DTEND;TZID=Asia/Hong_Kong:20250427T193000
DTSTAMP:20260425T053830
CREATED:20250207T054205Z
LAST-MODIFIED:20250408T102436Z
UID:10010601-1745782200-1745782200@www.bcmagazine.net
SUMMARY:Nicholas Tse
DESCRIPTION:Nicholas Tse\nDate: 7:30pm\, 24-27 April 2025\nVenue: Kai Tak Stadium\, Kai Tak Sports Park\nTickets: $1\,380\, $1\,180\, $980\, $680 from Cityline
URL:https://www.bcmagazine.net/event/nicholas-tse-2025/2025-04-27/
LOCATION:Kai Tak Stadium\, 38-39 Shing Kai Road\, Kowloon City\, Hong Kong
CATEGORIES:2025,Cantopop,Concert,Music,Performing Arts
ATTACH;FMTTYPE=image/jpeg:https://www.bcmagazine.net/wp-content/uploads/2025/01/Nicholas-Tse-2025.jpg
END:VEVENT
BEGIN:VEVENT
DTSTART;TZID=Asia/Hong_Kong:20250429T200000
DTEND;TZID=Asia/Hong_Kong:20250429T200000
DTSTAMP:20260425T053830
CREATED:20250308T004237Z
LAST-MODIFIED:20250429T041753Z
UID:10011334-1745956800-1745956800@www.bcmagazine.net
SUMMARY:M2M
DESCRIPTION:M2M – The Better Endings Tour\nDate: 8pm\, 29 April 2025\nVenue: Queen Elizabeth Stadium\nTickets: $2\,088\, $1\,288\, $888\, $688 from Urbtix
URL:https://www.bcmagazine.net/event/m2m-2025/
LOCATION:Queen Elizabeth Stadium\, 18 Oi Kwan Road\, Wanchai\, Hong Kong
CATEGORIES:2025,Concert,Free,Music,Nightlife,Performing Arts
ATTACH;FMTTYPE=image/webp:https://www.bcmagazine.net/wp-content/uploads/2022/06/M2M-hong-kong-2025.webp
GEO:22.2751271;114.1789682
X-APPLE-STRUCTURED-LOCATION;VALUE=URI;X-ADDRESS=Queen Elizabeth Stadium 18 Oi Kwan Road Wanchai Hong Kong;X-APPLE-RADIUS=500;X-TITLE=18 Oi Kwan Road:geo:114.1789682,22.2751271
END:VEVENT
BEGIN:VEVENT
DTSTART;VALUE=DATE:20250501
DTEND;VALUE=DATE:20250601
DTSTAMP:20260425T053830
CREATED:20250408T004212Z
LAST-MODIFIED:20250430T144832Z
UID:10011338-1746057600-1748735999@www.bcmagazine.net
SUMMARY:Le French GourMay
DESCRIPTION:The 16th edition of French GourMay Food & Wine Festival unveils the soul of French culinary culture and art-de-vivre \nFor the full list of events and participating restaurants\, see  www.frenchgourmay.com \n\nLe French GourMay\nDate: 1-31 May\, 2025\nVenue: Various\nTickets: Various\nMore info:\nwww.frenchgourmay.com
URL:https://www.bcmagazine.net/event/le-french-gourmay-2025/
LOCATION:Hong Kong\, Hong Kong
CATEGORIES:2025,Food,Market
ATTACH;FMTTYPE=image/png:https://www.bcmagazine.net/wp-content/uploads/1923/03/Le-French-GourMay-2025.png
GEO:22.396428;114.109497
END:VEVENT
BEGIN:VEVENT
DTSTART;TZID=Asia/Hong_Kong:20250501T200000
DTEND;TZID=Asia/Hong_Kong:20250501T200000
DTSTAMP:20260425T053830
CREATED:20250430T064205Z
LAST-MODIFIED:20250430T142305Z
UID:10011335-1746129600-1746129600@www.bcmagazine.net
SUMMARY:HKTB 1 May Drone Show
DESCRIPTION:HKTB 1 May Drone Show\nDate: 8pm\, 1 May\, 2025\nVenue: Victoria Harbour\nTickets: Free
URL:https://www.bcmagazine.net/event/hktb-1-may-drone-show/
LOCATION:Victoria Harbour\, Hong Kong
CATEGORIES:2025,Cultural Festival,Free,Other
ATTACH;FMTTYPE=image/jpeg:https://www.bcmagazine.net/wp-content/uploads/2024/05/HKTB-drone-show-bun-tower.jpg
END:VEVENT
BEGIN:VEVENT
DTSTART;VALUE=DATE:20250503
DTEND;VALUE=DATE:20250507
DTSTAMP:20260425T053830
CREATED:19210208T121521Z
LAST-MODIFIED:20220318T034230Z
UID:10005080-1746230400-1746575999@www.bcmagazine.net
SUMMARY:Cheung Chau Bun Festival
DESCRIPTION:Cheung Chau Bun Festival\nDate: 3-6 May\, 2025\nVenue:  Cheung Chau\nTickets: Free
URL:https://www.bcmagazine.net/event/cheung-chau-bun-festival-2025-2/
LOCATION:Cheung Chau\, Cheung Chau\, Hong Kong
CATEGORIES:2025,Cultural Festival,Free
ATTACH;FMTTYPE=image/jpeg:https://www.bcmagazine.net/wp-content/uploads/2022/03/cheung-chau-jiao-01.jpeg
END:VEVENT
BEGIN:VEVENT
DTSTART;VALUE=DATE:20250505
DTEND;VALUE=DATE:20250511
DTSTAMP:20260425T053830
CREATED:20250419T060844Z
LAST-MODIFIED:20250428T090121Z
UID:10011333-1746403200-1746921599@www.bcmagazine.net
SUMMARY:Ice Hockey 5s
DESCRIPTION:Ice Hockey 5s\nDate: 5-10 May\, 2025\nVenue: MegaIce\nTickets: Free
URL:https://www.bcmagazine.net/event/ice-hockey-5s-2025/
LOCATION:Mega Ice\, MegaBox\, 38 Wang Chiu Road\, Kowloon Bay\, Hong Kong
CATEGORIES:2025,Sport
ATTACH;FMTTYPE=image/png:https://www.bcmagazine.net/wp-content/uploads/1917/04/Screenshot-2025-04-28-at-16.52.29.png
GEO:22.3196372;114.2084863
X-APPLE-STRUCTURED-LOCATION;VALUE=URI;X-ADDRESS=Mega Ice MegaBox 38 Wang Chiu Road Kowloon Bay Hong Kong;X-APPLE-RADIUS=500;X-TITLE=MegaBox\, 38 Wang Chiu Road:geo:114.2084863,22.3196372
END:VEVENT
BEGIN:VEVENT
DTSTART;TZID=Asia/Hong_Kong:20250509T190000
DTEND;TZID=Asia/Hong_Kong:20250509T190000
DTSTAMP:20260425T053830
CREATED:20250312T053805Z
LAST-MODIFIED:20250408T104509Z
UID:10010607-1746817200-1746817200@www.bcmagazine.net
SUMMARY:MayDay
DESCRIPTION:MayDay #5525\nDate: 9-11\, 13 May 2025\nVenue: Kai Tak Stadium\, Kai Tak Sports Park\nTickets: $1\,855\, $1\,555\, $1\,355\, $1\,155\, $955\, $755 from Cityline
URL:https://www.bcmagazine.net/event/mayday-hong-kong-2025/2025-05-09/
LOCATION:Kai Tak Stadium\, 38-39 Shing Kai Road\, Kowloon City\, Hong Kong
CATEGORIES:2025,Cantopop,Concert,Music,Performing Arts
ATTACH;FMTTYPE=image/jpeg:https://www.bcmagazine.net/wp-content/uploads/2025/03/Mayday-hong-kong-2025.jpg
END:VEVENT
END:VCALENDAR