BEGIN:VCALENDAR
VERSION:2.0
PRODID:-//bc magazine - ECPv6.15.20//NONSGML v1.0//EN
CALSCALE:GREGORIAN
METHOD:PUBLISH
X-ORIGINAL-URL:https://www.bcmagazine.net
X-WR-CALDESC:Events for bc magazine
REFRESH-INTERVAL;VALUE=DURATION:PT1H
X-Robots-Tag:noindex
X-PUBLISHED-TTL:PT1H
BEGIN:VTIMEZONE
TZID:Asia/Hong_Kong
BEGIN:STANDARD
TZOFFSETFROM:+0800
TZOFFSETTO:+0800
TZNAME:HKT
DTSTART:20250101T000000
END:STANDARD
END:VTIMEZONE
BEGIN:VEVENT
DTSTART;TZID=Asia/Hong_Kong:20260308T190000
DTEND;TZID=Asia/Hong_Kong:20260308T190000
DTSTAMP:20260424T180904
CREATED:20260106T040802Z
LAST-MODIFIED:20260220T085740Z
UID:10012701-1772996400-1772996400@www.bcmagazine.net
SUMMARY:Katch the Moment
DESCRIPTION:Katch the Moment – The Moment Apart\nDate: 7pm\, 7-8 March 2026\nVenue: Kai Tak Arena\nTickets: $1\,180\, $880\, $680 from HKTicketing
URL:https://www.bcmagazine.net/event/katch-the-moment-2026/2026-03-08/
LOCATION:Kai Tak Arena\, Kai Tak Sports Park\, Hong Kong
CATEGORIES:2026,Concert,Music,Performing Arts
ATTACH;FMTTYPE=image/jpeg:https://www.bcmagazine.net/wp-content/uploads/2026/01/Katch-the-Moment-HK-2026-2.jpg
END:VEVENT
BEGIN:VEVENT
DTSTART;TZID=Asia/Hong_Kong:20260307T201500
DTEND;TZID=Asia/Hong_Kong:20260307T201500
DTSTAMP:20260424T180904
CREATED:20251229T053034Z
LAST-MODIFIED:20260219T131707Z
UID:10012690-1772914500-1772914500@www.bcmagazine.net
SUMMARY:Chris Wong
DESCRIPTION:Chris Wong 40th Anniversary Hong Kong Concert\nDate: 8:15pm\, 6-7 March 2026\nVenue: HK Coliseum\nTickets: $1\,080\, $780\, $480 from Urbtix
URL:https://www.bcmagazine.net/event/chris-wong/2026-03-07/
LOCATION:HK Coliseum\, 9 Cheong Wan Road\, Hung Hom\, Hong Kong
CATEGORIES:2026,Concert,Music,Performing Arts
ATTACH;FMTTYPE=image/jpeg:https://www.bcmagazine.net/wp-content/uploads/2026/01/chris-wong-2026-1.jpg
GEO:22.3014169;114.1820305
X-APPLE-STRUCTURED-LOCATION;VALUE=URI;X-ADDRESS=HK Coliseum 9 Cheong Wan Road Hung Hom Hong Kong;X-APPLE-RADIUS=500;X-TITLE=9 Cheong Wan Road:geo:114.1820305,22.3014169
END:VEVENT
BEGIN:VEVENT
DTSTART;TZID=Asia/Hong_Kong:20260307T190000
DTEND;TZID=Asia/Hong_Kong:20260307T190000
DTSTAMP:20260424T180904
CREATED:20260106T040802Z
LAST-MODIFIED:20260220T085740Z
UID:10012700-1772910000-1772910000@www.bcmagazine.net
SUMMARY:Katch the Moment
DESCRIPTION:Katch the Moment – The Moment Apart\nDate: 7pm\, 7-8 March 2026\nVenue: Kai Tak Arena\nTickets: $1\,180\, $880\, $680 from HKTicketing
URL:https://www.bcmagazine.net/event/katch-the-moment-2026/2026-03-07/
LOCATION:Kai Tak Arena\, Kai Tak Sports Park\, Hong Kong
CATEGORIES:2026,Concert,Music,Performing Arts
ATTACH;FMTTYPE=image/jpeg:https://www.bcmagazine.net/wp-content/uploads/2026/01/Katch-the-Moment-HK-2026-2.jpg
END:VEVENT
BEGIN:VEVENT
DTSTART;TZID=Asia/Hong_Kong:20260306T201500
DTEND;TZID=Asia/Hong_Kong:20260306T201500
DTSTAMP:20260424T180904
CREATED:20251229T053034Z
LAST-MODIFIED:20260219T131707Z
UID:10012689-1772828100-1772828100@www.bcmagazine.net
SUMMARY:Chris Wong
DESCRIPTION:Chris Wong 40th Anniversary Hong Kong Concert\nDate: 8:15pm\, 6-7 March 2026\nVenue: HK Coliseum\nTickets: $1\,080\, $780\, $480 from Urbtix
URL:https://www.bcmagazine.net/event/chris-wong/2026-03-06/
LOCATION:HK Coliseum\, 9 Cheong Wan Road\, Hung Hom\, Hong Kong
CATEGORIES:2026,Concert,Music,Performing Arts
ATTACH;FMTTYPE=image/jpeg:https://www.bcmagazine.net/wp-content/uploads/2026/01/chris-wong-2026-1.jpg
GEO:22.3014169;114.1820305
X-APPLE-STRUCTURED-LOCATION;VALUE=URI;X-ADDRESS=HK Coliseum 9 Cheong Wan Road Hung Hom Hong Kong;X-APPLE-RADIUS=500;X-TITLE=9 Cheong Wan Road:geo:114.1820305,22.3014169
END:VEVENT
BEGIN:VEVENT
DTSTART;VALUE=DATE:20260306
DTEND;VALUE=DATE:20260309
DTSTAMP:20260424T180904
CREATED:20260219T100802Z
LAST-MODIFIED:20260219T122727Z
UID:10012627-1772755200-1773014399@www.bcmagazine.net
SUMMARY:Asia Coffee Music Fest
DESCRIPTION:Asia Coffee Music Fest\nDate: 6-8 March 2026\nVenue: Kai Tak Stadium\, East Village\nTickets: $800\, $320\, $140\, $40
URL:https://www.bcmagazine.net/event/asia-coffee-music-fest-2026/
LOCATION:Kai Tak Sports Park\, East Village\, 38-39 Shing Kai Road\, Kowloon\, Hong Kong
CATEGORIES:2026,Concert,Food,Lifestyle,Music,Performing Arts
ATTACH;FMTTYPE=image/jpeg:https://www.bcmagazine.net/wp-content/uploads/2026/01/Asia-Coffee-Music-Fest-2026.jpg
END:VEVENT
BEGIN:VEVENT
DTSTART;TZID=Asia/Hong_Kong:20260305T200000
DTEND;TZID=Asia/Hong_Kong:20260305T200000
DTSTAMP:20260424T180904
CREATED:19220630T004537Z
LAST-MODIFIED:20260220T114937Z
UID:10013078-1772740800-1772740800@www.bcmagazine.net
SUMMARY:GGteens
DESCRIPTION:GGteens\nDate: 8pm\, 5 March 2026\nVenue: Portal\nTickets: $480
URL:https://www.bcmagazine.net/event/ggteens-hk-2026/
LOCATION:Portal\, 1/F The Burrow\, 212 Choi Hung Road\, San Po Kong\, Hong Kong
CATEGORIES:2026,Concert,Music,Nightlife,Performing Arts
ATTACH;FMTTYPE=image/jpeg:https://www.bcmagazine.net/wp-content/uploads/1922/06/GGteens-HK-2026.jpg
END:VEVENT
BEGIN:VEVENT
DTSTART;TZID=Asia/Hong_Kong:20260301T180000
DTEND;TZID=Asia/Hong_Kong:20260301T180000
DTSTAMP:20260424T180904
CREATED:20260106T040802Z
LAST-MODIFIED:20260220T085137Z
UID:10012616-1772388000-1772388000@www.bcmagazine.net
SUMMARY:Seventeen
DESCRIPTION:Seventeen World Tour 2026\nDate: 6pm\, 28 February – 1 March 2026\nVenue: Kai Tak Stadium\nTickets: $2\,899\, $2\,299\, $2\,099\, $1\,899\, $1\,599\, $1\,099\, $899 from HKTicketing
URL:https://www.bcmagazine.net/event/seventeen-world-tour-2026/2026-03-01/
LOCATION:Kai Tak Stadium\, 38-39 Shing Kai Road\, Kowloon City\, Hong Kong
CATEGORIES:2026,Concert,Music,Performing Arts
ATTACH;FMTTYPE=image/jpeg:https://www.bcmagazine.net/wp-content/uploads/2024/09/Seventeen-World-tour-2026-Hong-Kong-.jpeg
END:VEVENT
BEGIN:VEVENT
DTSTART;TZID=Asia/Hong_Kong:20260301T160000
DTEND;TZID=Asia/Hong_Kong:20260301T210000
DTSTAMP:20260424T180904
CREATED:20260110T040802Z
LAST-MODIFIED:20260220T094503Z
UID:10013074-1772380800-1772398800@www.bcmagazine.net
SUMMARY:LCK Cup Finals
DESCRIPTION:LCK Cup Finals\nDate: 4pm\, 28 February\, 1 March 2026\nVenue: Kai Tak Arena\nTickets: $1\,688\, $1\,388\, $1\,188\, $888\, $688\, $488 HKTicketing
URL:https://www.bcmagazine.net/event/lck-cup-finals-hk-2026/2026-03-01/
LOCATION:Kai Tak Arena\, Kai Tak Sports Park\, Hong Kong
CATEGORIES:2026,Concert,DJ,Music,Performing Arts
ATTACH;FMTTYPE=image/jpeg:https://www.bcmagazine.net/wp-content/uploads/2026/01/2026-LCK-Cup-Finals-HK-2026.jpg
END:VEVENT
BEGIN:VEVENT
DTSTART;TZID=Asia/Hong_Kong:20260301T083000
DTEND;TZID=Asia/Hong_Kong:20260301T083000
DTSTAMP:20260424T180904
CREATED:20251211T064212Z
LAST-MODIFIED:20251211T102558Z
UID:10012180-1772353800-1772353800@www.bcmagazine.net
SUMMARY:Dogathon
DESCRIPTION:SPCA Dogathon\nDate: 8:30am\, 1 March 2026\nVenue: Disneyland Resort\nTickets: Free\nEnrolment: https://dogathon.spca.org.hk/event_details#charity_wallk
URL:https://www.bcmagazine.net/event/dogathon-hong-kong-2026/
LOCATION:Disneyland Hong Kong\, Lantau\, Hong Kong
CATEGORIES:2026,Charity,Free,Lifestyle,Market
ATTACH;FMTTYPE=image/jpeg:https://www.bcmagazine.net/wp-content/uploads/2025/12/SPCA-Dogathon-2026.jpg
GEO:22.2664984;113.941751
END:VEVENT
BEGIN:VEVENT
DTSTART;VALUE=DATE:20260301
DTEND;VALUE=DATE:20260309
DTSTAMP:20260424T180904
CREATED:20260212T004216Z
LAST-MODIFIED:20260220T102324Z
UID:10013075-1772323200-1773014399@www.bcmagazine.net
SUMMARY:Hong Kong International Literary Festival
DESCRIPTION:Hong Kong International Literary Festival – 25 Years!\nDate: 1-8 March 2026\nVenue: various\nTickets: various\nMore info:\nfor the full festival schedule www.festival.org.hk/programmes/
URL:https://www.bcmagazine.net/event/hong-kong-international-literary-festival-2026/
CATEGORIES:2026,Cultural Festival,Lifestyle,Performing Arts
ATTACH;FMTTYPE=image/jpeg:https://www.bcmagazine.net/wp-content/uploads/2015/09/HKILF-25-Years-2026.jpeg
END:VEVENT
BEGIN:VEVENT
DTSTART;TZID=Asia/Hong_Kong:20260228T200000
DTEND;TZID=Asia/Hong_Kong:20260228T200000
DTSTAMP:20260424T180904
CREATED:20260202T044212Z
LAST-MODIFIED:20260201T102247Z
UID:10012610-1772308800-1772308800@www.bcmagazine.net
SUMMARY:Soraya
DESCRIPTION:Soraya Live in Hong Kong\nDate: 8pm\, 28 February 2026\nVenue: Mom Livehouse\nTickets: $480 (Door)\, $380 (Advance)
URL:https://www.bcmagazine.net/event/soraya-hong-kong-2026/
LOCATION:MOM Livehouse\, B39 Seven Seas Shopping Centre\, 117-121 Kings Road\, North Point\, Hong Kong
CATEGORIES:2026,Concert,Music,Performing Arts
ATTACH;FMTTYPE=image/jpeg:https://www.bcmagazine.net/wp-content/uploads/2026/01/soraya-HK-2026.jpg
GEO:22.2884683;114.192803
X-APPLE-STRUCTURED-LOCATION;VALUE=URI;X-ADDRESS=MOM Livehouse B39 Seven Seas Shopping Centre 117-121 Kings Road North Point Hong Kong;X-APPLE-RADIUS=500;X-TITLE=B39 Seven Seas Shopping Centre\, 117-121 Kings Road:geo:114.192803,22.2884683
END:VEVENT
BEGIN:VEVENT
DTSTART;TZID=Asia/Hong_Kong:20260228T180000
DTEND;TZID=Asia/Hong_Kong:20260228T180000
DTSTAMP:20260424T180904
CREATED:20260106T040802Z
LAST-MODIFIED:20260220T085137Z
UID:10012615-1772301600-1772301600@www.bcmagazine.net
SUMMARY:Seventeen
DESCRIPTION:Seventeen World Tour 2026\nDate: 6pm\, 28 February – 1 March 2026\nVenue: Kai Tak Stadium\nTickets: $2\,899\, $2\,299\, $2\,099\, $1\,899\, $1\,599\, $1\,099\, $899 from HKTicketing
URL:https://www.bcmagazine.net/event/seventeen-world-tour-2026/2026-02-28/
LOCATION:Kai Tak Stadium\, 38-39 Shing Kai Road\, Kowloon City\, Hong Kong
CATEGORIES:2026,Concert,Music,Performing Arts
ATTACH;FMTTYPE=image/jpeg:https://www.bcmagazine.net/wp-content/uploads/2024/09/Seventeen-World-tour-2026-Hong-Kong-.jpeg
END:VEVENT
BEGIN:VEVENT
DTSTART;TZID=Asia/Hong_Kong:20260228T160000
DTEND;TZID=Asia/Hong_Kong:20260228T210000
DTSTAMP:20260424T180904
CREATED:20260110T040802Z
LAST-MODIFIED:20260220T094503Z
UID:10013073-1772294400-1772312400@www.bcmagazine.net
SUMMARY:LCK Cup Finals
DESCRIPTION:LCK Cup Finals\nDate: 4pm\, 28 February\, 1 March 2026\nVenue: Kai Tak Arena\nTickets: $1\,688\, $1\,388\, $1\,188\, $888\, $688\, $488 HKTicketing
URL:https://www.bcmagazine.net/event/lck-cup-finals-hk-2026/2026-02-28/
LOCATION:Kai Tak Arena\, Kai Tak Sports Park\, Hong Kong
CATEGORIES:2026,Concert,DJ,Music,Performing Arts
ATTACH;FMTTYPE=image/jpeg:https://www.bcmagazine.net/wp-content/uploads/2026/01/2026-LCK-Cup-Finals-HK-2026.jpg
END:VEVENT
BEGIN:VEVENT
DTSTART;VALUE=DATE:20260227
DTEND;VALUE=DATE:20260331
DTSTAMP:20260424T180904
CREATED:20260120T044512Z
LAST-MODIFIED:20260219T124749Z
UID:10012629-1772150400-1774915199@www.bcmagazine.net
SUMMARY:Hong Kong Arts Festival
DESCRIPTION:54th Hong Kong Arts Festival\nDate: 27 February – 30 March\, 2026\nVenue: Various\nTickets: Urbtix
URL:https://www.bcmagazine.net/event/hong-kong-arts-festival-2026/
CATEGORIES:2026,Ballet,Cantonese drama,Cantonese Opera,Chinese opera,Concert,Cultural Festival,Dance,Music,Opera,Performing Arts,talk,Theatre
ATTACH;FMTTYPE=image/jpeg:https://www.bcmagazine.net/wp-content/uploads/2024/09/HKAF54-2026.jpg
END:VEVENT
BEGIN:VEVENT
DTSTART;VALUE=DATE:20260225
DTEND;VALUE=DATE:20260226
DTSTAMP:20260424T180904
CREATED:20260128T084823Z
LAST-MODIFIED:20260226T130752Z
UID:10013093-1772006400-1772038800@www.bcmagazine.net
SUMMARY:Bauhinia Falcon Trophy
DESCRIPTION:Bauhinia Falcon Trophy – Hong Kong v Kuwait\nDate: 25\, 26\, 28 February\, 1\, 3\, 5\, 7 March 2026\nVenue: Tin Kwong Road Recreation Ground\nTickets: tbc\n \n 
URL:https://www.bcmagazine.net/event/bauhinia-falcon-trophy-2026/2026-02-25/2/
LOCATION:Tin Kwong Road Recreation Ground\, Tin Kwong Road\, Mong Kok\, Hong Kong
CATEGORIES:2026,Cricket,Sport
ATTACH;FMTTYPE=image/webp:https://www.bcmagazine.net/wp-content/uploads/2024/09/Bauhinia-Falcon-Trophy-2026.webp
GEO:22.3219997;114.1847986
X-APPLE-STRUCTURED-LOCATION;VALUE=URI;X-ADDRESS=Tin Kwong Road Recreation Ground Tin Kwong Road Mong Kok Hong Kong;X-APPLE-RADIUS=500;X-TITLE=Tin Kwong Road:geo:114.1847986,22.3219997
END:VEVENT
BEGIN:VEVENT
DTSTART;VALUE=DATE:20260225
DTEND;VALUE=DATE:20260308
DTSTAMP:20260424T180904
CREATED:20260128T084823Z
LAST-MODIFIED:20260226T130752Z
UID:10013092-1771977600-1772927999@www.bcmagazine.net
SUMMARY:Bauhinia Falcon Trophy
DESCRIPTION:Bauhinia Falcon Trophy – Hong Kong v Kuwait\nDate: 25\, 26\, 28 February\, 1\, 3\, 5\, 7 March 2026\nVenue: Tin Kwong Road Recreation Ground\nTickets: tbc\n \n 
URL:https://www.bcmagazine.net/event/bauhinia-falcon-trophy-2026/2026-02-25/1/
LOCATION:Tin Kwong Road Recreation Ground\, Tin Kwong Road\, Mong Kok\, Hong Kong
CATEGORIES:2026,Cricket,Sport
ATTACH;FMTTYPE=image/webp:https://www.bcmagazine.net/wp-content/uploads/2024/09/Bauhinia-Falcon-Trophy-2026.webp
GEO:22.3219997;114.1847986
X-APPLE-STRUCTURED-LOCATION;VALUE=URI;X-ADDRESS=Tin Kwong Road Recreation Ground Tin Kwong Road Mong Kok Hong Kong;X-APPLE-RADIUS=500;X-TITLE=Tin Kwong Road:geo:114.1847986,22.3219997
END:VEVENT
BEGIN:VEVENT
DTSTART;TZID=Asia/Hong_Kong:20260220T193000
DTEND;TZID=Asia/Hong_Kong:20260220T193000
DTSTAMP:20260424T180904
CREATED:19220630T004537Z
LAST-MODIFIED:20260220T115515Z
UID:10013079-1771615800-1771615800@www.bcmagazine.net
SUMMARY:Lucid Express
DESCRIPTION:Lucid Express – “Instant Comfort” Album Release Show\nDate: 7:30pm\, 20 February 2026\nVenue: Portal\nTickets: $680\, $580\, $480
URL:https://www.bcmagazine.net/event/lucid-express-hk-2026/
LOCATION:Portal\, 1/F The Burrow\, 212 Choi Hung Road\, San Po Kong\, Hong Kong
CATEGORIES:2026,Concert,Music,Nightlife,Performing Arts
ATTACH;FMTTYPE=image/jpeg:https://www.bcmagazine.net/wp-content/uploads/1922/06/Lucid-Express-HK-2026.jpg
END:VEVENT
BEGIN:VEVENT
DTSTART;TZID=Asia/Hong_Kong:20260219T201500
DTEND;TZID=Asia/Hong_Kong:20260219T201500
DTSTAMP:20260424T180904
CREATED:20251227T053034Z
LAST-MODIFIED:20260219T132412Z
UID:10012694-1771532100-1771532100@www.bcmagazine.net
SUMMARY:Jace Chan
DESCRIPTION:Jace Chan – JACE WORLD\nDate: 8:15pm\, 18-19 February 2026\nVenue: HK Coliseum\nTickets: $1\,480\, $1\,080\, $880\, $580 from Urbtix
URL:https://www.bcmagazine.net/event/jace-chan/2026-02-19/
LOCATION:HK Coliseum\, 9 Cheong Wan Road\, Hung Hom\, Hong Kong
CATEGORIES:2026,Concert,Music,Performing Arts
ATTACH;FMTTYPE=image/webp:https://www.bcmagazine.net/wp-content/uploads/2025/12/jave-world-2026.webp
GEO:22.3014169;114.1820305
X-APPLE-STRUCTURED-LOCATION;VALUE=URI;X-ADDRESS=HK Coliseum 9 Cheong Wan Road Hung Hom Hong Kong;X-APPLE-RADIUS=500;X-TITLE=9 Cheong Wan Road:geo:114.1820305,22.3014169
END:VEVENT
BEGIN:VEVENT
DTSTART;TZID=Asia/Hong_Kong:20260218T201500
DTEND;TZID=Asia/Hong_Kong:20260218T201500
DTSTAMP:20260424T180904
CREATED:20251227T053034Z
LAST-MODIFIED:20260219T132412Z
UID:10012693-1771445700-1771445700@www.bcmagazine.net
SUMMARY:Jace Chan
DESCRIPTION:Jace Chan – JACE WORLD\nDate: 8:15pm\, 18-19 February 2026\nVenue: HK Coliseum\nTickets: $1\,480\, $1\,080\, $880\, $580 from Urbtix
URL:https://www.bcmagazine.net/event/jace-chan/2026-02-18/
LOCATION:HK Coliseum\, 9 Cheong Wan Road\, Hung Hom\, Hong Kong
CATEGORIES:2026,Concert,Music,Performing Arts
ATTACH;FMTTYPE=image/webp:https://www.bcmagazine.net/wp-content/uploads/2025/12/jave-world-2026.webp
GEO:22.3014169;114.1820305
X-APPLE-STRUCTURED-LOCATION;VALUE=URI;X-ADDRESS=HK Coliseum 9 Cheong Wan Road Hung Hom Hong Kong;X-APPLE-RADIUS=500;X-TITLE=9 Cheong Wan Road:geo:114.1820305,22.3014169
END:VEVENT
BEGIN:VEVENT
DTSTART;TZID=Asia/Hong_Kong:20260218T200000
DTEND;TZID=Asia/Hong_Kong:20260218T200000
DTSTAMP:20260424T180904
CREATED:20260208T000805Z
LAST-MODIFIED:20260211T101445Z
UID:10012620-1771444800-1771444800@www.bcmagazine.net
SUMMARY:Year of the Horse Fireworks Display
DESCRIPTION:Lunar New Year Fireworks\nDate: 8pm\, 18 February\, 2026\nVenue: Victoria Harbour\nTickets: Free
URL:https://www.bcmagazine.net/event/lunar-new-year-fireworks-2026/
LOCATION:Victoria Harbour\, Hong Kong
CATEGORIES:2026,Cultural Festival,Free,Other
ATTACH;FMTTYPE=image/jpeg:https://www.bcmagazine.net/wp-content/uploads/2026/02/CNY-fireworks-2026.jpg
END:VEVENT
BEGIN:VEVENT
DTSTART;TZID=Asia/Hong_Kong:20260217T200000
DTEND;TZID=Asia/Hong_Kong:20260217T200000
DTSTAMP:20260424T180904
CREATED:20260201T040819Z
LAST-MODIFIED:20260211T110438Z
UID:10012621-1771358400-1771358400@www.bcmagazine.net
SUMMARY:Chinese New Year Night Parade
DESCRIPTION:Chinese New Year Night Parade\nDate: 8pm\, 17 February\, 2026\nVenue: Tsim Sha Tsui\nTickets: Free
URL:https://www.bcmagazine.net/event/chinese-new-year-night-parade-2026/
LOCATION:Tsim Sha Tsui Promenade\, Clock Tower\, Tsim Sha Tsui\, Hong Kong
CATEGORIES:2026,Cultural Festival,Dance,Free,Lifestyle,Nightlife,Performing Arts
ATTACH;FMTTYPE=image/jpeg:https://www.bcmagazine.net/wp-content/uploads/2025/01/CNYP-floats.jpg
END:VEVENT
BEGIN:VEVENT
DTSTART;TZID=Asia/Hong_Kong:20260207T180000
DTEND;TZID=Asia/Hong_Kong:20260207T180000
DTSTAMP:20260424T180904
CREATED:20260129T044212Z
LAST-MODIFIED:20260201T101727Z
UID:10012609-1770487200-1770487200@www.bcmagazine.net
SUMMARY:Tsunko Fan Meet
DESCRIPTION:Tsunko Fan Meet\nDate: 6pm\, 7 February 2026\nVenue: Mom Livehouse\nTickets: $860\, $650\, $220
URL:https://www.bcmagazine.net/event/tsunko-fan-meet-hk-2026/
LOCATION:MOM Livehouse\, B39 Seven Seas Shopping Centre\, 117-121 Kings Road\, North Point\, Hong Kong
CATEGORIES:2026,Concert,Music,Performing Arts
ATTACH;FMTTYPE=image/png:https://www.bcmagazine.net/wp-content/uploads/2025/12/Tsunko-2026-HK.png
GEO:22.2884683;114.192803
X-APPLE-STRUCTURED-LOCATION;VALUE=URI;X-ADDRESS=MOM Livehouse B39 Seven Seas Shopping Centre 117-121 Kings Road North Point Hong Kong;X-APPLE-RADIUS=500;X-TITLE=B39 Seven Seas Shopping Centre\, 117-121 Kings Road:geo:114.192803,22.2884683
END:VEVENT
BEGIN:VEVENT
DTSTART;TZID=Asia/Hong_Kong:20260205T200000
DTEND;TZID=Asia/Hong_Kong:20260205T200000
DTSTAMP:20260424T180904
CREATED:20250917T052749Z
LAST-MODIFIED:20250923T191139Z
UID:10011405-1770321600-1770321600@www.bcmagazine.net
SUMMARY:Calum Scott
DESCRIPTION:Calum Scott – The Avenoir Tour\nDate: 8pm\, 5 February 2026\nVenue: AsiaWorld Expo\, Runway 11\nTickets: $1\,888\, $1\,388\, $788\, $688\, $588 from HKTicketing \n 
URL:https://www.bcmagazine.net/event/calum-scott/
LOCATION:AsiaWorld-Expo\, Runway 11\, Cheong Wing Road\, Chek Lap Kok\, Lantau Island\, Hong Kong
CATEGORIES:2026,Concert,Music,Performing Arts
ATTACH;FMTTYPE=image/jpeg:https://www.bcmagazine.net/wp-content/uploads/2025/06/calum-scott-hong-kong-2026.jpg
GEO:22.3217383;113.9402012
X-APPLE-STRUCTURED-LOCATION;VALUE=URI;X-ADDRESS=AsiaWorld-Expo Runway 11 Cheong Wing Road Chek Lap Kok Lantau Island Hong Kong;X-APPLE-RADIUS=500;X-TITLE=Cheong Wing Road:geo:113.9402012,22.3217383
END:VEVENT
BEGIN:VEVENT
DTSTART;VALUE=DATE:20260203
DTEND;VALUE=DATE:20260209
DTSTAMP:20260424T180904
CREATED:20260108T084236Z
LAST-MODIFIED:20260108T163257Z
UID:10012599-1770076800-1770595199@www.bcmagazine.net
SUMMARY:Snooker World Grand Prix 2026
DESCRIPTION:World Grand Prix 2026\nDate: 3-8 February\, 2026\nVenue: Kai Tak Sports Park\, Kai Tak Arena\nTickets: $9\,800\, $1\,280\, $980\, $680\, $380\, $80 from HKTicketing
URL:https://www.bcmagazine.net/event/snooker-world-grand-prix-2026-hong-kong/
LOCATION:Kai Tak Arena\, Kai Tak Sports Park\, Hong Kong
CATEGORIES:2026,Snooker,Sport
ATTACH;FMTTYPE=image/jpeg:https://www.bcmagazine.net/wp-content/uploads/2023/11/snooker-world-grand-prix-hong-kong-2026-2.jpg
END:VEVENT
BEGIN:VEVENT
DTSTART;TZID=Asia/Hong_Kong:20260130T200000
DTEND;TZID=Asia/Hong_Kong:20260130T200000
DTSTAMP:20260424T180904
CREATED:20251125T044512Z
LAST-MODIFIED:20251211T103424Z
UID:10012181-1769803200-1769803200@www.bcmagazine.net
SUMMARY:Silent Siren
DESCRIPTION:Silent Siren – Come Back Live 2026\nDate: 8pm\, 30 January 2026\nVenue: Tides\nTickets: $899\, $699
URL:https://www.bcmagazine.net/event/silent-siren-hong-kong-2026/
LOCATION:Tides\, 1F\, The Whampoa Garden\, Hung Hom\, Hong Kong
CATEGORIES:2026,Concert,Music,Performing Arts
ATTACH;FMTTYPE=image/jpeg:https://www.bcmagazine.net/wp-content/uploads/2025/12/Silent-Siren-Hong-Kong-2026.jpg
END:VEVENT
BEGIN:VEVENT
DTSTART;TZID=Asia/Hong_Kong:20260125T183000
DTEND;TZID=Asia/Hong_Kong:20260125T183000
DTSTAMP:20260424T180904
CREATED:20250603T052749Z
LAST-MODIFIED:20250604T133725Z
UID:10011365-1769365800-1769365800@www.bcmagazine.net
SUMMARY:Black Pink
DESCRIPTION:Black Pink\nDate: 24-25 January\, 2026\nVenue: Kai Tak Stadium\nTickets: $3\,499\, $2\,899\, $2\,299\, $1\,899\, $1\,499\, $1\,099\, $899\, $699
URL:https://www.bcmagazine.net/event/102629/2026-01-25/
LOCATION:Kai Tak Stadium\, 38-39 Shing Kai Road\, Kowloon City\, Hong Kong
CATEGORIES:2026,Concert,Music,Performing Arts
ATTACH;FMTTYPE=image/jpeg:https://www.bcmagazine.net/wp-content/uploads/2024/09/Black-Pink-2025.jpg
END:VEVENT
BEGIN:VEVENT
DTSTART;TZID=Asia/Hong_Kong:20260124T183000
DTEND;TZID=Asia/Hong_Kong:20260124T183000
DTSTAMP:20260424T180905
CREATED:20250603T052749Z
LAST-MODIFIED:20250604T133725Z
UID:10011364-1769279400-1769279400@www.bcmagazine.net
SUMMARY:Black Pink
DESCRIPTION:Black Pink\nDate: 24-25 January\, 2026\nVenue: Kai Tak Stadium\nTickets: $3\,499\, $2\,899\, $2\,299\, $1\,899\, $1\,499\, $1\,099\, $899\, $699
URL:https://www.bcmagazine.net/event/102629/2026-01-24/
LOCATION:Kai Tak Stadium\, 38-39 Shing Kai Road\, Kowloon City\, Hong Kong
CATEGORIES:2026,Concert,Music,Performing Arts
ATTACH;FMTTYPE=image/jpeg:https://www.bcmagazine.net/wp-content/uploads/2024/09/Black-Pink-2025.jpg
END:VEVENT
BEGIN:VEVENT
DTSTART;TZID=Asia/Hong_Kong:20260124T180000
DTEND;TZID=Asia/Hong_Kong:20260124T180000
DTSTAMP:20260424T180905
CREATED:20251210T044212Z
LAST-MODIFIED:20260108T164128Z
UID:10012231-1769277600-1769277600@www.bcmagazine.net
SUMMARY:Festilumi
DESCRIPTION:Festilumi Hong Kong 2025\nDate: 12 December 2025 – 24 January 2026\nVenue: Wanchai Harbourfront Event Space\nTickets: $508\, $278\, $168
URL:https://www.bcmagazine.net/event/festilumi-hong-kong-2025/2026-01-24/
LOCATION:WanChai Harbourfront Event Space\, 3 Hung Hing Road\, Wanchai\, Hong Kong
CATEGORIES:2025,2026,Exhibition,Lifestyle,Music,Nightlife
ATTACH;FMTTYPE=image/jpeg:https://www.bcmagazine.net/wp-content/uploads/2025/12/572095663_122105167311066348_5232692940820819710_n.jpg
END:VEVENT
BEGIN:VEVENT
DTSTART;TZID=Asia/Hong_Kong:20260123T180000
DTEND;TZID=Asia/Hong_Kong:20260123T180000
DTSTAMP:20260424T180905
CREATED:20251210T044212Z
LAST-MODIFIED:20260108T164128Z
UID:10012230-1769191200-1769191200@www.bcmagazine.net
SUMMARY:Festilumi
DESCRIPTION:Festilumi Hong Kong 2025\nDate: 12 December 2025 – 24 January 2026\nVenue: Wanchai Harbourfront Event Space\nTickets: $508\, $278\, $168
URL:https://www.bcmagazine.net/event/festilumi-hong-kong-2025/2026-01-23/
LOCATION:WanChai Harbourfront Event Space\, 3 Hung Hing Road\, Wanchai\, Hong Kong
CATEGORIES:2025,2026,Exhibition,Lifestyle,Music,Nightlife
ATTACH;FMTTYPE=image/jpeg:https://www.bcmagazine.net/wp-content/uploads/2025/12/572095663_122105167311066348_5232692940820819710_n.jpg
END:VEVENT
BEGIN:VEVENT
DTSTART;TZID=Asia/Hong_Kong:20260122T180000
DTEND;TZID=Asia/Hong_Kong:20260122T180000
DTSTAMP:20260424T180905
CREATED:20251210T044212Z
LAST-MODIFIED:20260108T164128Z
UID:10012229-1769104800-1769104800@www.bcmagazine.net
SUMMARY:Festilumi
DESCRIPTION:Festilumi Hong Kong 2025\nDate: 12 December 2025 – 24 January 2026\nVenue: Wanchai Harbourfront Event Space\nTickets: $508\, $278\, $168
URL:https://www.bcmagazine.net/event/festilumi-hong-kong-2025/2026-01-22/
LOCATION:WanChai Harbourfront Event Space\, 3 Hung Hing Road\, Wanchai\, Hong Kong
CATEGORIES:2025,2026,Exhibition,Lifestyle,Music,Nightlife
ATTACH;FMTTYPE=image/jpeg:https://www.bcmagazine.net/wp-content/uploads/2025/12/572095663_122105167311066348_5232692940820819710_n.jpg
END:VEVENT
END:VCALENDAR