BEGIN:VCALENDAR
VERSION:2.0
PRODID:-//bc magazine - ECPv6.15.20//NONSGML v1.0//EN
CALSCALE:GREGORIAN
METHOD:PUBLISH
X-WR-CALNAME:bc magazine
X-ORIGINAL-URL:https://www.bcmagazine.net
X-WR-CALDESC:Events for bc magazine
REFRESH-INTERVAL;VALUE=DURATION:PT1H
X-Robots-Tag:noindex
X-PUBLISHED-TTL:PT1H
BEGIN:VTIMEZONE
TZID:Asia/Hong_Kong
BEGIN:STANDARD
TZOFFSETFROM:+0800
TZOFFSETTO:+0800
TZNAME:HKT
DTSTART:20140101T000000
END:STANDARD
END:VTIMEZONE
BEGIN:VEVENT
DTSTART;VALUE=DATE:20150626
DTEND;VALUE=DATE:20150907
DTSTAMP:20260421T154914
CREATED:20150601T044539Z
LAST-MODIFIED:20150810T054010Z
UID:10005938-1435276800-1441583999@www.bcmagazine.net
SUMMARY:Lai Yuen Carnival
DESCRIPTION:Lai Yuen Carnival\nDate: 11am-11pm\, 26 June – September\, 2015\nVenue: Central Harbourfront\nTickets: Free entry
URL:https://www.bcmagazine.net/event/lai-yuen-amusement-park/
LOCATION:Central Harbourfront\,  9 Lung Wo Road\, Central\, Hong Kong
CATEGORIES:2015,Free
GEO:22.2826223;114.164346
X-APPLE-STRUCTURED-LOCATION;VALUE=URI;X-ADDRESS=Central Harbourfront  9 Lung Wo Road Central Hong Kong;X-APPLE-RADIUS=500;X-TITLE=9 Lung Wo Road:geo:114.164346,22.2826223
END:VEVENT
BEGIN:VEVENT
DTSTART;VALUE=DATE:20150629
DTEND;VALUE=DATE:20150802
DTSTAMP:20260421T154914
CREATED:20150521T130136Z
LAST-MODIFIED:20150521T131756Z
UID:10005880-1435536000-1438473599@www.bcmagazine.net
SUMMARY:The Dream of the Red Chamber Symposium
DESCRIPTION:The San Francisco Opera has commissioned the creation of an opera based on The Dream of the Red Chamber\, the most important Chinese novel\, scheduled to have its world premiere in the fall of 2016 \nThe symposium will feature 3 events: \nRoundtable Discussion\n4:30pm – June 29\, 2015 (Monday) \nCreative Team In-depth\n4:30pm  – July 1\, 2015 (Wednesday) \nThe Dream of the Red Chamber Preview\n5:30pm – July 1\, 2015 (Wednesday) \nThe Dream of the Red Chamber Symposium\nDate: 29 June – July 1\, 2015\nVenue: Multipurpose Hall\, Cheng Yu Tung Building\, HKUST\nTickets: Free register for tickets here
URL:https://www.bcmagazine.net/event/the-dream-of-the-red-chamber-symposium/
LOCATION:Multipurpose Hall\, Cheng Yu Tung Building\, HKUST\, Multipurpose Hall\, Cheng Yu Tung Building\, HKUST\, Hong Kong
CATEGORIES:2015,Concert,concert,Free,Music,Performing Arts
GEO:22.396428;114.109497
X-APPLE-STRUCTURED-LOCATION;VALUE=URI;X-ADDRESS=Multipurpose Hall Cheng Yu Tung Building HKUST Multipurpose Hall Cheng Yu Tung Building HKUST Hong Kong;X-APPLE-RADIUS=500;X-TITLE=Multipurpose Hall\, Cheng Yu Tung Building\, HKUST:geo:114.109497,22.396428
END:VEVENT
BEGIN:VEVENT
DTSTART;VALUE=DATE:20150730
DTEND;VALUE=DATE:20150803
DTSTAMP:20260421T154915
CREATED:20150529T092900Z
LAST-MODIFIED:20150729T093514Z
UID:10005929-1438214400-1438559999@www.bcmagazine.net
SUMMARY:SMS 2015 - Broadway\, Here I Come!
DESCRIPTION:Maggie\, a young mother of two\, has always dreamed of being a Broadway star. One day\, she is given an opportunity by a little devil to fulfil her dream as a performing artiste\, to spend 10 days away from her lovely family for 10 days of stardom. Maggie thinks this is a no-brainer\, and off she goes to live her life as a Broadway star. It’s glamourous. It’s fantastic. It’s mesmerising. It’s all that she has dreamed of. Little does she know that there is a hidden clause in the contract between her and the little devil…… The musical is a journey of all the glamour you could imagine in Broadway! \nSMS 2015 – Broadway\, Here I Come!\nExcel\nWhen: 30 July – 2 August\, 2015\nWhere: HKAPA\, Drama Theatre\nTickets: $315\, $275\, $195 from HKTicketing\nMore info:\n30 Jul 2015 (Thu) at 8pm\n31 Jul 2015 (Fri) at 8pm\n1 Aug 2015 (Sat) at 3pm & 8pm\n2 Aug 2015 (Sun) at 3pm & 8pm
URL:https://www.bcmagazine.net/event/sms-2015-broadway-here-i-come/
LOCATION:HKAPA: Drama Theatre\, 1 Gloucester Road\, Wanchai\, Hong Kong
CATEGORIES:2015,Musical,Performing Arts
GEO:22.2801854;114.1695054
X-APPLE-STRUCTURED-LOCATION;VALUE=URI;X-ADDRESS=HKAPA: Drama Theatre 1 Gloucester Road Wanchai Hong Kong;X-APPLE-RADIUS=500;X-TITLE=1 Gloucester Road:geo:114.1695054,22.2801854
END:VEVENT
BEGIN:VEVENT
DTSTART;VALUE=DATE:20150731
DTEND;VALUE=DATE:20150803
DTSTAMP:20260421T154915
CREATED:20150515T090457Z
LAST-MODIFIED:20150526T091110Z
UID:10005871-1438300800-1438559999@www.bcmagazine.net
SUMMARY:The Magic Flute Playground
DESCRIPTION:The Magic Flute Playground\nDate: 31 July – 2 August\, 2015\nVenue: Multimedia Theatre\, HKICC Lee Shau Kee School of Creativity\nTickets: $220\nMore info:\n31 July (Fri) 7:30pm\n1 Aug (Sat) 11am\, 2:30pm\, 5pm\n2 Aug (Sun) 11am\, 2:30pm
URL:https://www.bcmagazine.net/event/the-magic-flute-playground/
LOCATION:HKICC Lee Shau Kee School of Creativity\, Multimedia Theatre\, 135 Junction Road\, Kowloon City\, Hong Kong
CATEGORIES:2015,concert,Music,Musical,Performing Arts
GEO:22.333647;114.1870039
X-APPLE-STRUCTURED-LOCATION;VALUE=URI;X-ADDRESS=HKICC Lee Shau Kee School of Creativity Multimedia Theatre 135 Junction Road Kowloon City Hong Kong;X-APPLE-RADIUS=500;X-TITLE=135 Junction Road:geo:114.1870039,22.333647
END:VEVENT
BEGIN:VEVENT
DTSTART;VALUE=DATE:20150801
DTEND;VALUE=DATE:20150803
DTSTAMP:20260421T154915
CREATED:20150610T034305Z
LAST-MODIFIED:20150710T035019Z
UID:10006019-1438387200-1438559999@www.bcmagazine.net
SUMMARY:Ascot Anime Songs
DESCRIPTION:Ascot Anime Songs\nDate: 8pm\,1-2 August\, 2015\nVenue: Music Zone@E-max\nTickets: $688\, $388 from Cityline
URL:https://www.bcmagazine.net/event/ascot-anime-songs/
LOCATION:KITEC\, Music Zone@E-Max\, KITEC\,‎ 1 Trademart Drive\, Kowloon Bay\, Hong Kong
CATEGORIES:2015,Concert,Music
GEO:22.3239575;114.2037608
X-APPLE-STRUCTURED-LOCATION;VALUE=URI;X-ADDRESS=KITEC Music Zone@E-Max KITEC‎ 1 Trademart Drive Kowloon Bay Hong Kong;X-APPLE-RADIUS=500;X-TITLE=KITEC\,‎ 1 Trademart Drive:geo:114.2037608,22.3239575
END:VEVENT
BEGIN:VEVENT
DTSTART;TZID=Asia/Hong_Kong:20150801T200000
DTEND;TZID=Asia/Hong_Kong:20150801T220000
DTSTAMP:20260421T154915
CREATED:20150623T095940Z
LAST-MODIFIED:20150723T151100Z
UID:10004995-1438459200-1438466400@www.bcmagazine.net
SUMMARY:Through the Looking Glass
DESCRIPTION:Through the Looking Glass\nTheatre Noir Foundation\nDate: 8pm\, 1 August\, 2015\nVenue: Auditorium\, Yuen Long Theatre\nTickets: $140 from URBTIX
URL:https://www.bcmagazine.net/event/through-the-looking-glass/
LOCATION:Yuen Long Theatre\, Auditorium\, 9 Yuen Long Tai Yuk Road\, Yuen Long\, Hong Kong
CATEGORIES:2015,Performing Arts,Theatre
GEO:22.4414579;114.0229698
X-APPLE-STRUCTURED-LOCATION;VALUE=URI;X-ADDRESS=Yuen Long Theatre Auditorium 9 Yuen Long Tai Yuk Road Yuen Long Hong Kong;X-APPLE-RADIUS=500;X-TITLE=9 Yuen Long Tai Yuk Road:geo:114.0229698,22.4414579
END:VEVENT
BEGIN:VEVENT
DTSTART;TZID=Asia/Hong_Kong:20150801T200000
DTEND;TZID=Asia/Hong_Kong:20150801T230000
DTSTAMP:20260421T154915
CREATED:20150523T114631Z
LAST-MODIFIED:20150623T115016Z
UID:10005898-1438459200-1438470000@www.bcmagazine.net
SUMMARY:Ftisland Live [We Will]
DESCRIPTION:Ftisland Live [We Will]\nDate: 8pm\, 1 August\, 2015\nVenue: AsiaWorld-Expo Arena\nTickets: $1\,280\, $880\, $680\, $480\, $280 from HKTicketing
URL:https://www.bcmagazine.net/event/ftisland-live-we-will/
LOCATION:AsiaWorld-Expo\, Arena\, Cheong Wing Road\, Chek Lap Kok\, Lantau\, Hong Kong
CATEGORIES:2015,Concert,Music
GEO:22.3217383;113.9402012
X-APPLE-STRUCTURED-LOCATION;VALUE=URI;X-ADDRESS=AsiaWorld-Expo Arena Cheong Wing Road Chek Lap Kok Lantau Hong Kong;X-APPLE-RADIUS=500;X-TITLE=Cheong Wing Road\, Chek Lap Kok:geo:113.9402012,22.3217383
END:VEVENT
BEGIN:VEVENT
DTSTART;TZID=Asia/Hong_Kong:20150802T150000
DTEND;TZID=Asia/Hong_Kong:20150802T170000
DTSTAMP:20260421T154915
CREATED:20150623T100633Z
LAST-MODIFIED:20150723T151108Z
UID:10004996-1438527600-1438534800@www.bcmagazine.net
SUMMARY:Through the Looking Glass
DESCRIPTION:Through the Looking Glass\nTheatre Noir Foundation\nDate: 3pm\, 2 August\, 2015\nVenue: Auditorium\, Yuen Long Theatre\nTickets: $140 from URBTIX
URL:https://www.bcmagazine.net/event/through-the-looking-glass-2/
CATEGORIES:2015,Performing Arts,Theatre
END:VEVENT
BEGIN:VEVENT
DTSTART;VALUE=DATE:20150804
DTEND;VALUE=DATE:20150806
DTSTAMP:20260421T154915
CREATED:20150628T104352Z
LAST-MODIFIED:20150728T104707Z
UID:10006043-1438646400-1438819199@www.bcmagazine.net
SUMMARY:DCFE Concert
DESCRIPTION:DCFE Concert\nWhen: 8:15pm\, 4-5 August\, 2015\nWhere: HKCEC – Hall 5BC\nTickets: $1\,280\, $680\, $480\, $380 from HKTicketing
URL:https://www.bcmagazine.net/event/dcfe-concert/
LOCATION:Hong Kong
CATEGORIES:2015,Concert,Music
END:VEVENT
BEGIN:VEVENT
DTSTART;TZID=Asia/Hong_Kong:20150804T124500
DTEND;TZID=Asia/Hong_Kong:20150804T134500
DTSTAMP:20260421T154915
CREATED:20150523T051530Z
LAST-MODIFIED:20150623T051746Z
UID:10005891-1438692300-1438695900@www.bcmagazine.net
SUMMARY:Good Music This Lunch
DESCRIPTION:Good Music This Lunch\nDate: 12:45pm\, 4 August\, 2015\nVenue: HK City Hall Foyer\nTickets: Free
URL:https://www.bcmagazine.net/event/good-music-this-lunch-2/
LOCATION:HK City Hall\, Foyer\, 5 Edinburgh Place\, Central\, Hong Kong
CATEGORIES:2015,Concert,concert,Music,Performing Arts
END:VEVENT
BEGIN:VEVENT
DTSTART;VALUE=DATE:20150806
DTEND;VALUE=DATE:20150828
DTSTAMP:20260421T154915
CREATED:20150523T190945Z
LAST-MODIFIED:20150623T191905Z
UID:10005903-1438819200-1440719999@www.bcmagazine.net
SUMMARY:Le Dieu Du Carnage
DESCRIPTION:Le Dieu Du Carnage\nDate: 6-27 August\, 2015\nVenue: HKAPA\, Lyric Theatre\nTickets: $980\, $680\, $580\, $380\, $280 from HKTicketing\nMore info:\n6 Aug 2015 (Thu) at 8pm\n7 Aug 2015 (Fri) at 8pm\n8 Aug 2015 (Sat) at 8pm\n9 Aug 2015 (Sun) at 3pm \n11 Aug 2015 (Tue) at 8pm\n12 Aug 2015 (Wed) at 8pm\n13 Aug 2015 (Thu) at 8pm\n14 Aug 2015 (Fri) at 8pm\n15 Aug 2015 (Sat) at 8pm\n16 Aug 2015 (Sun) at 3pm \n18 Aug 2015 (Tue) at 8pm\n19 Aug 2015 (Wed) at 8pm\n20 Aug 2015 (Thu) at 8pm\n21 Aug 2015 (Fri) at 8pm\n22 Aug 2015 (Sat) at 8pm\n23 Aug 2015 (Sun) at 3pm \n25 Aug 2015 (Tue) at 8pm\n26 Aug 2015 (Wed) at 8pm\n27 Aug 2015 (Thu) at 8pm
URL:https://www.bcmagazine.net/event/le-dieu-du-carnage/
LOCATION:HKAPA: Lyric Theatre\, 1 Gloucester Road\, Wanchai\, Hong Kong
CATEGORIES:2015,Performing Arts,Theatre
GEO:22.2801854;114.1695054
X-APPLE-STRUCTURED-LOCATION;VALUE=URI;X-ADDRESS=HKAPA: Lyric Theatre 1 Gloucester Road Wanchai Hong Kong;X-APPLE-RADIUS=500;X-TITLE=1 Gloucester Road:geo:114.1695054,22.2801854
END:VEVENT
BEGIN:VEVENT
DTSTART;VALUE=DATE:20150807
DTEND;VALUE=DATE:20150809
DTSTAMP:20260421T154915
CREATED:20150508T071736Z
LAST-MODIFIED:20150808T072258Z
UID:10004787-1438905600-1439078399@www.bcmagazine.net
SUMMARY:Jam Hsiao
DESCRIPTION:Jam Hsiao <Triple Jam>\nDate:  8:15pm\, 7-8 August\, 2015\nVenue: HK Coliseum\nTickets: $880\, $580\, $380 from Urbtix
URL:https://www.bcmagazine.net/event/jam-hsiao/
LOCATION:HK Coliseum\, 9 Cheong Wan Road\, Hung Hom\, Hong Kong
CATEGORIES:2015,Concert,Music
GEO:22.3014169;114.1820305
X-APPLE-STRUCTURED-LOCATION;VALUE=URI;X-ADDRESS=HK Coliseum 9 Cheong Wan Road Hung Hom Hong Kong;X-APPLE-RADIUS=500;X-TITLE=9 Cheong Wan Road:geo:114.1820305,22.3014169
END:VEVENT
BEGIN:VEVENT
DTSTART;VALUE=DATE:20150807
DTEND;VALUE=DATE:20150810
DTSTAMP:20260421T154915
CREATED:20150515T091652Z
LAST-MODIFIED:20150526T092054Z
UID:10005872-1438905600-1439164799@www.bcmagazine.net
SUMMARY:Ping-Pong
DESCRIPTION:Ping-Pong\nDate: 7-9 August\, 2015\nVenue: Multimedia Theatre\, HKICC Lee Shau Kee School of Creativity\nTickets: $250\nMore info:\n7-8 August (Fri\, Sat) 7:30pm\n8-9 August (Sat\, Sun) 3pm
URL:https://www.bcmagazine.net/event/ping-pong/
LOCATION:HKICC Lee Shau Kee School of Creativity\, Multimedia Theatre\, 135 Junction Road\, Kowloon City\, Hong Kong
CATEGORIES:2015,Music,Performing Arts,Theatre
GEO:22.333647;114.1870039
X-APPLE-STRUCTURED-LOCATION;VALUE=URI;X-ADDRESS=HKICC Lee Shau Kee School of Creativity Multimedia Theatre 135 Junction Road Kowloon City Hong Kong;X-APPLE-RADIUS=500;X-TITLE=135 Junction Road:geo:114.1870039,22.333647
END:VEVENT
BEGIN:VEVENT
DTSTART;VALUE=DATE:20150807
DTEND;VALUE=DATE:20150810
DTSTAMP:20260421T154915
CREATED:20150710T034242Z
LAST-MODIFIED:20150710T034242Z
UID:10006054-1438905600-1439164799@www.bcmagazine.net
SUMMARY:Magic the Gathering Grand Prix
DESCRIPTION:Major Magic: The Gathering events are held around the world throughout the year. The Grand Prix is open to the public and all players are invited to play in this incredible event. Players will be battling it out for the glory with Magic Origins sealed deck\, and in addition\, the side event schedule is filled with exhilarating events with multiple formats. \nMagic the Gathering Grand Prix\nDate: 7-9 August\, 2015\nVenue: KITEC\nTickets: Event registration $450\nMore info: http://magic.wizards.com/en/content/fact-sheet-grand-prix-hong-kong-2015
URL:https://www.bcmagazine.net/event/magic-the-gathering-grand-prix/
LOCATION:KITEC (Kowloon Bay International Trade & Exhibition Centre)\, 1 Trademart Drive\, Kowloon Bay\, Hong Kong
CATEGORIES:2015,Cultural Festival,Exhibition
GEO:22.3239575;114.2037608
X-APPLE-STRUCTURED-LOCATION;VALUE=URI;X-ADDRESS=KITEC (Kowloon Bay International Trade & Exhibition Centre) 1 Trademart Drive Kowloon Bay Hong Kong;X-APPLE-RADIUS=500;X-TITLE=1 Trademart Drive:geo:114.2037608,22.3239575
END:VEVENT
BEGIN:VEVENT
DTSTART;TZID=Asia/Hong_Kong:20150807T220000
DTEND;TZID=Asia/Hong_Kong:20150808T030000
DTSTAMP:20260421T154915
CREATED:20150608T024443Z
LAST-MODIFIED:20150708T024639Z
UID:10005948-1438984800-1439002800@www.bcmagazine.net
SUMMARY:Green Room
DESCRIPTION:Green Room\nDate: 10pm\, 7 August\, 2015\nVenue: W Hong Kong\nTickets: $588
URL:https://www.bcmagazine.net/event/green-room/
LOCATION:W Hong Kong\, West Kowloon\, Hong Kong
CATEGORIES:2015,DJ,Music,Nightlife
END:VEVENT
BEGIN:VEVENT
DTSTART;TZID=Asia/Hong_Kong:20150808T133000
DTEND;TZID=Asia/Hong_Kong:20150808T220000
DTSTAMP:20260421T154915
CREATED:20150428T103723Z
LAST-MODIFIED:20150728T104146Z
UID:10005799-1439040600-1439071200@www.bcmagazine.net
SUMMARY:MYO-Band WBPF Pro Mr World & HKBPSF Championship 2015
DESCRIPTION:MYO-Band WBPF Pro Mr World & HKBPSF Championship 2015\nWhen: 1:30pm\, 8 August\, 2015\nWhere: Southorn Stadium\, Wanchai\nTickets: $300\, $200 from HKTicketing
URL:https://www.bcmagazine.net/event/myo-band-wbpf-pro-mr-world-hkbpsf-championship-2015/
LOCATION:Southorn Stadium\, 111 Johnston Road\, Wanchai\, Hong Kong
CATEGORIES:2015,Sport
GEO:22.2767697;114.1730209
X-APPLE-STRUCTURED-LOCATION;VALUE=URI;X-ADDRESS=Southorn Stadium 111 Johnston Road Wanchai Hong Kong;X-APPLE-RADIUS=500;X-TITLE=111 Johnston Road:geo:114.1730209,22.2767697
END:VEVENT
BEGIN:VEVENT
DTSTART;TZID=Asia/Hong_Kong:20150808T150000
DTEND;TZID=Asia/Hong_Kong:20150808T200000
DTSTAMP:20260421T154915
CREATED:20150608T023751Z
LAST-MODIFIED:20150708T024041Z
UID:10005947-1439046000-1439064000@www.bcmagazine.net
SUMMARY:OMFESTHK
DESCRIPTION:OMFESTHK is an outdoor celebration of yoga\, meditation and wellbeing. \nOMFESTHK\nDate: 3-8pm 8 August\, 2015\nVenue: Central Harbourfront\nTickets: Free
URL:https://www.bcmagazine.net/event/omfesthk/
LOCATION:Central Harbourfront\,  9 Lung Wo Road\, Central\, Hong Kong
CATEGORIES:2015,Free,Sport
GEO:22.2826223;114.164346
X-APPLE-STRUCTURED-LOCATION;VALUE=URI;X-ADDRESS=Central Harbourfront  9 Lung Wo Road Central Hong Kong;X-APPLE-RADIUS=500;X-TITLE=9 Lung Wo Road:geo:114.164346,22.2826223
END:VEVENT
BEGIN:VEVENT
DTSTART;TZID=Asia/Hong_Kong:20150808T160000
DTEND;TZID=Asia/Hong_Kong:20150809T010000
DTSTAMP:20260421T154915
CREATED:20150609T050047Z
LAST-MODIFIED:20150709T050526Z
UID:10006010-1439049600-1439082000@www.bcmagazine.net
SUMMARY:Outlook Festival
DESCRIPTION:Outlook Festival\nDate: 4pm-1am August\, 2015\nVenue: Whitehead Barbecue\, Ma On Shan\nTickets: $380 from Ticketflap
URL:https://www.bcmagazine.net/event/outlook-festival/
LOCATION:Whitehead Barbecue\, Ma On Shan\, Hong Kong
CATEGORIES:2015,Concert,DJ,Music,Nightlife
END:VEVENT
BEGIN:VEVENT
DTSTART;TZID=Asia/Hong_Kong:20150808T200000
DTEND;TZID=Asia/Hong_Kong:20150808T230000
DTSTAMP:20260421T154915
CREATED:20150608T171230Z
LAST-MODIFIED:20150808T171444Z
UID:10005990-1439064000-1439074800@www.bcmagazine.net
SUMMARY:SingFest 2015: Bach 330 - Mass in B Minor
DESCRIPTION:SingFest 2015: Bach 330 – Mass in B Minor\nHong Kong Sinfonietta\nDate: 8pm\, 8 August\, 2015\nVenue: HK City Hall\, Concert Hall\nTickets: $360\, $260\, $150 from Urbtix
URL:https://www.bcmagazine.net/event/singfest-2015-bach-330-mass-in-b-minor/
LOCATION:HK City Hall\, Concert Hall\,  5 Edinburgh Place\, Central\, Hong Kong
CATEGORIES:2015,Concert,Music
END:VEVENT
BEGIN:VEVENT
DTSTART;TZID=Asia/Hong_Kong:20150808T230000
DTEND;TZID=Asia/Hong_Kong:20150809T050000
DTSTAMP:20260421T154915
CREATED:20150608T093147Z
LAST-MODIFIED:20150709T050015Z
UID:10005964-1439074800-1439096400@www.bcmagazine.net
SUMMARY:OT Genasis
DESCRIPTION:OT Genasis\nDate: 8 August\nVenue: Club Cubic\nTickets: $380
URL:https://www.bcmagazine.net/event/ot-genasis/
LOCATION:Club Cubic\, Macau
CATEGORIES:2015,DJ,Macau,Music,Nightclub,Nightlife
END:VEVENT
BEGIN:VEVENT
DTSTART;TZID=Asia/Hong_Kong:20150809T120000
DTEND;TZID=Asia/Hong_Kong:20150809T200000
DTSTAMP:20260421T154915
CREATED:20150428T095354Z
LAST-MODIFIED:20150728T095631Z
UID:10005797-1439121600-1439150400@www.bcmagazine.net
SUMMARY:Hong Kong Handcraft Fair
DESCRIPTION:Hong Kong Handcraft Fair\nWhen: 12-8pm\, 9 August\, 2015\nWhere: KITEC Rotunda 2\nTickets: $10
URL:https://www.bcmagazine.net/event/hong-kong-handcraft-fair/
LOCATION:KITEC (Kowloon Bay International Trade & Exhibition Centre)\, 1 Trademart Drive\, Kowloon Bay\, Hong Kong
CATEGORIES:2015,Exhibition
GEO:22.3239575;114.2037608
X-APPLE-STRUCTURED-LOCATION;VALUE=URI;X-ADDRESS=KITEC (Kowloon Bay International Trade & Exhibition Centre) 1 Trademart Drive Kowloon Bay Hong Kong;X-APPLE-RADIUS=500;X-TITLE=1 Trademart Drive:geo:114.2037608,22.3239575
END:VEVENT
BEGIN:VEVENT
DTSTART;TZID=Asia/Hong_Kong:20150809T130000
DTEND;TZID=Asia/Hong_Kong:20150809T223000
DTSTAMP:20260421T154915
CREATED:20150510T082327Z
LAST-MODIFIED:20150710T082647Z
UID:10004784-1439125200-1439159400@www.bcmagazine.net
SUMMARY:Freespace Happening
DESCRIPTION:Freespace Happening\nDate: 1pm\, 9 August\, 2015\nVenue: West Kowloon\nTickets: Free
URL:https://www.bcmagazine.net/event/freespace-happening/
LOCATION:West Kowloon Culture District\, West Kowloon Waterfront Promenade\, Hong Kong
CATEGORIES:2015,Cultural Festival,Free,Music
GEO:22.302243;114.155596
X-APPLE-STRUCTURED-LOCATION;VALUE=URI;X-ADDRESS=West Kowloon Culture District West Kowloon Waterfront Promenade Hong Kong;X-APPLE-RADIUS=500;X-TITLE=West Kowloon Waterfront Promenade:geo:114.155596,22.302243
END:VEVENT
BEGIN:VEVENT
DTSTART;TZID=Asia/Hong_Kong:20150810T200000
DTEND;TZID=Asia/Hong_Kong:20150810T230000
DTSTAMP:20260421T154915
CREATED:20150503T044115Z
LAST-MODIFIED:20150502T074251Z
UID:10005831-1439236800-1439247600@www.bcmagazine.net
SUMMARY:The Used Live In Hong Kong @ Music Zone@E-Max - 10 August\, 2015
DESCRIPTION:The Used Live In Hong Kong\nDate: 8pm\, 10 August\, 2015\nVenue: Music Zone@E-Max\nTickets: $450 (Early bird tickets limited to 80 available at Zoo Records)\, $550 (Advance)\, $650 from Ticketflap
URL:https://www.bcmagazine.net/event/the-used-live-in-hong-kong-music-zonee-max-10-august-2015/
LOCATION:KITEC\, Music Zone@E-Max\, KITEC\,‎ 1 Trademart Drive\, Kowloon Bay\, Hong Kong
CATEGORIES:Concert,Music
GEO:22.3239575;114.2037608
X-APPLE-STRUCTURED-LOCATION;VALUE=URI;X-ADDRESS=KITEC Music Zone@E-Max KITEC‎ 1 Trademart Drive Kowloon Bay Hong Kong;X-APPLE-RADIUS=500;X-TITLE=KITEC\,‎ 1 Trademart Drive:geo:114.2037608,22.3239575
END:VEVENT
BEGIN:VEVENT
DTSTART;VALUE=DATE:20150811
DTEND;VALUE=DATE:20150813
DTSTAMP:20260421T154915
CREATED:20150608T072349Z
LAST-MODIFIED:20150808T072526Z
UID:10005953-1439251200-1439423999@www.bcmagazine.net
SUMMARY:Edmond Leung
DESCRIPTION:Edmond Leung\nDate:  8:15pm\, 11-12 August\, 2015\nVenue: HK Coliseum\nTickets: $680\, $480\, $280 from Urbtix
URL:https://www.bcmagazine.net/event/edmond-leung/
LOCATION:HK Coliseum\, 9 Cheong Wan Road\, Hung Hom\, Hong Kong
CATEGORIES:2015,Concert,Music
GEO:22.3014169;114.1820305
X-APPLE-STRUCTURED-LOCATION;VALUE=URI;X-ADDRESS=HK Coliseum 9 Cheong Wan Road Hung Hom Hong Kong;X-APPLE-RADIUS=500;X-TITLE=9 Cheong Wan Road:geo:114.1820305,22.3014169
END:VEVENT
BEGIN:VEVENT
DTSTART;TZID=Asia/Hong_Kong:20150811T200000
DTEND;TZID=Asia/Hong_Kong:20150811T230000
DTSTAMP:20260421T154915
CREATED:20150523T114212Z
LAST-MODIFIED:20150623T114431Z
UID:10005897-1439323200-1439334000@www.bcmagazine.net
SUMMARY:Kodaline
DESCRIPTION:Kodaline\nDate: 8pm\, 11 August\, 2015\nVenue: Star Hall\, KITEC\nTickets: $688 from HKTicketing
URL:https://www.bcmagazine.net/event/kodaline/
LOCATION:KITEC\, Star Hall\, KITEC\, 1 Trademart Drive\, Kowloon Bay\, Hong Kong
CATEGORIES:2015,Concert,Music
GEO:22.3239575;114.2037608
X-APPLE-STRUCTURED-LOCATION;VALUE=URI;X-ADDRESS=KITEC Star Hall KITEC 1 Trademart Drive Kowloon Bay Hong Kong;X-APPLE-RADIUS=500;X-TITLE=KITEC\, 1 Trademart Drive:geo:114.2037608,22.3239575
END:VEVENT
BEGIN:VEVENT
DTSTART;VALUE=DATE:20150812
DTEND;VALUE=DATE:20150816
DTSTAMP:20260421T154915
CREATED:20150731T090807Z
LAST-MODIFIED:20150729T091928Z
UID:10006060-1439337600-1439683199@www.bcmagazine.net
SUMMARY:The House of Bernarda Alba
DESCRIPTION:“The House of Bernarda Alba” is Federico Garcia Lorca’s last play\, written the year he was killed at the outbreak of the Spanish Civil War. The action of the play begins during the funeral of matriarch Bernarda Alba’s second husband\, when she imposes an 8-year mourning period on her household\, in accordance with her family tradition. Bernarda has 5 daughters\, whom she has controlled inexorably… How will they survive these 8 years of further suffocation? And what is the cost of Bernarda Alba’s repression of her daughters’ freedom? \nThe House of Bernarda Alba\nSummer Drama Project\nWhen: 13-15 August\, 2015\nWhere: Fringe Club\, Fringe Underground\nTickets: $180 from HKTicketing\nMore info:\n12 Aug 2015 (Wed) at 7:45pm\n13 Aug 2015 (Thu) at 7:45pm\n14 Aug 2015 (Fri) at 7:45pm\n15 Aug 2015 (Sat) at 3pm\nIn Cantonese
URL:https://www.bcmagazine.net/event/the-house-of-bernarda-alba/
LOCATION:Fringe Club: Fringe Underground\, Central\, Hong Kong
CATEGORIES:2015,Performing Arts,Theatre
END:VEVENT
BEGIN:VEVENT
DTSTART;TZID=Asia/Hong_Kong:20150812T190000
DTEND;TZID=Asia/Hong_Kong:20150812T230000
DTSTAMP:20260421T154915
CREATED:20150808T062042Z
LAST-MODIFIED:20190924T041252Z
UID:10006067-1439406000-1439420400@www.bcmagazine.net
SUMMARY:Supernova HK 2015 Grand Final
DESCRIPTION:Supernova HK 2015 Grand Final\n周柏豪 (Pakho Chau)\, C AllStar\, Supper Moment\, Zpecial\nDate: 7pm\, 12 August\, 2015\nVenue: Queen Elizabeth Stadium\, Arena\nTickets: $300\, $250\, $200\, $150\, $120 from Urbtix
URL:https://www.bcmagazine.net/event/supernova-hk-2015-grand-final/
LOCATION:Queen Elizabeth Stadium\, 18 Oi Kwan Road\, Wanchai\, Hong Kong
CATEGORIES:2015,Concert,Music
GEO:22.2751271;114.1789682
X-APPLE-STRUCTURED-LOCATION;VALUE=URI;X-ADDRESS=Queen Elizabeth Stadium 18 Oi Kwan Road Wanchai Hong Kong;X-APPLE-RADIUS=500;X-TITLE=18 Oi Kwan Road:geo:114.1789682,22.2751271
END:VEVENT
BEGIN:VEVENT
DTSTART;TZID=Asia/Hong_Kong:20150812T210000
DTEND;TZID=Asia/Hong_Kong:20150812T230000
DTSTAMP:20260421T154915
CREATED:20150528T094125Z
LAST-MODIFIED:20150728T094433Z
UID:10005917-1439413200-1439420400@www.bcmagazine.net
SUMMARY:Mouse on the Keys
DESCRIPTION:Mouse on the Keys Live in Hong Kong 2015\nWhen: 9pm\, 12 August\, 2015\nWhere: Music Zone@E-Max\nTickets: $360 (Door)\, $330 (Online)\, $320 (Advance)
URL:https://www.bcmagazine.net/event/mouse-on-the-keys/
LOCATION:KITEC\, Music Zone@E-Max\, KITEC\,‎ 1 Trademart Drive\, Kowloon Bay\, Hong Kong
CATEGORIES:2015,Concert,Music
GEO:22.3239575;114.2037608
X-APPLE-STRUCTURED-LOCATION;VALUE=URI;X-ADDRESS=KITEC Music Zone@E-Max KITEC‎ 1 Trademart Drive Kowloon Bay Hong Kong;X-APPLE-RADIUS=500;X-TITLE=KITEC\,‎ 1 Trademart Drive:geo:114.2037608,22.3239575
END:VEVENT
BEGIN:VEVENT
DTSTART;VALUE=DATE:20150813
DTEND;VALUE=DATE:20150817
DTSTAMP:20260421T154915
CREATED:20150509T045955Z
LAST-MODIFIED:20150809T050222Z
UID:10004788-1439424000-1439769599@www.bcmagazine.net
SUMMARY:Pan Pan\, Engel der Hoffnung
DESCRIPTION:Pan Pan\, Engel der Hoffnung (Re-run)\nThe Hong Kong Children’s Musical Theatre\nWhen: 13-16 August\, 2015\nWhere: HK Cultural Centre\, Studio Theatre\nTickets: $280\, $180 from Urbtix
URL:https://www.bcmagazine.net/event/pan-pan-engel-der-hoffnung/
LOCATION:HK Cultural Centre\, Studio Theatre\, 10 Salisbury Road\, Tsim Sha Tsui\, Hong Kong
CATEGORIES:2015,Musical,Performing Arts
END:VEVENT
BEGIN:VEVENT
DTSTART;VALUE=DATE:20150814
DTEND;VALUE=DATE:20150817
DTSTAMP:20260421T154915
CREATED:20150428T093037Z
LAST-MODIFIED:20150728T093834Z
UID:10005796-1439510400-1439769599@www.bcmagazine.net
SUMMARY:The 4th Sports Expo 2015
DESCRIPTION:The 4th Sports Expo 2015\nWhen: 14-16 August\, 2015\nWhere: Rotunda 2 + Star Hall\nTickets: free
URL:https://www.bcmagazine.net/event/the-4th-sports-expo-2015/
LOCATION:KITEC (Kowloon Bay International Trade & Exhibition Centre)\, 1 Trademart Drive\, Kowloon Bay\, Hong Kong
CATEGORIES:2015,Exhibition,Sport
GEO:22.3239575;114.2037608
X-APPLE-STRUCTURED-LOCATION;VALUE=URI;X-ADDRESS=KITEC (Kowloon Bay International Trade & Exhibition Centre) 1 Trademart Drive Kowloon Bay Hong Kong;X-APPLE-RADIUS=500;X-TITLE=1 Trademart Drive:geo:114.2037608,22.3239575
END:VEVENT
END:VCALENDAR