BEGIN:VCALENDAR
VERSION:2.0
PRODID:-//bc magazine - ECPv6.15.20//NONSGML v1.0//EN
CALSCALE:GREGORIAN
METHOD:PUBLISH
X-ORIGINAL-URL:https://www.bcmagazine.net
X-WR-CALDESC:Events for bc magazine
REFRESH-INTERVAL;VALUE=DURATION:PT1H
X-Robots-Tag:noindex
X-PUBLISHED-TTL:PT1H
BEGIN:VTIMEZONE
TZID:Asia/Hong_Kong
BEGIN:STANDARD
TZOFFSETFROM:+0800
TZOFFSETTO:+0800
TZNAME:HKT
DTSTART:20140101T000000
END:STANDARD
END:VTIMEZONE
BEGIN:VEVENT
DTSTART;VALUE=DATE:20150626
DTEND;VALUE=DATE:20150907
DTSTAMP:20260421T173735
CREATED:20150601T044539Z
LAST-MODIFIED:20150810T054010Z
UID:10005938-1435276800-1441583999@www.bcmagazine.net
SUMMARY:Lai Yuen Carnival
DESCRIPTION:Lai Yuen Carnival\nDate: 11am-11pm\, 26 June – September\, 2015\nVenue: Central Harbourfront\nTickets: Free entry
URL:https://www.bcmagazine.net/event/lai-yuen-amusement-park/
LOCATION:Central Harbourfront\,  9 Lung Wo Road\, Central\, Hong Kong
CATEGORIES:2015,Free
GEO:22.2826223;114.164346
X-APPLE-STRUCTURED-LOCATION;VALUE=URI;X-ADDRESS=Central Harbourfront  9 Lung Wo Road Central Hong Kong;X-APPLE-RADIUS=500;X-TITLE=9 Lung Wo Road:geo:114.164346,22.2826223
END:VEVENT
BEGIN:VEVENT
DTSTART;TZID=Asia/Hong_Kong:20150901T193000
DTEND;TZID=Asia/Hong_Kong:20150901T230000
DTSTAMP:20260421T173735
CREATED:20150728T084108Z
LAST-MODIFIED:20150728T084108Z
UID:10005062-1441135800-1441148400@www.bcmagazine.net
SUMMARY:狂‧Factory
DESCRIPTION:狂‧Factory\nWhen: 7:30pm\, 1 September\, 2015\nWhere: Star Hall\nTickets: tbc from HKTicketing
URL:https://www.bcmagazine.net/event/%e7%8b%82%e2%80%a7factory/
LOCATION:KITEC\, Star Hall\, KITEC\, 1 Trademart Drive\, Kowloon Bay\, Hong Kong
CATEGORIES:2015,Sport
GEO:22.3239575;114.2037608
X-APPLE-STRUCTURED-LOCATION;VALUE=URI;X-ADDRESS=KITEC Star Hall KITEC 1 Trademart Drive Kowloon Bay Hong Kong;X-APPLE-RADIUS=500;X-TITLE=KITEC\, 1 Trademart Drive:geo:114.2037608,22.3239575
END:VEVENT
BEGIN:VEVENT
DTSTART;TZID=Asia/Hong_Kong:20150901T200000
DTEND;TZID=Asia/Hong_Kong:20150901T230000
DTSTAMP:20260421T173735
CREATED:20150609T031403Z
LAST-MODIFIED:20150809T031642Z
UID:10006004-1441137600-1441148400@www.bcmagazine.net
SUMMARY:Celebracion!
DESCRIPTION:Celebracion! – Nobuya Sugawa x La Sax 10th Anniversary Concert\nLa Sax\nWhen: 8pm\, 1 September\, 2015\nWhere: HK City Hall\, Concert Hall\nTickets: $250\, $180\, $120 from Urbtix
URL:https://www.bcmagazine.net/event/celebracion/
LOCATION:HK City Hall\, Concert Hall\,  5 Edinburgh Place\, Central\, Hong Kong
CATEGORIES:2015,Concert,Music
END:VEVENT
BEGIN:VEVENT
DTSTART;VALUE=DATE:20150902
DTEND;VALUE=DATE:20150904
DTSTAMP:20260421T173735
CREATED:20150708T060339Z
LAST-MODIFIED:20150808T060736Z
UID:10005024-1441152000-1441324799@www.bcmagazine.net
SUMMARY:C AllLive
DESCRIPTION:C AllLive\nDate: 8:15pm\, 2-3 September\, 2015\nVenue: Queen Elizabeth Stadium\, Arena\nTickets: $480\, $380 from Urbtix\nMore info:\n2 Sept – 8:15pm\n3 Sept – 8:15pm\, 2:15pm
URL:https://www.bcmagazine.net/event/c-alllive/
LOCATION:Queen Elizabeth Stadium\, 18 Oi Kwan Road\, Wanchai\, Hong Kong
GEO:22.2751271;114.1789682
X-APPLE-STRUCTURED-LOCATION;VALUE=URI;X-ADDRESS=Queen Elizabeth Stadium 18 Oi Kwan Road Wanchai Hong Kong;X-APPLE-RADIUS=500;X-TITLE=18 Oi Kwan Road:geo:114.1789682,22.2751271
END:VEVENT
BEGIN:VEVENT
DTSTART;TZID=Asia/Hong_Kong:20150902T193000
DTEND;TZID=Asia/Hong_Kong:20150902T210000
DTSTAMP:20260421T173735
CREATED:20150608T112346Z
LAST-MODIFIED:20150808T113659Z
UID:10005975-1441222200-1441227600@www.bcmagazine.net
SUMMARY:Arthur Miller Reader's Theatre
DESCRIPTION:Arthur Miller Reader’s Theatre\nHong Kong Federation of Drama Societies\nWhen: 7:30pm\, 26 August\, 2\, 16\, 30 September\, 2015\nWhere: Shatin Town Hall\, Exhibition Gallery\nTickets: $160 from Urbtix\nMore info:\nIn Cantonese\n26 August\, 2 September – All My Sons\n16\, 30 September – The Crucible
URL:https://www.bcmagazine.net/event/arthur-miller-readers-theatre-2/
LOCATION:Shatin Town Hall\, Exhibition Gallery\, 1 Yuen Wo Road\, Shatin\, Hong Kong
CATEGORIES:2015,Performing Arts
GEO:22.381264;114.189895
X-APPLE-STRUCTURED-LOCATION;VALUE=URI;X-ADDRESS=Shatin Town Hall Exhibition Gallery 1 Yuen Wo Road Shatin Hong Kong;X-APPLE-RADIUS=500;X-TITLE=1 Yuen Wo Road:geo:114.189895,22.381264
END:VEVENT
BEGIN:VEVENT
DTSTART;TZID=Asia/Hong_Kong:20150902T193000
DTEND;TZID=Asia/Hong_Kong:20150902T220000
DTSTAMP:20260421T173735
CREATED:20150609T031141Z
LAST-MODIFIED:20150809T031348Z
UID:10006003-1441222200-1441231200@www.bcmagazine.net
SUMMARY:East West Encounter
DESCRIPTION:East West Encounter\nWhen: 7:30pm\, 2 September\, 2015\nWhere: HK City Hall\, Recital Hall\nTickets: $250 from Urbtix
URL:https://www.bcmagazine.net/event/east-west-encounter/
LOCATION:HK City Hall\, Recital Hall\, 5 Edinburgh Place\, Central\, Hong Kong
CATEGORIES:2015,Concert,Music
GEO:22.2822646;114.1615275
X-APPLE-STRUCTURED-LOCATION;VALUE=URI;X-ADDRESS=HK City Hall Recital Hall 5 Edinburgh Place Central Hong Kong;X-APPLE-RADIUS=500;X-TITLE=5 Edinburgh Place:geo:114.1615275,22.2822646
END:VEVENT
BEGIN:VEVENT
DTSTART;TZID=Asia/Hong_Kong:20150902T200000
DTEND;TZID=Asia/Hong_Kong:20150902T230000
DTSTAMP:20260421T173735
CREATED:20150531T225633Z
LAST-MODIFIED:20150611T230051Z
UID:10005936-1441224000-1441234800@www.bcmagazine.net
SUMMARY:Against the Current - Gravity World Tour
DESCRIPTION:Against the Current – Gravity World Tour\nDate: 8pm\, 2 September\, 2015\nVenue: MacPherson Stadium\nTickets: $680\, $480\, $380 from 15 June @ Cityline
URL:https://www.bcmagazine.net/event/against-the-current-gravity-world-tour/
LOCATION:MacPherson Stadium\, 38 Nelson Street\, Mongkok\, Hong Kong
CATEGORIES:2015,Concert,Music,Performing Arts
GEO:22.3188457;114.1728403
X-APPLE-STRUCTURED-LOCATION;VALUE=URI;X-ADDRESS=MacPherson Stadium 38 Nelson Street Mongkok Hong Kong;X-APPLE-RADIUS=500;X-TITLE=38 Nelson Street:geo:114.1728403,22.3188457
END:VEVENT
BEGIN:VEVENT
DTSTART;VALUE=DATE:20150903
DTEND;VALUE=DATE:20150907
DTSTAMP:20260421T173735
CREATED:20150209T042302Z
LAST-MODIFIED:20150809T042941Z
UID:10005583-1441238400-1441583999@www.bcmagazine.net
SUMMARY:The Love Story of Gentlemen Street
DESCRIPTION:The Love Story of Gentlemen Street\nLive Theatre\nWhen: 3-6 September\, 2015\nWhere: HK Cultural Centre\, Studio Theatre\nTickets: $280\, $260\, $240\, $220 from Urbtix\nMore info:\n3-5 September – 8pm\n5-6 September – 3pm
URL:https://www.bcmagazine.net/event/the-love-story-of-gentlemen-street/
LOCATION:HK Cultural Centre\, Studio Theatre\, 10 Salisbury Road\, Tsim Sha Tsui\, Hong Kong
CATEGORIES:2015,Performing Arts,Theatre,Theatre
END:VEVENT
BEGIN:VEVENT
DTSTART;TZID=Asia/Hong_Kong:20150903T200000
DTEND;TZID=Asia/Hong_Kong:20150903T220000
DTSTAMP:20260421T173735
CREATED:20150608T111418Z
LAST-MODIFIED:20150808T111615Z
UID:10005973-1441310400-1441317600@www.bcmagazine.net
SUMMARY:Pian Lee's Nan Yin Night
DESCRIPTION:Pian Lee’s Nan Yin Night\nWhen: 8pm\, 3 September\, 2015\nWhere: Shatin Town Hall\, Cultural Activities Hall\nTickets: $140\, $100 from Urbtix
URL:https://www.bcmagazine.net/event/pian-lees-nan-yin-night/
LOCATION:Shatin Town Hall\, Cultural Activities Hall\, 1 Yuen Wo Road\, Sha Tin\, Hong Kong
GEO:22.381264;114.189895
X-APPLE-STRUCTURED-LOCATION;VALUE=URI;X-ADDRESS=Shatin Town Hall Cultural Activities Hall 1 Yuen Wo Road Sha Tin Hong Kong;X-APPLE-RADIUS=500;X-TITLE=1 Yuen Wo Road:geo:114.189895,22.381264
END:VEVENT
BEGIN:VEVENT
DTSTART;TZID=Asia/Hong_Kong:20150903T200000
DTEND;TZID=Asia/Hong_Kong:20150903T230000
DTSTAMP:20260421T173735
CREATED:20150501T074145Z
LAST-MODIFIED:20150518T074646Z
UID:10005820-1441310400-1441321200@www.bcmagazine.net
SUMMARY:Dylan Moran
DESCRIPTION:Dylan Moran\nDate: 8pm 3 September\, 2015\nVenue: KITEC\, Rotunda 3\nTickets: $888\, $788\, $688\, $588\, $488 from HKTicketing
URL:https://www.bcmagazine.net/event/dylan-moran/
LOCATION:KITEC\, Rotunda 3\, 1 Trademart Drive\, Kowloon Bay\, Hong Kong
CATEGORIES:2015,Comedy,Performing Arts
GEO:22.3239575;114.2037608
X-APPLE-STRUCTURED-LOCATION;VALUE=URI;X-ADDRESS=KITEC Rotunda 3 1 Trademart Drive Kowloon Bay Hong Kong;X-APPLE-RADIUS=500;X-TITLE=1 Trademart Drive:geo:114.2037608,22.3239575
END:VEVENT
BEGIN:VEVENT
DTSTART;VALUE=DATE:20150904
DTEND;VALUE=DATE:20150906
DTSTAMP:20260421T173735
CREATED:20150608T063923Z
LAST-MODIFIED:20150808T065108Z
UID:10005949-1441324800-1441497599@www.bcmagazine.net
SUMMARY:Lui Fong
DESCRIPTION:Lui Fong\nDate:  8:15pm\, 4-5 September\, 2015\nVenue: HK Coliseum\nTickets: $680\, $380\, $250 from Urbtix
URL:https://www.bcmagazine.net/event/lui-fong/
LOCATION:Hong Kong
CATEGORIES:2015,Concert,Music
END:VEVENT
BEGIN:VEVENT
DTSTART;VALUE=DATE:20150904
DTEND;VALUE=DATE:20150907
DTSTAMP:20260421T173735
CREATED:20150507T155003Z
LAST-MODIFIED:20150511T161554Z
UID:10004780-1441324800-1441583999@www.bcmagazine.net
SUMMARY:Globe to Globe: Hamlet
DESCRIPTION:Globe to Globe: Hamlet\nShakespeare’s Globe\nDate: 4-6 September\, 2015\nVenue: HKAPA\, Lyric Theatre\nTickets: $795\, $595\, $495\nMore info:\n4 September 2015 (Fri) at 7:30pm\n5 September 2015 (Sat) at 2:30pm & 7:30pm\n6 September 2015 (Sun) at 2:30pm & 7:30pm
URL:https://www.bcmagazine.net/event/globe-to-globe-hamlet/
LOCATION:HKAPA: Lyric Theatre\, 1 Gloucester Road\, Wanchai\, Hong Kong
CATEGORIES:2015,Performing Arts,Theatre
GEO:22.2801854;114.1695054
X-APPLE-STRUCTURED-LOCATION;VALUE=URI;X-ADDRESS=HKAPA: Lyric Theatre 1 Gloucester Road Wanchai Hong Kong;X-APPLE-RADIUS=500;X-TITLE=1 Gloucester Road:geo:114.1695054,22.2801854
END:VEVENT
BEGIN:VEVENT
DTSTART;VALUE=DATE:20150904
DTEND;VALUE=DATE:20150907
DTSTAMP:20260421T173735
CREATED:20150608T092237Z
LAST-MODIFIED:20150808T093101Z
UID:10005960-1441324800-1441583999@www.bcmagazine.net
SUMMARY:101010101010......
DESCRIPTION:101010101010……\nTroupe of Chance\nWhen: 4-6 September\, 2015\nWhere: Kwai Tsing Theatre\, Black Box Theatre\nTickets: $150 from Urbtix\nMore info:\n4-5 September – 8pm\n6 September- 3pm
URL:https://www.bcmagazine.net/event/101010101010/
LOCATION:Kwai Tsing Theatre\, Black Box Theatre\, 12 Hing Ning Road\, Kwai Chung\, Hong Kong
CATEGORIES:2015,Performing Arts,Theatre
GEO:22.3568224;114.126199
X-APPLE-STRUCTURED-LOCATION;VALUE=URI;X-ADDRESS=Kwai Tsing Theatre Black Box Theatre 12 Hing Ning Road Kwai Chung Hong Kong;X-APPLE-RADIUS=500;X-TITLE=12 Hing Ning Road:geo:114.126199,22.3568224
END:VEVENT
BEGIN:VEVENT
DTSTART;VALUE=DATE:20150904
DTEND;VALUE=DATE:20150907
DTSTAMP:20260421T173735
CREATED:20150609T030110Z
LAST-MODIFIED:20150809T030526Z
UID:10006002-1441324800-1441583999@www.bcmagazine.net
SUMMARY:Titus Andronicus 2.0
DESCRIPTION:Titus Andronicus 2.0\nTang Shu-wing Theatre Studio\nWhen: 4-6 September\, 2015\nWhere: HK City Hall\, Theatre\nTickets: $240\, $160 from Urbtix\nMore info:\n4-5 September – 8pm\n5 September – 3pm\n6 September – 5pm\nIn Cantonese
URL:https://www.bcmagazine.net/event/titus-andronicus-2-0/
LOCATION:HK City Hall\, Theatre\, 5 Edinburgh Place\, Central\, Hong Kong
CATEGORIES:2015,Performing Arts,Theatre
GEO:22.2822646;114.1615275
X-APPLE-STRUCTURED-LOCATION;VALUE=URI;X-ADDRESS=HK City Hall Theatre 5 Edinburgh Place Central Hong Kong;X-APPLE-RADIUS=500;X-TITLE=5 Edinburgh Place:geo:114.1615275,22.2822646
END:VEVENT
BEGIN:VEVENT
DTSTART;VALUE=DATE:20150904
DTEND;VALUE=DATE:20150907
DTSTAMP:20260421T173735
CREATED:20150609T044747Z
LAST-MODIFIED:20160911T084844Z
UID:10006007-1441324800-1441583999@www.bcmagazine.net
SUMMARY:Pinocchio
DESCRIPTION:Pinocchio\nHK Ballet\nWhen: 28-30 August\, 4-6 September 2015\nWhere: HK Cultural Centre\, Grand Theatre\nTickets: $1\,000\, $680\, $480\, $280\, $140 from Urbtix\nMore info:\n28-29 August – 7:30pm\n29 August – 2:30pm\n30 August – 1:30pm\n30 August – 6:30pm\n4-5 September – 7:30pm\n5 September – 2:30pm\n6 September – 1:30pm\n6 September – 6:30pm
URL:https://www.bcmagazine.net/event/pinocchio-2015/
LOCATION:HK Cultural Centre\, Grand Theatre\,\, 10 Salisbury Road\, Tsim Sha Tsui\, Hong Kong
CATEGORIES:2015,Dance,Performing Arts,Theatre
GEO:22.294318;114.171708
X-APPLE-STRUCTURED-LOCATION;VALUE=URI;X-ADDRESS=HK Cultural Centre Grand Theatre 10 Salisbury Road Tsim Sha Tsui Hong Kong;X-APPLE-RADIUS=500;X-TITLE=10 Salisbury Road:geo:114.171708,22.294318
END:VEVENT
BEGIN:VEVENT
DTSTART;TZID=Asia/Hong_Kong:20150904T200000
DTEND;TZID=Asia/Hong_Kong:20150904T230000
DTSTAMP:20260421T173735
CREATED:20150430T054404Z
LAST-MODIFIED:20150430T055746Z
UID:10005808-1441396800-1441407600@www.bcmagazine.net
SUMMARY:Maroon 5 World Tour @ AsiaWorld-Expo Arena - 4 September\, 2015
DESCRIPTION:Maroon 5 World Tour 2015\nDate: 8pm 4 September\, 2015 (Friday)\nVenue: AsiaWorld-Expo\, Arena\nTickets: $888 (Standing)\, $988\, $888\, $688\, $488 (Seated) onsale 8 May\, 2015 from HKTicketing
URL:https://www.bcmagazine.net/event/maroon-5-world-tour-asiaworld-expo-arena-4-september-2015/
LOCATION:AsiaWorld-Expo\, Arena\, Cheong Wing Road\, Chek Lap Kok\, Lantau\, Hong Kong
CATEGORIES:Concert,Music
GEO:22.3217383;113.9402012
X-APPLE-STRUCTURED-LOCATION;VALUE=URI;X-ADDRESS=AsiaWorld-Expo Arena Cheong Wing Road Chek Lap Kok Lantau Hong Kong;X-APPLE-RADIUS=500;X-TITLE=Cheong Wing Road\, Chek Lap Kok:geo:113.9402012,22.3217383
END:VEVENT
BEGIN:VEVENT
DTSTART;TZID=Asia/Hong_Kong:20150904T200000
DTEND;TZID=Asia/Hong_Kong:20150904T230000
DTSTAMP:20260421T173735
CREATED:20150709T030541Z
LAST-MODIFIED:20150809T031131Z
UID:10006052-1441396800-1441407600@www.bcmagazine.net
SUMMARY:Eugenia Lam Zheng Ensemble
DESCRIPTION:10th Anniversary Concert\nEugenia Lam Zheng Ensemble\nWhen: 8pm\, 4 September\, 2015\nWhere: HK City Hall\, Concert Hall\nTickets: $380\, $200\, $150\, $100 from Urbtix
URL:https://www.bcmagazine.net/event/eugenia-lam-zheng-ensemble/
LOCATION:HK City Hall\, Concert Hall\,  5 Edinburgh Place\, Central\, Hong Kong
CATEGORIES:2015,Concert,Music
END:VEVENT
BEGIN:VEVENT
DTSTART;TZID=Asia/Hong_Kong:20150904T201500
DTEND;TZID=Asia/Hong_Kong:20150904T230000
DTSTAMP:20260421T173735
CREATED:20150524T063838Z
LAST-MODIFIED:20150824T064057Z
UID:10005909-1441397700-1441407600@www.bcmagazine.net
SUMMARY:Endy Chow
DESCRIPTION:Endy Chow We Fight Like Kids\nDate: 8:15pm\, 4 September\, 2015\nVenue: Music Zone@E-Max\nTickets: $400 from HKTicketing
URL:https://www.bcmagazine.net/event/endy-chow/
LOCATION:KITEC\, Music Zone@E-Max\, KITEC\,‎ 1 Trademart Drive\, Kowloon Bay\, Hong Kong
CATEGORIES:2015,Concert,Music
GEO:22.3239575;114.2037608
X-APPLE-STRUCTURED-LOCATION;VALUE=URI;X-ADDRESS=KITEC Music Zone@E-Max KITEC‎ 1 Trademart Drive Kowloon Bay Hong Kong;X-APPLE-RADIUS=500;X-TITLE=KITEC\,‎ 1 Trademart Drive:geo:114.2037608,22.3239575
END:VEVENT
BEGIN:VEVENT
DTSTART;TZID=Asia/Hong_Kong:20150905T123000
DTEND;TZID=Asia/Hong_Kong:20150905T180000
DTSTAMP:20260421T173735
CREATED:20150620T113100Z
LAST-MODIFIED:20150820T113556Z
UID:10004984-1441456200-1441476000@www.bcmagazine.net
SUMMARY:HK Scottish Day
DESCRIPTION:HK Scottish Day\nDate: 12:30-6pm\, 5 September\, 2015\nVenue: Kings Park\nTickets: Free
URL:https://www.bcmagazine.net/event/hk-scottish-day-2015/
LOCATION:King’s Park Sports Ground\, 11 Wylie Path\, Ho Man Tin\, Jordan\, Hong Kong
CATEGORIES:2015,Rugby,Sport
END:VEVENT
BEGIN:VEVENT
DTSTART;TZID=Asia/Hong_Kong:20150905T140000
DTEND;TZID=Asia/Hong_Kong:20150905T230000
DTSTAMP:20260421T173735
CREATED:19150828T030121Z
LAST-MODIFIED:20150828T030605Z
UID:10000124-1441461600-1441494000@www.bcmagazine.net
SUMMARY:豉油嘢
DESCRIPTION:我賣CD唔賣屎忽之「豉油嘢」\nDate: 2pm\, 5 September\, 2015\nVenue: Love Da Café\nTickets: $30
URL:https://www.bcmagazine.net/event/%e8%b1%89%e6%b2%b9%e5%98%a2/
LOCATION:Love Da Café\, Flat A \, 14/F.\, Chiap King Industrial Building\,114 King Fook Street\, San Po Kong\, Hong Kong
CATEGORIES:2015,Concert,Music
END:VEVENT
BEGIN:VEVENT
DTSTART;TZID=Asia/Hong_Kong:20150905T200000
DTEND;TZID=Asia/Hong_Kong:20150905T220000
DTSTAMP:20260421T173735
CREATED:20150608T111115Z
LAST-MODIFIED:20150808T111322Z
UID:10005972-1441483200-1441490400@www.bcmagazine.net
SUMMARY:Choi Ngar Si Zheng Ensemble
DESCRIPTION:Choi Ngar Si Zheng Ensemble\nWhen: 8pm\, 5 September\, 2015\nWhere: Shatin Town Hall\, Cultural Activities Hall\nTickets: $200\, $160 from Urbtix
URL:https://www.bcmagazine.net/event/choi-ngar-si-zheng-ensemble/
LOCATION:Shatin Town Hall\, Cultural Activities Hall\, 1 Yuen Wo Road\, Sha Tin\, Hong Kong
CATEGORIES:2015,Concert,Music
GEO:22.381264;114.189895
X-APPLE-STRUCTURED-LOCATION;VALUE=URI;X-ADDRESS=Shatin Town Hall Cultural Activities Hall 1 Yuen Wo Road Sha Tin Hong Kong;X-APPLE-RADIUS=500;X-TITLE=1 Yuen Wo Road:geo:114.189895,22.381264
END:VEVENT
BEGIN:VEVENT
DTSTART;TZID=Asia/Hong_Kong:20150905T200000
DTEND;TZID=Asia/Hong_Kong:20150905T230000
DTSTAMP:20260421T173735
CREATED:20150528T081408Z
LAST-MODIFIED:20150728T081647Z
UID:10005914-1441483200-1441494000@www.bcmagazine.net
SUMMARY:Mike Stern Trio
DESCRIPTION:Mike Stern Trio Live in Hong Kong 2015\nWhen: 8pm\, 5 September\, 2015\nWhere: Music Zone@E-Max\nTickets: $580 from Cityline
URL:https://www.bcmagazine.net/event/mike-stern-trio/
LOCATION:KITEC\, Music Zone@E-Max\, KITEC\,‎ 1 Trademart Drive\, Kowloon Bay\, Hong Kong
CATEGORIES:2015,Concert,Music
GEO:22.3239575;114.2037608
X-APPLE-STRUCTURED-LOCATION;VALUE=URI;X-ADDRESS=KITEC Music Zone@E-Max KITEC‎ 1 Trademart Drive Kowloon Bay Hong Kong;X-APPLE-RADIUS=500;X-TITLE=KITEC\,‎ 1 Trademart Drive:geo:114.2037608,22.3239575
END:VEVENT
BEGIN:VEVENT
DTSTART;TZID=Asia/Hong_Kong:20150905T200000
DTEND;TZID=Asia/Hong_Kong:20150905T230000
DTSTAMP:20260421T173735
CREATED:20150607T033843Z
LAST-MODIFIED:20150807T034142Z
UID:10005944-1441483200-1441494000@www.bcmagazine.net
SUMMARY:Back to Priscilla
DESCRIPTION:Back to Priscilla\nPriscilla Chan\nDate: 8pm\, 5 September\, 2015\nVenue: CotaiArena\nTickets: $980\, $680\, $480\, $280 from HKTicketing
URL:https://www.bcmagazine.net/event/back-to-priscilla/
LOCATION:CotaiArena\, Venetian Macao\, Taipa\, Macau
CATEGORIES:2015,Concert,Macau,Music
GEO:22.1483528;113.5602019
X-APPLE-STRUCTURED-LOCATION;VALUE=URI;X-ADDRESS=CotaiArena Venetian Macao Taipa Macau;X-APPLE-RADIUS=500;X-TITLE=Venetian Macao:geo:113.5602019,22.1483528
END:VEVENT
BEGIN:VEVENT
DTSTART;TZID=Asia/Hong_Kong:20150905T201500
DTEND;TZID=Asia/Hong_Kong:20150905T201500
DTSTAMP:20260421T173735
CREATED:20150728T083301Z
LAST-MODIFIED:20150728T083451Z
UID:10005057-1441484100-1441484100@www.bcmagazine.net
SUMMARY:Fred Cheng: The Red Concert
DESCRIPTION:Fred Cheng The Red Concert 2015\nWhen: 8:15pm\, 5 September\, 2015\nWhere: Star Hall\nTickets: $600\, $400\, $300 from HKTicketing
URL:https://www.bcmagazine.net/event/fred-cheng-the-red/
LOCATION:KITEC\, Star Hall\, KITEC\, 1 Trademart Drive\, Kowloon Bay\, Hong Kong
CATEGORIES:2015,Concert,Music
GEO:22.3239575;114.2037608
X-APPLE-STRUCTURED-LOCATION;VALUE=URI;X-ADDRESS=KITEC Star Hall KITEC 1 Trademart Drive Kowloon Bay Hong Kong;X-APPLE-RADIUS=500;X-TITLE=KITEC\, 1 Trademart Drive:geo:114.2037608,22.3239575
END:VEVENT
BEGIN:VEVENT
DTSTART;TZID=Asia/Hong_Kong:20150906T150000
DTEND;TZID=Asia/Hong_Kong:20150906T170000
DTSTAMP:20260421T173735
CREATED:19150901T001747Z
LAST-MODIFIED:20150901T002031Z
UID:10000281-1441551600-1441558800@www.bcmagazine.net
SUMMARY:The Bassoonion
DESCRIPTION:The Bassoonion 10th Anniversary Concert\nDate: 3pm\, 6 September\, 2015\nVenue: HKAPA\, Concert Hall\nTickets: $180 from HKTicketing
URL:https://www.bcmagazine.net/event/the-bassoonion/
LOCATION:HKAPA\, Concert Hall\, 1 Gloucester Road\, Wanchai\, Hong Kong
CATEGORIES:2015,Concert,Music
GEO:22.2801854;114.1695054
X-APPLE-STRUCTURED-LOCATION;VALUE=URI;X-ADDRESS=HKAPA Concert Hall 1 Gloucester Road Wanchai Hong Kong;X-APPLE-RADIUS=500;X-TITLE=1 Gloucester Road:geo:114.1695054,22.2801854
END:VEVENT
BEGIN:VEVENT
DTSTART;TZID=Asia/Hong_Kong:20150906T193000
DTEND;TZID=Asia/Hong_Kong:20150906T220000
DTSTAMP:20260421T173735
CREATED:20150509T055702Z
LAST-MODIFIED:20150809T055955Z
UID:10004807-1441567800-1441576800@www.bcmagazine.net
SUMMARY:Voyage
DESCRIPTION:Voyage\nPonte Singers\nWhen: 6 September\, 2015\nWhere: HK City Hall\, Concert Hall\nTickets: $250\, $180\, $120 from Urbtix
URL:https://www.bcmagazine.net/event/voyage/
LOCATION:HK City Hall\, Concert Hall\,  5 Edinburgh Place\, Central\, Hong Kong
CATEGORIES:2015,Concert,Music
END:VEVENT
BEGIN:VEVENT
DTSTART;TZID=Asia/Hong_Kong:20150906T200000
DTEND;TZID=Asia/Hong_Kong:20150906T220000
DTSTAMP:20260421T173735
CREATED:20150608T110342Z
LAST-MODIFIED:20150808T110656Z
UID:10005971-1441569600-1441576800@www.bcmagazine.net
SUMMARY:Matthew Chin Violin Recital
DESCRIPTION:Matthew Chin Violin Recital\nHong Kong Virtuosos Music Association\nWhen: 8pm\, 6 September\, 2015\nWhere: Shatin Town Hall\, Cultural Activities Hall\nTickets: $180\, $120 from Urbtix
URL:https://www.bcmagazine.net/event/matthew-chin-violin-recital/
LOCATION:Shatin Town Hall\, Cultural Activities Hall\, 1 Yuen Wo Road\, Sha Tin\, Hong Kong
CATEGORIES:2015,Concert,Music
GEO:22.381264;114.189895
X-APPLE-STRUCTURED-LOCATION;VALUE=URI;X-ADDRESS=Shatin Town Hall Cultural Activities Hall 1 Yuen Wo Road Sha Tin Hong Kong;X-APPLE-RADIUS=500;X-TITLE=1 Yuen Wo Road:geo:114.189895,22.381264
END:VEVENT
BEGIN:VEVENT
DTSTART;TZID=Asia/Hong_Kong:20150907T200000
DTEND;TZID=Asia/Hong_Kong:20150907T200000
DTSTAMP:20260421T173735
CREATED:20150608T105150Z
LAST-MODIFIED:20150808T105920Z
UID:10005970-1441656000-1441656000@www.bcmagazine.net
SUMMARY:Donald Cheung
DESCRIPTION:Donald Cheung\nCultural Stage Creation Centre\nWhen: 8pm\, 7 September\, 2015\nWhere: Shatin Town Hall\, Auditorium\nTickets: $380\, $280\, $180 from Urbtix
URL:https://www.bcmagazine.net/event/donald-cheung/
LOCATION:Shatin Town Hall\, Auditorium\, Shatin\, Hong Kong
CATEGORIES:2015,Concert,Music
END:VEVENT
BEGIN:VEVENT
DTSTART;TZID=Asia/Hong_Kong:20150907T200000
DTEND;TZID=Asia/Hong_Kong:20150907T230000
DTSTAMP:20260421T173735
CREATED:19150907T112333Z
LAST-MODIFIED:20150907T113508Z
UID:10000054-1441656000-1441666800@www.bcmagazine.net
SUMMARY:Sukhishvili
DESCRIPTION:Sukhishvili\nWorld Cultures Festival\nDate: 8pm\, 24 October\, 2015\nVenue: Tuen Mun Town Hall\, Auditorium\nTickets: $280\, $200\, $160\, $120 from Urbtix
URL:https://www.bcmagazine.net/event/sukhishvili-3/
LOCATION:Tuen Mun Town Hall\, Auditorium\, 3 Tuen Hi Road\, Tuen Mun
CATEGORIES:2015,Cultural Festival,Dance,Performing Arts,Theatre
GEO:22.39182;113.9767372
X-APPLE-STRUCTURED-LOCATION;VALUE=URI;X-ADDRESS=Tuen Mun Town Hall Auditorium 3 Tuen Hi Road Tuen Mun;X-APPLE-RADIUS=500;X-TITLE=3 Tuen Hi Road:geo:113.9767372,22.39182
END:VEVENT
BEGIN:VEVENT
DTSTART;VALUE=DATE:20150908
DTEND;VALUE=DATE:20150912
DTSTAMP:20260421T173735
CREATED:20150708T055631Z
LAST-MODIFIED:20150808T055925Z
UID:10006050-1441670400-1442015999@www.bcmagazine.net
SUMMARY:Classic Hong Kong
DESCRIPTION:Classic Hong Kong\nDate: 8:15pm\, 8-11 September\, 2015\nVenue: Queen Elizabeth Stadium\, Arena\nTickets: $380\, $200 from Urbtix
URL:https://www.bcmagazine.net/event/classic-hong-kong/
LOCATION:Queen Elizabeth Stadium\, 18 Oi Kwan Road\, Wanchai\, Hong Kong
CATEGORIES:2015,Concert,Music
GEO:22.2751271;114.1789682
X-APPLE-STRUCTURED-LOCATION;VALUE=URI;X-ADDRESS=Queen Elizabeth Stadium 18 Oi Kwan Road Wanchai Hong Kong;X-APPLE-RADIUS=500;X-TITLE=18 Oi Kwan Road:geo:114.1789682,22.2751271
END:VEVENT
END:VCALENDAR